{"text_format":"1","workbook":"xlsx","n_sheets":21,"sheets":["Instructions","Unit Selection","Test Plan","Pre-Test Checklist","Test Conditions","100% Load Condition ","Condition 2","Condition 3","Condition 4","Condition 5","Condition 6","Condition 7","IPLV","AHRI Selected Condition","AHRI Selected Condition-Interp","Fan Cycling Condition - High","Fan Cycling Condition - Low","Test Report","5th Point Eff","Inspection Report","Unit Conversion"],"not_rendered":{"charts":0,"images":1,"macros":1,"external_links":2,"defined_names":30,"comments":0,"pivot_tables":0},"unopened":[],"bounds":{"document_bytes":16777216,"sheet_cells":100000,"rows_first":2000,"rows_last":500,"rows_between":2000,"halvings":0,"cell_chars":16384,"cell_head_chars":4096},"cells_cut":0,"cells_raw":0,"read":"whole","date_system":"1900"}

{"sheet":"Instructions","index":0,"n_rows":16,"n_cols":2,"rows_kept":16,"cut":false,"hidden":false,"merged":[[14,0,14,6],[15,0,15,6],[0,0,0,6],[1,0,1,6],[2,1,2,6],[4,1,4,6],[5,1,5,6],[3,0,3,6],[6,1,6,6],[10,1,10,6],[11,1,11,6],[12,1,12,6],[13,1,13,6],[9,0,9,6],[7,1,7,6],[8,1,8,6]]}
["MACROS MUST BE ENABLED TO USE THIS WORKBOOK"]
["Instructions"]
["Purpose","This workbook is provided to support AHRI certification testing."]
[]
["Tabs","Tabs have been color coded as follows to show the party responsible for data input"]
["Gray","Instructions and information"]
["Orange","Selection  -  AHRI"]
["Blue","Rating  - Participant"]
["Green","Test Data  - 3rd Party Laboratory"]
[]
["Cells","Cells have been color coded as follows to show the action required for each"]
["Gray","Calcuations - No action needed"]
["Yellow","Inputs - Selection or data required"]
["Red","Error  - Inputed data does not comply with the certification program requirements"]
[]
["ACCL-DS2 Testing Workbook v23.1"]

{"sheet":"Unit Selection","index":1,"n_rows":32,"n_cols":4,"rows_kept":32,"cut":false,"hidden":false,"merged":[[25,1,25,3],[26,1,26,3],[0,0,0,3],[22,1,22,3],[23,1,23,3],[12,1,12,3],[13,1,13,3],[14,1,14,2],[15,1,15,2],[16,1,16,2],[17,1,17,2],[18,1,18,2],[21,0,21,3],[19,1,19,2],[20,1,20,2],[5,1,5,3],[4,1,4,3],[24,1,24,3],[1,1,1,3],[7,0,7,3],[8,1,8,3],[9,1,9,3],[10,0,11,0],[10,1,10,3],[11,1,11,3],[2,1,2,3],[6,1,6,3],[3,1,3,3]]}
["Unit Selection"]
["Certification Test and/or Test Stand Inspection","Certification Test"]
["Testing Standard"]
["Manufacturer"]
["Manufacturer Certification Contact"]
["AHRI Certification Engineer"]
["Date"]
[]
["AHRI Test Stand Inspection Number","FIACCL-230##-1"]
["Test Stand Location - City and Country"]
["Facility Address"]
[]
["Test Stand Designation"]
["Inspection Category"]
["Test Stand Approval Documents","Submitted to AHRI?"]
["Test Stand Approval (FA) Forms"]
["System Calibration Reports and Worksheets"]
["Test Stand Schematic Drawing"]
["Test Stand Photographs"]
["Air Sample Tree Drawing (as applicable)"]
["Air Sampling Placement Drawing or Photographs"]
[]
["AHRI Test Number","ACCL-230##-1-A"]
["Model Designation"]
["AHRI Reference Number"]
["In-house or Witness Test"]
["Cooling / Heating Test Type"]
["AHRI Selected Rating Condition","Units","Evaporator","Condenser"]
[{"$f":"IF(B29=\"%\", \"Percent Load\", \"Capacity\")","v":"Percent Load"},"%"]
["Leaving Water Temperature ","°F"]
["Entering Water Temperature ","°F"]
["Entering Air Temperature","°F"]

{"sheet":"Test Plan","index":2,"n_rows":128,"n_cols":12,"rows_kept":128,"cut":false,"hidden":false,"merged":[[36,0,36,3],[91,2,91,3],[38,2,38,3],[15,1,15,3],[16,1,16,3],[40,2,40,3],[70,2,70,3],[18,1,18,3],[31,1,31,3],[32,1,32,3],[33,1,33,3],[34,0,35,0],[21,1,21,3],[22,1,22,3],[25,1,25,3],[26,0,27,0],[122,0,122,3],[49,2,49,3],[56,2,56,3],[63,2,63,3],[84,2,84,3],[77,2,77,3],[98,2,98,3],[114,2,114,3],[121,2,121,3],[107,2,107,3],[10,1,10,3],[9,1,9,3],[7,1,7,3],[8,1,8,3],[0,0,0,3],[4,1,4,3],[5,1,5,3],[6,0,6,3],[2,1,2,3],[3,1,3,3],[1,1,1,3],[11,1,11,3],[19,0,19,3],[12,0,13,0],[14,1,14,3],[17,1,17,3],[26,1,26,3],[27,1,27,3],[28,1,28,3],[29,1,29,2],[30,1,30,3]]}
["Test Plan"]
["AHRI Test Stand Inspection Number",{"$f":"'Unit Selection'!B9","v":"FIACCL-230##-1"}]
["AHRI Test Number",{"$f":"IF('Unit Selection'!$B$23=0,\" \",'Unit Selection'!$B$23)","v":"ACCL-230##-1-A"}]
["Model Designation",{"$f":"IF('Unit Selection'!$B$24=0,\" \",'Unit Selection'!$B$24)","v":" "}]
["Manufacturer",{"$f":"IF('Unit Selection'!$B$4=0,\" \",'Unit Selection'!$B$4)","v":" "}]
["Date (of test plan)"]
[]
["BMG ID"]
["Refrigerant Designation"]
["Compressor Type"]
["Compressor Designation"]
["Country of Origin"]
["Electrical Connection (V/Ph/Hz)","Volts","Phase","Hertz"]
[]
["Catalog / Selection Software Name and Version"]
["Unloading Type"]
["Testing Standard"]
["Number of Part-load Standard Test Points"]
["System of Measurement"]
[]
["In-House Test Information"]
["Full Load Amps (FLA)"]
["Shipping Weight"]
["Shipping Dimensions (Length, Width, Height)"]
["Witness Test Information"]
["Test Stand Location - City and Country",{"$f":"IF('[1]Unit Selection'!$B$10=0,\"\",'[1]Unit Selection'!$B$10)","v":""}]
["Facility Address",{"$f":"IF('[1]Unit Selection'!$B$11=0,\"\",'[1]Unit Selection'!$B$11)","v":""}]
[null,{"$f":"IF('[1]Unit Selection'!$B$12=0,\"\",'[1]Unit Selection'!$B$12)","v":""}]
["Test Stand Designation",{"$f":"IF('[1]Unit Selection'!$B$13=0,\"\",'[1]Unit Selection'!$B$13)","v":""}]
["Facility Contact (name, phone number)"]
["Facility Contact (email)"]
["Water Pipe Connection Sizes (Evaporator, Condenser)"]
["Water Pipe RTD Well Depth"]
["Power Measurement Distance from the Tested Unit"]
["Electrical Transformer","Wired As","Wired For",{"$f":"IF(B14>599,\"Multiplier\",\"\")","v":""}]
[]
[]
["AHRI Standard Rating Conditions","Units","Evaporator","Condenser"]
["Number of Refrigerant Circuits","Count"]
["All Conditions"]
["Atmospheric Pressure",{"$f":"IF($B$19=\"I-P\",'Unit Conversion'!B7,'Unit Conversion'!C7)","v":"kPa"},{"$f":"IF($B$41=\"psia\",14.696,  101.33)","v":101.33}]
["Water-Side Fouling Factor ",{"$f":"IF($B$19=\"I-P\",'Unit Conversion'!$B$2,'Unit Conversion'!$C$2)","v":"m²·K/kW"},{"$f":"IF($B$17=\"EN 14511 and 14825\",0,IF($B$19=\"I-P\",0.0001,0.018))","v":1.7999999999999999E-2},null,null,"Units","Circuit 1","Circuit 2","Circuit 3","Circuit 4","Circuit 5","Circuit 6"]
["Water Side Tube Surface Area",{"$f":"IF($B$19=\"I-P\",'Unit Conversion'!$B$3,'Unit Conversion'!$C$3)","v":"m^2"},null,null,"Water Side Tube Surface Area",{"$f":"B43","v":"m^2"}]
["100% Load Condition ",{"$f":"IF($B$19=\"I-P\",'Unit Conversion'!$B$4,'Unit Conversion'!$C$4)","v":"kW"},{"$f":"IF($C$39=1,\"\",SUM(G44:L44))","v":0},null,"Capacity",{"$f":"B44","v":"kW"}]
["Leaving Water Temperature ",{"$f":"IF($B$19=\"I-P\",'Unit Conversion'!$B$5,'Unit Conversion'!$C$5)","v":"°C"},{"$f":"IF($B$17=\"AHRI 550/590\",\nIF($B$19=\"I-P\",44,(44-32)/1.8),\nIF($B$17=\"AHRI 551/591\",IF($B$19=\"I-P\",7*1.8+32,7),\"\"))","v":""},null,"Leaving Water Temperature ","°C"]
["Entering Water Temperature ",{"$f":"IF($B$19=\"I-P\",'Unit Conversion'!$B$5,'Unit Conversion'!$C$5)","v":"°C"},{"$f":"IF($B$17=\"AHRI 550/590\",\nIF($B$19=\"I-P\",54,(54-32)/1.8),\nIF($B$17=\"AHRI 551/591\",IF($B$19=\"I-P\",12*1.8+32,12),\"\"))","v":""},null,"Entering Water Temperature ","°C"]
["Entering Air Temperature",{"$f":"IF($B$19=\"I-P\",'Unit Conversion'!$B$5,'Unit Conversion'!$C$5)","v":"°C"},null,{"$f":"IF($B$17=\"AHRI 550/590\",IF($B$19=\"I-P\",95,(95-32)/1.8),IF($B$19=\"I-P\",35*1.8+32,35))","v":35},"Entering Air Temperature","°C"]
["Water Flow Rate ",{"$f":"IF($B$19=\"I-P\",'Unit Conversion'!$B$6,'Unit Conversion'!$C$6)","v":"m³/h"},null,null,"Water Flow Rate ","m³/h"]
["Refrigerant Saturation Temperature ",{"$f":"IF($B$19=\"I-P\",'Unit Conversion'!$B$5,'Unit Conversion'!$C$5)","v":"°C"},null,null,"Refrigerant Saturation Temperature ","°C"]
["Electrical Power","kW",{"$f":"IF($C$39>1,SUM(G50:L50),\"\")","v":""},null,"Electrical Power","kW"]
[{"$f":"IF(OR(C51=\"\",C51=0)=TRUE,\"Condition 2\",CONCATENATE(ROUND(100*C51/$C$44,1), \"% Load Condition\"))","v":"Condition 2"},{"$f":"IF($B$19=\"I-P\",'Unit Conversion'!$B$4,'Unit Conversion'!$C$4)","v":"kW"},{"$f":"IF($C$39=1,\"\",SUM(G51:L51))","v":0},null,"Capacity","kW"]
["Leaving Water Temperature ",{"$f":"IF($B$19=\"I-P\",'Unit Conversion'!$B$5,'Unit Conversion'!$C$5)","v":"°C"},{"$f":"$C$45","v":""},null,"Leaving Water Temperature ","°C"]
["Entering Water Temperature ",{"$f":"IF($B$19=\"I-P\",'Unit Conversion'!$B$5,'Unit Conversion'!$C$5)","v":"°C"},null,null,"Entering Water Temperature ","°C"]
["Entering Air Temperature",{"$f":"IF($B$19=\"I-P\",'Unit Conversion'!$B$5,'Unit Conversion'!$C$5)","v":"°C"},null,null,"Entering Air Temperature","°C"]
["Water Flow Rate ",{"$f":"IF($B$19=\"I-P\",'Unit Conversion'!$B$6,'Unit Conversion'!$C$6)","v":"m³/h"},{"$f":"$C$48","v":0},null,"Water Flow Rate ","m³/h"]
["Refrigerant Saturation Temperature ",{"$f":"IF($B$19=\"I-P\",'Unit Conversion'!$B$5,'Unit Conversion'!$C$5)","v":"°C"},null,null,"Refrigerant Saturation Temperature ","°C"]
["Electrical Power","kW",{"$f":"IF($C$39>1,SUM(G57:L57),\"\")","v":""},null,"Electrical Power","kW"]
[{"$f":"IF(OR(C58=\"\",C58=0)=TRUE,\"Condition 3\",CONCATENATE(ROUND(100*C58/$C$44,1), \"% Load Condition\"))","v":"Condition 3"},{"$f":"IF($B$19=\"I-P\",'Unit Conversion'!$B$4,'Unit Conversion'!$C$4)","v":"kW"},{"$f":"IF($C$39=1,\"\",SUM(G58:L58))","v":0},null,"Capacity","kW"]
["Leaving Water Temperature ",{"$f":"IF($B$19=\"I-P\",'Unit Conversion'!$B$5,'Unit Conversion'!$C$5)","v":"°C"},{"$f":"$C$45","v":""},null,"Leaving Water Temperature ","°C"]
["Entering Water Temperature ",{"$f":"IF($B$19=\"I-P\",'Unit Conversion'!$B$5,'Unit Conversion'!$C$5)","v":"°C"},null,null,"Entering Water Temperature ","°C"]
["Entering Air Temperature",{"$f":"IF($B$19=\"I-P\",'Unit Conversion'!$B$5,'Unit Conversion'!$C$5)","v":"°C"},null,null,"Entering Air Temperature","°C"]
["Water Flow Rate ",{"$f":"IF($B$19=\"I-P\",'Unit Conversion'!$B$6,'Unit Conversion'!$C$6)","v":"m³/h"},{"$f":"$C$48","v":0},null,"Water Flow Rate ","m³/h"]
["Refrigerant Saturation Temperature ",{"$f":"IF($B$19=\"I-P\",'Unit Conversion'!$B$5,'Unit Conversion'!$C$5)","v":"°C"},null,null,"Refrigerant Saturation Temperature ","°C"]
["Electrical Power","kW",{"$f":"IF($C$39>1,SUM(G64:L64),\"\")","v":""},null,"Electrical Power","kW"]
[{"$f":"IF(OR(C65=\"\",C65=0)=TRUE,\"Condition 4\",CONCATENATE(ROUND(100*C65/$C$44,1), \"% Load Condition\"))","v":"Condition 4"},{"$f":"IF($B$19=\"I-P\",'Unit Conversion'!$B$4,'Unit Conversion'!$C$4)","v":"kW"},{"$f":"IF($C$39=1,\"\",SUM(G65:L65))","v":0},null,"Capacity","kW"]
["Leaving Water Temperature ",{"$f":"IF($B$19=\"I-P\",'Unit Conversion'!$B$5,'Unit Conversion'!$C$5)","v":"°C"},{"$f":"$C$45","v":""},null,"Leaving Water Temperature ","°C"]
["Entering Water Temperature ",{"$f":"IF($B$19=\"I-P\",'Unit Conversion'!$B$5,'Unit Conversion'!$C$5)","v":"°C"},null,null,"Entering Water Temperature ","°C"]
["Entering Air Temperature",{"$f":"IF($B$19=\"I-P\",'Unit Conversion'!$B$5,'Unit Conversion'!$C$5)","v":"°C"},null,null,"Entering Air Temperature","°C"]
["Water Flow Rate ",{"$f":"IF($B$19=\"I-P\",'Unit Conversion'!$B$6,'Unit Conversion'!$C$6)","v":"m³/h"},{"$f":"$C$48","v":0},null,"Water Flow Rate ","m³/h"]
["Refrigerant Saturation Temperature ",{"$f":"IF($B$19=\"I-P\",'Unit Conversion'!$B$5,'Unit Conversion'!$C$5)","v":"°C"},null,null,"Refrigerant Saturation Temperature ","°C"]
["Electrical Power","kW",{"$f":"IF($C$39>1,SUM(G71:L71),\"\")","v":""},null,"Electrical Power","kW"]
[{"$f":"IF(OR(C72=\"\",C72=0)=TRUE,\"Condition 5\",CONCATENATE(ROUND(100*C72/$C$44,1), \"% Load Condition\"))","v":"Condition 5"},{"$f":"IF($B$19=\"I-P\",'Unit Conversion'!$B$4,'Unit Conversion'!$C$4)","v":"kW"},{"$f":"IF($C$39=1,\"\",SUM(G72:L72))","v":0},null,"Capacity","kW"]
["Leaving Water Temperature ",{"$f":"IF($B$19=\"I-P\",'Unit Conversion'!$B$5,'Unit Conversion'!$C$5)","v":"°C"},{"$f":"$C$45","v":""},null,"Leaving Water Temperature ","°C"]
["Entering Water Temperature ",{"$f":"IF($B$19=\"I-P\",'Unit Conversion'!$B$5,'Unit Conversion'!$C$5)","v":"°C"},null,null,"Entering Water Temperature ","°C"]
["Entering Air Temperature",{"$f":"IF($B$19=\"I-P\",'Unit Conversion'!$B$5,'Unit Conversion'!$C$5)","v":"°C"},null,null,"Entering Air Temperature","°C"]
["Water Flow Rate ",{"$f":"IF($B$19=\"I-P\",'Unit Conversion'!$B$6,'Unit Conversion'!$C$6)","v":"m³/h"},{"$f":"$C$48","v":0},null,"Water Flow Rate ","m³/h"]
["Refrigerant Saturation Temperature ",{"$f":"IF($B$19=\"I-P\",'Unit Conversion'!$B$5,'Unit Conversion'!$C$5)","v":"°C"},null,null,"Refrigerant Saturation Temperature ","°C"]
["Electrical Power","kW",{"$f":"IF($C$39>1,SUM(G78:L78),\"\")","v":""},null,"Electrical Power","kW"]
[{"$f":"IF(OR(C79=\"\",C79=0)=TRUE,\"Condition 6\",CONCATENATE(ROUND(100*C79/$C$44,1), \"% Load Condition\"))","v":"Condition 6"},{"$f":"IF($B$19=\"I-P\",'Unit Conversion'!$B$4,'Unit Conversion'!$C$4)","v":"kW"},{"$f":"IF($C$39=1,\"\",SUM(G79:L79))","v":0},null,"Capacity","kW"]
["Leaving Water Temperature ",{"$f":"IF($B$19=\"I-P\",'Unit Conversion'!$B$5,'Unit Conversion'!$C$5)","v":"°C"},{"$f":"$C$45","v":""},null,"Leaving Water Temperature ","°C"]
["Entering Water Temperature ",{"$f":"IF($B$19=\"I-P\",'Unit Conversion'!$B$5,'Unit Conversion'!$C$5)","v":"°C"},null,null,"Entering Water Temperature ","°C"]
["Entering Air Temperature",{"$f":"IF($B$19=\"I-P\",'Unit Conversion'!$B$5,'Unit Conversion'!$C$5)","v":"°C"},null,null,"Entering Air Temperature","°C"]
["Water Flow Rate ",{"$f":"IF($B$19=\"I-P\",'Unit Conversion'!$B$6,'Unit Conversion'!$C$6)","v":"m³/h"},{"$f":"$C$48","v":0},null,"Water Flow Rate ","m³/h"]
["Refrigerant Saturation Temperature ",{"$f":"IF($B$19=\"I-P\",'Unit Conversion'!$B$5,'Unit Conversion'!$C$5)","v":"°C"},null,null,"Refrigerant Saturation Temperature ","°C"]
["Electrical Power","kW",{"$f":"IF($C$39>1,SUM(G85:L85),\"\")","v":""},null,"Electrical Power","kW"]
[{"$f":"IF(OR(C86=\"\",C86=0)=TRUE,\"Condition 7\",CONCATENATE(ROUND(100*C86/$C$44,1), \"% Load Condition\"))","v":"Condition 7"},{"$f":"IF($B$19=\"I-P\",'Unit Conversion'!$B$4,'Unit Conversion'!$C$4)","v":"kW"},{"$f":"IF($C$39=1,\"\",SUM(G86:L86))","v":0},null,"Capacity","kW"]
["Leaving Water Temperature ",{"$f":"IF($B$19=\"I-P\",'Unit Conversion'!$B$5,'Unit Conversion'!$C$5)","v":"°C"},{"$f":"$C$45","v":""},null,"Leaving Water Temperature ","°C"]
["Entering Water Temperature ",{"$f":"IF($B$19=\"I-P\",'Unit Conversion'!$B$5,'Unit Conversion'!$C$5)","v":"°C"},null,null,"Entering Water Temperature ","°C"]
["Entering Air Temperature",{"$f":"IF($B$19=\"I-P\",'Unit Conversion'!$B$5,'Unit Conversion'!$C$5)","v":"°C"},null,null,"Entering Air Temperature","°C"]
["Water Flow Rate ",{"$f":"IF($B$19=\"I-P\",'Unit Conversion'!$B$6,'Unit Conversion'!$C$6)","v":"m³/h"},{"$f":"$C$48","v":0},null,"Water Flow Rate ","m³/h"]
["Refrigerant Saturation Temperature ",{"$f":"IF($B$19=\"I-P\",'Unit Conversion'!$B$5,'Unit Conversion'!$C$5)","v":"°C"},null,null,"Refrigerant Saturation Temperature ","°C"]
["Electrical Power","kW",{"$f":"IF($C$39>1,SUM(G92:L92),\"\")","v":""},null,"Electrical Power","kW"]
["AHRI Selected Condition",{"$f":"IF($B$19=\"I-P\",'Unit Conversion'!$B$4,'Unit Conversion'!$C$4)","v":"kW"},{"$f":"IF($C$39=1,\"\",SUM(G93:L93))","v":0},null,"Capacity","kW"]
["Leaving Water Temperature ",{"$f":"IF($B$19=\"I-P\",'Unit Conversion'!$B$5,'Unit Conversion'!$C$5)","v":"°C"},{"$f":"'Unit Selection'!C30","v":0},null,"Leaving Water Temperature ","°C"]
["Entering Water Temperature ",{"$f":"IF($B$19=\"I-P\",'Unit Conversion'!$B$5,'Unit Conversion'!$C$5)","v":"°C"},null,null,"Entering Water Temperature ","°C"]
["Entering Air Temperature",{"$f":"IF($B$19=\"I-P\",'Unit Conversion'!$B$5,'Unit Conversion'!$C$5)","v":"°C"},null,{"$f":"'Unit Selection'!D32","v":0},"Entering Air Temperature","°C"]
["Water Flow Rate ",{"$f":"IF($B$19=\"I-P\",'Unit Conversion'!$B$6,'Unit Conversion'!$C$6)","v":"m³/h"},null,null,"Water Flow Rate ","m³/h"]
["Refrigerant Saturation Temperature ",{"$f":"IF($B$19=\"I-P\",'Unit Conversion'!$B$5,'Unit Conversion'!$C$5)","v":"°C"},null,null,"Refrigerant Saturation Temperature ","°C"]
["Electrical Power","kW",{"$f":"IF($C$39>1,SUM(G99:L99),\"\")","v":""},null,"Electrical Power",{"$f":"B99","v":"kW"}]
["Interpolation Required?","-"]
["Fan Cycling at Rated Condition?","-"]
["AHRI Selected Condition-Interp",{"$f":"IF($B$19=\"I-P\",'Unit Conversion'!$B$4,'Unit Conversion'!$C$4)","v":"kW"},{"$f":"IF($C$39=1,\"\",SUM(G102:L102))","v":0},null,"Capacity",{"$f":"B102","v":"kW"}]
["Leaving Water Temperature ",{"$f":"IF($B$19=\"I-P\",'Unit Conversion'!$B$5,'Unit Conversion'!$C$5)","v":"°C"},{"$f":"'Unit Selection'!C30","v":0},null,"Leaving Water Temperature ","°C"]
["Entering Water Temperature ",{"$f":"IF($B$19=\"I-P\",'Unit Conversion'!$B$5,'Unit Conversion'!$C$5)","v":"°C"},null,null,"Entering Water Temperature ","°C"]
["Entering Air Temperature",{"$f":"IF($B$19=\"I-P\",'Unit Conversion'!$B$5,'Unit Conversion'!$C$5)","v":"°C"},null,{"$f":"'Unit Selection'!D32","v":0},"Entering Air Temperature","°C"]
["Water Flow Rate ",{"$f":"IF($B$19=\"I-P\",'Unit Conversion'!$B$6,'Unit Conversion'!$C$6)","v":"m³/h"},null,null,"Water Flow Rate ","m³/h"]
["Refrigerant Saturation Temperature ",{"$f":"IF($B$19=\"I-P\",'Unit Conversion'!$B$5,'Unit Conversion'!$C$5)","v":"°C"},null,null,"Refrigerant Saturation Temperature ","°C"]
["Electrical Power","kW",null,null,"Electrical Power","kW"]
["Fan Cycling Condition - High",{"$f":"IF($B$19=\"I-P\",'Unit Conversion'!$B$4,'Unit Conversion'!$C$4)","v":"kW"},{"$f":"IF($C$39=1,\"\",SUM(G109:L109))","v":0},null,"Capacity",{"$f":"B109","v":"kW"}]
["Leaving Water Temperature ",{"$f":"IF($B$19=\"I-P\",'Unit Conversion'!$B$5,'Unit Conversion'!$C$5)","v":"°C"},{"$f":"'Unit Selection'!C30","v":0},null,"Leaving Water Temperature ","°C"]
["Entering Water Temperature ",{"$f":"IF($B$19=\"I-P\",'Unit Conversion'!$B$5,'Unit Conversion'!$C$5)","v":"°C"},null,null,"Entering Water Temperature ","°C"]
["Entering Air Temperature",{"$f":"IF($B$19=\"I-P\",'Unit Conversion'!$B$5,'Unit Conversion'!$C$5)","v":"°C"},null,{"$f":"'Unit Selection'!D32","v":0},"Entering Air Temperature","°C"]
["Water Flow Rate ",{"$f":"IF($B$19=\"I-P\",'Unit Conversion'!$B$6,'Unit Conversion'!$C$6)","v":"m³/h"},null,null,"Water Flow Rate ","m³/h"]
["Refrigerant Saturation Temperature ",{"$f":"IF($B$19=\"I-P\",'Unit Conversion'!$B$5,'Unit Conversion'!$C$5)","v":"°C"},null,null,"Refrigerant Saturation Temperature ","°C"]
["Electrical Power","kW",null,null,"Electrical Power","kW"]
["Fan Cycling Condition - Low",{"$f":"IF($B$19=\"I-P\",'Unit Conversion'!$B$4,'Unit Conversion'!$C$4)","v":"kW"},{"$f":"IF($C$39=1,\"\",SUM(G116:L116))","v":0},null,"Capacity",{"$f":"B116","v":"kW"}]
["Leaving Water Temperature ",{"$f":"IF($B$19=\"I-P\",'Unit Conversion'!$B$5,'Unit Conversion'!$C$5)","v":"°C"},{"$f":"'Unit Selection'!C30","v":0},null,"Leaving Water Temperature ","°C"]
["Entering Water Temperature ",{"$f":"IF($B$19=\"I-P\",'Unit Conversion'!$B$5,'Unit Conversion'!$C$5)","v":"°C"},null,null,"Entering Water Temperature ","°C"]
["Entering Air Temperature",{"$f":"IF($B$19=\"I-P\",'Unit Conversion'!$B$5,'Unit Conversion'!$C$5)","v":"°C"},null,{"$f":"'Unit Selection'!D32","v":0},"Entering Air Temperature","°C"]
["Water Flow Rate ",{"$f":"IF($B$19=\"I-P\",'Unit Conversion'!$B$6,'Unit Conversion'!$C$6)","v":"m³/h"},null,null,"Water Flow Rate ","m³/h"]
["Refrigerant Saturation Temperature ",{"$f":"IF($B$19=\"I-P\",'Unit Conversion'!$B$5,'Unit Conversion'!$C$5)","v":"°C"},null,null,"Refrigerant Saturation Temperature ","°C"]
["Electrical Power","kW",{"$f":"IF($C$39>1,SUM(G122:L122),\"\")","v":""},null,"Electrical Power","kW"]
[]
["AHRI Certified Ratings","Units","Standard Rating Conditions",{"$f":"IF($B$17=\"EN 14511 and 14825\",\"\",\"AHRI Selected Rating Condition\")","v":"AHRI Selected Rating Condition"}]
["Net Refrigerating Capacity (Q'ev)",{"$f":"IF($B$19=\"I-P\",'Unit Conversion'!$B$4,'Unit Conversion'!$C$4)","v":"kW"},{"$f":"$C$44","v":0},{"$f":"IF($B$17=\"EN 14511 and 14825\",\"\",IF('Unit Selection'!A29=\"Percent Load\",'Unit Selection'!C29/100*'Test Conditions'!C11,'Unit Selection'!C29))","v":0}]
["Cooling Energy Efficiency",{"$f":"IF($B$19=\"I-P\",'Unit Conversion'!$B$14,'Unit Conversion'!$C$14)","v":"kW/kW"}]
["Evaporator Water Pressure Drop ",{"$f":"IF($B$19=\"I-P\",'Unit Conversion'!$B$8,'Unit Conversion'!$C$8)","v":"kPa"}]
[{"$f":"IF('Test Plan'!$B$17=\"EN 14511 and 14825\",\"SEER\",\"Part Load Efficiency Value (IPLV / NPLV)\")","v":"Part Load Efficiency Value (IPLV / NPLV)"},{"$f":"IF($B$19=\"I-P\",'Unit Conversion'!$B$14,'Unit Conversion'!$C$14)","v":"kW/kW"}]

{"sheet":"Pre-Test Checklist","index":3,"n_rows":74,"n_cols":4,"rows_kept":74,"cut":false,"hidden":false,"merged":[[6,0,6,3],[0,0,0,3],[2,1,2,3],[3,1,3,3],[4,1,4,3],[5,1,5,3],[1,1,1,3],[56,2,56,3],[7,1,8,1],[8,2,8,3],[51,2,51,3],[55,2,55,3],[25,2,25,3],[34,2,34,3],[38,2,38,3],[39,2,39,3],[45,1,45,3],[12,2,12,3],[13,2,13,3],[27,2,27,3],[19,1,19,3],[57,2,57,3],[73,0,84,0],[72,1,72,3],[73,1,84,3],[60,0,71,0],[60,1,71,3],[59,1,59,3],[58,0,58,3]]}
["Pre-Test Checklist"]
["AHRI Test Stand Inspection Number",{"$f":"'Unit Selection'!B9","v":"FIACCL-230##-1"}]
["AHRI Test Number",{"$f":"IF('Test Plan'!$B$3=0,\" \",'Test Plan'!$B$3)","v":"ACCL-230##-1-A"}]
["Model Designation",{"$f":"IF('Test Plan'!$B$4=0,\" \",'Test Plan'!$B$4)","v":" "}]
["Manufacturer",{"$f":"IF('Test Plan'!$B$5=0,\" \",'Test Plan'!$B$5)","v":" "}]
["Date",{"$f":"IF('Test Plan'!$B$6=0,\" \",'Test Plan'!$B$6)","v":" "}]
[]
["Measurement Type","Accurate Over Intended Range?","Evaporator","Condenser"]
["Test Stand Instrumentation Calibration",null,"Within Current Calibration?"]
["Liquid Mass Flow Rate #1"]
["Liquid Mass Flow Rate #2"]
["Liquid Differential Pressure"]
["Electrical Power #1"]
["Electrical Power #2"]
["Barometric Pressure"]
["Liquid Temperature (Leaving) #1"]
["Liquid Temperature (Leaving) #2"]
["Liquid Temperature (Entering) #1"]
["Liquid Temperature (Entering) #2"]
["Air Measurement Method"]
["Aspirating Psychrometers"]
["Air Sampling Tree Thermopile Grids"]
["Recirculation Thermocouples"]
["Individual Array Thermocouples"]
["Recirculation Thermocouples"]
["Laboratory Instrumentation Calibration",null,"Within Current Calibration?"]
["Differential Pressure"]
["Electrical Power"]
["Barometric Pressure"]
["Liquid Temperature (Leaving) #1"]
["Liquid Temperature (Leaving) #2"]
["Liquid Temperature (Leaving) #1"]
["Liquid Temperature (Leaving) #2"]
["Air Temperature Thermocouples"]
["Test Stand Installation and Application",null,"Properly Installed and Applied?"]
["Liquid Mass Flow Rate #1"]
["Liquid Mass Flow Rate #2"]
["Liquid Differential Pressure"]
["Electrical Power #1"]
["Electrical Power #2"]
["Barometric Pressure"]
["Liquid Temperature (Leaving) #1"]
["Liquid Temperature (Leaving) #2"]
["Liquid Temperature (Entering) #1"]
["Liquid Temperature (Entering) #2"]
["Air Measurement Method"]
["Aspirating Psychrometers"]
["Air Sampling Tree Thermopile Grids"]
["Recirculation Thermocouples"]
["Individual Array Thermocouples"]
["Recirculation Thermocouples"]
["Conducted Prior to Testing","Units","Measured Value"]
["Zero Out Liquid Mass Flow Rate",{"$f":"IF('Test Plan'!$B$19=\"I-P\",'Unit Conversion'!$B$6,'Unit Conversion'!$C$6)","v":"m³/h"}]
["Zero Out Liquid Differential Pressure",{"$f":"IF('Test Plan'!$B$19=\"I-P\",'Unit Conversion'!$B$8,'Unit Conversion'!$C$8)","v":"kPa"}]
["Refrigerant Charge Measurement",{"$f":"IF('Test Plan'!$B$19=\"I-P\",'Unit Conversion'!$B$15,'Unit Conversion'!$C$15)","v":"kg"}]
["Refrigerant Sub Cooling Temperature",{"$f":"IF('Test Plan'!$B$19=\"I-P\",'Unit Conversion'!$B$5,'Unit Conversion'!$C$5)","v":"°C"}]
["Refrigerant Charge Line is Disconnected","-"]
["Temperature Probes Maximum Deviation Range ",{"$f":"IF('Test Plan'!$B$19=\"I-P\",'Unit Conversion'!$B$5,'Unit Conversion'!$C$5)","v":"°C"}]
["Photographs"]
["Chiller Nameplate","Chiller Setup and Ready to Test"]
["Photo","Photo"]
[]
[]
[]
[]
[]
[]
[]
[]
[]
[]
[]
["AHRI Mark (if not in Nameplate Photo)","Other (optional)"]
["Photo","Photo"]

{"sheet":"Test Conditions","index":4,"n_rows":120,"n_cols":12,"rows_kept":120,"cut":false,"hidden":false,"merged":[[3,1,3,3],[6,0,6,3],[0,0,0,3],[2,1,2,3],[4,1,4,3],[5,1,5,3],[1,1,1,3]]}
["Test Conditions"]
["AHRI Test Stand Inspection Number",{"$f":"'Unit Selection'!B9","v":"FIACCL-230##-1"}]
["AHRI Test Number",{"$f":"IF('Test Plan'!B3:D3=0,\" \",'Test Plan'!B3:D3)","v":"ACCL-230##-1-A"}]
["Model Designation",{"$f":"IF('Test Plan'!B4:D4=0,\" \",'Test Plan'!B4:D4)","v":" "}]
["Manufacturer",{"$f":"IF('Test Plan'!B5:D5=0,\" \",'Test Plan'!B5:D5)","v":" "}]
["Date",{"$f":"IF('Test Plan'!B6:D6=0,\" \",'Test Plan'!B6:D6)","v":" "}]
[]
["Test Conditions","Units","Evaporator","Condenser"]
["All Conditions",null,null,null,null,"Units",{"$f":"'Test Plan'!G$42","v":"Circuit 1"},{"$f":"'Test Plan'!H$42","v":"Circuit 2"},{"$f":"'Test Plan'!I$42","v":"Circuit 3"},{"$f":"'Test Plan'!J$42","v":"Circuit 4"},{"$f":"'Test Plan'!K$42","v":"Circuit 5"},{"$f":"'Test Plan'!L$42","v":"Circuit 6"}]
["Water-Side Fouling Factor ",{"$f":"'Test Plan'!B42","v":"m²·K/kW"},0,0,"Water Side Tube Surface Area",{"$f":"'Test Plan'!B43","v":"m^2"},{"$f":"'Test Plan'!G$43","v":0},{"$f":"'Test Plan'!H$43","v":0},{"$f":"'Test Plan'!I$43","v":0},{"$f":"'Test Plan'!J$43","v":0},{"$f":"'Test Plan'!K$43","v":0},{"$f":"'Test Plan'!L$43","v":0}]
[{"$f":"'Test Plan'!$A$44","v":"100% Load Condition "},{"$f":"'Test Plan'!$B$44:$B$44","v":"kW"},{"$f":"'Test Plan'!$C$44","v":0},null,"Capacity (ton)",{"$f":"B11","v":"kW"},{"$f":"'Test Plan'!G$44","v":0},{"$f":"'Test Plan'!H$44","v":0},{"$f":"'Test Plan'!I$44","v":0},{"$f":"'Test Plan'!J$44","v":0},{"$f":"'Test Plan'!K$44","v":0},{"$f":"'Test Plan'!L$44","v":0}]
["Small Temperature Difference Specified, Ssp",{"$f":"'Test Plan'!$B$45","v":"°C"},{"$f":"IF('Test Plan'!$C$39=1,ABS('Test Plan'!$C$45-'Test Plan'!$C$49),\"\")","v":""},null,"Small Temperature Difference Specified, Ssp",{"$f":"B12","v":"°C"},{"$f":"ABS('Test Plan'!G$45-'Test Plan'!G$49)","v":0},{"$f":"ABS('Test Plan'!H$45-'Test Plan'!H$49)","v":0},{"$f":"ABS('Test Plan'!I$45-'Test Plan'!I$49)","v":0},{"$f":"ABS('Test Plan'!J$45-'Test Plan'!J$49)","v":0},{"$f":"ABS('Test Plan'!K$45-'Test Plan'!K$49)","v":0},{"$f":"ABS('Test Plan'!L$45-'Test Plan'!L$49)","v":0}]
["Water Temperature Range, R",{"$f":"'Test Plan'!$B$45","v":"°C"},{"$f":"IF('Test Plan'!$C$39=1,ABS('Test Plan'!$C$45-'Test Plan'!$C$46),\"\")","v":""},null,"Water Temperature Range, R","°C",{"$f":"ABS('Test Plan'!G$45-'Test Plan'!G$46)","v":0},{"$f":"ABS('Test Plan'!H$45-'Test Plan'!H$46)","v":0},{"$f":"ABS('Test Plan'!I$45-'Test Plan'!I$46)","v":0},{"$f":"ABS('Test Plan'!J$45-'Test Plan'!J$46)","v":0},{"$f":"ABS('Test Plan'!K$45-'Test Plan'!K$46)","v":0},{"$f":"ABS('Test Plan'!L$45-'Test Plan'!L$46)","v":0}]
["Log Mean Temperature Difference, LMTD",{"$f":"'Test Plan'!$B$45","v":"°C"},{"$f":"IF('Test Plan'!$C$39=1,C13/LN(1+C13/C12),\"\")","v":""},null,"Log Mean Temperature Difference, LMTD","°C",{"$f":"G13/LN(1+G13/G12)","v":{"$error":"#DIV/0!"}},{"$error":"#DIV/0!"},{"$error":"#DIV/0!"},{"$error":"#DIV/0!"},{"$error":"#DIV/0!"},{"$error":"#DIV/0!"}]
["Incremental LMTD, ILMTD",{"$f":"'Test Plan'!$B$45","v":"°C"},{"$f":"IF('Test Plan'!$C$39=1,IF('Test Plan'!$B$19=\"I-P\",'Test Plan'!$C$42*('Test Plan'!$C$44*12000)/'Test Plan'!$C$43,'Test Plan'!$C$42*'Test Plan'!$C$44/'Test Plan'!$C$43),\"\")","v":""},null,"Incremental LMTD, ILMTD","°C",{"$f":"IF('Test Plan'!$B$19=\"I-P\",'Test Plan'!$C$42*('Test Plan'!G$44*12000)/'Test Plan'!G$43,'Test Plan'!$C$42*'Test Plan'!G$44/'Test Plan'!G$43)","v":{"$error":"#DIV/0!"}},{"$f":"IF('Test Plan'!$B$19=\"I-P\",'Test Plan'!$C$42*('Test Plan'!H$44*12000)/'Test Plan'!H$43,'Test Plan'!$C$42*'Test Plan'!H$44/'Test Plan'!H$43)","v":{"$error":"#DIV/0!"}},{"$f":"IF('Test Plan'!$B$19=\"I-P\",'Test Plan'!$C$42*('Test Plan'!I$44*12000)/'Test Plan'!I$43,'Test Plan'!$C$42*'Test Plan'!I$44/'Test Plan'!I$43)","v":{"$error":"#DIV/0!"}},{"$f":"IF('Test Plan'!$B$19=\"I-P\",'Test Plan'!$C$42*('Test Plan'!J$44*12000)/'Test Plan'!J$43,'Test Plan'!$C$42*'Test Plan'!J$44/'Test Plan'!J$43)","v":{"$error":"#DIV/0!"}},{"$f":"IF('Test Plan'!$B$19=\"I-P\",'Test Plan'!$C$42*('Test Plan'!K$44*12000)/'Test Plan'!K$43,'Test Plan'!$C$42*'Test Plan'!K$44/'Test Plan'!K$43)","v":{"$error":"#DIV/0!"}},{"$f":"IF('Test Plan'!$B$19=\"I-P\",'Test Plan'!$C$42*('Test Plan'!L$44*12000)/'Test Plan'!L$43,'Test Plan'!$C$42*'Test Plan'!L$44/'Test Plan'!L$43)","v":{"$error":"#DIV/0!"}}]
["Z","-",{"$f":"IF('Test Plan'!$C$39=1,C13/(C14-C15),\"\")","v":""},null,"Z","-",{"$f":"G13/(G14-G15)","v":{"$error":"#DIV/0!"}},{"$error":"#DIV/0!"},{"$error":"#DIV/0!"},{"$error":"#DIV/0!"},{"$error":"#DIV/0!"},{"$error":"#DIV/0!"}]
["Adjusted Temperature Difference, Tadj",{"$f":"'Test Plan'!$B$45","v":"°C"},{"$f":"IF('Test Plan'!$C$39=1,C12-(C13/(EXP(C16)-1)),IF('Test Plan'!$C$39=2,H18,IF('Test Plan'!$C$39=3,I18,IF('Test Plan'!$C$39=4,J18,IF('Test Plan'!$C$39=5,K18,L18)))))","v":0},null,"Adjusted Temperature Difference, Tadj","°C",{"$f":"IFERROR(G12-(G13/(EXP(G16)-1)),0)","v":0},{"$f":"IFERROR(H12-(H13/(EXP(H16)-1)),0)","v":0},0,0,0,0]
["Leaving Water Temperature ",{"$f":"'Test Plan'!$B$45","v":"°C"},{"$f":"'Test Plan'!$C$45-C17","v":{"$error":"#VALUE!"}},null,"∑ Adjusted Temperature Difference, Tadj","°C",null,{"$f":"IFERROR(SUM(G11*G17,H11*H17)/SUM(G11:H11),0)","v":0},{"$f":"IFERROR(SUM(G11*G17,H11*H17,I11*I17)/SUM(G11:I11),0)","v":0},{"$f":"IFERROR(SUM(G11*G17,H11*H17,I11*I17,J11*J17)/SUM(G11:J11),0)","v":0},{"$f":"IFERROR(SUM(G11*G17,H11*H17,I11*I17,J11*J17,K11*K17)/SUM(G11:K11),0)","v":0},{"$f":"IFERROR(SUM(G11*G17,H11*H17,I11*I17,J11*J17,K11*K17,L11*L17)/SUM(G11:L11),0)","v":0}]
["Entering Air Temperature",{"$f":"'Test Plan'!$B$46","v":"°C"},null,{"$f":"'Test Plan'!$D$47","v":35}]
["Water Flow Rate ",{"$f":"'Test Plan'!$B$48","v":"m³/h"},{"$f":"'Test Plan'!$C$48","v":0},null,null,"Units",{"$f":"'Test Plan'!G$42","v":"Circuit 1"},{"$f":"'Test Plan'!H$42","v":"Circuit 2"},{"$f":"'Test Plan'!I$42","v":"Circuit 3"},{"$f":"'Test Plan'!J$42","v":"Circuit 4"},{"$f":"'Test Plan'!K$42","v":"Circuit 5"},{"$f":"'Test Plan'!L$42","v":"Circuit 6"}]
[{"$f":"'Test Plan'!$A$51","v":"Condition 2"},{"$f":"'Test Plan'!$B$51","v":"kW"},{"$f":"'Test Plan'!$C$51","v":0},null,"Capacity (ton)",{"$f":"B21","v":"kW"},{"$f":"'Test Plan'!G$51","v":0},{"$f":"'Test Plan'!H$51","v":0},{"$f":"'Test Plan'!I$51","v":0},{"$f":"'Test Plan'!J$51","v":0},{"$f":"'Test Plan'!K$51","v":0},{"$f":"'Test Plan'!L$51","v":0}]
["Small Temperature Difference Specified, Ssp",{"$f":"'Test Plan'!$B$52","v":"°C"},{"$f":"IF('Test Plan'!$C$39=1,ABS('Test Plan'!$C$52-'Test Plan'!$C$56),\"\")","v":""},null,"Small Temperature Difference Specified, Ssp",{"$f":"B22","v":"°C"},{"$f":"ABS('Test Plan'!G$52-'Test Plan'!G$56)","v":0},{"$f":"ABS('Test Plan'!H$52-'Test Plan'!H$56)","v":0},{"$f":"ABS('Test Plan'!I$52-'Test Plan'!I$56)","v":0},{"$f":"ABS('Test Plan'!J$52-'Test Plan'!J$56)","v":0},{"$f":"ABS('Test Plan'!K$52-'Test Plan'!K$56)","v":0},{"$f":"ABS('Test Plan'!L$52-'Test Plan'!L$56)","v":0}]
["Water Temperature Range, R",{"$f":"'Test Plan'!$B$52","v":"°C"},{"$f":"IF('Test Plan'!$C$39=1,ABS('Test Plan'!$C$52-'Test Plan'!$C$53),\"\")","v":""},null,"Water Temperature Range, R",{"$f":"B23","v":"°C"},{"$f":"ABS('Test Plan'!G$52-'Test Plan'!G$53)","v":0},{"$f":"ABS('Test Plan'!H$52-'Test Plan'!H$53)","v":0},{"$f":"ABS('Test Plan'!I$52-'Test Plan'!I$53)","v":0},{"$f":"ABS('Test Plan'!J$52-'Test Plan'!J$53)","v":0},{"$f":"ABS('Test Plan'!K$52-'Test Plan'!K$53)","v":0},{"$f":"ABS('Test Plan'!L$52-'Test Plan'!L$53)","v":0}]
["Log Mean Temperature Difference, LMTD",{"$f":"'Test Plan'!$B$52","v":"°C"},{"$f":"IF('Test Plan'!$C$39=1,C23/LN(1+C23/C22),\"\")","v":""},null,"Log Mean Temperature Difference, LMTD","°C",{"$f":"G23/LN(1+G23/G22)","v":{"$error":"#DIV/0!"}},{"$error":"#DIV/0!"},{"$error":"#DIV/0!"},{"$error":"#DIV/0!"},{"$error":"#DIV/0!"},{"$error":"#DIV/0!"}]
["Incremental LMTD, ILMTD",{"$f":"'Test Plan'!$B$52","v":"°C"},{"$f":"IF('Test Plan'!$C$39=1,IF('Test Plan'!$B$19=\"I-P\",'Test Plan'!$C$42*('Test Plan'!$C$51*12000)/'Test Plan'!$C$43,'Test Plan'!$C$42*'Test Plan'!$C$51/'Test Plan'!$C$43),\"\")","v":""},null,"Incremental LMTD, ILMTD","°C",{"$f":"IF('Test Plan'!$B$19=\"I-P\",'Test Plan'!$C$42*('Test Plan'!G$51*12000)/'Test Plan'!G$43,'Test Plan'!$C$42*'Test Plan'!G$51/'Test Plan'!G$43)","v":{"$error":"#DIV/0!"}},{"$f":"IF('Test Plan'!$B$19=\"I-P\",'Test Plan'!$C$42*('Test Plan'!H$51*12000)/'Test Plan'!H$43,'Test Plan'!$C$42*'Test Plan'!H$51/'Test Plan'!H$43)","v":{"$error":"#DIV/0!"}},{"$f":"IF('Test Plan'!$B$19=\"I-P\",'Test Plan'!$C$42*('Test Plan'!I$51*12000)/'Test Plan'!I$43,'Test Plan'!$C$42*'Test Plan'!I$51/'Test Plan'!I$43)","v":{"$error":"#DIV/0!"}},{"$f":"IF('Test Plan'!$B$19=\"I-P\",'Test Plan'!$C$42*('Test Plan'!J$51*12000)/'Test Plan'!J$43,'Test Plan'!$C$42*'Test Plan'!J$51/'Test Plan'!J$43)","v":{"$error":"#DIV/0!"}},{"$f":"IF('Test Plan'!$B$19=\"I-P\",'Test Plan'!$C$42*('Test Plan'!K$51*12000)/'Test Plan'!K$43,'Test Plan'!$C$42*'Test Plan'!K$51/'Test Plan'!K$43)","v":{"$error":"#DIV/0!"}},{"$f":"IF('Test Plan'!$B$19=\"I-P\",'Test Plan'!$C$42*('Test Plan'!L$51*12000)/'Test Plan'!L$43,'Test Plan'!$C$42*'Test Plan'!L$51/'Test Plan'!L$43)","v":{"$error":"#DIV/0!"}}]
["Z","-",{"$f":"IF('Test Plan'!$C$39=1,C23/(C24-C25),\"\")","v":""},null,"Z","-",{"$f":"G23/(G24-G25)","v":{"$error":"#DIV/0!"}},{"$error":"#DIV/0!"},{"$error":"#DIV/0!"},{"$error":"#DIV/0!"},{"$error":"#DIV/0!"},{"$error":"#DIV/0!"}]
["Adjusted Temperature Difference, Tadj",{"$f":"'Test Plan'!$B$52","v":"°C"},{"$f":"IF('Test Plan'!$C$39=1,C22-(C23/(EXP(C26)-1)),IF('Test Plan'!$C$39=2,H28,IF('Test Plan'!$C$39=3,I28,IF('Test Plan'!$C$39=4,J28,IF('Test Plan'!$C$39=5,K28,L28)))))","v":0},null,"Adjusted Temperature Difference, Tadj","°C",{"$f":"IFERROR(G22-(G23/(EXP(G26)-1)),0)","v":0},0,0,0,0,0]
["Leaving Water Temperature ",{"$f":"'Test Plan'!$B$52","v":"°C"},{"$f":"'Test Plan'!$C$52-C27","v":{"$error":"#VALUE!"}},null,"∑ Adjusted Temperature Difference, Tadj","°C",null,{"$f":"IFERROR(SUM(G21*G27,H21*H27)/SUM(G21:H21),0)","v":0},{"$f":"IFERROR(SUM(G21*G27,H21*H27,I21*I27)/SUM(G21:I21),0)","v":0},{"$f":"IFERROR(SUM(G21*G27,H21*H27,I21*I27,J21*J27)/SUM(G21:J21),0)","v":0},{"$f":"IFERROR(SUM(G21*G27,H21*H27,I21*I27,J21*J27,K21*K27)/SUM(G21:K21),0)","v":0},{"$f":"IFERROR(SUM(G21*G27,H21*H27,I21*I27,J21*J27,K21*K27,L21*L27)/SUM(G21:L21),0)","v":0}]
["Entering Air Temperature",{"$f":"'Test Plan'!$B$52","v":"°C"},null,{"$f":"'Test Plan'!$D$54","v":0}]
["Water Flow Rate ",{"$f":"'Test Plan'!$B$55","v":"m³/h"},{"$f":"'Test Plan'!$C$55","v":0},null,null,"Units",{"$f":"'Test Plan'!G$42","v":"Circuit 1"},{"$f":"'Test Plan'!H$42","v":"Circuit 2"},{"$f":"'Test Plan'!I$42","v":"Circuit 3"},{"$f":"'Test Plan'!J$42","v":"Circuit 4"},{"$f":"'Test Plan'!K$42","v":"Circuit 5"},{"$f":"'Test Plan'!L$42","v":"Circuit 6"}]
[{"$f":"'Test Plan'!$A$58","v":"Condition 3"},{"$f":"'Test Plan'!$B$58","v":"kW"},{"$f":"'Test Plan'!$C$58","v":0},null,"Capacity (ton)",{"$f":"B31","v":"kW"},{"$f":"'Test Plan'!G$58","v":0},{"$f":"'Test Plan'!H$58","v":0},{"$f":"'Test Plan'!I$58","v":0},{"$f":"'Test Plan'!J$58","v":0},{"$f":"'Test Plan'!K$58","v":0},{"$f":"'Test Plan'!L$58","v":0}]
["Small Temperature Difference Specified, Ssp",{"$f":"'Test Plan'!$B$59","v":"°C"},{"$f":"IF('Test Plan'!$C$39=1,ABS('Test Plan'!$C$59-'Test Plan'!$C$63),\"\")","v":""},null,"Small Temperature Difference Specified, Ssp",{"$f":"B32","v":"°C"},{"$f":"ABS('Test Plan'!G$59-'Test Plan'!G$63)","v":0},{"$f":"ABS('Test Plan'!H$59-'Test Plan'!H$63)","v":0},{"$f":"ABS('Test Plan'!I$59-'Test Plan'!I$63)","v":0},{"$f":"ABS('Test Plan'!J$59-'Test Plan'!J$63)","v":0},{"$f":"ABS('Test Plan'!K$59-'Test Plan'!K$63)","v":0},{"$f":"ABS('Test Plan'!L$59-'Test Plan'!L$63)","v":0}]
["Water Temperature Range, R",{"$f":"'Test Plan'!$B$59","v":"°C"},{"$f":"IF('Test Plan'!$C$39=1,ABS('Test Plan'!$C$59-'Test Plan'!$C$60),\"\")","v":""},null,"Water Temperature Range, R",{"$f":"B33","v":"°C"},{"$f":"ABS('Test Plan'!G$59-'Test Plan'!G$60)","v":0},{"$f":"ABS('Test Plan'!H$59-'Test Plan'!H$60)","v":0},{"$f":"ABS('Test Plan'!I$59-'Test Plan'!I$60)","v":0},{"$f":"ABS('Test Plan'!J$59-'Test Plan'!J$60)","v":0},{"$f":"ABS('Test Plan'!K$59-'Test Plan'!K$60)","v":0},{"$f":"ABS('Test Plan'!L$59-'Test Plan'!L$60)","v":0}]
["Log Mean Temperature Difference, LMTD",{"$f":"'Test Plan'!$B$59","v":"°C"},{"$f":"IF('Test Plan'!$C$39=1,C33/LN(1+C33/C32),\"\")","v":""},null,"Log Mean Temperature Difference, LMTD","°C",{"$f":"G33/LN(1+G33/G32)","v":{"$error":"#DIV/0!"}},{"$error":"#DIV/0!"},{"$error":"#DIV/0!"},{"$error":"#DIV/0!"},{"$error":"#DIV/0!"},{"$error":"#DIV/0!"}]
["Incremental LMTD, ILMTD",{"$f":"'Test Plan'!$B$59","v":"°C"},{"$f":"IF('Test Plan'!$C$39=1,IF('Test Plan'!$B$19=\"I-P\",'Test Plan'!$C$42*('Test Plan'!$C$58*12000)/'Test Plan'!$C$43,'Test Plan'!$C$42*'Test Plan'!$C$58/'Test Plan'!$C$43),\"\")","v":""},null,"Incremental LMTD, ILMTD","°C",{"$f":"IF('Test Plan'!$B$19=\"I-P\",'Test Plan'!$C$42*('Test Plan'!G$58*12000)/'Test Plan'!G$43,'Test Plan'!$C$42*'Test Plan'!G$58/'Test Plan'!G$43)","v":{"$error":"#DIV/0!"}},{"$f":"IF('Test Plan'!$B$19=\"I-P\",'Test Plan'!$C$42*('Test Plan'!H$58*12000)/'Test Plan'!H$43,'Test Plan'!$C$42*'Test Plan'!H$58/'Test Plan'!H$43)","v":{"$error":"#DIV/0!"}},{"$f":"IF('Test Plan'!$B$19=\"I-P\",'Test Plan'!$C$42*('Test Plan'!I$58*12000)/'Test Plan'!I$43,'Test Plan'!$C$42*'Test Plan'!I$58/'Test Plan'!I$43)","v":{"$error":"#DIV/0!"}},{"$f":"IF('Test Plan'!$B$19=\"I-P\",'Test Plan'!$C$42*('Test Plan'!J$58*12000)/'Test Plan'!J$43,'Test Plan'!$C$42*'Test Plan'!J$58/'Test Plan'!J$43)","v":{"$error":"#DIV/0!"}},{"$f":"IF('Test Plan'!$B$19=\"I-P\",'Test Plan'!$C$42*('Test Plan'!K$58*12000)/'Test Plan'!K$43,'Test Plan'!$C$42*'Test Plan'!K$58/'Test Plan'!K$43)","v":{"$error":"#DIV/0!"}},{"$f":"IF('Test Plan'!$B$19=\"I-P\",'Test Plan'!$C$42*('Test Plan'!L$58*12000)/'Test Plan'!L$43,'Test Plan'!$C$42*'Test Plan'!L$58/'Test Plan'!L$43)","v":{"$error":"#DIV/0!"}}]
["Z","-",{"$f":"IF('Test Plan'!$C$39=1,C33/(C34-C35),\"\")","v":""},null,"Z","-",{"$f":"G33/(G34-G35)","v":{"$error":"#DIV/0!"}},{"$error":"#DIV/0!"},{"$error":"#DIV/0!"},{"$error":"#DIV/0!"},{"$error":"#DIV/0!"},{"$error":"#DIV/0!"}]
["Adjusted Temperature Difference, Tadj",{"$f":"'Test Plan'!$B$59","v":"°C"},{"$f":"IF('Test Plan'!$C$39=1,C32-(C33/(EXP(C36)-1)),IF('Test Plan'!$C$39=2,H38,IF('Test Plan'!$C$39=3,I38,IF('Test Plan'!$C$39=4,J38,IF('Test Plan'!$C$39=5,K38,L38)))))","v":0},null,"Adjusted Temperature Difference, Tadj","°C",{"$f":"IFERROR(G32-(G33/(EXP(G36)-1)),0)","v":0},0,0,0,0,0]
["Leaving Water Temperature ",{"$f":"'Test Plan'!$B$59","v":"°C"},{"$f":"'Test Plan'!$C$59-C37","v":{"$error":"#VALUE!"}},null,"∑ Adjusted Temperature Difference, Tadj","°C",null,{"$f":"IFERROR(SUM(G31*G37,H31*H37)/SUM(G31:H31),0)","v":0},{"$f":"IFERROR(SUM(G31*G37,H31*H37,I31*I37)/SUM(G31:I31),0)","v":0},{"$f":"IFERROR(SUM(G31*G37,H31*H37,I31*I37,J31*J37)/SUM(G31:J31),0)","v":0},{"$f":"IFERROR(SUM(G31*G37,H31*H37,I31*I37,J31*J37,K31*K37)/SUM(G31:K31),0)","v":0},{"$f":"IFERROR(SUM(G31*G37,H31*H37,I31*I37,J31*J37,K31*K37,L31*L37)/SUM(G31:L31),0)","v":0}]
["Entering Air Temperature",{"$f":"'Test Plan'!$B$59","v":"°C"},null,{"$f":"'Test Plan'!$D$61","v":0}]
["Water Flow Rate ",{"$f":"'Test Plan'!$B$62","v":"m³/h"},{"$f":"'Test Plan'!$C$62","v":0},null,null,"Units",{"$f":"'Test Plan'!G$42","v":"Circuit 1"},{"$f":"'Test Plan'!H$42","v":"Circuit 2"},{"$f":"'Test Plan'!I$42","v":"Circuit 3"},{"$f":"'Test Plan'!J$42","v":"Circuit 4"},{"$f":"'Test Plan'!K$42","v":"Circuit 5"},{"$f":"'Test Plan'!L$42","v":"Circuit 6"}]
[{"$f":"'Test Plan'!$A$65","v":"Condition 4"},{"$f":"'Test Plan'!$B$65","v":"kW"},{"$f":"'Test Plan'!$C$65","v":0},null,"Capacity (ton)",{"$f":"B41","v":"kW"},{"$f":"'Test Plan'!G$65","v":0},{"$f":"'Test Plan'!H$65","v":0},{"$f":"'Test Plan'!I$65","v":0},{"$f":"'Test Plan'!J$65","v":0},{"$f":"'Test Plan'!K$65","v":0},{"$f":"'Test Plan'!L$65","v":0}]
["Small Temperature Difference Specified, Ssp",{"$f":"'Test Plan'!$B$66","v":"°C"},{"$f":"IF('Test Plan'!$C$39=1,ABS('Test Plan'!$C$66-'Test Plan'!$C$70),\"\")","v":""},null,"Small Temperature Difference Specified, Ssp",{"$f":"B42","v":"°C"},{"$f":"ABS('Test Plan'!G$66-'Test Plan'!G$70)","v":0},{"$f":"ABS('Test Plan'!H$66-'Test Plan'!H$70)","v":0},{"$f":"ABS('Test Plan'!I$66-'Test Plan'!I$70)","v":0},{"$f":"ABS('Test Plan'!J$66-'Test Plan'!J$70)","v":0},{"$f":"ABS('Test Plan'!K$66-'Test Plan'!K$70)","v":0},{"$f":"ABS('Test Plan'!L$66-'Test Plan'!L$70)","v":0}]
["Water Temperature Range, R",{"$f":"'Test Plan'!$B$66","v":"°C"},{"$f":"IF('Test Plan'!$C$39=1,ABS('Test Plan'!$C$66-'Test Plan'!$C$67),\"\")","v":""},null,"Water Temperature Range, R",{"$f":"B43","v":"°C"},{"$f":"ABS('Test Plan'!G$66-'Test Plan'!G$67)","v":0},{"$f":"ABS('Test Plan'!H$66-'Test Plan'!H$67)","v":0},{"$f":"ABS('Test Plan'!I$66-'Test Plan'!I$67)","v":0},{"$f":"ABS('Test Plan'!J$66-'Test Plan'!J$67)","v":0},{"$f":"ABS('Test Plan'!K$66-'Test Plan'!K$67)","v":0},{"$f":"ABS('Test Plan'!L$66-'Test Plan'!L$67)","v":0}]
["Log Mean Temperature Difference, LMTD",{"$f":"'Test Plan'!$B$66","v":"°C"},{"$f":"IF('Test Plan'!$C$39=1,C43/LN(1+C43/C42),\"\")","v":""},null,"Log Mean Temperature Difference, LMTD","°C",{"$f":"G43/LN(1+G43/G42)","v":{"$error":"#DIV/0!"}},{"$error":"#DIV/0!"},{"$error":"#DIV/0!"},{"$error":"#DIV/0!"},{"$error":"#DIV/0!"},{"$error":"#DIV/0!"}]
["Incremental LMTD, ILMTD",{"$f":"'Test Plan'!$B$66","v":"°C"},{"$f":"IF('Test Plan'!$C$39=1,IF('Test Plan'!$B$19=\"I-P\",'Test Plan'!$C$42*('Test Plan'!$C$65*12000)/'Test Plan'!$C$43,'Test Plan'!$C$42*'Test Plan'!$C$65/'Test Plan'!$C$43),\"\")","v":""},null,"Incremental LMTD, ILMTD","°C",{"$f":"IF('Test Plan'!$B$19=\"I-P\",'Test Plan'!$C$42*('Test Plan'!G$65*12000)/'Test Plan'!G$43,'Test Plan'!$C$42*'Test Plan'!G$65/'Test Plan'!G$43)","v":{"$error":"#DIV/0!"}},{"$f":"IF('Test Plan'!$B$19=\"I-P\",'Test Plan'!$C$42*('Test Plan'!H$65*12000)/'Test Plan'!H$43,'Test Plan'!$C$42*'Test Plan'!H$65/'Test Plan'!H$43)","v":{"$error":"#DIV/0!"}},{"$f":"IF('Test Plan'!$B$19=\"I-P\",'Test Plan'!$C$42*('Test Plan'!I$65*12000)/'Test Plan'!I$43,'Test Plan'!$C$42*'Test Plan'!I$65/'Test Plan'!I$43)","v":{"$error":"#DIV/0!"}},{"$f":"IF('Test Plan'!$B$19=\"I-P\",'Test Plan'!$C$42*('Test Plan'!J$65*12000)/'Test Plan'!J$43,'Test Plan'!$C$42*'Test Plan'!J$65/'Test Plan'!J$43)","v":{"$error":"#DIV/0!"}},{"$f":"IF('Test Plan'!$B$19=\"I-P\",'Test Plan'!$C$42*('Test Plan'!K$65*12000)/'Test Plan'!K$43,'Test Plan'!$C$42*'Test Plan'!K$65/'Test Plan'!K$43)","v":{"$error":"#DIV/0!"}},{"$f":"IF('Test Plan'!$B$19=\"I-P\",'Test Plan'!$C$42*('Test Plan'!L$65*12000)/'Test Plan'!L$43,'Test Plan'!$C$42*'Test Plan'!L$65/'Test Plan'!L$43)","v":{"$error":"#DIV/0!"}}]
["Z","-",{"$f":"IF('Test Plan'!$C$39=1,C43/(C44-C45),\"\")","v":""},null,"Z","-",{"$f":"G43/(G44-G45)","v":{"$error":"#DIV/0!"}},{"$error":"#DIV/0!"},{"$error":"#DIV/0!"},{"$error":"#DIV/0!"},{"$error":"#DIV/0!"},{"$error":"#DIV/0!"}]
["Adjusted Temperature Difference, Tadj",{"$f":"'Test Plan'!$B$66","v":"°C"},{"$f":"IF('Test Plan'!$C$39=1,C42-(C43/(EXP(C46)-1)),IF('Test Plan'!$C$39=2,H48,IF('Test Plan'!$C$39=3,I48,IF('Test Plan'!$C$39=4,J48,IF('Test Plan'!$C$39=5,K48,L48)))))","v":0},null,"Adjusted Temperature Difference, Tadj","°C",{"$f":"IFERROR(G42-(G43/(EXP(G46)-1)),0)","v":0},0,0,0,0,0]
["Leaving Water Temperature ",{"$f":"'Test Plan'!$B$66","v":"°C"},{"$f":"'Test Plan'!$C$66-C47","v":{"$error":"#VALUE!"}},null,"∑ Adjusted Temperature Difference, Tadj","°C",null,{"$f":"IFERROR(SUM(G41*G47,H41*H47)/SUM(G41:H41),0)","v":0},{"$f":"IFERROR(SUM(G41*G47,H41*H47,I41*I47)/SUM(G41:I41),0)","v":0},{"$f":"IFERROR(SUM(G41*G47,H41*H47,I41*I47,J41*J47)/SUM(G41:J41),0)","v":0},{"$f":"IFERROR(SUM(G41*G47,H41*H47,I41*I47,J41*J47,K41*K47)/SUM(G41:K41),0)","v":0},{"$f":"IFERROR(SUM(G41*G47,H41*H47,I41*I47,J41*J47,K41*K47,L41*L47)/SUM(G41:L41),0)","v":0}]
["Entering Air Temperature",{"$f":"'Test Plan'!$B$66","v":"°C"},null,{"$f":"'Test Plan'!$D$68","v":0}]
["Water Flow Rate ",{"$f":"'Test Plan'!$B$69","v":"m³/h"},{"$f":"'Test Plan'!$C$69","v":0},null,null,"Units",{"$f":"'Test Plan'!G$42","v":"Circuit 1"},{"$f":"'Test Plan'!H$42","v":"Circuit 2"},{"$f":"'Test Plan'!I$42","v":"Circuit 3"},{"$f":"'Test Plan'!J$42","v":"Circuit 4"},{"$f":"'Test Plan'!K$42","v":"Circuit 5"},{"$f":"'Test Plan'!L$42","v":"Circuit 6"}]
[{"$f":"'Test Plan'!$A$72","v":"Condition 5"},{"$f":"'Test Plan'!$B$65","v":"kW"},{"$f":"'Test Plan'!$C$72","v":0},null,"Capacity (ton)",{"$f":"B51","v":"kW"},{"$f":"'Test Plan'!G$72","v":0},{"$f":"'Test Plan'!H$72","v":0},{"$f":"'Test Plan'!I$72","v":0},{"$f":"'Test Plan'!J$72","v":0},{"$f":"'Test Plan'!K$72","v":0},{"$f":"'Test Plan'!L$72","v":0}]
["Small Temperature Difference Specified, Ssp",{"$f":"'Test Plan'!$B$66","v":"°C"},{"$f":"IF('Test Plan'!$C$39=1,ABS('Test Plan'!$C$73-'Test Plan'!$C$77),\"\")","v":""},null,"Small Temperature Difference Specified, Ssp",{"$f":"B52","v":"°C"},{"$f":"ABS('Test Plan'!G$73-'Test Plan'!G$77)","v":0},{"$f":"ABS('Test Plan'!H$73-'Test Plan'!H$77)","v":0},{"$f":"ABS('Test Plan'!I$73-'Test Plan'!I$77)","v":0},{"$f":"ABS('Test Plan'!J$73-'Test Plan'!J$77)","v":0},{"$f":"ABS('Test Plan'!K$73-'Test Plan'!K$77)","v":0},{"$f":"ABS('Test Plan'!L$73-'Test Plan'!L$77)","v":0}]
["Water Temperature Range, R",{"$f":"'Test Plan'!$B$66","v":"°C"},{"$f":"IF('Test Plan'!$C$39=1,ABS('Test Plan'!$C$73-'Test Plan'!$C$74),\"\")","v":""},null,"Water Temperature Range, R",{"$f":"B53","v":"°C"},{"$f":"ABS('Test Plan'!G$73-'Test Plan'!G$74)","v":0},{"$f":"ABS('Test Plan'!H$73-'Test Plan'!H$74)","v":0},{"$f":"ABS('Test Plan'!I$73-'Test Plan'!I$74)","v":0},{"$f":"ABS('Test Plan'!J$73-'Test Plan'!J$74)","v":0},{"$f":"ABS('Test Plan'!K$73-'Test Plan'!K$74)","v":0},{"$f":"ABS('Test Plan'!L$73-'Test Plan'!L$74)","v":0}]
["Log Mean Temperature Difference, LMTD",{"$f":"'Test Plan'!$B$66","v":"°C"},{"$f":"IF('Test Plan'!$C$39=1,C53/LN(1+C53/C52),\"\")","v":""},null,"Log Mean Temperature Difference, LMTD","°C",{"$f":"G53/LN(1+G53/G52)","v":{"$error":"#DIV/0!"}},{"$error":"#DIV/0!"},{"$error":"#DIV/0!"},{"$error":"#DIV/0!"},{"$error":"#DIV/0!"},{"$error":"#DIV/0!"}]
["Incremental LMTD, ILMTD",{"$f":"'Test Plan'!$B$66","v":"°C"},{"$f":"IF('Test Plan'!$C$39=1,IF('Test Plan'!$B$19=\"I-P\",'Test Plan'!$C$42*('Test Plan'!$C$72*12000)/'Test Plan'!$C$43,'Test Plan'!$C$42*'Test Plan'!$C$72/'Test Plan'!$C$43),\"\")","v":""},null,"Incremental LMTD, ILMTD","°C",{"$f":"IF('Test Plan'!$B$19=\"I-P\",'Test Plan'!$C$42*('Test Plan'!G$72*12000)/'Test Plan'!G$43,'Test Plan'!$C$42*'Test Plan'!G$72/'Test Plan'!G$43)","v":{"$error":"#DIV/0!"}},{"$f":"IF('Test Plan'!$B$19=\"I-P\",'Test Plan'!$C$42*('Test Plan'!H$72*12000)/'Test Plan'!H$43,'Test Plan'!$C$42*'Test Plan'!H$72/'Test Plan'!H$43)","v":{"$error":"#DIV/0!"}},{"$f":"IF('Test Plan'!$B$19=\"I-P\",'Test Plan'!$C$42*('Test Plan'!I$72*12000)/'Test Plan'!I$43,'Test Plan'!$C$42*'Test Plan'!I$72/'Test Plan'!I$43)","v":{"$error":"#DIV/0!"}},{"$f":"IF('Test Plan'!$B$19=\"I-P\",'Test Plan'!$C$42*('Test Plan'!J$72*12000)/'Test Plan'!J$43,'Test Plan'!$C$42*'Test Plan'!J$72/'Test Plan'!J$43)","v":{"$error":"#DIV/0!"}},{"$f":"IF('Test Plan'!$B$19=\"I-P\",'Test Plan'!$C$42*('Test Plan'!K$72*12000)/'Test Plan'!K$43,'Test Plan'!$C$42*'Test Plan'!K$72/'Test Plan'!K$43)","v":{"$error":"#DIV/0!"}},{"$f":"IF('Test Plan'!$B$19=\"I-P\",'Test Plan'!$C$42*('Test Plan'!L$72*12000)/'Test Plan'!L$43,'Test Plan'!$C$42*'Test Plan'!L$72/'Test Plan'!L$43)","v":{"$error":"#DIV/0!"}}]
["Z","-",{"$f":"IF('Test Plan'!$C$39=1,C53/(C54-C55),\"\")","v":""},null,"Z","-",{"$f":"G53/(G54-G55)","v":{"$error":"#DIV/0!"}},{"$error":"#DIV/0!"},{"$error":"#DIV/0!"},{"$error":"#DIV/0!"},{"$error":"#DIV/0!"},{"$error":"#DIV/0!"}]
["Adjusted Temperature Difference, TDa",{"$f":"'Test Plan'!$B$66","v":"°C"},{"$f":"IF('Test Plan'!$C$39=1,C52-(C53/(EXP(C56)-1)),IF('Test Plan'!$C$39=2,H58,IF('Test Plan'!$C$39=3,I58,IF('Test Plan'!$C$39=4,J58,IF('Test Plan'!$C$39=5,K58,L58)))))","v":0},null,"Adjusted Temperature Difference, Tadj","°C",{"$f":"IFERROR(G52-(G53/(EXP(G56)-1)),0)","v":0},0,0,0,0,0]
["Leaving Water Temperature ",{"$f":"'Test Plan'!$B$66","v":"°C"},{"$f":"'Test Plan'!$C$73-C57","v":{"$error":"#VALUE!"}},null,"∑ Adjusted Temperature Difference, Tadj","°C",null,{"$f":"IFERROR(SUM(G51*G57,H51*H57)/SUM(G51:H51),0)","v":0},{"$f":"IFERROR(SUM(G51*G57,H51*H57,I51*I57)/SUM(G51:I51),0)","v":0},{"$f":"IFERROR(SUM(G51*G57,H51*H57,I51*I57,J51*J57)/SUM(G51:J51),0)","v":0},{"$f":"IFERROR(SUM(G51*G57,H51*H57,I51*I57,J51*J57,K51*K57)/SUM(G51:K51),0)","v":0},{"$f":"IFERROR(SUM(G51*G57,H51*H57,I51*I57,J51*J57,K51*K57,L51*L57)/SUM(G51:L51),0)","v":0}]
["Entering Air Temperature",{"$f":"'Test Plan'!$B$66","v":"°C"},null,{"$f":"'Test Plan'!$D$75","v":0}]
["Water Flow Rate ",{"$f":"'Test Plan'!$B$69","v":"m³/h"},{"$f":"'Test Plan'!$C$76","v":0},null,null,"Units",{"$f":"'Test Plan'!G$42","v":"Circuit 1"},{"$f":"'Test Plan'!H$42","v":"Circuit 2"},{"$f":"'Test Plan'!I$42","v":"Circuit 3"},{"$f":"'Test Plan'!J$42","v":"Circuit 4"},{"$f":"'Test Plan'!K$42","v":"Circuit 5"},{"$f":"'Test Plan'!L$42","v":"Circuit 6"}]
[{"$f":"'Test Plan'!$A$79","v":"Condition 6"},{"$f":"'Test Plan'!$B$65","v":"kW"},{"$f":"'Test Plan'!$C$79","v":0},null,"Capacity (ton)",{"$f":"B61","v":"kW"},{"$f":"'Test Plan'!G$79","v":0},{"$f":"'Test Plan'!H$79","v":0},{"$f":"'Test Plan'!I$79","v":0},{"$f":"'Test Plan'!J$79","v":0},{"$f":"'Test Plan'!K$79","v":0},{"$f":"'Test Plan'!L$79","v":0}]
["Small Temperature Difference Specified, Ssp",{"$f":"'Test Plan'!$B$66","v":"°C"},{"$f":"IF('Test Plan'!$C$39=1,ABS('Test Plan'!$C$80-'Test Plan'!$C$84),\"\")","v":""},null,"Small Temperature Difference Specified, Ssp",{"$f":"B62","v":"°C"},{"$f":"ABS('Test Plan'!G$80-'Test Plan'!G$84)","v":0},{"$f":"ABS('Test Plan'!H$80-'Test Plan'!H$84)","v":0},{"$f":"ABS('Test Plan'!I$80-'Test Plan'!I$84)","v":0},{"$f":"ABS('Test Plan'!J$80-'Test Plan'!J$84)","v":0},{"$f":"ABS('Test Plan'!K$80-'Test Plan'!K$84)","v":0},{"$f":"ABS('Test Plan'!L$80-'Test Plan'!L$84)","v":0}]
["Water Temperature Range, R",{"$f":"'Test Plan'!$B$66","v":"°C"},{"$f":"IF('Test Plan'!$C$39=1,ABS('Test Plan'!$C$80-'Test Plan'!$C$81),\"\")","v":""},null,"Water Temperature Range, R",{"$f":"B63","v":"°C"},{"$f":"ABS('Test Plan'!G$80-'Test Plan'!G$81)","v":0},{"$f":"ABS('Test Plan'!H$80-'Test Plan'!H$81)","v":0},{"$f":"ABS('Test Plan'!I$80-'Test Plan'!I$81)","v":0},{"$f":"ABS('Test Plan'!J$80-'Test Plan'!J$81)","v":0},{"$f":"ABS('Test Plan'!K$80-'Test Plan'!K$81)","v":0},{"$f":"ABS('Test Plan'!L$80-'Test Plan'!L$81)","v":0}]
["Log Mean Temperature Difference, LMTD",{"$f":"'Test Plan'!$B$66","v":"°C"},{"$f":"IF('Test Plan'!$C$39=1,C63/LN(1+C63/C62),\"\")","v":""},null,"Log Mean Temperature Difference, LMTD","°C",{"$f":"G63/LN(1+G63/G62)","v":{"$error":"#DIV/0!"}},{"$error":"#DIV/0!"},{"$error":"#DIV/0!"},{"$error":"#DIV/0!"},{"$error":"#DIV/0!"},{"$error":"#DIV/0!"}]
["Incremental LMTD, ILMTD",{"$f":"'Test Plan'!$B$66","v":"°C"},{"$f":"IF('Test Plan'!$C$39=1,IF('Test Plan'!$B$19=\"I-P\",'Test Plan'!$C$42*('Test Plan'!$C$79*12000)/'Test Plan'!$C$43,'Test Plan'!$C$42*'Test Plan'!$C$79/'Test Plan'!$C$43),\"\")","v":""},null,"Incremental LMTD, ILMTD","°C",{"$f":"IF('Test Plan'!$B$19=\"I-P\",'Test Plan'!$C$42*('Test Plan'!G$79*12000)/'Test Plan'!G$43,'Test Plan'!$C$42*'Test Plan'!G$79/'Test Plan'!G$43)","v":{"$error":"#DIV/0!"}},{"$f":"IF('Test Plan'!$B$19=\"I-P\",'Test Plan'!$C$42*('Test Plan'!H$79*12000)/'Test Plan'!H$43,'Test Plan'!$C$42*'Test Plan'!H$79/'Test Plan'!H$43)","v":{"$error":"#DIV/0!"}},{"$f":"IF('Test Plan'!$B$19=\"I-P\",'Test Plan'!$C$42*('Test Plan'!I$79*12000)/'Test Plan'!I$43,'Test Plan'!$C$42*'Test Plan'!I$79/'Test Plan'!I$43)","v":{"$error":"#DIV/0!"}},{"$f":"IF('Test Plan'!$B$19=\"I-P\",'Test Plan'!$C$42*('Test Plan'!J$79*12000)/'Test Plan'!J$43,'Test Plan'!$C$42*'Test Plan'!J$79/'Test Plan'!J$43)","v":{"$error":"#DIV/0!"}},{"$f":"IF('Test Plan'!$B$19=\"I-P\",'Test Plan'!$C$42*('Test Plan'!K$79*12000)/'Test Plan'!K$43,'Test Plan'!$C$42*'Test Plan'!K$79/'Test Plan'!K$43)","v":{"$error":"#DIV/0!"}},{"$f":"IF('Test Plan'!$B$19=\"I-P\",'Test Plan'!$C$42*('Test Plan'!L$79*12000)/'Test Plan'!L$43,'Test Plan'!$C$42*'Test Plan'!L$79/'Test Plan'!L$43)","v":{"$error":"#DIV/0!"}}]
["Z","-",{"$f":"IF('Test Plan'!$C$39=1,C63/(C64-C65),\"\")","v":""},null,"Z","-",{"$f":"G63/(G64-G65)","v":{"$error":"#DIV/0!"}},{"$error":"#DIV/0!"},{"$error":"#DIV/0!"},{"$error":"#DIV/0!"},{"$error":"#DIV/0!"},{"$error":"#DIV/0!"}]
["Adjusted Temperature Difference, TDa",{"$f":"'Test Plan'!$B$66","v":"°C"},{"$f":"IF('Test Plan'!$C$39=1,C62-(C63/(EXP(C66)-1)),IF('Test Plan'!$C$39=2,H68,IF('Test Plan'!$C$39=3,I68,IF('Test Plan'!$C$39=4,J68,IF('Test Plan'!$C$39=5,K68,L68)))))","v":0},null,"Adjusted Temperature Difference, Tadj","°C",{"$f":"IFERROR(G62-(G63/(EXP(G66)-1)),0)","v":0},0,0,0,0,0]
["Leaving Water Temperature ",{"$f":"'Test Plan'!$B$66","v":"°C"},{"$f":"'Test Plan'!$C$80-C67","v":{"$error":"#VALUE!"}},null,"∑ Adjusted Temperature Difference, Tadj","°C",null,{"$f":"IFERROR(SUM(G61*G67,H61*H67)/SUM(G61:H61),0)","v":0},{"$f":"IFERROR(SUM(G61*G67,H61*H67,I61*I67)/SUM(G61:I61),0)","v":0},{"$f":"IFERROR(SUM(G61*G67,H61*H67,I61*I67,J61*J67)/SUM(G61:J61),0)","v":0},{"$f":"IFERROR(SUM(G61*G67,H61*H67,I61*I67,J61*J67,K61*K67)/SUM(G61:K61),0)","v":0},{"$f":"IFERROR(SUM(G61*G67,H61*H67,I61*I67,J61*J67,K61*K67,L61*L67)/SUM(G61:L61),0)","v":0}]
["Entering Air Temperature",{"$f":"'Test Plan'!$B$66","v":"°C"},null,{"$f":"'Test Plan'!$D$82","v":0}]
["Water Flow Rate ",{"$f":"'Test Plan'!$B$69","v":"m³/h"},{"$f":"'Test Plan'!$C$83","v":0},null,null,"Units",{"$f":"'Test Plan'!G$42","v":"Circuit 1"},{"$f":"'Test Plan'!H$42","v":"Circuit 2"},{"$f":"'Test Plan'!I$42","v":"Circuit 3"},{"$f":"'Test Plan'!J$42","v":"Circuit 4"},{"$f":"'Test Plan'!K$42","v":"Circuit 5"},{"$f":"'Test Plan'!L$42","v":"Circuit 6"}]
[{"$f":"'Test Plan'!$A$86","v":"Condition 7"},{"$f":"'Test Plan'!$B$65","v":"kW"},{"$f":"'Test Plan'!$C$86","v":0},null,"Capacity (ton)",{"$f":"B71","v":"kW"},{"$f":"'Test Plan'!G$86","v":0},{"$f":"'Test Plan'!H$86","v":0},{"$f":"'Test Plan'!I$86","v":0},{"$f":"'Test Plan'!J$86","v":0},{"$f":"'Test Plan'!K$86","v":0},{"$f":"'Test Plan'!L$86","v":0}]
["Small Temperature Difference Specified, Ssp",{"$f":"'Test Plan'!$B$66","v":"°C"},{"$f":"IF('Test Plan'!$C$39=1,ABS('Test Plan'!$C$87-'Test Plan'!$C$91),\"\")","v":""},null,"Small Temperature Difference Specified, Ssp",{"$f":"B72","v":"°C"},{"$f":"ABS('Test Plan'!G$87-'Test Plan'!G$91)","v":0},{"$f":"ABS('Test Plan'!H$87-'Test Plan'!H$91)","v":0},{"$f":"ABS('Test Plan'!I$87-'Test Plan'!I$91)","v":0},{"$f":"ABS('Test Plan'!J$87-'Test Plan'!J$91)","v":0},{"$f":"ABS('Test Plan'!K$87-'Test Plan'!K$91)","v":0},{"$f":"ABS('Test Plan'!L$87-'Test Plan'!L$91)","v":0}]
["Water Temperature Range, R",{"$f":"'Test Plan'!$B$66","v":"°C"},{"$f":"IF('Test Plan'!$C$39=1,ABS('Test Plan'!$C$87-'Test Plan'!$C$88),\"\")","v":""},null,"Water Temperature Range, R",{"$f":"B73","v":"°C"},{"$f":"ABS('Test Plan'!G$87-'Test Plan'!G$88)","v":0},{"$f":"ABS('Test Plan'!H$87-'Test Plan'!H$88)","v":0},{"$f":"ABS('Test Plan'!I$87-'Test Plan'!I$88)","v":0},{"$f":"ABS('Test Plan'!J$87-'Test Plan'!J$88)","v":0},{"$f":"ABS('Test Plan'!K$87-'Test Plan'!K$88)","v":0},{"$f":"ABS('Test Plan'!L$87-'Test Plan'!L$88)","v":0}]
["Log Mean Temperature Difference, LMTD",{"$f":"'Test Plan'!$B$66","v":"°C"},{"$f":"IF('Test Plan'!$C$39=1,C73/LN(1+C73/C72),\"\")","v":""},null,"Log Mean Temperature Difference, LMTD","°C",{"$f":"G73/LN(1+G73/G72)","v":{"$error":"#DIV/0!"}},{"$error":"#DIV/0!"},{"$error":"#DIV/0!"},{"$error":"#DIV/0!"},{"$error":"#DIV/0!"},{"$error":"#DIV/0!"}]
["Incremental LMTD, ILMTD",{"$f":"'Test Plan'!$B$66","v":"°C"},{"$f":"IF('Test Plan'!$C$39=1,IF('Test Plan'!$B$19=\"I-P\",'Test Plan'!$C$42*('Test Plan'!$C$86*12000)/'Test Plan'!$C$43,'Test Plan'!$C$42*'Test Plan'!$C$86/'Test Plan'!$C$43),\"\")","v":""},null,"Incremental LMTD, ILMTD","°C",{"$f":"IF('Test Plan'!$B$19=\"I-P\",'Test Plan'!$C$42*('Test Plan'!G$86*12000)/'Test Plan'!G$43,'Test Plan'!$C$42*'Test Plan'!G$86/'Test Plan'!G$43)","v":{"$error":"#DIV/0!"}},{"$f":"IF('Test Plan'!$B$19=\"I-P\",'Test Plan'!$C$42*('Test Plan'!H$86*12000)/'Test Plan'!H$43,'Test Plan'!$C$42*'Test Plan'!H$86/'Test Plan'!H$43)","v":{"$error":"#DIV/0!"}},{"$f":"IF('Test Plan'!$B$19=\"I-P\",'Test Plan'!$C$42*('Test Plan'!I$86*12000)/'Test Plan'!I$43,'Test Plan'!$C$42*'Test Plan'!I$86/'Test Plan'!I$43)","v":{"$error":"#DIV/0!"}},{"$f":"IF('Test Plan'!$B$19=\"I-P\",'Test Plan'!$C$42*('Test Plan'!J$86*12000)/'Test Plan'!J$43,'Test Plan'!$C$42*'Test Plan'!J$86/'Test Plan'!J$43)","v":{"$error":"#DIV/0!"}},{"$f":"IF('Test Plan'!$B$19=\"I-P\",'Test Plan'!$C$42*('Test Plan'!K$86*12000)/'Test Plan'!K$43,'Test Plan'!$C$42*'Test Plan'!K$86/'Test Plan'!K$43)","v":{"$error":"#DIV/0!"}},{"$f":"IF('Test Plan'!$B$19=\"I-P\",'Test Plan'!$C$42*('Test Plan'!L$86*12000)/'Test Plan'!L$43,'Test Plan'!$C$42*'Test Plan'!L$86/'Test Plan'!L$43)","v":{"$error":"#DIV/0!"}}]
["Z","-",{"$f":"IF('Test Plan'!$C$39=1,C73/(C74-C75),\"\")","v":""},null,"Z","-",{"$f":"G73/(G74-G75)","v":{"$error":"#DIV/0!"}},{"$error":"#DIV/0!"},{"$error":"#DIV/0!"},{"$error":"#DIV/0!"},{"$error":"#DIV/0!"},{"$error":"#DIV/0!"}]
["Adjusted Temperature Difference, TDa",{"$f":"'Test Plan'!$B$66","v":"°C"},{"$f":"IF('Test Plan'!$C$39=1,C72-(C73/(EXP(C76)-1)),IF('Test Plan'!$C$39=2,H78,IF('Test Plan'!$C$39=3,I78,IF('Test Plan'!$C$39=4,J78,IF('Test Plan'!$C$39=5,K78,L78)))))","v":0},null,"Adjusted Temperature Difference, Tadj","°C",{"$f":"IFERROR(G72-(G73/(EXP(G76)-1)),0)","v":0},0,0,0,0,0]
["Leaving Water Temperature ",{"$f":"'Test Plan'!$B$66","v":"°C"},{"$f":"'Test Plan'!$C$87-C77","v":{"$error":"#VALUE!"}},null,"∑ Adjusted Temperature Difference, Tadj","°C",null,{"$f":"IFERROR(SUM(G71*G77,H71*H77)/SUM(G71:H71),0)","v":0},{"$f":"IFERROR(SUM(G71*G77,H71*H77,I71*I77)/SUM(G71:I71),0)","v":0},{"$f":"IFERROR(SUM(G71*G77,H71*H77,I71*I77,J71*J77)/SUM(G71:J71),0)","v":0},{"$f":"IFERROR(SUM(G71*G77,H71*H77,I71*I77,J71*J77,K71*K77)/SUM(G71:K71),0)","v":0},{"$f":"IFERROR(SUM(G71*G77,H71*H77,I71*I77,J71*J77,K71*K77,L71*L77)/SUM(G71:L71),0)","v":0}]
["Entering Air Temperature",{"$f":"'Test Plan'!$B$66","v":"°C"},null,{"$f":"'Test Plan'!$D$89","v":0}]
["Water Flow Rate ",{"$f":"'Test Plan'!$B$69","v":"m³/h"},{"$f":"'Test Plan'!$C$90","v":0},null,null,"Units",{"$f":"'Test Plan'!G$42","v":"Circuit 1"},{"$f":"'Test Plan'!H$42","v":"Circuit 2"},{"$f":"'Test Plan'!I$42","v":"Circuit 3"},{"$f":"'Test Plan'!J$42","v":"Circuit 4"},{"$f":"'Test Plan'!K$42","v":"Circuit 5"},{"$f":"'Test Plan'!L$42","v":"Circuit 6"}]
[{"$f":"'Test Plan'!$A$93","v":"AHRI Selected Condition"},{"$f":"'Test Plan'!$B$93","v":"kW"},{"$f":"'Test Plan'!$C$93","v":0},null,"Capacity (ton)",{"$f":"B81","v":"kW"},{"$f":"'Test Plan'!G$93","v":0},{"$f":"'Test Plan'!H$93","v":0},{"$f":"'Test Plan'!I$93","v":0},{"$f":"'Test Plan'!J$93","v":0},{"$f":"'Test Plan'!K$93","v":0},{"$f":"'Test Plan'!L$93","v":0}]
["Small Temperature Difference Specified, Ssp",{"$f":"'Test Plan'!$B$70","v":"°C"},{"$f":"IF('Test Plan'!$C$39=1,ABS('Test Plan'!$C$94-'Test Plan'!$C$98),\"\")","v":""},null,"Small Temperature Difference Specified, Ssp",{"$f":"B82","v":"°C"},{"$f":"ABS('Test Plan'!G$94-'Test Plan'!G$98)","v":0},{"$f":"ABS('Test Plan'!H$94-'Test Plan'!H$98)","v":0},{"$f":"ABS('Test Plan'!I$94-'Test Plan'!I$98)","v":0},{"$f":"ABS('Test Plan'!J$94-'Test Plan'!J$98)","v":0},{"$f":"ABS('Test Plan'!K$94-'Test Plan'!K$98)","v":0},{"$f":"ABS('Test Plan'!L$94-'Test Plan'!L$98)","v":0}]
["Water Temperature Range, R",{"$f":"'Test Plan'!$B$70","v":"°C"},{"$f":"IF('Test Plan'!$C$39=1,ABS('Test Plan'!$C$94-'Test Plan'!$C$95),\"\")","v":""},null,"Water Temperature Range, R",{"$f":"B83","v":"°C"},{"$f":"ABS('Test Plan'!G$94-'Test Plan'!G$95)","v":0},{"$f":"ABS('Test Plan'!H$94-'Test Plan'!H$95)","v":0},{"$f":"ABS('Test Plan'!I$94-'Test Plan'!I$95)","v":0},{"$f":"ABS('Test Plan'!J$94-'Test Plan'!J$95)","v":0},{"$f":"ABS('Test Plan'!K$94-'Test Plan'!K$95)","v":0},{"$f":"ABS('Test Plan'!L$94-'Test Plan'!L$95)","v":0}]
["Log Mean Temperature Difference, LMTD",{"$f":"'Test Plan'!$B$70","v":"°C"},{"$f":"IF('Test Plan'!$C$39=1,C83/LN(1+C83/C82),\"\")","v":""},null,"Log Mean Temperature Difference, LMTD","°C",{"$f":"G83/LN(1+G83/G82)","v":{"$error":"#DIV/0!"}},{"$error":"#DIV/0!"},{"$error":"#DIV/0!"},{"$error":"#DIV/0!"},{"$error":"#DIV/0!"},{"$error":"#DIV/0!"}]
["Incremental LMTD, ILMTD",{"$f":"'Test Plan'!$B$70","v":"°C"},{"$f":"IF('Test Plan'!$C$39=1,IF('Test Plan'!$B$19=\"I-P\",'Test Plan'!$C$42*('Test Plan'!$C$93*12000)/'Test Plan'!$C$43,'Test Plan'!$C$42*'Test Plan'!$C$93/'Test Plan'!$C$43),\"\")","v":""},null,"Incremental LMTD, ILMTD","°C",{"$f":"IF('Test Plan'!$B$19=\"I-P\",'Test Plan'!$C$42*('Test Plan'!G$93*12000)/'Test Plan'!G$43,'Test Plan'!$C$42*'Test Plan'!G$93/'Test Plan'!G$43)","v":{"$error":"#DIV/0!"}},{"$f":"IF('Test Plan'!$B$19=\"I-P\",'Test Plan'!$C$42*('Test Plan'!H$93*12000)/'Test Plan'!H$43,'Test Plan'!$C$42*'Test Plan'!H$93/'Test Plan'!H$43)","v":{"$error":"#DIV/0!"}},{"$f":"IF('Test Plan'!$B$19=\"I-P\",'Test Plan'!$C$42*('Test Plan'!I$93*12000)/'Test Plan'!I$43,'Test Plan'!$C$42*'Test Plan'!I$93/'Test Plan'!I$43)","v":{"$error":"#DIV/0!"}},{"$f":"IF('Test Plan'!$B$19=\"I-P\",'Test Plan'!$C$42*('Test Plan'!J$93*12000)/'Test Plan'!J$43,'Test Plan'!$C$42*'Test Plan'!J$93/'Test Plan'!J$43)","v":{"$error":"#DIV/0!"}},{"$f":"IF('Test Plan'!$B$19=\"I-P\",'Test Plan'!$C$42*('Test Plan'!K$93*12000)/'Test Plan'!K$43,'Test Plan'!$C$42*'Test Plan'!K$93/'Test Plan'!K$43)","v":{"$error":"#DIV/0!"}},{"$f":"IF('Test Plan'!$B$19=\"I-P\",'Test Plan'!$C$42*('Test Plan'!L$93*12000)/'Test Plan'!L$43,'Test Plan'!$C$42*'Test Plan'!L$93/'Test Plan'!L$43)","v":{"$error":"#DIV/0!"}}]
["Z","-",{"$f":"IF('Test Plan'!$C$39=1,C83/(C84-C85),\"\")","v":""},null,"Z","-",{"$f":"G83/(G84-G85)","v":{"$error":"#DIV/0!"}},{"$error":"#DIV/0!"},{"$error":"#DIV/0!"},{"$error":"#DIV/0!"},{"$error":"#DIV/0!"},{"$error":"#DIV/0!"}]
["Adjusted Temperature Difference, Tadj",{"$f":"'Test Plan'!$B$70","v":"°C"},{"$f":"IF('Test Plan'!$C$39=1,C82-(C83/(EXP(C86)-1)),IF('Test Plan'!$C$39=2,H88,IF('Test Plan'!$C$39=3,I88,IF('Test Plan'!$C$39=4,J88,IF('Test Plan'!$C$39=5,K88,L88)))))","v":0},null,"Adjusted Temperature Difference, Tadj","°C",{"$f":"IFERROR(G82-(G83/(EXP(G86)-1)),0)","v":0},0,0,0,0,0]
["Leaving Water Temperature ",{"$f":"'Test Plan'!$B$70","v":"°C"},{"$f":"'Test Plan'!$C$94-C87","v":0},null,"∑ Adjusted Temperature Difference, Tadj","°C",null,{"$f":"IFERROR(SUM(G81*G87,H81*H87)/SUM(G81:H81),0)","v":0},{"$f":"IFERROR(SUM(G81*G87,H81*H87,I81*I87)/SUM(G81:I81),0)","v":0},{"$f":"IFERROR(SUM(G81*G87,H81*H87,I81*I87,J81*J87)/SUM(G81:J81),0)","v":0},{"$f":"IFERROR(SUM(G81*G87,H81*H87,I81*I87,J81*J87,K81*K87)/SUM(G81:K81),0)","v":0},{"$f":"IFERROR(SUM(G81*G87,H81*H87,I81*I87,J81*J87,K81*K87,L81*L87)/SUM(G81:L81),0)","v":0}]
["Entering Air Temperature",{"$f":"'Test Plan'!$B$70","v":"°C"},null,{"$f":"'Test Plan'!$D$96","v":0}]
["Water Flow Rate ",{"$f":"'Test Plan'!$B$97","v":"m³/h"},{"$f":"'Test Plan'!$C$97","v":0},null,null,"Units",{"$f":"'Test Plan'!G$42","v":"Circuit 1"},{"$f":"'Test Plan'!H$42","v":"Circuit 2"},{"$f":"'Test Plan'!I$42","v":"Circuit 3"},{"$f":"'Test Plan'!J$42","v":"Circuit 4"},{"$f":"'Test Plan'!K$42","v":"Circuit 5"},{"$f":"'Test Plan'!L$42","v":"Circuit 6"}]
[{"$f":"'Test Plan'!$A$102","v":"AHRI Selected Condition-Interp"},{"$f":"'Test Plan'!$B$93","v":"kW"},{"$f":"'Test Plan'!$C$102","v":0},null,"Capacity (ton)",{"$f":"B91","v":"kW"},{"$f":"'Test Plan'!G$93","v":0},{"$f":"'Test Plan'!H$93","v":0},{"$f":"'Test Plan'!I$93","v":0},{"$f":"'Test Plan'!J$93","v":0},{"$f":"'Test Plan'!K$93","v":0},{"$f":"'Test Plan'!L$93","v":0}]
["Small Temperature Difference Specified, Ssp",{"$f":"'Test Plan'!$B$70","v":"°C"},{"$f":"IF('Test Plan'!$C$39=1,ABS('Test Plan'!$C$103-'Test Plan'!$C$107),\"\")","v":""},null,"Small Temperature Difference Specified, Ssp",{"$f":"B92","v":"°C"},{"$f":"ABS('Test Plan'!G$94-'Test Plan'!G$98)","v":0},{"$f":"ABS('Test Plan'!H$94-'Test Plan'!H$98)","v":0},{"$f":"ABS('Test Plan'!I$94-'Test Plan'!I$98)","v":0},{"$f":"ABS('Test Plan'!J$94-'Test Plan'!J$98)","v":0},{"$f":"ABS('Test Plan'!K$94-'Test Plan'!K$98)","v":0},{"$f":"ABS('Test Plan'!L$94-'Test Plan'!L$98)","v":0}]
["Water Temperature Range, R",{"$f":"'Test Plan'!$B$70","v":"°C"},{"$f":"IF('Test Plan'!$C$39=1,ABS('Test Plan'!$C$103-'Test Plan'!$C$104),\"\")","v":""},null,"Water Temperature Range, R",{"$f":"B93","v":"°C"},{"$f":"ABS('Test Plan'!G$94-'Test Plan'!G$95)","v":0},{"$f":"ABS('Test Plan'!H$94-'Test Plan'!H$95)","v":0},{"$f":"ABS('Test Plan'!I$94-'Test Plan'!I$95)","v":0},{"$f":"ABS('Test Plan'!J$94-'Test Plan'!J$95)","v":0},{"$f":"ABS('Test Plan'!K$94-'Test Plan'!K$95)","v":0},{"$f":"ABS('Test Plan'!L$94-'Test Plan'!L$95)","v":0}]
["Log Mean Temperature Difference, LMTD",{"$f":"'Test Plan'!$B$70","v":"°C"},{"$f":"IF('Test Plan'!$C$39=1,C93/LN(1+C93/C92),\"\")","v":""},null,"Log Mean Temperature Difference, LMTD","°C",{"$f":"G93/LN(1+G93/G92)","v":{"$error":"#DIV/0!"}},{"$error":"#DIV/0!"},{"$error":"#DIV/0!"},{"$error":"#DIV/0!"},{"$error":"#DIV/0!"},{"$error":"#DIV/0!"}]
["Incremental LMTD, ILMTD",{"$f":"'Test Plan'!$B$70","v":"°C"},{"$f":"IF('Test Plan'!$C$39=1,IF('Test Plan'!$B$19=\"I-P\",'Test Plan'!$C$42*('Test Plan'!$C$102*12000)/'Test Plan'!$C$43,'Test Plan'!$C$42*'Test Plan'!$C$102/'Test Plan'!$C$43),\"\")","v":""},null,"Incremental LMTD, ILMTD","°C",{"$f":"IF('Test Plan'!$B$19=\"I-P\",'Test Plan'!$C$42*('Test Plan'!G$93*12000)/'Test Plan'!G$43,'Test Plan'!$C$42*'Test Plan'!G$93/'Test Plan'!G$43)","v":{"$error":"#DIV/0!"}},{"$f":"IF('Test Plan'!$B$19=\"I-P\",'Test Plan'!$C$42*('Test Plan'!H$93*12000)/'Test Plan'!H$43,'Test Plan'!$C$42*'Test Plan'!H$93/'Test Plan'!H$43)","v":{"$error":"#DIV/0!"}},{"$f":"IF('Test Plan'!$B$19=\"I-P\",'Test Plan'!$C$42*('Test Plan'!I$93*12000)/'Test Plan'!I$43,'Test Plan'!$C$42*'Test Plan'!I$93/'Test Plan'!I$43)","v":{"$error":"#DIV/0!"}},{"$f":"IF('Test Plan'!$B$19=\"I-P\",'Test Plan'!$C$42*('Test Plan'!J$93*12000)/'Test Plan'!J$43,'Test Plan'!$C$42*'Test Plan'!J$93/'Test Plan'!J$43)","v":{"$error":"#DIV/0!"}},{"$f":"IF('Test Plan'!$B$19=\"I-P\",'Test Plan'!$C$42*('Test Plan'!K$93*12000)/'Test Plan'!K$43,'Test Plan'!$C$42*'Test Plan'!K$93/'Test Plan'!K$43)","v":{"$error":"#DIV/0!"}},{"$f":"IF('Test Plan'!$B$19=\"I-P\",'Test Plan'!$C$42*('Test Plan'!L$93*12000)/'Test Plan'!L$43,'Test Plan'!$C$42*'Test Plan'!L$93/'Test Plan'!L$43)","v":{"$error":"#DIV/0!"}}]
["Z","-",{"$f":"IF('Test Plan'!$C$39=1,C93/(C94-C95),\"\")","v":""},null,"Z","-",{"$f":"G93/(G94-G95)","v":{"$error":"#DIV/0!"}},{"$error":"#DIV/0!"},{"$error":"#DIV/0!"},{"$error":"#DIV/0!"},{"$error":"#DIV/0!"},{"$error":"#DIV/0!"}]
["Adjusted Temperature Difference, Tadj",{"$f":"'Test Plan'!$B$70","v":"°C"},{"$f":"IF('Test Plan'!$C$39=1,C92-(C93/(EXP(C96)-1)),IF('Test Plan'!$C$39=2,H98,IF('Test Plan'!$C$39=3,I98,IF('Test Plan'!$C$39=4,J98,IF('Test Plan'!$C$39=5,K98,L98)))))","v":0},null,"Adjusted Temperature Difference, Tadj","°C",{"$f":"IFERROR(G92-(G93/(EXP(G96)-1)),0)","v":0},0,0,0,0,0]
["Leaving Water Temperature ",{"$f":"'Test Plan'!$B$70","v":"°C"},{"$f":"'Test Plan'!$C$103-C97","v":0},null,"∑ Adjusted Temperature Difference, Tadj","°C",null,{"$f":"IFERROR(SUM(G91*G97,H91*H97)/SUM(G91:H91),0)","v":0},{"$f":"IFERROR(SUM(G91*G97,H91*H97,I91*I97)/SUM(G91:I91),0)","v":0},{"$f":"IFERROR(SUM(G91*G97,H91*H97,I91*I97,J91*J97)/SUM(G91:J91),0)","v":0},{"$f":"IFERROR(SUM(G91*G97,H91*H97,I91*I97,J91*J97,K91*K97)/SUM(G91:K91),0)","v":0},{"$f":"IFERROR(SUM(G91*G97,H91*H97,I91*I97,J91*J97,K91*K97,L91*L97)/SUM(G91:L91),0)","v":0}]
["Entering Air Temperature",{"$f":"'Test Plan'!$B$70","v":"°C"},null,{"$f":"'Test Plan'!$D$105","v":0}]
["Water Flow Rate ",{"$f":"'Test Plan'!$B$97","v":"m³/h"},{"$f":"'Test Plan'!$C$106","v":0},null,null,"Units",{"$f":"'Test Plan'!G$42","v":"Circuit 1"},{"$f":"'Test Plan'!H$42","v":"Circuit 2"},{"$f":"'Test Plan'!I$42","v":"Circuit 3"},{"$f":"'Test Plan'!J$42","v":"Circuit 4"},{"$f":"'Test Plan'!K$42","v":"Circuit 5"},{"$f":"'Test Plan'!L$42","v":"Circuit 6"}]
[{"$f":"'Test Plan'!$A$109","v":"Fan Cycling Condition - High"},{"$f":"'Test Plan'!$B$109","v":"kW"},{"$f":"'Test Plan'!$C$109","v":0},null,"Capacity (ton)",{"$f":"B101","v":"kW"},{"$f":"'Test Plan'!G$109","v":0},{"$f":"'Test Plan'!H$109","v":0},{"$f":"'Test Plan'!I$109","v":0},{"$f":"'Test Plan'!J$109","v":0},{"$f":"'Test Plan'!K$109","v":0},{"$f":"'Test Plan'!L$109","v":0}]
["Small Temperature Difference Specified, Ssp",{"$f":"'Test Plan'!$B$110","v":"°C"},{"$f":"IF('Test Plan'!$C$39=1,ABS('Test Plan'!$C$110-'Test Plan'!$C$114),\"\")","v":""},null,"Small Temperature Difference Specified, Ssp",{"$f":"B102","v":"°C"},{"$f":"ABS('Test Plan'!G$110-'Test Plan'!G$114)","v":0},{"$f":"ABS('Test Plan'!H$110-'Test Plan'!H$114)","v":0},{"$f":"ABS('Test Plan'!I$110-'Test Plan'!I$114)","v":0},{"$f":"ABS('Test Plan'!J$110-'Test Plan'!J$114)","v":0},{"$f":"ABS('Test Plan'!K$110-'Test Plan'!K$114)","v":0},{"$f":"ABS('Test Plan'!L$110-'Test Plan'!L$114)","v":0}]
["Water Temperature Range, R",{"$f":"'Test Plan'!$B$110","v":"°C"},{"$f":"IF('Test Plan'!$C$39=1,ABS('Test Plan'!$C$110-'Test Plan'!$C$111),\"\")","v":""},null,"Water Temperature Range, R",{"$f":"B103","v":"°C"},{"$f":"ABS('Test Plan'!G$110-'Test Plan'!G$111)","v":0},{"$f":"ABS('Test Plan'!H$110-'Test Plan'!H$111)","v":0},{"$f":"ABS('Test Plan'!I$110-'Test Plan'!I$111)","v":0},{"$f":"ABS('Test Plan'!J$110-'Test Plan'!J$111)","v":0},{"$f":"ABS('Test Plan'!K$110-'Test Plan'!K$111)","v":0},{"$f":"ABS('Test Plan'!L$110-'Test Plan'!L$111)","v":0}]
["Log Mean Temperature Difference, LMTD",{"$f":"'Test Plan'!$B$110","v":"°C"},{"$f":"IF('Test Plan'!$C$39=1,C103/LN(1+C103/C102),\"\")","v":""},null,"Log Mean Temperature Difference, LMTD","°C",{"$f":"G103/LN(1+G103/G102)","v":{"$error":"#DIV/0!"}},{"$error":"#DIV/0!"},{"$error":"#DIV/0!"},{"$error":"#DIV/0!"},{"$error":"#DIV/0!"},{"$error":"#DIV/0!"}]
["Incremental LMTD, ILMTD",{"$f":"'Test Plan'!$B$110","v":"°C"},{"$f":"IF('Test Plan'!$C$39=1,IF('Test Plan'!$B$19=\"I-P\",'Test Plan'!$C$42*('Test Plan'!$C$109*12000)/'Test Plan'!$C$43,'Test Plan'!$C$42*'Test Plan'!$C$109/'Test Plan'!$C$43),\"\")","v":""},null,"Incremental LMTD, ILMTD","°C",{"$f":"IF('Test Plan'!$B$19=\"I-P\",'Test Plan'!$C$42*('Test Plan'!G$93*12000)/'Test Plan'!G$43,'Test Plan'!$C$42*'Test Plan'!G$93/'Test Plan'!G$43)","v":{"$error":"#DIV/0!"}},{"$f":"IF('Test Plan'!$B$19=\"I-P\",'Test Plan'!$C$42*('Test Plan'!H$93*12000)/'Test Plan'!H$43,'Test Plan'!$C$42*'Test Plan'!H$93/'Test Plan'!H$43)","v":{"$error":"#DIV/0!"}},{"$f":"IF('Test Plan'!$B$19=\"I-P\",'Test Plan'!$C$42*('Test Plan'!I$93*12000)/'Test Plan'!I$43,'Test Plan'!$C$42*'Test Plan'!I$93/'Test Plan'!I$43)","v":{"$error":"#DIV/0!"}},{"$f":"IF('Test Plan'!$B$19=\"I-P\",'Test Plan'!$C$42*('Test Plan'!J$93*12000)/'Test Plan'!J$43,'Test Plan'!$C$42*'Test Plan'!J$93/'Test Plan'!J$43)","v":{"$error":"#DIV/0!"}},{"$f":"IF('Test Plan'!$B$19=\"I-P\",'Test Plan'!$C$42*('Test Plan'!K$93*12000)/'Test Plan'!K$43,'Test Plan'!$C$42*'Test Plan'!K$93/'Test Plan'!K$43)","v":{"$error":"#DIV/0!"}},{"$f":"IF('Test Plan'!$B$19=\"I-P\",'Test Plan'!$C$42*('Test Plan'!L$93*12000)/'Test Plan'!L$43,'Test Plan'!$C$42*'Test Plan'!L$93/'Test Plan'!L$43)","v":{"$error":"#DIV/0!"}}]
["Z","-",{"$f":"IF('Test Plan'!$C$39=1,C103/(C104-C105),\"\")","v":""},null,"Z","-",{"$f":"G103/(G104-G105)","v":{"$error":"#DIV/0!"}},{"$error":"#DIV/0!"},{"$error":"#DIV/0!"},{"$error":"#DIV/0!"},{"$error":"#DIV/0!"},{"$error":"#DIV/0!"}]
["Adjusted Temperature Difference, Tadj",{"$f":"'Test Plan'!$B$70","v":"°C"},{"$f":"IF('Test Plan'!$C$39=1,C102-(C103/(EXP(C106)-1)),IF('Test Plan'!$C$39=2,H108,IF('Test Plan'!$C$39=3,I108,IF('Test Plan'!$C$39=4,J108,IF('Test Plan'!$C$39=5,K108,L108)))))","v":0},null,"Adjusted Temperature Difference, Tadj","°C",{"$f":"IFERROR(G102-(G103/(EXP(G106)-1)),0)","v":0},{"$f":"IFERROR(H102-(H103/(EXP(H106)-1)),0)","v":0},0,0,0,0]
["Leaving Water Temperature ",{"$f":"'Test Plan'!$B$110","v":"°C"},{"$f":"'Test Plan'!$C$110-C107","v":0},null,"∑ Adjusted Temperature Difference, Tadj","°C",null,{"$f":"IFERROR(SUM(G101*G107,H101*H107)/SUM(G101:H101),0)","v":0},{"$f":"IFERROR(SUM(G101*G107,H101*H107,I101*I107)/SUM(G101:I101),0)","v":0},{"$f":"IFERROR(SUM(G101*G107,H101*H107,I101*I107,J101*J107)/SUM(G101:J101),0)","v":0},{"$f":"IFERROR(SUM(G101*G107,H101*H107,I101*I107,J101*J107,K101*K107)/SUM(G101:K101),0)","v":0},{"$f":"IFERROR(SUM(G101*G107,H101*H107,I101*I107,J101*J107,K101*K107,L101*L107)/SUM(G101:L101),0)","v":0}]
["Entering Air Temperature",{"$f":"'Test Plan'!$B$110","v":"°C"},null,{"$f":"'Test Plan'!$D$112","v":0}]
["Water Flow Rate ",{"$f":"'Test Plan'!$B$113","v":"m³/h"},{"$f":"'Test Plan'!$C$113","v":0},null,null,"Units",{"$f":"'Test Plan'!G$42","v":"Circuit 1"},{"$f":"'Test Plan'!H$42","v":"Circuit 2"},{"$f":"'Test Plan'!I$42","v":"Circuit 3"},{"$f":"'Test Plan'!J$42","v":"Circuit 4"},{"$f":"'Test Plan'!K$42","v":"Circuit 5"},{"$f":"'Test Plan'!L$42","v":"Circuit 6"}]
[{"$f":"'Test Plan'!$A$116","v":"Fan Cycling Condition - Low"},{"$f":"'Test Plan'!$B$116","v":"kW"},{"$f":"'Test Plan'!$C$116","v":0},null,"Capacity (ton)",{"$f":"B111","v":"kW"},{"$f":"'Test Plan'!G$116","v":0},{"$f":"'Test Plan'!H$116","v":0},{"$f":"'Test Plan'!I$116","v":0},{"$f":"'Test Plan'!J$116","v":0},{"$f":"'Test Plan'!K$116","v":0},{"$f":"'Test Plan'!L$116","v":0}]
["Small Temperature Difference Specified, Ssp",{"$f":"'Test Plan'!$B$117","v":"°C"},{"$f":"IF('Test Plan'!$C$39=1,ABS('Test Plan'!$C$117-'Test Plan'!$C$121),\"\")","v":""},null,"Small Temperature Difference Specified, Ssp",{"$f":"B112","v":"°C"},{"$f":"ABS('Test Plan'!G$117-'Test Plan'!G$121)","v":0},{"$f":"ABS('Test Plan'!H$117-'Test Plan'!H$121)","v":0},{"$f":"ABS('Test Plan'!I$117-'Test Plan'!I$121)","v":0},{"$f":"ABS('Test Plan'!J$117-'Test Plan'!J$121)","v":0},{"$f":"ABS('Test Plan'!K$117-'Test Plan'!K$121)","v":0},{"$f":"ABS('Test Plan'!L$117-'Test Plan'!L$121)","v":0}]
["Water Temperature Range, R",{"$f":"'Test Plan'!$B$117","v":"°C"},{"$f":"IF('Test Plan'!$C$39=1,ABS('Test Plan'!$C$117-'Test Plan'!$C$118),\"\")","v":""},null,"Water Temperature Range, R",{"$f":"B113","v":"°C"},{"$f":"ABS('Test Plan'!G$117-'Test Plan'!G$118)","v":0},{"$f":"ABS('Test Plan'!H$117-'Test Plan'!H$118)","v":0},{"$f":"ABS('Test Plan'!I$117-'Test Plan'!I$118)","v":0},{"$f":"ABS('Test Plan'!J$117-'Test Plan'!J$118)","v":0},{"$f":"ABS('Test Plan'!K$117-'Test Plan'!K$118)","v":0},{"$f":"ABS('Test Plan'!L$117-'Test Plan'!L$118)","v":0}]
["Log Mean Temperature Difference, LMTD",{"$f":"'Test Plan'!$B$117","v":"°C"},{"$f":"IF('Test Plan'!$C$39=1,C113/LN(1+C113/C112),\"\")","v":""},null,"Log Mean Temperature Difference, LMTD","°C",{"$f":"G113/LN(1+G113/G112)","v":{"$error":"#DIV/0!"}},{"$error":"#DIV/0!"},{"$error":"#DIV/0!"},{"$error":"#DIV/0!"},{"$error":"#DIV/0!"},{"$error":"#DIV/0!"}]
["Incremental LMTD, ILMTD",{"$f":"'Test Plan'!$B$117","v":"°C"},{"$f":"IF('Test Plan'!$C$39=1,IF('Test Plan'!$B$19=\"I-P\",'Test Plan'!$C$42*('Test Plan'!$C$116*12000)/'Test Plan'!$C$43,'Test Plan'!$C$42*'Test Plan'!$C$116/'Test Plan'!$C$43),\"\")","v":""},null,"Incremental LMTD, ILMTD","°C",{"$f":"IF('Test Plan'!$B$19=\"I-P\",'Test Plan'!$C$42*('Test Plan'!G$93*12000)/'Test Plan'!G$43,'Test Plan'!$C$42*'Test Plan'!G$93/'Test Plan'!G$43)","v":{"$error":"#DIV/0!"}},{"$f":"IF('Test Plan'!$B$19=\"I-P\",'Test Plan'!$C$42*('Test Plan'!H$93*12000)/'Test Plan'!H$43,'Test Plan'!$C$42*'Test Plan'!H$93/'Test Plan'!H$43)","v":{"$error":"#DIV/0!"}},{"$f":"IF('Test Plan'!$B$19=\"I-P\",'Test Plan'!$C$42*('Test Plan'!I$93*12000)/'Test Plan'!I$43,'Test Plan'!$C$42*'Test Plan'!I$93/'Test Plan'!I$43)","v":{"$error":"#DIV/0!"}},{"$f":"IF('Test Plan'!$B$19=\"I-P\",'Test Plan'!$C$42*('Test Plan'!J$93*12000)/'Test Plan'!J$43,'Test Plan'!$C$42*'Test Plan'!J$93/'Test Plan'!J$43)","v":{"$error":"#DIV/0!"}},{"$f":"IF('Test Plan'!$B$19=\"I-P\",'Test Plan'!$C$42*('Test Plan'!K$93*12000)/'Test Plan'!K$43,'Test Plan'!$C$42*'Test Plan'!K$93/'Test Plan'!K$43)","v":{"$error":"#DIV/0!"}},{"$f":"IF('Test Plan'!$B$19=\"I-P\",'Test Plan'!$C$42*('Test Plan'!L$93*12000)/'Test Plan'!L$43,'Test Plan'!$C$42*'Test Plan'!L$93/'Test Plan'!L$43)","v":{"$error":"#DIV/0!"}}]
["Z","-",{"$f":"IF('Test Plan'!$C$39=1,C113/(C114-C115),\"\")","v":""},null,"Z","-",{"$f":"G113/(G114-G115)","v":{"$error":"#DIV/0!"}},{"$error":"#DIV/0!"},{"$error":"#DIV/0!"},{"$error":"#DIV/0!"},{"$error":"#DIV/0!"},{"$error":"#DIV/0!"}]
["Adjusted Temperature Difference, Tadj",{"$f":"'Test Plan'!$B$117","v":"°C"},{"$f":"IF('Test Plan'!$C$39=1,C112-(C113/(EXP(C116)-1)),IF('Test Plan'!$C$39=2,H118,IF('Test Plan'!$C$39=3,I118,IF('Test Plan'!$C$39=4,J118,IF('Test Plan'!$C$39=5,K118,L118)))))","v":0},null,"Adjusted Temperature Difference, Tadj","°C",{"$f":"IFERROR(G112-(G113/(EXP(G116)-1)),0)","v":0},0,0,0,0,0]
["Leaving Water Temperature ",{"$f":"'Test Plan'!$B$117","v":"°C"},{"$f":"'Test Plan'!$C$117-C117","v":0},null,"∑ Adjusted Temperature Difference, Tadj","°C",null,{"$f":"IFERROR(SUM(G111*G117,H111*H117)/SUM(G111:H111),0)","v":0},{"$f":"IFERROR(SUM(G111*G117,H111*H117,I111*I117)/SUM(G111:I111),0)","v":0},{"$f":"IFERROR(SUM(G111*G117,H111*H117,I111*I117,J111*J117)/SUM(G111:J111),0)","v":0},{"$f":"IFERROR(SUM(G111*G117,H111*H117,I111*I117,J111*J117,K111*K117)/SUM(G111:K111),0)","v":0},{"$f":"IFERROR(SUM(G111*G117,H111*H117,I111*I117,J111*J117,K111*K117,L111*L117)/SUM(G111:L111),0)","v":0}]
["Entering Air Temperature",{"$f":"'Test Plan'!$B$117","v":"°C"},null,{"$f":"'Test Plan'!$D$119","v":0}]
["Water Flow Rate ",{"$f":"'Test Plan'!$B$120","v":"m³/h"},{"$f":"'Test Plan'!$C$120","v":0}]

{"sheet":"100% Load Condition ","index":5,"n_rows":10089,"n_cols":30,"rows_kept":10089,"cut":false,"hidden":false,"merged":[[205,0,205,3],[206,0,210,1],[206,2,206,3],[207,2,207,3],[208,2,208,3],[209,2,209,3],[210,2,210,3],[211,0,211,3],[212,0,216,1],[212,2,212,3],[213,2,213,3],[214,2,214,3],[215,2,215,3],[216,2,216,3],[193,0,193,3],[194,0,198,1],[194,2,194,3],[195,2,195,3],[196,2,196,3],[197,2,197,3],[198,2,198,3],[199,0,199,3],[200,0,204,1],[200,2,200,3],[201,2,201,3],[202,2,202,3],[203,2,203,3],[204,2,204,3],[181,0,181,3],[182,0,186,1],[182,2,182,3],[183,2,183,3],[184,2,184,3],[185,2,185,3],[186,2,186,3],[187,0,187,3],[188,0,192,1],[188,2,188,3],[189,2,189,3],[190,2,190,3],[191,2,191,3],[192,2,192,3],[170,0,174,1],[170,2,170,3],[171,2,171,3],[172,2,172,3],[173,2,173,3],[174,2,174,3],[175,0,175,3],[176,0,180,1],[176,2,176,3],[177,2,177,3],[178,2,178,3],[179,2,179,3],[180,2,180,3],[162,2,162,3],[163,0,163,3],[164,0,168,1],[164,2,164,3],[165,2,165,3],[166,2,166,3],[167,2,167,3],[168,2,168,3],[169,0,169,3],[27,5,27,6],[30,0,31,2],[30,5,30,6],[35,0,35,3],[36,0,36,3],[246,19,246,22],[37,0,37,3],[39,1,39,3],[40,0,41,0],[40,1,40,3],[41,1,41,3],[47,0,47,3],[38,0,39,0],[50,0,51,0],[50,1,50,3],[52,1,52,3],[51,1,51,3],[52,0,53,0],[46,0,46,3],[48,0,49,0],[48,1,48,3],[49,1,49,3],[53,1,53,3],[55,1,55,3],[246,23,246,26],[245,15,245,29],[225,0,225,3],[226,0,226,3],[227,0,227,3],[246,15,246,17],[246,3,246,5],[246,6,246,8],[246,9,246,11],[245,3,245,12],[245,13,245,14],[242,0,242,3],[244,0,244,6],[241,0,241,3],[228,0,228,3],[243,0,243,3],[230,0,230,3],[231,0,231,3],[232,0,232,3],[240,0,240,3],[239,0,239,6],[246,27,246,29],[233,0,233,6],[234,0,234,3],[21,2,21,3],[22,2,22,3],[23,0,23,6],[29,5,29,6],[26,0,29,2],[28,5,28,6],[34,4,34,6],[44,1,44,3],[45,1,45,3],[21,0,22,1],[33,0,33,3],[34,0,34,3],[38,1,38,3],[24,0,24,3],[24,5,24,6],[25,0,25,3],[25,5,25,6],[42,0,43,0],[42,1,42,3],[43,1,43,3],[44,0,45,0],[31,5,31,6],[32,0,32,6],[26,5,26,6],[6,0,6,6],[7,0,8,0],[10,0,10,3],[13,0,14,2],[15,0,16,2],[11,0,12,2],[17,0,18,2],[19,0,20,2],[0,0,0,6],[2,0,2,2],[2,3,2,6],[3,0,3,2],[3,3,3,6],[4,0,4,2],[4,3,4,6],[5,0,5,2],[5,3,5,6],[1,0,1,2],[1,3,1,6],[56,0,56,3],[57,0,57,3],[58,0,59,0],[59,1,59,3],[54,0,55,0],[54,1,54,3],[60,0,61,0],[60,1,60,3],[61,1,61,3],[66,0,66,3],[67,0,67,3],[68,0,69,0],[68,1,68,3],[69,1,69,3],[64,0,65,0],[64,1,64,3],[65,1,65,3],[58,1,58,3],[62,0,63,0],[62,1,62,3],[63,1,63,3],[73,1,73,3],[145,0,145,3],[139,0,139,3],[98,0,102,1],[102,2,102,3],[98,2,98,3],[99,2,99,3],[100,2,100,3],[101,2,101,3],[104,0,108,1],[104,2,104,3],[105,2,105,3],[106,2,106,3],[110,2,110,3],[111,2,111,3],[112,2,112,3],[113,2,113,3],[114,2,114,3],[116,0,120,1],[151,0,151,3],[119,2,119,3],[120,2,120,3],[122,0,126,1],[122,2,122,3],[123,2,123,3],[124,2,124,3],[125,2,125,3],[126,2,126,3],[128,0,132,1],[127,0,127,3],[121,0,121,3],[128,2,128,3],[129,2,129,3],[130,2,130,3],[131,2,131,3],[132,2,132,3],[134,0,138,1],[134,2,134,3],[135,2,135,3],[136,2,136,3],[137,2,137,3],[138,2,138,3],[133,0,133,3],[150,2,150,3],[74,0,75,0],[74,1,74,3],[75,1,75,3],[107,2,107,3],[108,2,108,3],[110,0,114,1],[116,2,116,3],[117,2,117,3],[118,2,118,3],[96,0,96,3],[97,0,97,3],[103,0,103,3],[109,0,109,3],[115,0,115,3],[76,0,76,3],[77,0,77,3],[78,0,79,0],[78,1,78,3],[79,1,79,3],[80,0,81,0],[80,1,80,3],[81,1,81,3],[82,0,83,0],[247,17,248,17],[247,5,248,5],[247,8,248,8],[152,0,156,1],[152,2,152,3],[153,2,153,3],[154,2,154,3],[155,2,155,3],[156,2,156,3],[217,0,217,6],[218,0,218,3],[229,0,229,3],[219,0,219,3],[220,0,220,3],[221,0,221,3],[222,0,222,3],[223,0,223,3],[224,0,224,3],[157,0,157,3],[158,0,162,1],[158,2,158,3],[159,2,159,3],[160,2,160,3],[161,2,161,3],[10,16,10,18],[11,16,22,18],[8,7,8,18],[90,0,91,0],[90,1,90,3],[91,1,91,3],[92,0,93,0],[92,1,92,3],[93,1,93,3],[83,1,83,3],[84,0,85,0],[84,1,84,3],[85,1,85,3],[86,0,86,3],[87,0,87,3],[88,0,89,0],[88,1,88,3],[89,1,89,3],[82,1,82,3],[70,0,71,0],[70,1,70,3],[72,1,72,3],[71,1,71,3],[72,0,73,0],[235,0,235,3],[236,0,236,3],[237,0,237,3],[238,0,238,3],[10,7,10,9],[11,7,22,9],[10,10,10,12],[11,10,22,12],[10,13,10,15],[11,13,22,15],[94,0,95,0],[94,1,94,3],[95,1,95,3],[140,0,144,1],[140,2,140,3],[141,2,141,3],[142,2,142,3],[143,2,143,3],[144,2,144,3],[146,0,150,1],[146,2,146,3],[147,2,147,3],[148,2,148,3],[149,2,149,3]]}
[{"$f":"'Test Plan'!$A$44","v":"100% Load Condition "}]
["AHRI Test Stand Inspection Number",null,null,{"$f":"IF('Test Plan'!$B$3=0,\" \",'Test Plan'!$B$2)","v":"FIACCL-230##-1"}]
["AHRI Test Number",null,null,{"$f":"IF('Test Plan'!$B$3=0,\" \",'Test Plan'!$B$3)","v":"ACCL-230##-1-A"}]
["Model Designation",{"$f":"IF('[2]WCCL-DS2'!B4:D4=0,\" \",'[2]WCCL-DS2'!B4:D4)","v":"DEF"},null,{"$f":"IF('Test Plan'!$B$4=0,\" \",'Test Plan'!$B$4)","v":" "}]
["Manufacturer",{"$f":"IF('[2]WCCL-DS2'!B5:D5=0,\" \",'[2]WCCL-DS2'!B5:D5)","v":43101},null,{"$f":"IF('Test Plan'!$B$5=0,\" \",'Test Plan'!$B$5)","v":" "}]
["Test Date",{"$f":"IF('[2]WCCL-DS2'!B6:D6=0,\" \",'[2]WCCL-DS2'!B6:D6)","v":{"$error":"#REF!"}}]
[]
["Measurement Time","Data Points","Units","Period (min)","Mean Intvl. (s)","Max. Intvl. (s)","Max. Intvl. for Avg. of Data (s)"]
[null,{"$f":"COUNTA(C258:C10089)","v":0},"h:mm:ss:ms",{"$f":"(INDEX(C258:C10089,$B$9)-C258)*24*60","v":{"$error":"#VALUE!"}},{"$f":"D9*60/(B9-1)","v":{"$error":"#VALUE!"}},{"$f":"MAX(B258:B10089)*60*60*24","v":0},{"$f":"D9*60/60","v":{"$error":"#VALUE!"}},"Photographs to confirm compliance with Appendix E of AHRI Standards 550/590 and 551/591"]
[]
["Air and Water Measurements",null,null,null,"Units","Evaporator","Condenser","Chiller Condenser Side 1",null,null,"Chiller Condenser Side 2",null,null,"Chiller Condenser Side 3",null,null,"Chiller Condenser Side 4"]
["Atmospheric Pressure",null,null,"Mean",{"$f":"'Test Plan'!$B$41","v":"kPa"},null,{"$f":"IF(O252=\"Yes\",$O$250,$O$256)","v":{"$error":"#DIV/0!"}},"Photo",null,null,"Photo",null,null,"Photo",null,null,"Photo"]
[null,null,null,"St. Dev.",{"$f":"'Test Plan'!$B$41","v":"kPa"},null,{"$f":"IF(O252=\"Yes\",\"Lab Data\",$O$257)","v":{"$error":"#DIV/0!"}}]
["Leaving Water Temperature",null,null,"Mean",{"$f":"'Test Conditions'!$B$18","v":"°C"},{"$f":"IF(F252=\"Yes\",$F$250,$F$256)","v":{"$error":"#DIV/0!"}}]
[null,null,null,"St. Dev.",{"$f":"'Test Conditions'!$B$18","v":"°C"},{"$f":"IF(F252=\"Yes\",\"Lab Data\",$F$257)","v":{"$error":"#DIV/0!"}}]
["Entering Db Air and Water Temperatures",null,null,"Mean",{"$f":"'Test Conditions'!$B$19","v":"°C"},{"$f":"IF(I252=\"Yes\",$I$250,$I$256)","v":{"$error":"#DIV/0!"}},{"$f":"IF(N252=\"Yes\",$N$250,$N$256)","v":{"$error":"#DIV/0!"}}]
[null,null,null,"St. Dev.",{"$f":"'Test Conditions'!$B$19","v":"°C"},{"$f":"IF(I252=\"Yes\",\"Lab Data\",$I$257)","v":{"$error":"#DIV/0!"}},{"$f":"IF(N252=\"Yes\",\"Lab Data\",$N$257)","v":{"$error":"#DIV/0!"}}]
["Water Flow Rate",null,null,"Mean",{"$f":"'Test Conditions'!$B$20","v":"m³/h"},{"$f":"$L$256","v":{"$error":"#DIV/0!"}}]
[null,null,null,"St. Dev.",{"$f":"'Test Conditions'!$B$20","v":"m³/h"},{"$f":"$L$257","v":{"$error":"#DIV/0!"}}]
["Water Pressure Drop",null,null,"Mean",{"$f":"'Test Plan'!$B$127","v":"kPa"},{"$f":"IF('Test Plan'!$B$19=\"I-P\",IF(M252=\"Yes\",$M$250/0.4331,$M$256/0.4331),IF(M252=\"Yes\",$M$250,$M$256))","v":{"$error":"#DIV/0!"}}]
[null,null,null,"St. Dev.",{"$f":"'Test Plan'!$B$127","v":"kPa"},{"$f":"IF(M252=\"Yes\",\"Lab Data\",IF('Test Plan'!$B$19=\"I-P\",$M$257/0.4331,$M$257))","v":{"$error":"#DIV/0!"}}]
[null,null,"Correction (∆padj)",null,{"$f":"'Test Plan'!$B$127","v":"kPa"}]
[null,null,"Corrected (∆pcorrected)",null,{"$f":"'Test Plan'!$B$127","v":"kPa"},{"$f":"F20-F22","v":{"$error":"#DIV/0!"}}]
[]
["Electrical Measurements",null,null,null,"Units","Total"]
["Power",null,null,null,"kW",{"$f":"IF(R252=\"Yes\",$R$250,$R$256)","v":{"$error":"#DIV/0!"}}]
["Voltage",null,null,"Mean","V",{"$f":"IF(R252=\"Yes\",\"Lab Data\",$S$256)","v":{"$error":"#DIV/0!"}}]
[null,null,null,"St. Dev.",{"$f":"E27","v":"V"},{"$f":"IF(R252=\"Yes\",\"Lab Data\",$S$257)","v":{"$error":"#DIV/0!"}}]
[null,null,null,"V1 Balance","%",{"$f":"IF(R252=\"Yes\",\"Lab Data\",ROUND(MAX(ABS($U$256-$T$256),ABS($V$256-$T$256),ABS($W$256-$T$256))/$T$256,4-(1+INT(LOG10(ABS(MAX(ABS($U$256-$T$256),ABS($V$256-$T$256),ABS($W$256-$T$256))/$T$256))))))","v":{"$error":"#DIV/0!"}}]
[null,null,null,"V2 Balance","%",{"$f":"IF(R252=\"Yes\",\"Lab Data\",ROUND(MAX(ABS($Y$256-$X$256),ABS($Z$256-$X$256),ABS($AA$256-$X$256))/$X$256,4-(1+INT(LOG10(ABS(MAX(ABS($Y$256-$X$256),ABS($Z$256-$X$256),ABS($AA$256-$X$256))/$X$256))))))","v":{"$error":"#DIV/0!"}}]
["Frequency",null,null,"Mean","Hz",{"$f":"IF(R252=\"Yes\",\"Lab Data\",$AB$256)","v":{"$error":"#DIV/0!"}}]
[null,null,null,"St. Dev.",{"$f":"E31","v":"Hz"},{"$f":"IF(R252=\"Yes\",\"Lab Data\",$AB$257)","v":{"$error":"#DIV/0!"}}]
[]
["Air Temperature Measurement",null,null,null,"Units",null,"Condenser"]
["Measurement Method"]
["# of Aspirating Psychrometers",null,null,null,"#"]
["Aspirating Psychrometer #1, Mean Air Temperature",null,null,null,{"$f":"'Test Conditions'!$B$19","v":"°C"}]
["# of Air Sampling Trees on Aspirating Psychrometer #1",null,null,null,"#",null,4]
["#1-A\nTemperatures","Air Sampling Tree Thermopile Grid",null,null,{"$f":"'Test Conditions'!$B$19","v":"°C"}]
[null,"Recirculation Thermocouple",null,null,{"$f":"'Test Conditions'!$B$19","v":"°C"}]
["#1-B\nTemperatures","Air Sampling Tree Thermopile Grid",null,null,{"$f":"'Test Conditions'!$B$19","v":"°C"}]
[null,"Recirculation Thermocouple",null,null,{"$f":"'Test Conditions'!$B$19","v":"°C"}]
["#1-C\nTemperatures","Air Sampling Tree Thermopile Grid",null,null,{"$f":"'Test Conditions'!$B$19","v":"°C"}]
[null,"Recirculation Thermocouple",null,null,{"$f":"'Test Conditions'!$B$19","v":"°C"}]
["#1-D\nTemperatures","Air Sampling Tree Thermopile Grid",null,null,{"$f":"'Test Conditions'!$B$19","v":"°C"}]
[null,"Recirculation Thermocouple",null,null,{"$f":"'Test Conditions'!$B$19","v":"°C"}]
["Aspirating Psychrometer #2, Mean Air Temperature",null,null,null,{"$f":"'Test Conditions'!$B$19","v":"°C"}]
["# of Air Sampling Trees on Aspirating Psychrometer #2",null,null,null,"#",null,4]
["#2-A\nTemperatures","Air Sampling Tree Thermopile Grid",null,null,{"$f":"'Test Conditions'!$B$19","v":"°C"}]
[null,"Recirculation Thermocouple",null,null,{"$f":"'Test Conditions'!$B$19","v":"°C"}]
["#2-B\nTemperatures","Air Sampling Tree Thermopile Grid",null,null,{"$f":"'Test Conditions'!$B$19","v":"°C"}]
[null,"Recirculation Thermocouple",null,null,{"$f":"'Test Conditions'!$B$19","v":"°C"}]
["#2-C\nTemperatures","Air Sampling Tree Thermopile Grid",null,null,{"$f":"'Test Conditions'!$B$19","v":"°C"}]
[null,"Recirculation Thermocouple",null,null,{"$f":"'Test Conditions'!$B$19","v":"°C"}]
["#2-D\nTemperatures","Air Sampling Tree Thermopile Grid",null,null,{"$f":"'Test Conditions'!$B$19","v":"°C"}]
[null,"Recirculation Thermocouple",null,null,{"$f":"'Test Conditions'!$B$19","v":"°C"}]
["Aspirating Psychrometer #3, Mean Air Temperature",null,null,null,{"$f":"'Test Conditions'!$B$19","v":"°C"}]
["# of Air Sampling Trees on Aspirating Psychrometer #3",null,null,null,"#",null,4]
["#3-A\nTemperatures","Air Sampling Tree Thermopile Grid",null,null,{"$f":"'Test Conditions'!$B$19","v":"°C"}]
[null,"Recirculation Thermocouple",null,null,{"$f":"'Test Conditions'!$B$19","v":"°C"}]
["#3-B\nTemperatures","Air Sampling Tree Thermopile Grid",null,null,{"$f":"'Test Conditions'!$B$19","v":"°C"}]
[null,"Recirculation Thermocouple",null,null,{"$f":"'Test Conditions'!$B$19","v":"°C"}]
["#3-C\nTemperatures","Air Sampling Tree Thermopile Grid",null,null,{"$f":"'Test Conditions'!$B$19","v":"°C"}]
[null,"Recirculation Thermocouple",null,null,{"$f":"'Test Conditions'!$B$19","v":"°C"}]
["#3-D\nTemperatures","Air Sampling Tree Thermopile Grid",null,null,{"$f":"'Test Conditions'!$B$19","v":"°C"}]
[null,"Recirculation Thermocouple",null,null,{"$f":"'Test Conditions'!$B$19","v":"°C"}]
["Aspirating Psychrometer #4, Mean Air Temperature",null,null,null,{"$f":"'Test Conditions'!$B$19","v":"°C"}]
["# of Air Sampling Trees on Aspirating Psychrometer #4",null,null,null,"#",null,4]
["#4-A\nTemperatures","Air Sampling Tree Thermopile Grid",null,null,{"$f":"'Test Conditions'!$B$19","v":"°C"}]
[null,"Recirculation Thermocouple",null,null,{"$f":"'Test Conditions'!$B$19","v":"°C"}]
["#4-B\nTemperatures","Air Sampling Tree Thermopile Grid",null,null,{"$f":"'Test Conditions'!$B$19","v":"°C"}]
[null,"Recirculation Thermocouple",null,null,{"$f":"'Test Conditions'!$B$19","v":"°C"}]
["#4-C\nTemperatures","Air Sampling Tree Thermopile Grid",null,null,{"$f":"'Test Conditions'!$B$19","v":"°C"}]
[null,"Recirculation Thermocouple",null,null,{"$f":"'Test Conditions'!$B$19","v":"°C"}]
["#4-D\nTemperatures","Air Sampling Tree Thermopile Grid",null,null,{"$f":"'Test Conditions'!$B$19","v":"°C"}]
[null,"Recirculation Thermocouple",null,null,{"$f":"'Test Conditions'!$B$19","v":"°C"}]
["Aspirating Psychrometer #5, Mean Air Temperature",null,null,null,{"$f":"'Test Conditions'!$B$19","v":"°C"}]
["# of Air Sampling Trees on Aspirating Psychrometer #5",null,null,null,"#",null,4]
["#5-A\nTemperatures","Air Sampling Tree Thermopile Grid",null,null,{"$f":"'Test Conditions'!$B$19","v":"°C"}]
[null,"Recirculation Thermocouple",null,null,{"$f":"'Test Conditions'!$B$19","v":"°C"}]
["#5-B\nTemperatures","Air Sampling Tree Thermopile Grid",null,null,{"$f":"'Test Conditions'!$B$19","v":"°C"}]
[null,"Recirculation Thermocouple",null,null,{"$f":"'Test Conditions'!$B$19","v":"°C"}]
["#5-C\nTemperatures","Air Sampling Tree Thermopile Grid",null,null,{"$f":"'Test Conditions'!$B$19","v":"°C"}]
[null,"Recirculation Thermocouple",null,null,{"$f":"'Test Conditions'!$B$19","v":"°C"}]
["#5-D\nTemperatures","Air Sampling Tree Thermopile Grid",null,null,{"$f":"'Test Conditions'!$B$19","v":"°C"}]
[null,"Recirculation Thermocouple",null,null,{"$f":"'Test Conditions'!$B$19","v":"°C"}]
["Aspirating Psychrometer #6, Mean Air Temperature",null,null,null,{"$f":"'Test Conditions'!$B$19","v":"°C"}]
["# of Air Sampling Trees on Aspirating Psychrometer #6",null,null,null,"#",null,4]
["#6-A\nTemperatures","Air Sampling Tree Thermopile Grid",null,null,{"$f":"'Test Conditions'!$B$19","v":"°C"}]
[null,"Recirculation Thermocouple",null,null,{"$f":"'Test Conditions'!$B$19","v":"°C"}]
["#6-B\nTemperatures","Air Sampling Tree Thermopile Grid",null,null,{"$f":"'Test Conditions'!$B$19","v":"°C"}]
[null,"Recirculation Thermocouple",null,null,{"$f":"'Test Conditions'!$B$19","v":"°C"}]
["#6-C\nTemperatures","Air Sampling Tree Thermopile Grid",null,null,{"$f":"'Test Conditions'!$B$19","v":"°C"}]
[null,"Recirculation Thermocouple",null,null,{"$f":"'Test Conditions'!$B$19","v":"°C"}]
["#6-D\nTemperatures","Air Sampling Tree Thermopile Grid",null,null,{"$f":"'Test Conditions'!$B$19","v":"°C"}]
[null,"Recirculation Thermocouple",null,null,{"$f":"'Test Conditions'!$B$19","v":"°C"}]
["# of Air Sampling Arrays",null,null,null,"#"]
["Air Sampling Array #1, Mean Air Temperature",null,null,null,{"$f":"'Test Conditions'!$B$19","v":"°C"},null,{"$f":"AVERAGE(G99:G102)","v":{"$error":"#DIV/0!"}}]
["Air Sampling Array Individual \nMeasurement Temperatures",null,"#1-A",null,{"$f":"'Test Conditions'!$B$19","v":"°C"}]
[null,null,"#1-B",null,{"$f":"'Test Conditions'!$B$19","v":"°C"}]
[null,null,"#1-C",null,{"$f":"'Test Conditions'!$B$19","v":"°C"}]
[null,null,"#1-D",null,{"$f":"'Test Conditions'!$B$19","v":"°C"}]
[null,null,"Recirculation Thermocouple",null,{"$f":"'Test Conditions'!$B$19","v":"°C"}]
["Air Sampling Array #2, Mean Air Temperature",null,null,null,{"$f":"'Test Conditions'!$B$19","v":"°C"},null,{"$f":"AVERAGE(G105:G108)","v":{"$error":"#DIV/0!"}}]
["Air Sampling Array Individual \nMeasurement Temperatures",null,"#2-A",null,{"$f":"'Test Conditions'!$B$19","v":"°C"}]
[null,null,"#2-B",null,{"$f":"'Test Conditions'!$B$19","v":"°C"}]
[null,null,"#2-C",null,{"$f":"'Test Conditions'!$B$19","v":"°C"}]
[null,null,"#2-D",null,{"$f":"'Test Conditions'!$B$19","v":"°C"}]
[null,null,"Recirculation Thermocouple",null,{"$f":"'Test Conditions'!$B$19","v":"°C"}]
["Air Sampling Array #3, Mean Air Temperature",null,null,null,{"$f":"'Test Conditions'!$B$19","v":"°C"},null,{"$f":"AVERAGE(G111:G114)","v":{"$error":"#DIV/0!"}}]
["Air Sampling Array Individual \nMeasurement Temperatures",null,"#3-A",null,{"$f":"'Test Conditions'!$B$19","v":"°C"}]
[null,null,"#3-B",null,{"$f":"'Test Conditions'!$B$19","v":"°C"}]
[null,null,"#3-C",null,{"$f":"'Test Conditions'!$B$19","v":"°C"}]
[null,null,"#3-D",null,{"$f":"'Test Conditions'!$B$19","v":"°C"}]
[null,null,"Recirculation Thermocouple",null,{"$f":"'Test Conditions'!$B$19","v":"°C"}]
["Air Sampling Array #4, Mean Air Temperature",null,null,null,{"$f":"'Test Conditions'!$B$19","v":"°C"},null,{"$f":"AVERAGE(G117:G120)","v":{"$error":"#DIV/0!"}}]
["Air Sampling Array Individual \nMeasurement Temperatures",null,"#4-A",null,{"$f":"'Test Conditions'!$B$19","v":"°C"}]
[null,null,"#4-B",null,{"$f":"'Test Conditions'!$B$19","v":"°C"}]
[null,null,"#4-C",null,{"$f":"'Test Conditions'!$B$19","v":"°C"}]
[null,null,"#4-D",null,{"$f":"'Test Conditions'!$B$19","v":"°C"}]
[null,null,"Recirculation Thermocouple",null,{"$f":"'Test Conditions'!$B$19","v":"°C"}]
["Air Sampling Array #5, Mean Air Temperature",null,null,null,{"$f":"'Test Conditions'!$B$19","v":"°C"},null,{"$f":"AVERAGE(G123:G126)","v":{"$error":"#DIV/0!"}}]
["Air Sampling Array Individual \nMeasurement Temperatures",null,"#5-A",null,{"$f":"'Test Conditions'!$B$19","v":"°C"}]
[null,null,"#5-B",null,{"$f":"'Test Conditions'!$B$19","v":"°C"}]
[null,null,"#5-C",null,{"$f":"'Test Conditions'!$B$19","v":"°C"}]
[null,null,"#5-D",null,{"$f":"'Test Conditions'!$B$19","v":"°C"}]
[null,null,"Recirculation Thermocouple",null,{"$f":"'Test Conditions'!$B$19","v":"°C"}]
["Air Sampling Array #6, Mean Air Temperature",null,null,null,{"$f":"'Test Conditions'!$B$19","v":"°C"},null,{"$f":"AVERAGE(G129:G132)","v":{"$error":"#DIV/0!"}}]
["Air Sampling Array Individual \nMeasurement Temperatures",null,"#6-A",null,{"$f":"'Test Conditions'!$B$19","v":"°C"}]
[null,null,"#6-B",null,{"$f":"'Test Conditions'!$B$19","v":"°C"}]
[null,null,"#6-C",null,{"$f":"'Test Conditions'!$B$19","v":"°C"}]
[null,null,"#6-D",null,{"$f":"'Test Conditions'!$B$19","v":"°C"}]
[null,null,"Recirculation Thermocouple",null,{"$f":"'Test Conditions'!$B$19","v":"°C"}]
["Air Sampling Array #7, Mean Air Temperature",null,null,null,{"$f":"'Test Conditions'!$B$19","v":"°C"},null,{"$f":"AVERAGE(G135:G138)","v":{"$error":"#DIV/0!"}}]
["Air Sampling Array Individual \nMeasurement Temperatures",null,"#7-A",null,{"$f":"'Test Conditions'!$B$19","v":"°C"}]
[null,null,"#7-B",null,{"$f":"'Test Conditions'!$B$19","v":"°C"}]
[null,null,"#7-C",null,{"$f":"'Test Conditions'!$B$19","v":"°C"}]
[null,null,"#7-D",null,{"$f":"'Test Conditions'!$B$19","v":"°C"}]
[null,null,"Recirculation Thermocouple",null,{"$f":"'Test Conditions'!$B$19","v":"°C"}]
["Air Sampling Array #8, Mean Air Temperature",null,null,null,{"$f":"'Test Conditions'!$B$19","v":"°C"},null,{"$f":"AVERAGE(G141:G144)","v":{"$error":"#DIV/0!"}}]
["Air Sampling Array Individual \nMeasurement Temperatures",null,"#8-A",null,{"$f":"'Test Conditions'!$B$19","v":"°C"}]
[null,null,"#8-B",null,{"$f":"'Test Conditions'!$B$19","v":"°C"}]
[null,null,"#8-C",null,{"$f":"'Test Conditions'!$B$19","v":"°C"}]
[null,null,"#8-D",null,{"$f":"'Test Conditions'!$B$19","v":"°C"}]
[null,null,"Recirculation Thermocouple",null,{"$f":"'Test Conditions'!$B$19","v":"°C"}]
["Air Sampling Array #9, Mean Air Temperature",null,null,null,{"$f":"'Test Conditions'!$B$19","v":"°C"},null,{"$f":"AVERAGE(G147:G150)","v":{"$error":"#DIV/0!"}}]
["Air Sampling Array Individual \nMeasurement Temperatures",null,"#9-A",null,{"$f":"'Test Conditions'!$B$19","v":"°C"}]
[null,null,"#9-B",null,{"$f":"'Test Conditions'!$B$19","v":"°C"}]
[null,null,"#9-C",null,{"$f":"'Test Conditions'!$B$19","v":"°C"}]
[null,null,"#9-D",null,{"$f":"'Test Conditions'!$B$19","v":"°C"}]
[null,null,"Recirculation Thermocouple",null,{"$f":"'Test Conditions'!$B$19","v":"°C"}]
["Air Sampling Array #10, Mean Air Temperature",null,null,null,{"$f":"'Test Conditions'!$B$19","v":"°C"},null,{"$f":"AVERAGE(G153:G156)","v":{"$error":"#DIV/0!"}}]
["Air Sampling Array Individual \nMeasurement Temperatures",null,"#10-A",null,{"$f":"'Test Conditions'!$B$19","v":"°C"}]
[null,null,"#10-B",null,{"$f":"'Test Conditions'!$B$19","v":"°C"}]
[null,null,"#10-C",null,{"$f":"'Test Conditions'!$B$19","v":"°C"}]
[null,null,"#10-D",null,{"$f":"'Test Conditions'!$B$19","v":"°C"}]
[null,null,"Recirculation Thermocouple",null,{"$f":"'Test Conditions'!$B$19","v":"°C"}]
["Air Sampling Array #11, Mean Air Temperature",null,null,null,{"$f":"'Test Conditions'!$B$19","v":"°C"},null,{"$f":"AVERAGE(G159:G162)","v":{"$error":"#DIV/0!"}}]
["Air Sampling Array Individual \nMeasurement Temperatures",null,"#11-A",null,{"$f":"'Test Conditions'!$B$19","v":"°C"}]
[null,null,"#11-B",null,{"$f":"'Test Conditions'!$B$19","v":"°C"}]
[null,null,"#11-C",null,{"$f":"'Test Conditions'!$B$19","v":"°C"}]
[null,null,"#11-D",null,{"$f":"'Test Conditions'!$B$19","v":"°C"}]
[null,null,"Recirculation Thermocouple",null,{"$f":"'Test Conditions'!$B$19","v":"°C"}]
["Air Sampling Array #12, Mean Air Temperature",null,null,null,{"$f":"'Test Conditions'!$B$19","v":"°C"},null,{"$f":"AVERAGE(G165:G168)","v":{"$error":"#DIV/0!"}}]
["Air Sampling Array Individual \nMeasurement Temperatures",null,"#12-A",null,{"$f":"'Test Conditions'!$B$19","v":"°C"}]
[null,null,"#12-B",null,{"$f":"'Test Conditions'!$B$19","v":"°C"}]
[null,null,"#12-C",null,{"$f":"'Test Conditions'!$B$19","v":"°C"}]
[null,null,"#12-D",null,{"$f":"'Test Conditions'!$B$19","v":"°C"}]
[null,null,"Recirculation Thermocouple",null,{"$f":"'Test Conditions'!$B$19","v":"°C"}]
["Air Sampling Array #13, Mean Air Temperature",null,null,null,{"$f":"'Test Conditions'!$B$19","v":"°C"},null,{"$f":"AVERAGE(G171:G174)","v":{"$error":"#DIV/0!"}}]
["Air Sampling Array Individual \nMeasurement Temperatures",null,"#13-A",null,{"$f":"'Test Conditions'!$B$19","v":"°C"}]
[null,null,"#13-B",null,{"$f":"'Test Conditions'!$B$19","v":"°C"}]
[null,null,"#13-C",null,{"$f":"'Test Conditions'!$B$19","v":"°C"}]
[null,null,"#13-D",null,{"$f":"'Test Conditions'!$B$19","v":"°C"}]
[null,null,"Recirculation Thermocouple",null,{"$f":"'Test Conditions'!$B$19","v":"°C"}]
["Air Sampling Array #14, Mean Air Temperature",null,null,null,{"$f":"'Test Conditions'!$B$19","v":"°C"},null,{"$f":"AVERAGE(G177:G180)","v":{"$error":"#DIV/0!"}}]
["Air Sampling Array Individual \nMeasurement Temperatures",null,"#14-A",null,{"$f":"'Test Conditions'!$B$19","v":"°C"}]
[null,null,"#14-B",null,{"$f":"'Test Conditions'!$B$19","v":"°C"}]
[null,null,"#14-C",null,{"$f":"'Test Conditions'!$B$19","v":"°C"}]
[null,null,"#14-D",null,{"$f":"'Test Conditions'!$B$19","v":"°C"}]
[null,null,"Recirculation Thermocouple",null,{"$f":"'Test Conditions'!$B$19","v":"°C"}]
["Air Sampling Array #15, Mean Air Temperature",null,null,null,{"$f":"'Test Conditions'!$B$19","v":"°C"},null,{"$f":"AVERAGE(G183:G186)","v":{"$error":"#DIV/0!"}}]
["Air Sampling Array Individual \nMeasurement Temperatures",null,"#15-A",null,{"$f":"'Test Conditions'!$B$19","v":"°C"}]
[null,null,"#15-B",null,{"$f":"'Test Conditions'!$B$19","v":"°C"}]
[null,null,"#15-C",null,{"$f":"'Test Conditions'!$B$19","v":"°C"}]
[null,null,"#15-D",null,{"$f":"'Test Conditions'!$B$19","v":"°C"}]
[null,null,"Recirculation Thermocouple",null,{"$f":"'Test Conditions'!$B$19","v":"°C"}]
["Air Sampling Array #16, Mean Air Temperature",null,null,null,{"$f":"'Test Conditions'!$B$19","v":"°C"},null,{"$f":"AVERAGE(G189:G192)","v":{"$error":"#DIV/0!"}}]
["Air Sampling Array Individual \nMeasurement Temperatures",null,"#16-A",null,{"$f":"'Test Conditions'!$B$19","v":"°C"}]
[null,null,"#16-B",null,{"$f":"'Test Conditions'!$B$19","v":"°C"}]
[null,null,"#16-C",null,{"$f":"'Test Conditions'!$B$19","v":"°C"}]
[null,null,"#16-D",null,{"$f":"'Test Conditions'!$B$19","v":"°C"}]
[null,null,"Recirculation Thermocouple",null,{"$f":"'Test Conditions'!$B$19","v":"°C"}]
["Air Sampling Array #17, Mean Air Temperature",null,null,null,{"$f":"'Test Conditions'!$B$19","v":"°C"},null,{"$f":"AVERAGE(G195:G198)","v":{"$error":"#DIV/0!"}}]
["Air Sampling Array Individual \nMeasurement Temperatures",null,"#17-A",null,{"$f":"'Test Conditions'!$B$19","v":"°C"}]
[null,null,"#17-B",null,{"$f":"'Test Conditions'!$B$19","v":"°C"}]
[null,null,"#17-C",null,{"$f":"'Test Conditions'!$B$19","v":"°C"}]
[null,null,"#17-D",null,{"$f":"'Test Conditions'!$B$19","v":"°C"}]
[null,null,"Recirculation Thermocouple",null,{"$f":"'Test Conditions'!$B$19","v":"°C"}]
["Air Sampling Array #18, Mean Air Temperature",null,null,null,{"$f":"'Test Conditions'!$B$19","v":"°C"},null,{"$f":"AVERAGE(G201:G204)","v":{"$error":"#DIV/0!"}}]
["Air Sampling Array Individual \nMeasurement Temperatures",null,"#18-A",null,{"$f":"'Test Conditions'!$B$19","v":"°C"}]
[null,null,"#18-B",null,{"$f":"'Test Conditions'!$B$19","v":"°C"}]
[null,null,"#18-C",null,{"$f":"'Test Conditions'!$B$19","v":"°C"}]
[null,null,"#18-D",null,{"$f":"'Test Conditions'!$B$19","v":"°C"}]
[null,null,"Recirculation Thermocouple",null,{"$f":"'Test Conditions'!$B$19","v":"°C"}]
["Air Sampling Array #19, Mean Air Temperature",null,null,null,{"$f":"'Test Conditions'!$B$19","v":"°C"},null,{"$f":"AVERAGE(G207:G210)","v":{"$error":"#DIV/0!"}}]
["Air Sampling Array Individual \nMeasurement Temperatures",null,"#19-A",null,{"$f":"'Test Conditions'!$B$19","v":"°C"}]
[null,null,"#19-B",null,{"$f":"'Test Conditions'!$B$19","v":"°C"}]
[null,null,"#19-C",null,{"$f":"'Test Conditions'!$B$19","v":"°C"}]
[null,null,"#19-D",null,{"$f":"'Test Conditions'!$B$19","v":"°C"}]
[null,null,"Recirculation Thermocouple",null,{"$f":"'Test Conditions'!$B$19","v":"°C"}]
["Air Sampling Array #20, Mean Air Temperature",null,null,null,{"$f":"'Test Conditions'!$B$19","v":"°C"},null,{"$f":"AVERAGE(G213:G216)","v":{"$error":"#DIV/0!"}}]
["Air Sampling Array Individual \nMeasurement Temperatures",null,"#20-A",null,{"$f":"'Test Conditions'!$B$19","v":"°C"}]
[null,null,"#20-B",null,{"$f":"'Test Conditions'!$B$19","v":"°C"}]
[null,null,"#20-C",null,{"$f":"'Test Conditions'!$B$19","v":"°C"}]
[null,null,"#20-D",null,{"$f":"'Test Conditions'!$B$19","v":"°C"}]
[null,null,"Recirculation Thermocouple",null,{"$f":"'Test Conditions'!$B$19","v":"°C"}]
[]
["Atmospheric Pressure Correction",null,null,null,"Units","Evaporator","Condenser"]
["Location of Water Flow Meter Relative to Chiller",null,null,null,"-"]
["Water Temperature (T) for Density",null,null,null,{"$f":"'Test Conditions'!$B$18","v":"°C"},{"$f":"IF($F$220=\"Entering\",$F$16,$F$14)","v":{"$error":"#DIV/0!"}}]
["Water Density (ρ)",null,null,null,{"$f":"IF('Test Plan'!$B$19=\"I-P\",'Unit Conversion'!$B$10,'Unit Conversion'!$C$10)","v":"kg/m³"},{"$f":"IF('Test Plan'!$B$19=\"I-P\",(-0.00000000074704*$F$221^4)+(0.00000052643*$F$221^3)+(-0.00018846*$F$221^2)+(0.012164*$F$221)+62.227,((-0.00000012556*$F$221^4)+(0.000040229*$F$221^3)+(-0.0073948*$F$221^2)+(0.046734*$F$221)+1000.2))","v":{"$error":"#DIV/0!"}}]
["Average Water Temperature (T) for Specific Heat & ∆pcorrected Density",null,null,null,{"$f":"'Test Conditions'!$B$18","v":"°C"},{"$f":"AVERAGE($F$14,$F$16)","v":{"$error":"#DIV/0!"}}]
["Water Specific Heat (cp)",null,null,null,{"$f":"IF('Test Plan'!$B$19=\"I-P\",'Unit Conversion'!$B$13,'Unit Conversion'!$C$13)","v":"kJ/kg·K"},{"$f":"IF('Test Plan'!$B$19=\"I-P\",(-0.00000000000040739*$F$223^5)+(0.00000000031031*$F$223^4)+(-0.000000092501*$F$223^3)+(0.000014071*$F$223^2)+(-0.0010677*$F$223)+1.0295,((-0.00000000003222*$F$223^5)+(0.00000001077*$F$223^4)+(-0.0000013901*$F$223^3)+(0.000094433*$F$223^2)+(-0.0031103*$F$223)+4.216))","v":{"$error":"#DIV/0!"}}]
["Water Density (ρ) for ∆pcorrected",null,null,null,{"$f":"IF('Test Plan'!$B$19=\"I-P\",'Unit Conversion'!$B$10,'Unit Conversion'!$C$10)","v":"kg/m³"},{"$f":"IF('Test Plan'!$B$19=\"I-P\",(-0.00000000074704*$F$223^4)+(0.00000052643*$F$223^3)+(-0.00018846*$F$223^2)+(0.012164*$F$223)+62.227,((-0.00000012556*$F$223^4)+(0.000040229*$F$223^3)+(-0.0073948*$F$223^2)+(0.046734*$F$223)+1000.2))","v":{"$error":"#DIV/0!"}}]
["Water Mass Flow Rate (mw)",null,null,null,{"$f":"IF('Test Plan'!$B$19=\"I-P\",'Unit Conversion'!$B$11,'Unit Conversion'!$C$11)","v":"kg/h"},{"$f":"IF('Test Plan'!$B$19=\"I-P\",$F$18*$F$222/0.124675,$F$18*$F$222)","v":{"$error":"#DIV/0!"}}]
["Gross Refrigeranting Capacity (Q'ev)",null,null,null,{"$f":"'Test Plan'!$B$125","v":"kW"},{"$f":"IF('Test Plan'!$B$19=\"I-P\",$F$226*($F$224*ABS($F$16-$F$14)+(0.18505*$F$23/$F$225*0.4331))/12000,$F$226*($F$224*ABS($F$16-$F$14)+($F$23/$F$225))/3600)","v":{"$error":"#DIV/0!"}}]
["Net Refrigerating Capacity (Qev)",null,null,null,{"$f":"'Test Plan'!$B$125","v":"kW"},{"$f":"IF('Test Plan'!$B$19=\"I-P\",$F$226*($F$224*ABS($F$16-$F$14))/12000,\nIF('Test Plan'!$B$17=\"EN 14511 and 14825\",$F$226*($F$224*ABS($F$16-$F$14))/3600-$F$238,\n$F$226*($F$224*ABS($F$16-$F$14))/3600))","v":{"$error":"#DIV/0!"}}]
["Cooling Energy Efficiency",null,null,null,{"$f":"'Test Plan'!$B$126","v":"kW/kW"},{"$f":"IF('Test Plan'!$B$19=\"I-P\",$F$26/$F$228,IF('Test Plan'!$B$17=\"EN 14511 and 14825\",$F$228/($F$26+$F$239),$F$228/$F$26))","v":{"$error":"#DIV/0!"}}]
["Coefficient Correction Factor (Capacity), DQ",null,null,null,"-",null,{"$f":"IF('Test Plan'!$B$19=\"I-P\",0.0011273*$G$12^2-0.041272*$G$12+1.36304,0.000023713*$G$12^2-0.005986*$G$12+1.36304)","v":{"$error":"#DIV/0!"}}]
["Coefficient Correction Factor (Efficiency), Dƞ",null,null,null,"-",null,{"$f":"IF('Test Plan'!$B$19=\"I-P\",0.0024308*$G$12^2-0.090075*$G$12+1.79872,0.000051135*$G$12^2-0.013064*$G$12+1.79872)","v":{"$error":"#DIV/0!"}}]
["Correction Factor (Capacity), CFQ",null,null,null,"-",null,{"$f":"IF('Test Plan'!$B$19=\"I-P\",1+($F$228/'100% Load Condition '!$F$228)*($G$230-1)*EXP(-0.35*(($G$231*(12/'100% Load Condition '!$F$229))-9.6)),1+($F$228/'100% Load Condition '!$F$228)*($G$230-1)*EXP(-0.35*((3.41214*$G$231*'100% Load Condition '!$F$229)-9.6)))","v":{"$error":"#DIV/0!"}}]
["Correction Factor (Efficiency), CFƞ",null,null,null,"-",null,{"$f":"IF('Test Plan'!$B$19=\"I-P\",1+($F$228/'100% Load Condition '!$F$228)*($G$231-1)*EXP(-0.35*(($G$231*(12/'100% Load Condition '!$F$229))-9.6)),1+($F$228/'100% Load Condition '!$F$228)*($G$231-1)*EXP(-0.35*((3.41214*$G$231*'100% Load Condition '!$F$229)-9.6)))","v":{"$error":"#DIV/0!"}}]
[]
["Pump Power Correction",null,null,null,"Units","Evaporator"]
["Hydraulic Pump Power (Phyd)",null,null,null,"W",{"$f":"($F$18/(60*60))*$F$23*1000","v":{"$error":"#DIV/0!"}}]
["Pump Efficiency (η)",null,null,null,"kW/kW",{"$f":"IF($F$236<=300,((0.35844*$F$236)/(1.7*$F$236+17*(1-EXP(-0.3*$F$236))))*(0.49/0.23),IF($F$236<=500,0.0721*$F$236^0.3183,0.092*LN($F$236)-0.0403))","v":{"$error":"#DIV/0!"}}]
["Pump Capacity Correction",null,null,null,"kW",{"$f":"IF($F$236<=0.3,($F$18/(60*60))*($F$23)*((1-$F$237)/$F$237),($F$18/(60*60))*($F$23)*((0.88-$F$237)/$F$237))","v":{"$error":"#DIV/0!"}}]
["Pump Power Correction",null,null,null,"kW",{"$f":"($F$18/(60*60))*($F$23)/$F$237","v":{"$error":"#DIV/0!"}}]
[]
["Test Result",null,null,null,"Units","Evaporator"]
["Corrected Net Refrigerating Capacity (Qev)",null,null,null,{"$f":"'Test Plan'!$B$125","v":"kW"},{"$f":"$F$228*$G$232","v":{"$error":"#DIV/0!"}}]
["Corrected Cooling Energy Efficiency",null,null,null,{"$f":"'Test Plan'!$B$126","v":"kW/kW"},{"$f":"IF('Test Plan'!$B$19=\"I-P\",$F$229/$G$233,$F$229*$G$233)","v":{"$error":"#DIV/0!"}}]
["Water Pressure Drop",null,null,null,{"$f":"'Test Plan'!$B$127","v":"kPa"},{"$f":"$F$23","v":{"$error":"#DIV/0!"}}]
[]
[null,null,null,"Evaporator Water",null,null,null,null,null,null,null,null,null,"Condenser Air",null,"Electrical"]
[null,null,null,"Lvg. Temp.",null,null,"Ent. Temp.",null,null,"Flow Rate",null,null,null,null,null,"Power",null,null,"Total Voltage","Voltage 1",null,null,null,"Voltage 2",null,null,null,"Frequency"]
["Laboratory Data","Start Time","Stop Time",null,null,{"$f":"'Test Conditions'!$B$18","v":"°C"},null,null,{"$f":"'Test Conditions'!$B$18","v":"°C"},null,null,null,"Press. Drop","Ent. Temp.","Atm Press.",null,null,"kW"]
["Unit",{"$f":"$C$9","v":"h:mm:ss:ms"},{"$f":"$C$9","v":"h:mm:ss:ms"},null,null,null,null,null,null,null,null,null,{"$f":"IF('Test Plan'!$B$19=\"I-P\",'Unit Conversion'!$B$9,'Unit Conversion'!$C$9)","v":"kPa"},{"$f":"'Test Conditions'!$B$19","v":"°C"},{"$f":"IF('Test Plan'!$B$19=\"I-P\",'Unit Conversion'!$B$7,'Unit Conversion'!$C$7)","v":"kPa"}]
["Mean"]
["Data Comparison",{"$f":"ABS(B250-Zero)*24*60*60","v":0},{"$f":"ABS(C250-INDEX(Zero:C10202,$B$10))*24*60*60","v":{"$error":"#VALUE!"}},null,null,{"$f":"ABS(F250-F256)","v":{"$error":"#DIV/0!"}},null,null,{"$f":"ABS(I250-I256)","v":{"$error":"#DIV/0!"}},null,null,null,{"$f":"ABS(M250-M256)","v":{"$error":"#DIV/0!"}},{"$f":"ABS(N250-N256)","v":{"$error":"#DIV/0!"}},{"$f":"ABS(O250-O256)/O256","v":{"$error":"#DIV/0!"}},null,null,{"$f":"ABS(R250-R256)/R256","v":{"$error":"#DIV/0!"}}]
["Use Lab Data?"]
["Test Stand Data","Time Interval","Time Stamp",1,2,"Avg.",1,2,"Avg.",1,2,"Avg.","Press. Drop","Ent. Temp.","Atm Press.",1,2,"Avg.","Avg","Avg."," A-B"," B-C"," C-A","Avg."," A-B"," B-C"," C-A","Avg.",1,2]
["Unit",{"$f":"$C$9","v":"h:mm:ss:ms"},{"$f":"$C$9","v":"h:mm:ss:ms"},{"$f":"'Test Conditions'!$B$18","v":"°C"},{"$f":"'Test Conditions'!$B$18","v":"°C"},{"$f":"'Test Conditions'!$B$18","v":"°C"},{"$f":"'Test Conditions'!$B$19","v":"°C"},{"$f":"'Test Conditions'!$B$19","v":"°C"},{"$f":"'Test Conditions'!$B$19","v":"°C"},{"$f":"'Test Conditions'!$B$20","v":"m³/h"},{"$f":"'Test Conditions'!$B$20","v":"m³/h"},{"$f":"'Test Conditions'!$B$20","v":"m³/h"},{"$f":"IF('Test Plan'!$B$19=\"I-P\",'Unit Conversion'!$B$9,'Unit Conversion'!$C$9)","v":"kPa"},{"$f":"'Test Conditions'!$B$19","v":"°C"},{"$f":"IF('Test Plan'!$B$19=\"I-P\",'Unit Conversion'!$B$7,'Unit Conversion'!$C$7)","v":"kPa"},"kW","kW","kW","V","V","V","V","V","V","V","V","V","Hz","Hz","Hz"]
["Rating","-","-",{"$f":"'Test Conditions'!$C$18","v":{"$error":"#VALUE!"}},{"$f":"'Test Conditions'!$C$18","v":{"$error":"#VALUE!"}},{"$f":"'Test Conditions'!$C$18","v":{"$error":"#VALUE!"}},{"$f":"'Test Plan'!$C$46","v":""},{"$f":"'Test Plan'!$C$46","v":""},{"$f":"'Test Plan'!$C$46","v":""},{"$f":"'Test Plan'!$C$48","v":0},{"$f":"'Test Plan'!$C$48","v":0},{"$f":"'Test Plan'!$C$48","v":0},{"$f":"IF('Test Plan'!$B$19=\"I-P\",'Test Plan'!$C$127*0.4331,'Test Plan'!$C$127)","v":0},{"$f":"'Test Conditions'!$D$19","v":35},{"$f":"'Test Plan'!$C$41","v":101.33},{"$f":"'Test Plan'!$C$50","v":""},{"$f":"'Test Plan'!$C$50","v":""},{"$f":"'Test Plan'!$C$50","v":""},{"$f":"'Test Plan'!$B$14","v":0},{"$f":"'Test Plan'!$B$14","v":0},{"$f":"'Test Plan'!$B$14","v":0},{"$f":"'Test Plan'!$B$14","v":0},{"$f":"'Test Plan'!$B$14","v":0},{"$f":"'Test Plan'!$B$14","v":0},{"$f":"'Test Plan'!$B$14","v":0},{"$f":"'Test Plan'!$B$14","v":0},{"$f":"'Test Plan'!$B$14","v":0},{"$f":"'Test Plan'!$D$14","v":0},{"$f":"'Test Plan'!$D$14","v":0},{"$f":"'Test Plan'!$D$14","v":0}]
["Mean","-","-",{"$f":"AVERAGE(D258:INDEX(D258:D10089,$B$9))","v":{"$error":"#DIV/0!"}},{"$f":"AVERAGE(E258:INDEX(E258:E10089,$B$9))","v":{"$error":"#DIV/0!"}},{"$f":"AVERAGE(D256:E256)","v":{"$error":"#DIV/0!"}},{"$f":"AVERAGE(G258:INDEX(G258:G10089,$B$9))","v":{"$error":"#DIV/0!"}},{"$f":"AVERAGE(H258:INDEX(H258:H10089,$B$9))","v":{"$error":"#DIV/0!"}},{"$f":"AVERAGE(G256:H256)","v":{"$error":"#DIV/0!"}},{"$f":"AVERAGE(J258:INDEX(J258:J10089,$B$9))","v":{"$error":"#DIV/0!"}},{"$f":"AVERAGE(K258:INDEX(K258:K10089,$B$9))","v":{"$error":"#DIV/0!"}},{"$f":"AVERAGE(J256:K256)","v":{"$error":"#DIV/0!"}},{"$f":"AVERAGE(M258:INDEX(M258:M10089,$B$9))","v":{"$error":"#DIV/0!"}},{"$f":"AVERAGE(N258:INDEX(N258:N10089,$B$9))","v":{"$error":"#DIV/0!"}},{"$f":"AVERAGE(O258:INDEX(O258:O10089,$B$9))","v":{"$error":"#DIV/0!"}},{"$f":"AVERAGE(P258:INDEX(P258:P10089,$B$9))","v":{"$error":"#DIV/0!"}},{"$f":"AVERAGE(Q258:INDEX(Q258:Q10089,$B$9))","v":{"$error":"#DIV/0!"}},{"$f":"AVERAGE(P256:Q256)","v":{"$error":"#DIV/0!"}},{"$f":"AVERAGE(T256,X256)","v":{"$error":"#DIV/0!"}},{"$f":"AVERAGE(T258:INDEX(T258:T10089,$B$9))","v":{"$error":"#DIV/0!"}},{"$f":"AVERAGE(U258:INDEX(U258:U10089,$B$9))","v":{"$error":"#DIV/0!"}},{"$f":"AVERAGE(V258:INDEX(V258:V10089,$B$9))","v":{"$error":"#DIV/0!"}},{"$f":"AVERAGE(W258:INDEX(W258:W10089,$B$9))","v":{"$error":"#DIV/0!"}},{"$f":"AVERAGE(X258:INDEX(X258:X10089,$B$9))","v":{"$error":"#DIV/0!"}},{"$f":"AVERAGE(Y258:INDEX(Y258:Y10089,$B$9))","v":{"$error":"#DIV/0!"}},{"$f":"AVERAGE(Z258:INDEX(Z258:Z10089,$B$9))","v":{"$error":"#DIV/0!"}},{"$f":"AVERAGE(AA258:INDEX(AA258:AA10089,$B$9))","v":{"$error":"#DIV/0!"}},{"$f":"AVERAGE(AC256:AD256)","v":{"$error":"#DIV/0!"}},{"$f":"AVERAGE(AC258:INDEX(AC258:AC10089,$B$9))","v":{"$error":"#DIV/0!"}},{"$f":"AVERAGE(AD258:INDEX(AD258:AD10089,$B$9))","v":{"$error":"#DIV/0!"}}]
["St. Dev.","-","-",{"$f":"_xlfn.STDEV.S(D258:INDEX(D258:D10089,$B$9))","v":{"$error":"#DIV/0!"}},{"$f":"_xlfn.STDEV.S(E258:INDEX(E258:E10089,$B$9))","v":{"$error":"#DIV/0!"}},{"$f":"SQRT((D257^2+E257^2)/2)","v":{"$error":"#DIV/0!"}},{"$f":"_xlfn.STDEV.S(G258:INDEX(G258:G10089,$B$9))","v":{"$error":"#DIV/0!"}},{"$f":"_xlfn.STDEV.S(H258:INDEX(H258:H10089,$B$9))","v":{"$error":"#DIV/0!"}},{"$f":"SQRT((G257^2+H257^2)/2)","v":{"$error":"#DIV/0!"}},{"$f":"_xlfn.STDEV.S(J258:INDEX(J258:J10089,$B$9))","v":{"$error":"#DIV/0!"}},{"$f":"_xlfn.STDEV.S(K258:INDEX(K258:K10089,$B$9))","v":{"$error":"#DIV/0!"}},{"$f":"SQRT((J257^2+K257^2)/2)","v":{"$error":"#DIV/0!"}},{"$f":"_xlfn.STDEV.S(M258:INDEX(M258:M10089,$B$9))","v":{"$error":"#DIV/0!"}},{"$f":"_xlfn.STDEV.S(N258:INDEX(N258:N10089,$B$9))","v":{"$error":"#DIV/0!"}},{"$f":"_xlfn.STDEV.S(O258:INDEX(O258:O10089,$B$9))","v":{"$error":"#DIV/0!"}},{"$f":"_xlfn.STDEV.S(P258:INDEX(P258:P10089,$B$9))","v":{"$error":"#DIV/0!"}},{"$f":"_xlfn.STDEV.S(Q258:INDEX(Q258:Q10089,$B$9))","v":{"$error":"#DIV/0!"}},{"$f":"SQRT((P257^2+Q257^2)/2)","v":{"$error":"#DIV/0!"}},{"$f":"SQRT((T257^2+X257^2)/2)","v":{"$error":"#DIV/0!"}},{"$f":"_xlfn.STDEV.S(T258:INDEX(T258:T10089,$B$9))","v":{"$error":"#DIV/0!"}},{"$f":"_xlfn.STDEV.S(U258:INDEX(U258:U10089,$B$9))","v":{"$error":"#DIV/0!"}},{"$f":"_xlfn.STDEV.S(V258:INDEX(V258:V10089,$B$9))","v":{"$error":"#DIV/0!"}},{"$f":"_xlfn.STDEV.S(W258:INDEX(W258:W10089,$B$9))","v":{"$error":"#DIV/0!"}},{"$f":"_xlfn.STDEV.S(X258:INDEX(X258:X10089,$B$9))","v":{"$error":"#DIV/0!"}},{"$f":"_xlfn.STDEV.S(Y258:INDEX(Y258:Y10089,$B$9))","v":{"$error":"#DIV/0!"}},{"$f":"_xlfn.STDEV.S(Z258:INDEX(Z258:Z10089,$B$9))","v":{"$error":"#DIV/0!"}},{"$f":"_xlfn.STDEV.S(AA258:INDEX(AA258:AA10089,$B$9))","v":{"$error":"#DIV/0!"}},{"$f":"SQRT((AC257^2+AD257^2)/2)","v":{"$error":"#DIV/0!"}},{"$f":"_xlfn.STDEV.S(AC258:INDEX(AC258:AC10089,$B$9))","v":{"$error":"#DIV/0!"}},{"$f":"_xlfn.STDEV.S(AD258:INDEX(AD258:AD10089,$B$9))","v":{"$error":"#DIV/0!"}}]
[null,{"$f":"C259-C258","v":"00:00:00"}]
[null,{"$f":"C260-C259","v":"00:00:00"}]
[null,{"$f":"C261-C260","v":"00:00:00"}]
[null,"00:00:00"]
[null,"00:00:00"]
[null,"00:00:00"]
[null,"00:00:00"]
[null,"00:00:00"]
[null,"00:00:00"]
[null,"00:00:00"]
[null,"00:00:00"]
[null,"00:00:00"]
[null,"00:00:00"]
[null,"00:00:00"]
[null,"00:00:00"]
[null,"00:00:00"]
[null,"00:00:00"]
[null,"00:00:00"]
[null,"00:00:00"]
[null,"00:00:00"]
[null,"00:00:00"]
[null,"00:00:00"]
[null,"00:00:00"]
[null,"00:00:00"]
[null,"00:00:00"]
[null,"00:00:00"]
[null,"00:00:00"]
[null,{"$f":"C286-C285","v":"00:00:00"}]
[null,{"$f":"C287-C286","v":"00:00:00"}]
[null,{"$f":"IF(C288=0,\"\",C288-C287)","v":""}]
[null,{"$f":"IF(C289=0,\"\",C289-C288)","v":""}]
[null,{"$f":"IF(C290=0,\"\",C290-C289)","v":""}]
[null,{"$f":"IF(C291=0,\"\",C291-C290)","v":""}]
[null,""]
[null,""]
[null,""]
[null,""]
[null,""]
[null,""]
[null,""]
[null,""]
[null,""]
[null,""]
[null,""]
[null,""]
[null,""]
[null,""]
[null,""]
[null,""]
[null,""]
[null,""]
[null,""]
[null,""]
[null,""]
[null,""]
[null,""]
[null,""]
[null,""]
[null,""]
[null,""]
[null,""]
[null,""]
[null,""]
[null,""]
[null,""]
[null,""]
[null,""]
[null,""]
[null,""]
[null,""]
[null,""]
[null,""]
[null,""]
[null,""]
[null,""]
[null,""]
[null,""]
[null,""]
[null,""]
[null,""]
[null,""]
[null,""]
[null,""]
[null,""]
[null,""]
[null,""]
[null,""]
[null,""]
[null,""]
[null,""]
[null,""]
[null,""]
[null,""]
[null,""]
[null,""]
[null,""]
[null,{"$f":"IF(C355=0,\"\",C355-C354)","v":""}]
[null,""]
[null,""]
[null,""]
[null,""]
[null,""]
[null,""]
[null,""]
[null,""]
[null,""]
[null,""]
[null,""]
[null,""]
[null,""]
[null,""]
[null,""]
[null,""]
[null,""]
[null,""]
[null,""]
[null,""]
[null,""]
[null,""]
[null,""]
[null,""]
[null,""]
[null,""]
[null,""]
[null,""]
[null,""]
[null,""]
[null,""]
[null,""]
[null,""]
[null,""]
[null,""]
[null,""]
[null,""]
[null,""]
[null,""]
[null,""]
[null,""]
[null,""]
[null,""]
[null,""]
[null,""]
[null,""]
[null,""]
[null,""]
[null,""]
[null,""]
[null,""]
[null,""]
[null,""]
[null,""]
[null,""]
[null,""]
[null,""]
[null,""]
[null,""]
[null,""]
[null,""]
[null,""]
[null,""]
[null,{"$f":"IF(C419=0,\"\",C419-C418)","v":""}]
[null,""]
[null,""]
[null,""]
[null,""]
[null,""]
[null,""]
[null,""]
[null,""]
[null,""]
[null,""]
[null,""]
[null,""]
[null,""]
[null,""]
[null,""]
[null,""]
[null,""]
[null,""]
[null,""]
[null,""]
[null,""]
[null,""]
[null,""]
[null,""]
[null,""]
[null,""]
[null,""]
[null,""]
[null,""]
[null,""]
[null,""]
[null,""]
[null,""]
[null,""]
[null,""]
[null,""]
[null,""]
[null,""]
[null,""]
[null,""]
[null,""]
[null,""]
[null,""]
[null,""]
[null,""]
[null,""]
[null,""]
[null,""]
[null,""]
[null,""]
[null,""]
[null,""]
[null,""]
[null,""]
[null,""]
[null,""]
[null,""]
[null,""]
[null,""]
[null,""]
[null,""]
[null,""]
[null,""]
[null,{"$f":"IF(C483=0,\"\",C483-C482)","v":""}]
[null,""]
[null,""]
[null,""]
[null,""]
[null,""]
[null,""]
[null,""]
[null,""]
[null,""]
[null,""]
[null,""]
[null,""]
[null,""]
[null,""]
[null,""]
[null,""]
[null,""]
[null,""]
[null,""]
[null,""]
[null,""]
[null,""]
[null,""]
[null,""]
[null,""]
[null,""]
[null,""]
[null,""]
[null,""]
[null,""]
[null,""]
[null,""]
[null,""]
[null,""]
[null,""]
[null,""]
[null,""]
[null,""]
[null,""]
[null,""]
[null,""]
[null,""]
[null,""]
[null,""]
[null,""]
[null,""]
[null,""]
[null,""]
[null,""]
[null,""]
[null,""]
[null,""]
[null,""]
[null,""]
[null,""]
[null,""]
[null,""]
[null,""]
[null,""]
[null,""]
[null,""]
[null,""]
[null,""]
[null,{"$f":"IF(C547=0,\"\",C547-C546)","v":""}]
[null,""]
[null,""]
[null,""]
[null,""]
[null,""]
[null,""]
[null,""]
[null,""]
[null,""]
[null,""]
[null,""]
[null,""]
[null,""]
[null,""]
[null,""]
[null,""]
[null,""]
[null,""]
[null,""]
[null,""]
[null,""]
[null,""]
[null,""]
[null,""]
[null,""]
[null,""]
[null,""]
[null,""]
[null,""]
[null,""]
[null,""]
[null,""]
[null,""]
[null,""]
[null,""]
[null,""]
[null,""]
[null,""]
[null,""]
[null,""]
[null,""]
[null,""]
[null,""]
[null,""]
[null,""]
[null,""]
[null,""]
[null,""]
[null,""]
[null,""]
[null,""]
[null,""]
[null,""]
[null,""]
[null,""]
[null,""]
[null,""]
[null,""]
[null,""]
[null,""]
[null,""]
[null,""]
[null,""]
[null,{"$f":"IF(C611=0,\"\",C611-C610)","v":""}]
[null,""]
[null,""]
[null,""]
[null,""]
[null,""]
[null,""]
[null,""]
[null,""]
[null,""]
[null,""]
[null,""]
[null,""]
[null,""]
[null,""]
[null,""]
[null,""]
[null,""]
[null,""]
[null,""]
[null,""]
[null,""]
[null,""]
[null,""]
[null,""]
[null,""]
[null,""]
[null,""]
[null,""]
[null,""]
[null,""]
[null,""]
[null,""]
[null,""]
[null,""]
[null,""]
[null,""]
[null,""]
[null,""]
[null,""]
[null,""]
[null,""]
[null,""]
[null,""]
[null,""]
[null,""]
[null,""]
[null,""]
[null,""]
[null,""]
[null,""]
[null,""]
[null,""]
[null,""]
[null,""]
[null,""]
[null,""]
[null,""]
[null,""]
[null,""]
[null,""]
[null,""]
[null,""]
[null,""]
[null,{"$f":"IF(C675=0,\"\",C675-C674)","v":""}]
[null,""]
[null,""]
[null,""]
[null,""]
[null,""]
[null,""]
[null,""]
[null,""]
[null,""]
[null,""]
[null,""]
[null,""]
[null,""]
[null,""]
[null,""]
[null,""]
[null,""]
[null,""]
[null,""]
[null,""]
[null,""]
[null,""]
[null,""]
[null,""]
[null,""]
[null,""]
[null,""]
[null,""]
[null,""]
[null,""]
[null,""]
[null,""]
[null,""]
[null,""]
[null,""]
[null,""]
[null,""]
[null,""]
[null,""]
[null,""]
[null,""]
[null,""]
[null,""]
[null,""]
[null,""]
[null,""]
[null,""]
[null,""]
[null,""]
[null,""]
[null,""]
[null,""]
[null,""]
[null,""]
[null,""]
[null,""]
[null,""]
[null,""]
[null,""]
[null,""]
[null,""]
[null,""]
[null,""]
[null,{"$f":"IF(C739=0,\"\",C739-C738)","v":""}]
[null,""]
[null,""]
[null,""]
[null,""]
[null,""]
[null,""]
[null,""]
[null,""]
[null,""]
[null,""]
[null,""]
[null,""]
[null,""]
[null,""]
[null,""]
[null,""]
[null,""]
[null,""]
[null,""]
[null,""]
[null,""]
[null,""]
[null,""]
[null,""]
[null,""]
[null,""]
[null,""]
[null,""]
[null,""]
[null,""]
[null,""]
[null,""]
[null,""]
[null,""]
[null,""]
[null,""]
[null,""]
[null,""]
[null,""]
[null,""]
[null,""]
[null,""]
[null,""]
[null,""]
[null,""]
[null,""]
[null,""]
[null,""]
[null,""]
[null,""]
[null,""]
[null,""]
[null,""]
[null,""]
[null,""]
[null,""]
[null,""]
[null,""]
[null,""]
[null,""]
[null,""]
[null,""]
[null,""]
[null,{"$f":"IF(C803=0,\"\",C803-C802)","v":""}]
[null,""]
[null,""]
[null,""]
[null,""]
[null,""]
[null,""]
[null,""]
[null,""]
[null,""]
[null,""]
[null,""]
[null,""]
[null,""]
[null,""]
[null,""]
[null,""]
[null,""]
[null,""]
[null,""]
[null,""]
[null,""]
[null,""]
[null,""]
[null,""]
[null,""]
[null,""]
[null,""]
[null,""]
[null,""]
[null,""]
[null,""]
[null,""]
[null,""]
[null,""]
[null,""]
[null,""]
[null,""]
[null,""]
[null,""]
[null,""]
[null,""]
[null,""]
[null,""]
[null,""]
[null,""]
[null,""]
[null,""]
[null,""]
[null,""]
[null,""]
[null,""]
[null,""]
[null,""]
[null,""]
[null,""]
[null,""]
[null,""]
[null,""]
[null,""]
[null,""]
[null,""]
[null,""]
[null,""]
[null,{"$f":"IF(C867=0,\"\",C867-C866)","v":""}]
[null,""]
[null,""]
[null,""]
[null,""]
[null,""]
[null,""]
[null,""]
[null,""]
[null,""]
[null,""]
[null,""]
[null,""]
[null,""]
[null,""]
[null,""]
[null,""]
[null,""]
[null,""]
[null,""]
[null,""]
[null,""]
[null,""]
[null,""]
[null,""]
[null,""]
[null,""]
[null,""]
[null,""]
[null,""]
[null,""]
[null,""]
[null,""]
[null,""]
[null,""]
[null,""]
[null,""]
[null,""]
[null,""]
[null,""]
[null,""]
[null,""]
[null,""]
[null,""]
[null,""]
[null,""]
[null,""]
[null,""]
[null,""]
[null,""]
[null,""]
[null,""]
[null,""]
[null,""]
[null,""]
[null,""]
[null,""]
[null,""]
[null,""]
[null,""]
[null,""]
[null,""]
[null,""]
[null,""]
[null,{"$f":"IF(C931=0,\"\",C931-C930)","v":""}]
[null,""]
[null,""]
[null,""]
[null,""]
[null,""]
[null,""]
[null,""]
[null,""]
[null,""]
[null,""]
[null,""]
[null,""]
[null,""]
[null,""]
[null,""]
[null,""]
[null,""]
[null,""]
[null,""]
[null,""]
[null,""]
[null,""]
[null,""]
[null,""]
[null,""]
[null,""]
[null,""]
[null,""]
[null,""]
[null,""]
[null,""]
[null,""]
[null,""]
[null,""]
[null,""]
[null,""]
[null,""]
[null,""]
[null,""]
[null,""]
[null,""]
[null,""]
[null,""]
[null,""]
[null,""]
[null,""]
[null,""]
[null,""]
[null,""]
[null,""]
[null,""]
[null,""]
[null,""]
[null,""]
[null,""]
[null,""]
[null,""]
[null,""]
[null,""]
[null,""]
[null,""]
[null,""]
[null,""]
[null,{"$f":"IF(C995=0,\"\",C995-C994)","v":""}]
[null,""]
[null,""]
[null,""]
[null,""]
[null,""]
[null,""]
[null,""]
[null,""]
[null,""]
[null,""]
[null,""]
[null,""]
[null,""]
[null,""]
[null,""]
[null,""]
[null,""]
[null,""]
[null,""]
[null,""]
[null,""]
[null,""]
[null,""]
[null,""]
[null,""]
[null,""]
[null,""]
[null,""]
[null,""]
[null,""]
[null,""]
[null,""]
[null,""]
[null,""]
[null,""]
[null,""]
[null,""]
[null,""]
[null,""]
[null,""]
[null,""]
[null,""]
[null,""]
[null,""]
[null,""]
[null,""]
[null,""]
[null,""]
[null,""]
[null,""]
[null,""]
[null,""]
[null,""]
[null,""]
[null,""]
[null,""]
[null,""]
[null,""]
[null,""]
[null,""]
[null,""]
[null,""]
[null,""]
[null,{"$f":"IF(C1059=0,\"\",C1059-C1058)","v":""}]
[null,""]
[null,""]
[null,""]
[null,""]
[null,""]
[null,""]
[null,""]
[null,""]
[null,""]
[null,""]
[null,""]
[null,""]
[null,""]
[null,""]
[null,""]
[null,""]
[null,""]
[null,""]
[null,""]
[null,""]
[null,""]
[null,""]
[null,""]
[null,""]
[null,""]
[null,""]
[null,""]
[null,""]
[null,""]
[null,""]
[null,""]
[null,""]
[null,""]
[null,""]
[null,""]
[null,""]
[null,""]
[null,""]
[null,""]
[null,""]
[null,""]
[null,""]
[null,""]
[null,""]
[null,""]
[null,""]
[null,""]
[null,""]
[null,""]
[null,""]
[null,""]
[null,""]
[null,""]
[null,""]
[null,""]
[null,""]
[null,""]
[null,""]
[null,""]
[null,""]
[null,""]
[null,""]
[null,""]
[null,{"$f":"IF(C1123=0,\"\",C1123-C1122)","v":""}]
[null,""]
[null,""]
[null,""]
[null,""]
[null,""]
[null,""]
[null,""]
[null,""]
[null,""]
[null,""]
[null,""]
[null,""]
[null,""]
[null,""]
[null,""]
[null,""]
[null,""]
[null,""]
[null,""]
[null,""]
[null,""]
[null,""]
[null,""]
[null,""]
[null,""]
[null,""]
[null,""]
[null,""]
[null,""]
[null,""]
[null,""]
[null,""]
[null,""]
[null,""]
[null,""]
[null,""]
[null,""]
[null,""]
[null,""]
[null,""]
[null,""]
[null,""]
[null,""]
[null,""]
[null,""]
[null,""]
[null,""]
[null,""]
[null,""]
[null,""]
[null,""]
[null,""]
[null,""]
[null,""]
[null,""]
[null,""]
[null,""]
[null,""]
[null,""]
[null,""]
[null,""]
[null,""]
[null,""]
[null,{"$f":"IF(C1187=0,\"\",C1187-C1186)","v":""}]
[null,""]
[null,""]
[null,""]
[null,""]
[null,""]
[null,""]
[null,""]
[null,""]
[null,""]
[null,""]
[null,""]
[null,""]
[null,""]
[null,""]
[null,""]
[null,""]
[null,""]
[null,""]
[null,""]
[null,""]
[null,""]
[null,""]
[null,""]
[null,""]
[null,""]
[null,""]
[null,""]
[null,""]
[null,""]
[null,""]
[null,""]
[null,""]
[null,""]
[null,""]
[null,""]
[null,""]
[null,""]
[null,""]
[null,""]
[null,""]
[null,""]
[null,""]
[null,""]
[null,""]
[null,""]
[null,""]
[null,""]
[null,""]
[null,""]
[null,""]
[null,""]
[null,""]
[null,""]
[null,""]
[null,""]
[null,""]
[null,""]
[null,""]
[null,""]
[null,""]
[null,""]
[null,""]
[null,""]
[null,{"$f":"IF(C1251=0,\"\",C1251-C1250)","v":""}]
[null,""]
[null,""]
[null,""]
[null,""]
[null,""]
[null,""]
[null,""]
[null,""]
[null,""]
[null,""]
[null,""]
[null,""]
[null,""]
[null,""]
[null,""]
[null,""]
[null,""]
[null,""]
[null,""]
[null,""]
[null,""]
[null,""]
[null,""]
[null,""]
[null,""]
[null,""]
[null,""]
[null,""]
[null,""]
[null,""]
[null,""]
[null,""]
[null,""]
[null,""]
[null,""]
[null,""]
[null,""]
[null,""]
[null,""]
[null,""]
[null,""]
[null,""]
[null,""]
[null,""]
[null,""]
[null,""]
[null,""]
[null,""]
[null,""]
[null,""]
[null,""]
[null,""]
[null,""]
[null,""]
[null,""]
[null,""]
[null,""]
[null,""]
[null,""]
[null,""]
[null,""]
[null,""]
[null,""]
[null,{"$f":"IF(C1315=0,\"\",C1315-C1314)","v":""}]
[null,""]
[null,""]
[null,""]
[null,""]
[null,""]
[null,""]
[null,""]
[null,""]
[null,""]
[null,""]
[null,""]
[null,""]
[null,""]
[null,""]
[null,""]
[null,""]
[null,""]
[null,""]
[null,""]
[null,""]
[null,""]
[null,""]
[null,""]
[null,""]
[null,""]
[null,""]
[null,""]
[null,""]
[null,""]
[null,""]
[null,""]
[null,""]
[null,""]
[null,""]
[null,""]
[null,""]
[null,""]
[null,""]
[null,""]
[null,""]
[null,""]
[null,""]
[null,""]
[null,""]
[null,""]
[null,""]
[null,""]
[null,""]
[null,""]
[null,""]
[null,""]
[null,""]
[null,""]
[null,""]
[null,""]
[null,""]
[null,""]
[null,""]
[null,""]
[null,""]
[null,""]
[null,""]
[null,""]
[null,{"$f":"IF(C1379=0,\"\",C1379-C1378)","v":""}]
[null,""]
[null,""]
[null,""]
[null,""]
[null,""]
[null,""]
[null,""]
[null,""]
[null,""]
[null,""]
[null,""]
[null,""]
[null,""]
[null,""]
[null,""]
[null,""]
[null,""]
[null,""]
[null,""]
[null,""]
[null,""]
[null,""]
[null,""]
[null,""]
[null,""]
[null,""]
[null,""]
[null,""]
[null,""]
[null,""]
[null,""]
[null,""]
[null,""]
[null,""]
[null,""]
[null,""]
[null,""]
[null,""]
[null,""]
[null,""]
[null,""]
[null,""]
[null,""]
[null,""]
[null,""]
[null,""]
[null,""]
[null,""]
[null,""]
[null,""]
[null,""]
[null,""]
[null,""]
[null,""]
[null,""]
[null,""]
[null,""]
[null,""]
[null,""]
[null,""]
[null,""]
[null,""]
[null,""]
[null,{"$f":"IF(C1443=0,\"\",C1443-C1442)","v":""}]
[null,""]
[null,""]
[null,""]
[null,""]
[null,""]
[null,""]
[null,""]
[null,""]
[null,""]
[null,""]
[null,""]
[null,""]
[null,""]
[null,""]
[null,""]
[null,""]
[null,""]
[null,""]
[null,""]
[null,""]
[null,""]
[null,""]
[null,""]
[null,""]
[null,""]
[null,""]
[null,""]
[null,""]
[null,""]
[null,""]
[null,""]
[null,""]
[null,""]
[null,""]
[null,""]
[null,""]
[null,""]
[null,""]
[null,""]
[null,""]
[null,""]
[null,""]
[null,""]
[null,""]
[null,""]
[null,""]
[null,""]
[null,""]
[null,""]
[null,""]
[null,""]
[null,""]
[null,""]
[null,""]
[null,""]
[null,""]
[null,""]
[null,""]
[null,""]
[null,""]
[null,""]
[null,""]
[null,""]
[null,{"$f":"IF(C1507=0,\"\",C1507-C1506)","v":""}]
[null,""]
[null,""]
[null,""]
[null,""]
[null,""]
[null,""]
[null,""]
[null,""]
[null,""]
[null,""]
[null,""]
[null,""]
[null,""]
[null,""]
[null,""]
[null,""]
[null,""]
[null,""]
[null,""]
[null,""]
[null,""]
[null,""]
[null,""]
[null,""]
[null,""]
[null,""]
[null,""]
[null,""]
[null,""]
[null,""]
[null,""]
[null,""]
[null,""]
[null,""]
[null,""]
[null,""]
[null,""]
[null,""]
[null,""]
[null,""]
[null,""]
[null,""]
[null,""]
[null,""]
[null,""]
[null,""]
[null,""]
[null,""]
[null,""]
[null,""]
[null,""]
[null,""]
[null,""]
[null,""]
[null,""]
[null,""]
[null,""]
[null,""]
[null,""]
[null,""]
[null,""]
[null,""]
[null,""]
[null,{"$f":"IF(C1571=0,\"\",C1571-C1570)","v":""}]
[null,""]
[null,""]
[null,""]
[null,""]
[null,""]
[null,""]
[null,""]
[null,""]
[null,""]
[null,""]
[null,""]
[null,""]
[null,""]
[null,""]
[null,""]
[null,""]
[null,""]
[null,""]
[null,""]
[null,""]
[null,""]
[null,""]
[null,""]
[null,""]
[null,""]
[null,""]
[null,""]
[null,""]
[null,""]
[null,""]
[null,""]
[null,""]
[null,""]
[null,""]
[null,""]
[null,""]
[null,""]
[null,""]
[null,""]
[null,""]
[null,""]
[null,""]
[null,""]
[null,""]
[null,""]
[null,""]
[null,""]
[null,""]
[null,""]
[null,""]
[null,""]
[null,""]
[null,""]
[null,""]
[null,""]
[null,""]
[null,""]
[null,""]
[null,""]
[null,""]
[null,""]
[null,""]
[null,""]
[null,{"$f":"IF(C1635=0,\"\",C1635-C1634)","v":""}]
[null,""]
[null,""]
[null,""]
[null,""]
[null,""]
[null,""]
[null,""]
[null,""]
[null,""]
[null,""]
[null,""]
[null,""]
[null,""]
[null,""]
[null,""]
[null,""]
[null,""]
[null,""]
[null,""]
[null,""]
[null,""]
[null,""]
[null,""]
[null,""]
[null,""]
[null,""]
[null,""]
[null,""]
[null,""]
[null,""]
[null,""]
[null,""]
[null,""]
[null,""]
[null,""]
[null,""]
[null,""]
[null,""]
[null,""]
[null,""]
[null,""]
[null,""]
[null,""]
[null,""]
[null,""]
[null,""]
[null,""]
[null,""]
[null,""]
[null,""]
[null,""]
[null,""]
[null,""]
[null,""]
[null,""]
[null,""]
[null,""]
[null,""]
[null,""]
[null,""]
[null,""]
[null,""]
[null,""]
[null,{"$f":"IF(C1699=0,\"\",C1699-C1698)","v":""}]
[null,""]
[null,""]
[null,""]
[null,""]
[null,""]
[null,""]
[null,""]
[null,""]
[null,""]
[null,""]
[null,""]
[null,""]
[null,""]
[null,""]
[null,""]
[null,""]
[null,""]
[null,""]
[null,""]
[null,""]
[null,""]
[null,""]
[null,""]
[null,""]
[null,""]
[null,""]
[null,""]
[null,""]
[null,""]
[null,""]
[null,""]
[null,""]
[null,""]
[null,""]
[null,""]
[null,""]
[null,""]
[null,""]
[null,""]
[null,""]
[null,""]
[null,""]
[null,""]
[null,""]
[null,""]
[null,""]
[null,""]
[null,""]
[null,""]
[null,""]
[null,""]
[null,""]
[null,""]
[null,""]
[null,""]
[null,""]
[null,""]
[null,""]
[null,""]
[null,""]
[null,""]
[null,""]
[null,""]
[null,{"$f":"IF(C1763=0,\"\",C1763-C1762)","v":""}]
[null,""]
[null,""]
[null,""]
[null,""]
[null,""]
[null,""]
[null,""]
[null,""]
[null,""]
[null,""]
[null,""]
[null,""]
[null,""]
[null,""]
[null,""]
[null,""]
[null,""]
[null,""]
[null,""]
[null,""]
[null,""]
[null,""]
[null,""]
[null,""]
[null,""]
[null,""]
[null,""]
[null,""]
[null,""]
[null,""]
[null,""]
[null,""]
[null,""]
[null,""]
[null,""]
[null,""]
[null,""]
[null,""]
[null,""]
[null,""]
[null,""]
[null,""]
[null,""]
[null,""]
[null,""]
[null,""]
[null,""]
[null,""]
[null,""]
[null,""]
[null,""]
[null,""]
[null,""]
[null,""]
[null,""]
[null,""]
[null,""]
[null,""]
[null,""]
[null,""]
[null,""]
[null,""]
[null,""]
[null,{"$f":"IF(C1827=0,\"\",C1827-C1826)","v":""}]
[null,""]
[null,""]
[null,""]
[null,""]
[null,""]
[null,""]
[null,""]
[null,""]
[null,""]
[null,""]
[null,""]
[null,""]
[null,""]
[null,""]
[null,""]
[null,""]
[null,""]
[null,""]
[null,""]
[null,""]
[null,""]
[null,""]
[null,""]
[null,""]
[null,""]
[null,""]
[null,""]
[null,""]
[null,""]
[null,""]
[null,""]
[null,""]
[null,""]
[null,""]
[null,""]
[null,""]
[null,""]
[null,""]
[null,""]
[null,""]
[null,""]
[null,""]
[null,""]
[null,""]
[null,""]
[null,""]
[null,""]
[null,""]
[null,""]
[null,""]
[null,""]
[null,""]
[null,""]
[null,""]
[null,""]
[null,""]
[null,""]
[null,""]
[null,""]
[null,""]
[null,""]
[null,""]
[null,""]
[null,{"$f":"IF(C1891=0,\"\",C1891-C1890)","v":""}]
[null,""]
[null,""]
[null,""]
[null,""]
[null,""]
[null,""]
[null,""]
[null,""]
[null,""]
[null,""]
[null,""]
[null,""]
[null,""]
[null,""]
[null,""]
[null,""]
[null,""]
[null,""]
[null,""]
[null,""]
[null,""]
[null,""]
[null,""]
[null,""]
[null,""]
[null,""]
[null,""]
[null,""]
[null,""]
[null,""]
[null,""]
[null,""]
[null,""]
[null,""]
[null,""]
[null,""]
[null,""]
[null,""]
[null,""]
[null,""]
[null,""]
[null,""]
[null,""]
[null,""]
[null,""]
[null,""]
[null,""]
[null,""]
[null,""]
[null,""]
[null,""]
[null,""]
[null,""]
[null,""]
[null,""]
[null,""]
[null,""]
[null,""]
[null,""]
[null,""]
[null,""]
[null,""]
[null,""]
[null,{"$f":"IF(C1955=0,\"\",C1955-C1954)","v":""}]
[null,""]
[null,""]
[null,""]
[null,""]
[null,""]
[null,""]
[null,""]
[null,""]
[null,""]
[null,""]
[null,""]
[null,""]
[null,""]
[null,""]
[null,""]
[null,""]
[null,""]
[null,""]
[null,""]
[null,""]
[null,""]
[null,""]
[null,""]
[null,""]
[null,""]
[null,""]
[null,""]
[null,""]
[null,""]
[null,""]
[null,""]
[null,""]
[null,""]
[null,""]
[null,""]
[null,""]
[null,""]
[null,""]
[null,""]
[null,""]
[null,""]
[null,""]
[null,""]
[null,""]
[null,""]
[null,""]
[null,""]
[null,""]
[null,""]
[null,""]
[null,""]
[null,""]
[null,""]
[null,""]
[null,""]
[null,""]
[null,""]
[null,""]
[null,""]
[null,""]
[null,""]
[null,""]
[null,""]
[null,{"$f":"IF(C2019=0,\"\",C2019-C2018)","v":""}]
[null,""]
[null,""]
[null,""]
[null,""]
[null,""]
[null,""]
[null,""]
[null,""]
[null,""]
[null,""]
[null,""]
[null,""]
[null,""]
[null,""]
[null,""]
[null,""]
[null,""]
[null,""]
[null,""]
[null,""]
[null,""]
[null,""]
[null,""]
[null,""]
[null,""]
[null,""]
[null,""]
[null,""]
[null,""]
[null,""]
[null,""]
[null,""]
[null,""]
[null,""]
[null,""]
[null,""]
[null,""]
[null,""]
[null,""]
[null,""]
[null,""]
[null,""]
[null,""]
[null,""]
[null,""]
[null,""]
[null,""]
[null,""]
[null,""]
[null,""]
[null,""]
[null,""]
[null,""]
[null,""]
[null,""]
[null,""]
[null,""]
[null,""]
[null,""]
[null,""]
[null,""]
[null,""]
[null,""]
[null,{"$f":"IF(C2083=0,\"\",C2083-C2082)","v":""}]
[null,""]
[null,""]
[null,""]
[null,""]
[null,""]
[null,""]
[null,""]
[null,""]
[null,""]
[null,""]
[null,""]
[null,""]
[null,""]
[null,""]
[null,""]
[null,""]
[null,""]
[null,""]
[null,""]
[null,""]
[null,""]
[null,""]
[null,""]
[null,""]
[null,""]
[null,""]
[null,""]
[null,""]
[null,""]
[null,""]
[null,""]
[null,""]
[null,""]
[null,""]
[null,""]
[null,""]
[null,""]
[null,""]
[null,""]
[null,""]
[null,""]
[null,""]
[null,""]
[null,""]
[null,""]
[null,""]
[null,""]
[null,""]
[null,""]
[null,""]
[null,""]
[null,""]
[null,""]
[null,""]
[null,""]
[null,""]
[null,""]
[null,""]
[null,""]
[null,""]
[null,""]
[null,""]
[null,""]
[null,{"$f":"IF(C2147=0,\"\",C2147-C2146)","v":""}]
[null,""]
[null,""]
[null,""]
[null,""]
[null,""]
[null,""]
[null,""]
[null,""]
[null,""]
[null,""]
[null,""]
[null,""]
[null,""]
[null,""]
[null,""]
[null,""]
[null,""]
[null,""]
[null,""]
[null,""]
[null,""]
[null,""]
[null,""]
[null,""]
[null,""]
[null,""]
[null,""]
[null,""]
[null,""]
[null,""]
[null,""]
[null,""]
[null,""]
[null,""]
[null,""]
[null,""]
[null,""]
[null,""]
[null,""]
[null,""]
[null,""]
[null,""]
[null,""]
[null,""]
[null,""]
[null,""]
[null,""]
[null,""]
[null,""]
[null,""]
[null,""]
[null,""]
[null,""]
[null,""]
[null,""]
[null,""]
[null,""]
[null,""]
[null,""]
[null,""]
[null,""]
[null,""]
[null,""]
[null,{"$f":"IF(C2211=0,\"\",C2211-C2210)","v":""}]
[null,""]
[null,""]
[null,""]
[null,""]
[null,""]
[null,""]
[null,""]
[null,""]
[null,""]
[null,""]
[null,""]
[null,""]
[null,""]
[null,""]
[null,""]
[null,""]
[null,""]
[null,""]
[null,""]
[null,""]
[null,""]
[null,""]
[null,""]
[null,""]
[null,""]
[null,""]
[null,""]
[null,""]
[null,""]
[null,""]
[null,""]
[null,""]
[null,""]
[null,""]
[null,""]
[null,""]
[null,""]
[null,""]
[null,""]
[null,""]
[null,""]
[null,""]
[null,""]
[null,""]
[null,""]
[null,""]
[null,""]
[null,""]
[null,""]
[null,""]
[null,""]
[null,""]
[null,""]
[null,""]
[null,""]
[null,""]
[null,""]
[null,""]
[null,""]
[null,""]
[null,""]
[null,""]
[null,""]
[null,{"$f":"IF(C2275=0,\"\",C2275-C2274)","v":""}]
[null,""]
[null,""]
[null,""]
[null,""]
[null,""]
[null,""]
[null,""]
[null,""]
[null,""]
[null,""]
[null,""]
[null,""]
[null,""]
[null,""]
[null,""]
[null,""]
[null,""]
[null,""]
[null,""]
[null,""]
[null,""]
[null,""]
[null,""]
[null,""]
[null,""]
[null,""]
[null,""]
[null,""]
[null,""]
[null,""]
[null,""]
[null,""]
[null,""]
[null,""]
[null,""]
[null,""]
[null,""]
[null,""]
[null,""]
[null,""]
[null,""]
[null,""]
[null,""]
[null,""]
[null,""]
[null,""]
[null,""]
[null,""]
[null,""]
[null,""]
[null,""]
[null,""]
[null,""]
[null,""]
[null,""]
[null,""]
[null,""]
[null,""]
[null,""]
[null,""]
[null,""]
[null,""]
[null,""]
[null,{"$f":"IF(C2339=0,\"\",C2339-C2338)","v":""}]
[null,""]
[null,""]
[null,""]
[null,""]
[null,""]
[null,""]
[null,""]
[null,""]
[null,""]
[null,""]
[null,""]
[null,""]
[null,""]
[null,""]
[null,""]
[null,""]
[null,""]
[null,""]
[null,""]
[null,""]
[null,""]
[null,""]
[null,""]
[null,""]
[null,""]
[null,""]
[null,""]
[null,""]
[null,""]
[null,""]
[null,""]
[null,""]
[null,""]
[null,""]
[null,""]
[null,""]
[null,""]
[null,""]
[null,""]
[null,""]
[null,""]
[null,""]
[null,""]
[null,""]
[null,""]
[null,""]
[null,""]
[null,""]
[null,""]
[null,""]
[null,""]
[null,""]
[null,""]
[null,""]
[null,""]
[null,""]
[null,""]
[null,""]
[null,""]
[null,""]
[null,""]
[null,""]
[null,""]
[null,{"$f":"IF(C2403=0,\"\",C2403-C2402)","v":""}]
[null,""]
[null,""]
[null,""]
[null,""]
[null,""]
[null,""]
[null,""]
[null,""]
[null,""]
[null,""]
[null,""]
[null,""]
[null,""]
[null,""]
[null,""]
[null,""]
[null,""]
[null,""]
[null,""]
[null,""]
[null,""]
[null,""]
[null,""]
[null,""]
[null,""]
[null,""]
[null,""]
[null,""]
[null,""]
[null,""]
[null,""]
[null,""]
[null,""]
[null,""]
[null,""]
[null,""]
[null,""]
[null,""]
[null,""]
[null,""]
[null,""]
[null,""]
[null,""]
[null,""]
[null,""]
[null,""]
[null,""]
[null,""]
[null,""]
[null,""]
[null,""]
[null,""]
[null,""]
[null,""]
[null,""]
[null,""]
[null,""]
[null,""]
[null,""]
[null,""]
[null,""]
[null,""]
[null,""]
[null,{"$f":"IF(C2467=0,\"\",C2467-C2466)","v":""}]
[null,""]
[null,""]
[null,""]
[null,""]
[null,""]
[null,""]
[null,""]
[null,""]
[null,""]
[null,""]
[null,""]
[null,""]
[null,""]
[null,""]
[null,""]
[null,""]
[null,""]
[null,""]
[null,""]
[null,""]
[null,""]
[null,""]
[null,""]
[null,""]
[null,""]
[null,""]
[null,""]
[null,""]
[null,""]
[null,""]
[null,""]
[null,""]
[null,""]
[null,""]
[null,""]
[null,""]
[null,""]
[null,""]
[null,""]
[null,""]
[null,""]
[null,""]
[null,""]
[null,""]
[null,""]
[null,""]
[null,""]
[null,""]
[null,""]
[null,""]
[null,""]
[null,""]
[null,""]
[null,""]
[null,""]
[null,""]
[null,""]
[null,""]
[null,""]
[null,""]
[null,""]
[null,""]
[null,""]
[null,{"$f":"IF(C2531=0,\"\",C2531-C2530)","v":""}]
[null,""]
[null,""]
[null,""]
[null,""]
[null,""]
[null,""]
[null,""]
[null,""]
[null,""]
[null,""]
[null,""]
[null,""]
[null,""]
[null,""]
[null,""]
[null,""]
[null,""]
[null,""]
[null,""]
[null,""]
[null,""]
[null,""]
[null,""]
[null,""]
[null,""]
[null,""]
[null,""]
[null,""]
[null,""]
[null,""]
[null,""]
[null,""]
[null,""]
[null,""]
[null,""]
[null,""]
[null,""]
[null,""]
[null,""]
[null,""]
[null,""]
[null,""]
[null,""]
[null,""]
[null,""]
[null,""]
[null,""]
[null,""]
[null,""]
[null,""]
[null,""]
[null,""]
[null,""]
[null,""]
[null,""]
[null,""]
[null,""]
[null,""]
[null,""]
[null,""]
[null,""]
[null,""]
[null,""]
[null,{"$f":"IF(C2595=0,\"\",C2595-C2594)","v":""}]
[null,""]
[null,""]
[null,""]
[null,""]
[null,""]
[null,""]
[null,""]
[null,""]
[null,""]
[null,""]
[null,""]
[null,""]
[null,""]
[null,""]
[null,""]
[null,""]
[null,""]
[null,""]
[null,""]
[null,""]
[null,""]
[null,""]
[null,""]
[null,""]
[null,""]
[null,""]
[null,""]
[null,""]
[null,""]
[null,""]
[null,""]
[null,""]
[null,""]
[null,""]
[null,""]
[null,""]
[null,""]
[null,""]
[null,""]
[null,""]
[null,""]
[null,""]
[null,""]
[null,""]
[null,""]
[null,""]
[null,""]
[null,""]
[null,""]
[null,""]
[null,""]
[null,""]
[null,""]
[null,""]
[null,""]
[null,""]
[null,""]
[null,""]
[null,""]
[null,""]
[null,""]
[null,""]
[null,""]
[null,{"$f":"IF(C2659=0,\"\",C2659-C2658)","v":""}]
[null,""]
[null,""]
[null,""]
[null,""]
[null,""]
[null,""]
[null,""]
[null,""]
[null,""]
[null,""]
[null,""]
[null,""]
[null,""]
[null,""]
[null,""]
[null,""]
[null,""]
[null,""]
[null,""]
[null,""]
[null,""]
[null,""]
[null,""]
[null,""]
[null,""]
[null,""]
[null,""]
[null,""]
[null,""]
[null,""]
[null,""]
[null,""]
[null,""]
[null,""]
[null,""]
[null,""]
[null,""]
[null,""]
[null,""]
[null,""]
[null,""]
[null,""]
[null,""]
[null,""]
[null,""]
[null,""]
[null,""]
[null,""]
[null,""]
[null,""]
[null,""]
[null,""]
[null,""]
[null,""]
[null,""]
[null,""]
[null,""]
[null,""]
[null,""]
[null,""]
[null,""]
[null,""]
[null,""]
[null,{"$f":"IF(C2723=0,\"\",C2723-C2722)","v":""}]
[null,""]
[null,""]
[null,""]
[null,""]
[null,""]
[null,""]
[null,""]
[null,""]
[null,""]
[null,""]
[null,""]
[null,""]
[null,""]
[null,""]
[null,""]
[null,""]
[null,""]
[null,""]
[null,""]
[null,""]
[null,""]
[null,""]
[null,""]
[null,""]
[null,""]
[null,""]
[null,""]
[null,""]
[null,""]
[null,""]
[null,""]
[null,""]
[null,""]
[null,""]
[null,""]
[null,""]
[null,""]
[null,""]
[null,""]
[null,""]
[null,""]
[null,""]
[null,""]
[null,""]
[null,""]
[null,""]
[null,""]
[null,""]
[null,""]
[null,""]
[null,""]
[null,""]
[null,""]
[null,""]
[null,""]
[null,""]
[null,""]
[null,""]
[null,""]
[null,""]
[null,""]
[null,""]
[null,""]
[null,{"$f":"IF(C2787=0,\"\",C2787-C2786)","v":""}]
[null,""]
[null,""]
[null,""]
[null,""]
[null,""]
[null,""]
[null,""]
[null,""]
[null,""]
[null,""]
[null,""]
[null,""]
[null,""]
[null,""]
[null,""]
[null,""]
[null,""]
[null,""]
[null,""]
[null,""]
[null,""]
[null,""]
[null,""]
[null,""]
[null,""]
[null,""]
[null,""]
[null,""]
[null,""]
[null,""]
[null,""]
[null,""]
[null,""]
[null,""]
[null,""]
[null,""]
[null,""]
[null,""]
[null,""]
[null,""]
[null,""]
[null,""]
[null,""]
[null,""]
[null,""]
[null,""]
[null,""]
[null,""]
[null,""]
[null,""]
[null,""]
[null,""]
[null,""]
[null,""]
[null,""]
[null,""]
[null,""]
[null,""]
[null,""]
[null,""]
[null,""]
[null,""]
[null,""]
[null,{"$f":"IF(C2851=0,\"\",C2851-C2850)","v":""}]
[null,""]
[null,""]
[null,""]
[null,""]
[null,""]
[null,""]
[null,""]
[null,""]
[null,""]
[null,""]
[null,""]
[null,""]
[null,""]
[null,""]
[null,""]
[null,""]
[null,""]
[null,""]
[null,""]
[null,""]
[null,""]
[null,""]
[null,""]
[null,""]
[null,""]
[null,""]
[null,""]
[null,""]
[null,""]
[null,""]
[null,""]
[null,""]
[null,""]
[null,""]
[null,""]
[null,""]
[null,""]
[null,""]
[null,""]
[null,""]
[null,""]
[null,""]
[null,""]
[null,""]
[null,""]
[null,""]
[null,""]
[null,""]
[null,""]
[null,""]
[null,""]
[null,""]
[null,""]
[null,""]
[null,""]
[null,""]
[null,""]
[null,""]
[null,""]
[null,""]
[null,""]
[null,""]
[null,""]
[null,{"$f":"IF(C2915=0,\"\",C2915-C2914)","v":""}]
[null,""]
[null,""]
[null,""]
[null,""]
[null,""]
[null,""]
[null,""]
[null,""]
[null,""]
[null,""]
[null,""]
[null,""]
[null,""]
[null,""]
[null,""]
[null,""]
[null,""]
[null,""]
[null,""]
[null,""]
[null,""]
[null,""]
[null,""]
[null,""]
[null,""]
[null,""]
[null,""]
[null,""]
[null,""]
[null,""]
[null,""]
[null,""]
[null,""]
[null,""]
[null,""]
[null,""]
[null,""]
[null,""]
[null,""]
[null,""]
[null,""]
[null,""]
[null,""]
[null,""]
[null,""]
[null,""]
[null,""]
[null,""]
[null,""]
[null,""]
[null,""]
[null,""]
[null,""]
[null,""]
[null,""]
[null,""]
[null,""]
[null,""]
[null,""]
[null,""]
[null,""]
[null,""]
[null,""]
[null,{"$f":"IF(C2979=0,\"\",C2979-C2978)","v":""}]
[null,""]
[null,""]
[null,""]
[null,""]
[null,""]
[null,""]
[null,""]
[null,""]
[null,""]
[null,""]
[null,""]
[null,""]
[null,""]
[null,""]
[null,""]
[null,""]
[null,""]
[null,""]
[null,""]
[null,""]
[null,""]
[null,""]
[null,""]
[null,""]
[null,""]
[null,""]
[null,""]
[null,""]
[null,""]
[null,""]
[null,""]
[null,""]
[null,""]
[null,""]
[null,""]
[null,""]
[null,""]
[null,""]
[null,""]
[null,""]
[null,""]
[null,""]
[null,""]
[null,""]
[null,""]
[null,""]
[null,""]
[null,""]
[null,""]
[null,""]
[null,""]
[null,""]
[null,""]
[null,""]
[null,""]
[null,""]
[null,""]
[null,""]
[null,""]
[null,""]
[null,""]
[null,""]
[null,""]
[null,{"$f":"IF(C3043=0,\"\",C3043-C3042)","v":""}]
[null,""]
[null,""]
[null,""]
[null,""]
[null,""]
[null,""]
[null,""]
[null,""]
[null,""]
[null,""]
[null,""]
[null,""]
[null,""]
[null,""]
[null,""]
[null,""]
[null,""]
[null,""]
[null,""]
[null,""]
[null,""]
[null,""]
[null,""]
[null,""]
[null,""]
[null,""]
[null,""]
[null,""]
[null,""]
[null,""]
[null,""]
[null,""]
[null,""]
[null,""]
[null,""]
[null,""]
[null,""]
[null,""]
[null,""]
[null,""]
[null,""]
[null,""]
[null,""]
[null,""]
[null,""]
[null,""]
[null,""]
[null,""]
[null,""]
[null,""]
[null,""]
[null,""]
[null,""]
[null,""]
[null,""]
[null,""]
[null,""]
[null,""]
[null,""]
[null,""]
[null,""]
[null,""]
[null,""]
[null,{"$f":"IF(C3107=0,\"\",C3107-C3106)","v":""}]
[null,""]
[null,""]
[null,""]
[null,""]
[null,""]
[null,""]
[null,""]
[null,""]
[null,""]
[null,""]
[null,""]
[null,""]
[null,""]
[null,""]
[null,""]
[null,""]
[null,""]
[null,""]
[null,""]
[null,""]
[null,""]
[null,""]
[null,""]
[null,""]
[null,""]
[null,""]
[null,""]
[null,""]
[null,""]
[null,""]
[null,""]
[null,""]
[null,""]
[null,""]
[null,""]
[null,""]
[null,""]
[null,""]
[null,""]
[null,""]
[null,""]
[null,""]
[null,""]
[null,""]
[null,""]
[null,""]
[null,""]
[null,""]
[null,""]
[null,""]
[null,""]
[null,""]
[null,""]
[null,""]
[null,""]
[null,""]
[null,""]
[null,""]
[null,""]
[null,""]
[null,""]
[null,""]
[null,""]
[null,{"$f":"IF(C3171=0,\"\",C3171-C3170)","v":""}]
[null,""]
[null,""]
[null,""]
[null,""]
[null,""]
[null,""]
[null,""]
[null,""]
[null,""]
[null,""]
[null,""]
[null,""]
[null,""]
[null,""]
[null,""]
[null,""]
[null,""]
[null,""]
[null,""]
[null,""]
[null,""]
[null,""]
[null,""]
[null,""]
[null,""]
[null,""]
[null,""]
[null,""]
[null,""]
[null,""]
[null,""]
[null,""]
[null,""]
[null,""]
[null,""]
[null,""]
[null,""]
[null,""]
[null,""]
[null,""]
[null,""]
[null,""]
[null,""]
[null,""]
[null,""]
[null,""]
[null,""]
[null,""]
[null,""]
[null,""]
[null,""]
[null,""]
[null,""]
[null,""]
[null,""]
[null,""]
[null,""]
[null,""]
[null,""]
[null,""]
[null,""]
[null,""]
[null,""]
[null,{"$f":"IF(C3235=0,\"\",C3235-C3234)","v":""}]
[null,""]
[null,""]
[null,""]
[null,""]
[null,""]
[null,""]
[null,""]
[null,""]
[null,""]
[null,""]
[null,""]
[null,""]
[null,""]
[null,""]
[null,""]
[null,""]
[null,""]
[null,""]
[null,""]
[null,""]
[null,""]
[null,""]
[null,""]
[null,""]
[null,""]
[null,""]
[null,""]
[null,""]
[null,""]
[null,""]
[null,""]
[null,""]
[null,""]
[null,""]
[null,""]
[null,""]
[null,""]
[null,""]
[null,""]
[null,""]
[null,""]
[null,""]
[null,""]
[null,""]
[null,""]
[null,""]
[null,""]
[null,""]
[null,""]
[null,""]
[null,""]
[null,""]
[null,""]
[null,""]
[null,""]
[null,""]
[null,""]
[null,""]
[null,""]
[null,""]
[null,""]
[null,""]
[null,""]
[null,{"$f":"IF(C3299=0,\"\",C3299-C3298)","v":""}]
[null,""]
[null,""]
[null,""]
[null,""]
[null,""]
[null,""]
[null,""]
[null,""]
[null,""]
[null,""]
[null,""]
[null,""]
[null,""]
[null,""]
[null,""]
[null,""]
[null,""]
[null,""]
[null,""]
[null,""]
[null,""]
[null,""]
[null,""]
[null,""]
[null,""]
[null,""]
[null,""]
[null,""]
[null,""]
[null,""]
[null,""]
[null,""]
[null,""]
[null,""]
[null,""]
[null,""]
[null,""]
[null,""]
[null,""]
[null,""]
[null,""]
[null,""]
[null,""]
[null,""]
[null,""]
[null,""]
[null,""]
[null,""]
[null,""]
[null,""]
[null,""]
[null,""]
[null,""]
[null,""]
[null,""]
[null,""]
[null,""]
[null,""]
[null,""]
[null,""]
[null,""]
[null,""]
[null,""]
[null,{"$f":"IF(C3363=0,\"\",C3363-C3362)","v":""}]
[null,""]
[null,""]
[null,""]
[null,""]
[null,""]
[null,""]
[null,""]
[null,""]
[null,""]
[null,""]
[null,""]
[null,""]
[null,""]
[null,""]
[null,""]
[null,""]
[null,""]
[null,""]
[null,""]
[null,""]
[null,""]
[null,""]
[null,""]
[null,""]
[null,""]
[null,""]
[null,""]
[null,""]
[null,""]
[null,""]
[null,""]
[null,""]
[null,""]
[null,""]
[null,""]
[null,""]
[null,""]
[null,""]
[null,""]
[null,""]
[null,""]
[null,""]
[null,""]
[null,""]
[null,""]
[null,""]
[null,""]
[null,""]
[null,""]
[null,""]
[null,""]
[null,""]
[null,""]
[null,""]
[null,""]
[null,""]
[null,""]
[null,""]
[null,""]
[null,""]
[null,""]
[null,""]
[null,""]
[null,{"$f":"IF(C3427=0,\"\",C3427-C3426)","v":""}]
[null,""]
[null,""]
[null,""]
[null,""]
[null,""]
[null,""]
[null,""]
[null,""]
[null,""]
[null,""]
[null,""]
[null,""]
[null,""]
[null,""]
[null,""]
[null,""]
[null,""]
[null,""]
[null,""]
[null,""]
[null,""]
[null,""]
[null,""]
[null,""]
[null,""]
[null,""]
[null,""]
[null,""]
[null,""]
[null,""]
[null,""]
[null,""]
[null,""]
[null,""]
[null,""]
[null,""]
[null,""]
[null,""]
[null,""]
[null,""]
[null,""]
[null,""]
[null,""]
[null,""]
[null,""]
[null,""]
[null,""]
[null,""]
[null,""]
[null,""]
[null,""]
[null,""]
[null,""]
[null,""]
[null,""]
[null,""]
[null,""]
[null,""]
[null,""]
[null,""]
[null,""]
[null,""]
[null,""]
[null,{"$f":"IF(C3491=0,\"\",C3491-C3490)","v":""}]
[null,""]
[null,""]
[null,""]
[null,""]
[null,""]
[null,""]
[null,""]
[null,""]
[null,""]
[null,""]
[null,""]
[null,""]
[null,""]
[null,""]
[null,""]
[null,""]
[null,""]
[null,""]
[null,""]
[null,""]
[null,""]
[null,""]
[null,""]
[null,""]
[null,""]
[null,""]
[null,""]
[null,""]
[null,""]
[null,""]
[null,""]
[null,""]
[null,""]
[null,""]
[null,""]
[null,""]
[null,""]
[null,""]
[null,""]
[null,""]
[null,""]
[null,""]
[null,""]
[null,""]
[null,""]
[null,""]
[null,""]
[null,""]
[null,""]
[null,""]
[null,""]
[null,""]
[null,""]
[null,""]
[null,""]
[null,""]
[null,""]
[null,""]
[null,""]
[null,""]
[null,""]
[null,""]
[null,""]
[null,{"$f":"IF(C3555=0,\"\",C3555-C3554)","v":""}]
[null,""]
[null,""]
[null,""]
[null,""]
[null,""]
[null,""]
[null,""]
[null,""]
[null,""]
[null,""]
[null,""]
[null,""]
[null,""]
[null,""]
[null,""]
[null,""]
[null,""]
[null,""]
[null,""]
[null,""]
[null,""]
[null,""]
[null,""]
[null,""]
[null,""]
[null,""]
[null,""]
[null,""]
[null,""]
[null,""]
[null,""]
[null,""]
[null,""]
[null,""]
[null,""]
[null,""]
[null,""]
[null,""]
[null,""]
[null,""]
[null,""]
[null,""]
[null,""]
[null,""]
[null,""]
[null,""]
[null,""]
[null,""]
[null,""]
[null,""]
[null,""]
[null,""]
[null,""]
[null,""]
[null,""]
[null,""]
[null,""]
[null,""]
[null,""]
[null,""]
[null,""]
[null,""]
[null,""]
[null,{"$f":"IF(C3619=0,\"\",C3619-C3618)","v":""}]
[null,""]
[null,""]
[null,""]
[null,""]
[null,""]
[null,""]
[null,""]
[null,""]
[null,""]
[null,""]
[null,""]
[null,""]
[null,""]
[null,""]
[null,""]
[null,""]
[null,""]
[null,""]
[null,""]
[null,""]
[null,""]
[null,""]
[null,""]
[null,""]
[null,""]
[null,""]
[null,""]
[null,""]
[null,""]
[null,""]
[null,""]
[null,""]
[null,""]
[null,""]
[null,""]
[null,""]
[null,""]
[null,""]
[null,""]
[null,""]
[null,""]
[null,""]
[null,""]
[null,""]
[null,""]
[null,""]
[null,""]
[null,""]
[null,""]
[null,""]
[null,""]
[null,""]
[null,""]
[null,""]
[null,""]
[null,""]
[null,""]
[null,""]
[null,""]
[null,""]
[null,""]
[null,""]
[null,""]
[null,{"$f":"IF(C3683=0,\"\",C3683-C3682)","v":""}]
[null,""]
[null,""]
[null,""]
[null,""]
[null,""]
[null,""]
[null,""]
[null,""]
[null,""]
[null,""]
[null,""]
[null,""]
[null,""]
[null,""]
[null,""]
[null,""]
[null,""]
[null,""]
[null,""]
[null,""]
[null,""]
[null,""]
[null,""]
[null,""]
[null,""]
[null,""]
[null,""]
[null,""]
[null,""]
[null,""]
[null,""]
[null,""]
[null,""]
[null,""]
[null,""]
[null,""]
[null,""]
[null,""]
[null,""]
[null,""]
[null,""]
[null,""]
[null,""]
[null,""]
[null,""]
[null,""]
[null,""]
[null,""]
[null,""]
[null,""]
[null,""]
[null,""]
[null,""]
[null,""]
[null,""]
[null,""]
[null,""]
[null,""]
[null,""]
[null,""]
[null,""]
[null,""]
[null,""]
[null,{"$f":"IF(C3747=0,\"\",C3747-C3746)","v":""}]
[null,""]
[null,""]
[null,""]
[null,""]
[null,""]
[null,""]
[null,""]
[null,""]
[null,""]
[null,""]
[null,""]
[null,""]
[null,""]
[null,""]
[null,""]
[null,""]
[null,""]
[null,""]
[null,""]
[null,""]
[null,""]
[null,""]
[null,""]
[null,""]
[null,""]
[null,""]
[null,""]
[null,""]
[null,""]
[null,""]
[null,""]
[null,""]
[null,""]
[null,""]
[null,""]
[null,""]
[null,""]
[null,""]
[null,""]
[null,""]
[null,""]
[null,""]
[null,""]
[null,""]
[null,""]
[null,""]
[null,""]
[null,""]
[null,""]
[null,""]
[null,""]
[null,""]
[null,""]
[null,""]
[null,""]
[null,""]
[null,""]
[null,""]
[null,""]
[null,""]
[null,""]
[null,""]
[null,""]
[null,{"$f":"IF(C3811=0,\"\",C3811-C3810)","v":""}]
[null,""]
[null,""]
[null,""]
[null,""]
[null,""]
[null,""]
[null,""]
[null,""]
[null,""]
[null,""]
[null,""]
[null,""]
[null,""]
[null,""]
[null,""]
[null,""]
[null,""]
[null,""]
[null,""]
[null,""]
[null,""]
[null,""]
[null,""]
[null,""]
[null,""]
[null,""]
[null,""]
[null,""]
[null,""]
[null,""]
[null,""]
[null,""]
[null,""]
[null,""]
[null,""]
[null,""]
[null,""]
[null,""]
[null,""]
[null,""]
[null,""]
[null,""]
[null,""]
[null,""]
[null,""]
[null,""]
[null,""]
[null,""]
[null,""]
[null,""]
[null,""]
[null,""]
[null,""]
[null,""]
[null,""]
[null,""]
[null,""]
[null,""]
[null,""]
[null,""]
[null,""]
[null,""]
[null,""]
[null,{"$f":"IF(C3875=0,\"\",C3875-C3874)","v":""}]
[null,""]
[null,""]
[null,""]
[null,""]
[null,""]
[null,""]
[null,""]
[null,""]
[null,""]
[null,""]
[null,""]
[null,""]
[null,""]
[null,""]
[null,""]
[null,""]
[null,""]
[null,""]
[null,""]
[null,""]
[null,""]
[null,""]
[null,""]
[null,""]
[null,""]
[null,""]
[null,""]
[null,""]
[null,""]
[null,""]
[null,""]
[null,""]
[null,""]
[null,""]
[null,""]
[null,""]
[null,""]
[null,""]
[null,""]
[null,""]
[null,""]
[null,""]
[null,""]
[null,""]
[null,""]
[null,""]
[null,""]
[null,""]
[null,""]
[null,""]
[null,""]
[null,""]
[null,""]
[null,""]
[null,""]
[null,""]
[null,""]
[null,""]
[null,""]
[null,""]
[null,""]
[null,""]
[null,""]
[null,{"$f":"IF(C3939=0,\"\",C3939-C3938)","v":""}]
[null,""]
[null,""]
[null,""]
[null,""]
[null,""]
[null,""]
[null,""]
[null,""]
[null,""]
[null,""]
[null,""]
[null,""]
[null,""]
[null,""]
[null,""]
[null,""]
[null,""]
[null,""]
[null,""]
[null,""]
[null,""]
[null,""]
[null,""]
[null,""]
[null,""]
[null,""]
[null,""]
[null,""]
[null,""]
[null,""]
[null,""]
[null,""]
[null,""]
[null,""]
[null,""]
[null,""]
[null,""]
[null,""]
[null,""]
[null,""]
[null,""]
[null,""]
[null,""]
[null,""]
[null,""]
[null,""]
[null,""]
[null,""]
[null,""]
[null,""]
[null,""]
[null,""]
[null,""]
[null,""]
[null,""]
[null,""]
[null,""]
[null,""]
[null,""]
[null,""]
[null,""]
[null,""]
[null,""]
[null,{"$f":"IF(C4003=0,\"\",C4003-C4002)","v":""}]
[null,""]
[null,""]
[null,""]
[null,""]
[null,""]
[null,""]
[null,""]
[null,""]
[null,""]
[null,""]
[null,""]
[null,""]
[null,""]
[null,""]
[null,""]
[null,""]
[null,""]
[null,""]
[null,""]
[null,""]
[null,""]
[null,""]
[null,""]
[null,""]
[null,""]
[null,""]
[null,""]
[null,""]
[null,""]
[null,""]
[null,""]
[null,""]
[null,""]
[null,""]
[null,""]
[null,""]
[null,""]
[null,""]
[null,""]
[null,""]
[null,""]
[null,""]
[null,""]
[null,""]
[null,""]
[null,""]
[null,""]
[null,""]
[null,""]
[null,""]
[null,""]
[null,""]
[null,""]
[null,""]
[null,""]
[null,""]
[null,""]
[null,""]
[null,""]
[null,""]
[null,""]
[null,""]
[null,""]
[null,{"$f":"IF(C4067=0,\"\",C4067-C4066)","v":""}]
[null,""]
[null,""]
[null,""]
[null,""]
[null,""]
[null,""]
[null,""]
[null,""]
[null,""]
[null,""]
[null,""]
[null,""]
[null,""]
[null,""]
[null,""]
[null,""]
[null,""]
[null,""]
[null,""]
[null,""]
[null,""]
[null,""]
[null,""]
[null,""]
[null,""]
[null,""]
[null,""]
[null,""]
[null,""]
[null,""]
[null,""]
[null,""]
[null,""]
[null,""]
[null,""]
[null,""]
[null,""]
[null,""]
[null,""]
[null,""]
[null,""]
[null,""]
[null,""]
[null,""]
[null,""]
[null,""]
[null,""]
[null,""]
[null,""]
[null,""]
[null,""]
[null,""]
[null,""]
[null,""]
[null,""]
[null,""]
[null,""]
[null,""]
[null,""]
[null,""]
[null,""]
[null,""]
[null,""]
[null,{"$f":"IF(C4131=0,\"\",C4131-C4130)","v":""}]
[null,""]
[null,""]
[null,""]
[null,""]
[null,""]
[null,""]
[null,""]
[null,""]
[null,""]
[null,""]
[null,""]
[null,""]
[null,""]
[null,""]
[null,""]
[null,""]
[null,""]
[null,""]
[null,""]
[null,""]
[null,""]
[null,""]
[null,""]
[null,""]
[null,""]
[null,""]
[null,""]
[null,""]
[null,""]
[null,""]
[null,""]
[null,""]
[null,""]
[null,""]
[null,""]
[null,""]
[null,""]
[null,""]
[null,""]
[null,""]
[null,""]
[null,""]
[null,""]
[null,""]
[null,""]
[null,""]
[null,""]
[null,""]
[null,""]
[null,""]
[null,""]
[null,""]
[null,""]
[null,""]
[null,""]
[null,""]
[null,""]
[null,""]
[null,""]
[null,""]
[null,""]
[null,""]
[null,""]
[null,{"$f":"IF(C4195=0,\"\",C4195-C4194)","v":""}]
[null,""]
[null,""]
[null,""]
[null,""]
[null,""]
[null,""]
[null,""]
[null,""]
[null,""]
[null,""]
[null,""]
[null,""]
[null,""]
[null,""]
[null,""]
[null,""]
[null,""]
[null,""]
[null,""]
[null,""]
[null,""]
[null,""]
[null,""]
[null,""]
[null,""]
[null,""]
[null,""]
[null,""]
[null,""]
[null,""]
[null,""]
[null,""]
[null,""]
[null,""]
[null,""]
[null,""]
[null,""]
[null,""]
[null,""]
[null,""]
[null,""]
[null,""]
[null,""]
[null,""]
[null,""]
[null,""]
[null,""]
[null,""]
[null,""]
[null,""]
[null,""]
[null,""]
[null,""]
[null,""]
[null,""]
[null,""]
[null,""]
[null,""]
[null,""]
[null,""]
[null,""]
[null,""]
[null,""]
[null,{"$f":"IF(C4259=0,\"\",C4259-C4258)","v":""}]
[null,""]
[null,""]
[null,""]
[null,""]
[null,""]
[null,""]
[null,""]
[null,""]
[null,""]
[null,""]
[null,""]
[null,""]
[null,""]
[null,""]
[null,""]
[null,""]
[null,""]
[null,""]
[null,""]
[null,""]
[null,""]
[null,""]
[null,""]
[null,""]
[null,""]
[null,""]
[null,""]
[null,""]
[null,""]
[null,""]
[null,""]
[null,""]
[null,""]
[null,""]
[null,""]
[null,""]
[null,""]
[null,""]
[null,""]
[null,""]
[null,""]
[null,""]
[null,""]
[null,""]
[null,""]
[null,""]
[null,""]
[null,""]
[null,""]
[null,""]
[null,""]
[null,""]
[null,""]
[null,""]
[null,""]
[null,""]
[null,""]
[null,""]
[null,""]
[null,""]
[null,""]
[null,""]
[null,""]
[null,{"$f":"IF(C4323=0,\"\",C4323-C4322)","v":""}]
[null,""]
[null,""]
[null,""]
[null,""]
[null,""]
[null,""]
[null,""]
[null,""]
[null,""]
[null,""]
[null,""]
[null,""]
[null,""]
[null,""]
[null,""]
[null,""]
[null,""]
[null,""]
[null,""]
[null,""]
[null,""]
[null,""]
[null,""]
[null,""]
[null,""]
[null,""]
[null,""]
[null,""]
[null,""]
[null,""]
[null,""]
[null,""]
[null,""]
[null,""]
[null,""]
[null,""]
[null,""]
[null,""]
[null,""]
[null,""]
[null,""]
[null,""]
[null,""]
[null,""]
[null,""]
[null,""]
[null,""]
[null,""]
[null,""]
[null,""]
[null,""]
[null,""]
[null,""]
[null,""]
[null,""]
[null,""]
[null,""]
[null,""]
[null,""]
[null,""]
[null,""]
[null,""]
[null,""]
[null,{"$f":"IF(C4387=0,\"\",C4387-C4386)","v":""}]
[null,""]
[null,""]
[null,""]
[null,""]
[null,""]
[null,""]
[null,""]
[null,""]
[null,""]
[null,""]
[null,""]
[null,""]
[null,""]
[null,""]
[null,""]
[null,""]
[null,""]
[null,""]
[null,""]
[null,""]
[null,""]
[null,""]
[null,""]
[null,""]
[null,""]
[null,""]
[null,""]
[null,""]
[null,""]
[null,""]
[null,""]
[null,""]
[null,""]
[null,""]
[null,""]
[null,""]
[null,""]
[null,""]
[null,""]
[null,""]
[null,""]
[null,""]
[null,""]
[null,""]
[null,""]
[null,""]
[null,""]
[null,""]
[null,""]
[null,""]
[null,""]
[null,""]
[null,""]
[null,""]
[null,""]
[null,""]
[null,""]
[null,""]
[null,""]
[null,""]
[null,""]
[null,""]
[null,""]
[null,{"$f":"IF(C4451=0,\"\",C4451-C4450)","v":""}]
[null,""]
[null,""]
[null,""]
[null,""]
[null,""]
[null,""]
[null,""]
[null,""]
[null,""]
[null,""]
[null,""]
[null,""]
[null,""]
[null,""]
[null,""]
[null,""]
[null,""]
[null,""]
[null,""]
[null,""]
[null,""]
[null,""]
[null,""]
[null,""]
[null,""]
[null,""]
[null,""]
[null,""]
[null,""]
[null,""]
[null,""]
[null,""]
[null,""]
[null,""]
[null,""]
[null,""]
[null,""]
[null,""]
[null,""]
[null,""]
[null,""]
[null,""]
[null,""]
[null,""]
[null,""]
[null,""]
[null,""]
[null,""]
[null,""]
[null,""]
[null,""]
[null,""]
[null,""]
[null,""]
[null,""]
[null,""]
[null,""]
[null,""]
[null,""]
[null,""]
[null,""]
[null,""]
[null,""]
[null,{"$f":"IF(C4515=0,\"\",C4515-C4514)","v":""}]
[null,""]
[null,""]
[null,""]
[null,""]
[null,""]
[null,""]
[null,""]
[null,""]
[null,""]
[null,""]
[null,""]
[null,""]
[null,""]
[null,""]
[null,""]
[null,""]
[null,""]
[null,""]
[null,""]
[null,""]
[null,""]
[null,""]
[null,""]
[null,""]
[null,""]
[null,""]
[null,""]
[null,""]
[null,""]
[null,""]
[null,""]
[null,""]
[null,""]
[null,""]
[null,""]
[null,""]
[null,""]
[null,""]
[null,""]
[null,""]
[null,""]
[null,""]
[null,""]
[null,""]
[null,""]
[null,""]
[null,""]
[null,""]
[null,""]
[null,""]
[null,""]
[null,""]
[null,""]
[null,""]
[null,""]
[null,""]
[null,""]
[null,""]
[null,""]
[null,""]
[null,""]
[null,""]
[null,""]
[null,{"$f":"IF(C4579=0,\"\",C4579-C4578)","v":""}]
[null,""]
[null,""]
[null,""]
[null,""]
[null,""]
[null,""]
[null,""]
[null,""]
[null,""]
[null,""]
[null,""]
[null,""]
[null,""]
[null,""]
[null,""]
[null,""]
[null,""]
[null,""]
[null,""]
[null,""]
[null,""]
[null,""]
[null,""]
[null,""]
[null,""]
[null,""]
[null,""]
[null,""]
[null,""]
[null,""]
[null,""]
[null,""]
[null,""]
[null,""]
[null,""]
[null,""]
[null,""]
[null,""]
[null,""]
[null,""]
[null,""]
[null,""]
[null,""]
[null,""]
[null,""]
[null,""]
[null,""]
[null,""]
[null,""]
[null,""]
[null,""]
[null,""]
[null,""]
[null,""]
[null,""]
[null,""]
[null,""]
[null,""]
[null,""]
[null,""]
[null,""]
[null,""]
[null,""]
[null,{"$f":"IF(C4643=0,\"\",C4643-C4642)","v":""}]
[null,""]
[null,""]
[null,""]
[null,""]
[null,""]
[null,""]
[null,""]
[null,""]
[null,""]
[null,""]
[null,""]
[null,""]
[null,""]
[null,""]
[null,""]
[null,""]
[null,""]
[null,""]
[null,""]
[null,""]
[null,""]
[null,""]
[null,""]
[null,""]
[null,""]
[null,""]
[null,""]
[null,""]
[null,""]
[null,""]
[null,""]
[null,""]
[null,""]
[null,""]
[null,""]
[null,""]
[null,""]
[null,""]
[null,""]
[null,""]
[null,""]
[null,""]
[null,""]
[null,""]
[null,""]
[null,""]
[null,""]
[null,""]
[null,""]
[null,""]
[null,""]
[null,""]
[null,""]
[null,""]
[null,""]
[null,""]
[null,""]
[null,""]
[null,""]
[null,""]
[null,""]
[null,""]
[null,""]
[null,{"$f":"IF(C4707=0,\"\",C4707-C4706)","v":""}]
[null,""]
[null,""]
[null,""]
[null,""]
[null,""]
[null,""]
[null,""]
[null,""]
[null,""]
[null,""]
[null,""]
[null,""]
[null,""]
[null,""]
[null,""]
[null,""]
[null,""]
[null,""]
[null,""]
[null,""]
[null,""]
[null,""]
[null,""]
[null,""]
[null,""]
[null,""]
[null,""]
[null,""]
[null,""]
[null,""]
[null,""]
[null,""]
[null,""]
[null,""]
[null,""]
[null,""]
[null,""]
[null,""]
[null,""]
[null,""]
[null,""]
[null,""]
[null,""]
[null,""]
[null,""]
[null,""]
[null,""]
[null,""]
[null,""]
[null,""]
[null,""]
[null,""]
[null,""]
[null,""]
[null,""]
[null,""]
[null,""]
[null,""]
[null,""]
[null,""]
[null,""]
[null,""]
[null,""]
[null,{"$f":"IF(C4771=0,\"\",C4771-C4770)","v":""}]
[null,""]
[null,""]
[null,""]
[null,""]
[null,""]
[null,""]
[null,""]
[null,""]
[null,""]
[null,""]
[null,""]
[null,""]
[null,""]
[null,""]
[null,""]
[null,""]
[null,""]
[null,""]
[null,""]
[null,""]
[null,""]
[null,""]
[null,""]
[null,""]
[null,""]
[null,""]
[null,""]
[null,""]
[null,""]
[null,""]
[null,""]
[null,""]
[null,""]
[null,""]
[null,""]
[null,""]
[null,""]
[null,""]
[null,""]
[null,""]
[null,""]
[null,""]
[null,""]
[null,""]
[null,""]
[null,""]
[null,""]
[null,""]
[null,""]
[null,""]
[null,""]
[null,""]
[null,""]
[null,""]
[null,""]
[null,""]
[null,""]
[null,""]
[null,""]
[null,""]
[null,""]
[null,""]
[null,""]
[null,{"$f":"IF(C4835=0,\"\",C4835-C4834)","v":""}]
[null,""]
[null,""]
[null,""]
[null,""]
[null,""]
[null,""]
[null,""]
[null,""]
[null,""]
[null,""]
[null,""]
[null,""]
[null,""]
[null,""]
[null,""]
[null,""]
[null,""]
[null,""]
[null,""]
[null,""]
[null,""]
[null,""]
[null,""]
[null,""]
[null,""]
[null,""]
[null,""]
[null,""]
[null,""]
[null,""]
[null,""]
[null,""]
[null,""]
[null,""]
[null,""]
[null,""]
[null,""]
[null,""]
[null,""]
[null,""]
[null,""]
[null,""]
[null,""]
[null,""]
[null,""]
[null,""]
[null,""]
[null,""]
[null,""]
[null,""]
[null,""]
[null,""]
[null,""]
[null,""]
[null,""]
[null,""]
[null,""]
[null,""]
[null,""]
[null,""]
[null,""]
[null,""]
[null,""]
[null,{"$f":"IF(C4899=0,\"\",C4899-C4898)","v":""}]
[null,""]
[null,""]
[null,""]
[null,""]
[null,""]
[null,""]
[null,""]
[null,""]
[null,""]
[null,""]
[null,""]
[null,""]
[null,""]
[null,""]
[null,""]
[null,""]
[null,""]
[null,""]
[null,""]
[null,""]
[null,""]
[null,""]
[null,""]
[null,""]
[null,""]
[null,""]
[null,""]
[null,""]
[null,""]
[null,""]
[null,""]
[null,""]
[null,""]
[null,""]
[null,""]
[null,""]
[null,""]
[null,""]
[null,""]
[null,""]
[null,""]
[null,""]
[null,""]
[null,""]
[null,""]
[null,""]
[null,""]
[null,""]
[null,""]
[null,""]
[null,""]
[null,""]
[null,""]
[null,""]
[null,""]
[null,""]
[null,""]
[null,""]
[null,""]
[null,""]
[null,""]
[null,""]
[null,""]
[null,{"$f":"IF(C4963=0,\"\",C4963-C4962)","v":""}]
[null,""]
[null,""]
[null,""]
[null,""]
[null,""]
[null,""]
[null,""]
[null,""]
[null,""]
[null,""]
[null,""]
[null,""]
[null,""]
[null,""]
[null,""]
[null,""]
[null,""]
[null,""]
[null,""]
[null,""]
[null,""]
[null,""]
[null,""]
[null,""]
[null,""]
[null,""]
[null,""]
[null,""]
[null,""]
[null,""]
[null,""]
[null,""]
[null,""]
[null,""]
[null,""]
[null,""]
[null,""]
[null,""]
[null,""]
[null,""]
[null,""]
[null,""]
[null,""]
[null,""]
[null,""]
[null,""]
[null,""]
[null,""]
[null,""]
[null,""]
[null,""]
[null,""]
[null,""]
[null,""]
[null,""]
[null,""]
[null,""]
[null,""]
[null,""]
[null,""]
[null,""]
[null,""]
[null,""]
[null,{"$f":"IF(C5027=0,\"\",C5027-C5026)","v":""}]
[null,""]
[null,""]
[null,""]
[null,""]
[null,""]
[null,""]
[null,""]
[null,""]
[null,""]
[null,""]
[null,""]
[null,""]
[null,""]
[null,""]
[null,""]
[null,""]
[null,""]
[null,""]
[null,""]
[null,""]
[null,""]
[null,""]
[null,""]
[null,""]
[null,""]
[null,""]
[null,""]
[null,""]
[null,""]
[null,""]
[null,""]
[null,""]
[null,""]
[null,""]
[null,""]
[null,""]
[null,""]
[null,""]
[null,""]
[null,""]
[null,""]
[null,""]
[null,""]
[null,""]
[null,""]
[null,""]
[null,""]
[null,""]
[null,""]
[null,""]
[null,""]
[null,""]
[null,""]
[null,""]
[null,""]
[null,""]
[null,""]
[null,""]
[null,""]
[null,""]
[null,""]
[null,""]
[null,""]
[null,{"$f":"IF(C5091=0,\"\",C5091-C5090)","v":""}]
[null,""]
[null,""]
[null,""]
[null,""]
[null,""]
[null,""]
[null,""]
[null,""]
[null,""]
[null,""]
[null,""]
[null,""]
[null,""]
[null,""]
[null,""]
[null,""]
[null,""]
[null,""]
[null,""]
[null,""]
[null,""]
[null,""]
[null,""]
[null,""]
[null,""]
[null,""]
[null,""]
[null,""]
[null,""]
[null,""]
[null,""]
[null,""]
[null,""]
[null,""]
[null,""]
[null,""]
[null,""]
[null,""]
[null,""]
[null,""]
[null,""]
[null,""]
[null,""]
[null,""]
[null,""]
[null,""]
[null,""]
[null,""]
[null,""]
[null,""]
[null,""]
[null,""]
[null,""]
[null,""]
[null,""]
[null,""]
[null,""]
[null,""]
[null,""]
[null,""]
[null,""]
[null,""]
[null,""]
[null,{"$f":"IF(C5155=0,\"\",C5155-C5154)","v":""}]
[null,""]
[null,""]
[null,""]
[null,""]
[null,""]
[null,""]
[null,""]
[null,""]
[null,""]
[null,""]
[null,""]
[null,""]
[null,""]
[null,""]
[null,""]
[null,""]
[null,""]
[null,""]
[null,""]
[null,""]
[null,""]
[null,""]
[null,""]
[null,""]
[null,""]
[null,""]
[null,""]
[null,""]
[null,""]
[null,""]
[null,""]
[null,""]
[null,""]
[null,""]
[null,""]
[null,""]
[null,""]
[null,""]
[null,""]
[null,""]
[null,""]
[null,""]
[null,""]
[null,""]
[null,""]
[null,""]
[null,""]
[null,""]
[null,""]
[null,""]
[null,""]
[null,""]
[null,""]
[null,""]
[null,""]
[null,""]
[null,""]
[null,""]
[null,""]
[null,""]
[null,""]
[null,""]
[null,""]
[null,{"$f":"IF(C5219=0,\"\",C5219-C5218)","v":""}]
[null,""]
[null,""]
[null,""]
[null,""]
[null,""]
[null,""]
[null,""]
[null,""]
[null,""]
[null,""]
[null,""]
[null,""]
[null,""]
[null,""]
[null,""]
[null,""]
[null,""]
[null,""]
[null,""]
[null,""]
[null,""]
[null,""]
[null,""]
[null,""]
[null,""]
[null,""]
[null,""]
[null,""]
[null,""]
[null,""]
[null,""]
[null,""]
[null,""]
[null,""]
[null,""]
[null,""]
[null,""]
[null,""]
[null,""]
[null,""]
[null,""]
[null,""]
[null,""]
[null,""]
[null,""]
[null,""]
[null,""]
[null,""]
[null,""]
[null,""]
[null,""]
[null,""]
[null,""]
[null,""]
[null,""]
[null,""]
[null,""]
[null,""]
[null,""]
[null,""]
[null,""]
[null,""]
[null,""]
[null,{"$f":"IF(C5283=0,\"\",C5283-C5282)","v":""}]
[null,""]
[null,""]
[null,""]
[null,""]
[null,""]
[null,""]
[null,""]
[null,""]
[null,""]
[null,""]
[null,""]
[null,""]
[null,""]
[null,""]
[null,""]
[null,""]
[null,""]
[null,""]
[null,""]
[null,""]
[null,""]
[null,""]
[null,""]
[null,""]
[null,""]
[null,""]
[null,""]
[null,""]
[null,""]
[null,""]
[null,""]
[null,""]
[null,""]
[null,""]
[null,""]
[null,""]
[null,""]
[null,""]
[null,""]
[null,""]
[null,""]
[null,""]
[null,""]
[null,""]
[null,""]
[null,""]
[null,""]
[null,""]
[null,""]
[null,""]
[null,""]
[null,""]
[null,""]
[null,""]
[null,""]
[null,""]
[null,""]
[null,""]
[null,""]
[null,""]
[null,""]
[null,""]
[null,""]
[null,{"$f":"IF(C5347=0,\"\",C5347-C5346)","v":""}]
[null,""]
[null,""]
[null,""]
[null,""]
[null,""]
[null,""]
[null,""]
[null,""]
[null,""]
[null,""]
[null,""]
[null,""]
[null,""]
[null,""]
[null,""]
[null,""]
[null,""]
[null,""]
[null,""]
[null,""]
[null,""]
[null,""]
[null,""]
[null,""]
[null,""]
[null,""]
[null,""]
[null,""]
[null,""]
[null,""]
[null,""]
[null,""]
[null,""]
[null,""]
[null,""]
[null,""]
[null,""]
[null,""]
[null,""]
[null,""]
[null,""]
[null,""]
[null,""]
[null,""]
[null,""]
[null,""]
[null,""]
[null,""]
[null,""]
[null,""]
[null,""]
[null,""]
[null,""]
[null,""]
[null,""]
[null,""]
[null,""]
[null,""]
[null,""]
[null,""]
[null,""]
[null,""]
[null,""]
[null,{"$f":"IF(C5411=0,\"\",C5411-C5410)","v":""}]
[null,""]
[null,""]
[null,""]
[null,""]
[null,""]
[null,""]
[null,""]
[null,""]
[null,""]
[null,""]
[null,""]
[null,""]
[null,""]
[null,""]
[null,""]
[null,""]
[null,""]
[null,""]
[null,""]
[null,""]
[null,""]
[null,""]
[null,""]
[null,""]
[null,""]
[null,""]
[null,""]
[null,""]
[null,""]
[null,""]
[null,""]
[null,""]
[null,""]
[null,""]
[null,""]
[null,""]
[null,""]
[null,""]
[null,""]
[null,""]
[null,""]
[null,""]
[null,""]
[null,""]
[null,""]
[null,""]
[null,""]
[null,""]
[null,""]
[null,""]
[null,""]
[null,""]
[null,""]
[null,""]
[null,""]
[null,""]
[null,""]
[null,""]
[null,""]
[null,""]
[null,""]
[null,""]
[null,""]
[null,{"$f":"IF(C5475=0,\"\",C5475-C5474)","v":""}]
[null,""]
[null,""]
[null,""]
[null,""]
[null,""]
[null,""]
[null,""]
[null,""]
[null,""]
[null,""]
[null,""]
[null,""]
[null,""]
[null,""]
[null,""]
[null,""]
[null,""]
[null,""]
[null,""]
[null,""]
[null,""]
[null,""]
[null,""]
[null,""]
[null,""]
[null,""]
[null,""]
[null,""]
[null,""]
[null,""]
[null,""]
[null,""]
[null,""]
[null,""]
[null,""]
[null,""]
[null,""]
[null,""]
[null,""]
[null,""]
[null,""]
[null,""]
[null,""]
[null,""]
[null,""]
[null,""]
[null,""]
[null,""]
[null,""]
[null,""]
[null,""]
[null,""]
[null,""]
[null,""]
[null,""]
[null,""]
[null,""]
[null,""]
[null,""]
[null,""]
[null,""]
[null,""]
[null,""]
[null,{"$f":"IF(C5539=0,\"\",C5539-C5538)","v":""}]
[null,""]
[null,""]
[null,""]
[null,""]
[null,""]
[null,""]
[null,""]
[null,""]
[null,""]
[null,""]
[null,""]
[null,""]
[null,""]
[null,""]
[null,""]
[null,""]
[null,""]
[null,""]
[null,""]
[null,""]
[null,""]
[null,""]
[null,""]
[null,""]
[null,""]
[null,""]
[null,""]
[null,""]
[null,""]
[null,""]
[null,""]
[null,""]
[null,""]
[null,""]
[null,""]
[null,""]
[null,""]
[null,""]
[null,""]
[null,""]
[null,""]
[null,""]
[null,""]
[null,""]
[null,""]
[null,""]
[null,""]
[null,""]
[null,""]
[null,""]
[null,""]
[null,""]
[null,""]
[null,""]
[null,""]
[null,""]
[null,""]
[null,""]
[null,""]
[null,""]
[null,""]
[null,""]
[null,""]
[null,{"$f":"IF(C5603=0,\"\",C5603-C5602)","v":""}]
[null,""]
[null,""]
[null,""]
[null,""]
[null,""]
[null,""]
[null,""]
[null,""]
[null,""]
[null,""]
[null,""]
[null,""]
[null,""]
[null,""]
[null,""]
[null,""]
[null,""]
[null,""]
[null,""]
[null,""]
[null,""]
[null,""]
[null,""]
[null,""]
[null,""]
[null,""]
[null,""]
[null,""]
[null,""]
[null,""]
[null,""]
[null,""]
[null,""]
[null,""]
[null,""]
[null,""]
[null,""]
[null,""]
[null,""]
[null,""]
[null,""]
[null,""]
[null,""]
[null,""]
[null,""]
[null,""]
[null,""]
[null,""]
[null,""]
[null,""]
[null,""]
[null,""]
[null,""]
[null,""]
[null,""]
[null,""]
[null,""]
[null,""]
[null,""]
[null,""]
[null,""]
[null,""]
[null,""]
[null,{"$f":"IF(C5667=0,\"\",C5667-C5666)","v":""}]
[null,""]
[null,""]
[null,""]
[null,""]
[null,""]
[null,""]
[null,""]
[null,""]
[null,""]
[null,""]
[null,""]
[null,""]
[null,""]
[null,""]
[null,""]
[null,""]
[null,""]
[null,""]
[null,""]
[null,""]
[null,""]
[null,""]
[null,""]
[null,""]
[null,""]
[null,""]
[null,""]
[null,""]
[null,""]
[null,""]
[null,""]
[null,""]
[null,""]
[null,""]
[null,""]
[null,""]
[null,""]
[null,""]
[null,""]
[null,""]
[null,""]
[null,""]
[null,""]
[null,""]
[null,""]
[null,""]
[null,""]
[null,""]
[null,""]
[null,""]
[null,""]
[null,""]
[null,""]
[null,""]
[null,""]
[null,""]
[null,""]
[null,""]
[null,""]
[null,""]
[null,""]
[null,""]
[null,""]
[null,{"$f":"IF(C5731=0,\"\",C5731-C5730)","v":""}]
[null,""]
[null,""]
[null,""]
[null,""]
[null,""]
[null,""]
[null,""]
[null,""]
[null,""]
[null,""]
[null,""]
[null,""]
[null,""]
[null,""]
[null,""]
[null,""]
[null,""]
[null,""]
[null,""]
[null,""]
[null,""]
[null,""]
[null,""]
[null,""]
[null,""]
[null,""]
[null,""]
[null,""]
[null,""]
[null,""]
[null,""]
[null,""]
[null,""]
[null,""]
[null,""]
[null,""]
[null,""]
[null,""]
[null,""]
[null,""]
[null,""]
[null,""]
[null,""]
[null,""]
[null,""]
[null,""]
[null,""]
[null,""]
[null,""]
[null,""]
[null,""]
[null,""]
[null,""]
[null,""]
[null,""]
[null,""]
[null,""]
[null,""]
[null,""]
[null,""]
[null,""]
[null,""]
[null,""]
[null,{"$f":"IF(C5795=0,\"\",C5795-C5794)","v":""}]
[null,""]
[null,""]
[null,""]
[null,""]
[null,""]
[null,""]
[null,""]
[null,""]
[null,""]
[null,""]
[null,""]
[null,""]
[null,""]
[null,""]
[null,""]
[null,""]
[null,""]
[null,""]
[null,""]
[null,""]
[null,""]
[null,""]
[null,""]
[null,""]
[null,""]
[null,""]
[null,""]
[null,""]
[null,""]
[null,""]
[null,""]
[null,""]
[null,""]
[null,""]
[null,""]
[null,""]
[null,""]
[null,""]
[null,""]
[null,""]
[null,""]
[null,""]
[null,""]
[null,""]
[null,""]
[null,""]
[null,""]
[null,""]
[null,""]
[null,""]
[null,""]
[null,""]
[null,""]
[null,""]
[null,""]
[null,""]
[null,""]
[null,""]
[null,""]
[null,""]
[null,""]
[null,""]
[null,""]
[null,{"$f":"IF(C5859=0,\"\",C5859-C5858)","v":""}]
[null,""]
[null,""]
[null,""]
[null,""]
[null,""]
[null,""]
[null,""]
[null,""]
[null,""]
[null,""]
[null,""]
[null,""]
[null,""]
[null,""]
[null,""]
[null,""]
[null,""]
[null,""]
[null,""]
[null,""]
[null,""]
[null,""]
[null,""]
[null,""]
[null,""]
[null,""]
[null,""]
[null,""]
[null,""]
[null,""]
[null,""]
[null,""]
[null,""]
[null,""]
[null,""]
[null,""]
[null,""]
[null,""]
[null,""]
[null,""]
[null,""]
[null,""]
[null,""]
[null,""]
[null,""]
[null,""]
[null,""]
[null,""]
[null,""]
[null,""]
[null,""]
[null,""]
[null,""]
[null,""]
[null,""]
[null,""]
[null,""]
[null,""]
[null,""]
[null,""]
[null,""]
[null,""]
[null,""]
[null,{"$f":"IF(C5923=0,\"\",C5923-C5922)","v":""}]
[null,""]
[null,""]
[null,""]
[null,""]
[null,""]
[null,""]
[null,""]
[null,""]
[null,""]
[null,""]
[null,""]
[null,""]
[null,""]
[null,""]
[null,""]
[null,""]
[null,""]
[null,""]
[null,""]
[null,""]
[null,""]
[null,""]
[null,""]
[null,""]
[null,""]
[null,""]
[null,""]
[null,""]
[null,""]
[null,""]
[null,""]
[null,""]
[null,""]
[null,""]
[null,""]
[null,""]
[null,""]
[null,""]
[null,""]
[null,""]
[null,""]
[null,""]
[null,""]
[null,""]
[null,""]
[null,""]
[null,""]
[null,""]
[null,""]
[null,""]
[null,""]
[null,""]
[null,""]
[null,""]
[null,""]
[null,""]
[null,""]
[null,""]
[null,""]
[null,""]
[null,""]
[null,""]
[null,""]
[null,{"$f":"IF(C5987=0,\"\",C5987-C5986)","v":""}]
[null,""]
[null,""]
[null,""]
[null,""]
[null,""]
[null,""]
[null,""]
[null,""]
[null,""]
[null,""]
[null,""]
[null,""]
[null,""]
[null,""]
[null,""]
[null,""]
[null,""]
[null,""]
[null,""]
[null,""]
[null,""]
[null,""]
[null,""]
[null,""]
[null,""]
[null,""]
[null,""]
[null,""]
[null,""]
[null,""]
[null,""]
[null,""]
[null,""]
[null,""]
[null,""]
[null,""]
[null,""]
[null,""]
[null,""]
[null,""]
[null,""]
[null,""]
[null,""]
[null,""]
[null,""]
[null,""]
[null,""]
[null,""]
[null,""]
[null,""]
[null,""]
[null,""]
[null,""]
[null,""]
[null,""]
[null,""]
[null,""]
[null,""]
[null,""]
[null,""]
[null,""]
[null,""]
[null,""]
[null,{"$f":"IF(C6051=0,\"\",C6051-C6050)","v":""}]
[null,""]
[null,""]
[null,""]
[null,""]
[null,""]
[null,""]
[null,""]
[null,""]
[null,""]
[null,""]
[null,""]
[null,""]
[null,""]
[null,""]
[null,""]
[null,""]
[null,""]
[null,""]
[null,""]
[null,""]
[null,""]
[null,""]
[null,""]
[null,""]
[null,""]
[null,""]
[null,""]
[null,""]
[null,""]
[null,""]
[null,""]
[null,""]
[null,""]
[null,""]
[null,""]
[null,""]
[null,""]
[null,""]
[null,""]
[null,""]
[null,""]
[null,""]
[null,""]
[null,""]
[null,""]
[null,""]
[null,""]
[null,""]
[null,""]
[null,""]
[null,""]
[null,""]
[null,""]
[null,""]
[null,""]
[null,""]
[null,""]
[null,""]
[null,""]
[null,""]
[null,""]
[null,""]
[null,""]
[null,{"$f":"IF(C6115=0,\"\",C6115-C6114)","v":""}]
[null,""]
[null,""]
[null,""]
[null,""]
[null,""]
[null,""]
[null,""]
[null,""]
[null,""]
[null,""]
[null,""]
[null,""]
[null,""]
[null,""]
[null,""]
[null,""]
[null,""]
[null,""]
[null,""]
[null,""]
[null,""]
[null,""]
[null,""]
[null,""]
[null,""]
[null,""]
[null,""]
[null,""]
[null,""]
[null,""]
[null,""]
[null,""]
[null,""]
[null,""]
[null,""]
[null,""]
[null,""]
[null,""]
[null,""]
[null,""]
[null,""]
[null,""]
[null,""]
[null,""]
[null,""]
[null,""]
[null,""]
[null,""]
[null,""]
[null,""]
[null,""]
[null,""]
[null,""]
[null,""]
[null,""]
[null,""]
[null,""]
[null,""]
[null,""]
[null,""]
[null,""]
[null,""]
[null,""]
[null,{"$f":"IF(C6179=0,\"\",C6179-C6178)","v":""}]
[null,""]
[null,""]
[null,""]
[null,""]
[null,""]
[null,""]
[null,""]
[null,""]
[null,""]
[null,""]
[null,""]
[null,""]
[null,""]
[null,""]
[null,""]
[null,""]
[null,""]
[null,""]
[null,""]
[null,""]
[null,""]
[null,""]
[null,""]
[null,""]
[null,""]
[null,""]
[null,""]
[null,""]
[null,""]
[null,""]
[null,""]
[null,""]
[null,""]
[null,""]
[null,""]
[null,""]
[null,""]
[null,""]
[null,""]
[null,""]
[null,""]
[null,""]
[null,""]
[null,""]
[null,""]
[null,""]
[null,""]
[null,""]
[null,""]
[null,""]
[null,""]
[null,""]
[null,""]
[null,""]
[null,""]
[null,""]
[null,""]
[null,""]
[null,""]
[null,""]
[null,""]
[null,""]
[null,""]
[null,{"$f":"IF(C6243=0,\"\",C6243-C6242)","v":""}]
[null,""]
[null,""]
[null,""]
[null,""]
[null,""]
[null,""]
[null,""]
[null,""]
[null,""]
[null,""]
[null,""]
[null,""]
[null,""]
[null,""]
[null,""]
[null,""]
[null,""]
[null,""]
[null,""]
[null,""]
[null,""]
[null,""]
[null,""]
[null,""]
[null,""]
[null,""]
[null,""]
[null,""]
[null,""]
[null,""]
[null,""]
[null,""]
[null,""]
[null,""]
[null,""]
[null,""]
[null,""]
[null,""]
[null,""]
[null,""]
[null,""]
[null,""]
[null,""]
[null,""]
[null,""]
[null,""]
[null,""]
[null,""]
[null,""]
[null,""]
[null,""]
[null,""]
[null,""]
[null,""]
[null,""]
[null,""]
[null,""]
[null,""]
[null,""]
[null,""]
[null,""]
[null,""]
[null,""]
[null,{"$f":"IF(C6307=0,\"\",C6307-C6306)","v":""}]
[null,""]
[null,""]
[null,""]
[null,""]
[null,""]
[null,""]
[null,""]
[null,""]
[null,""]
[null,""]
[null,""]
[null,""]
[null,""]
[null,""]
[null,""]
[null,""]
[null,""]
[null,""]
[null,""]
[null,""]
[null,""]
[null,""]
[null,""]
[null,""]
[null,""]
[null,""]
[null,""]
[null,""]
[null,""]
[null,""]
[null,""]
[null,""]
[null,""]
[null,""]
[null,""]
[null,""]
[null,""]
[null,""]
[null,""]
[null,""]
[null,""]
[null,""]
[null,""]
[null,""]
[null,""]
[null,""]
[null,""]
[null,""]
[null,""]
[null,""]
[null,""]
[null,""]
[null,""]
[null,""]
[null,""]
[null,""]
[null,""]
[null,""]
[null,""]
[null,""]
[null,""]
[null,""]
[null,""]
[null,{"$f":"IF(C6371=0,\"\",C6371-C6370)","v":""}]
[null,""]
[null,""]
[null,""]
[null,""]
[null,""]
[null,""]
[null,""]
[null,""]
[null,""]
[null,""]
[null,""]
[null,""]
[null,""]
[null,""]
[null,""]
[null,""]
[null,""]
[null,""]
[null,""]
[null,""]
[null,""]
[null,""]
[null,""]
[null,""]
[null,""]
[null,""]
[null,""]
[null,""]
[null,""]
[null,""]
[null,""]
[null,""]
[null,""]
[null,""]
[null,""]
[null,""]
[null,""]
[null,""]
[null,""]
[null,""]
[null,""]
[null,""]
[null,""]
[null,""]
[null,""]
[null,""]
[null,""]
[null,""]
[null,""]
[null,""]
[null,""]
[null,""]
[null,""]
[null,""]
[null,""]
[null,""]
[null,""]
[null,""]
[null,""]
[null,""]
[null,""]
[null,""]
[null,""]
[null,{"$f":"IF(C6435=0,\"\",C6435-C6434)","v":""}]
[null,""]
[null,""]
[null,""]
[null,""]
[null,""]
[null,""]
[null,""]
[null,""]
[null,""]
[null,""]
[null,""]
[null,""]
[null,""]
[null,""]
[null,""]
[null,""]
[null,""]
[null,""]
[null,""]
[null,""]
[null,""]
[null,""]
[null,""]
[null,""]
[null,""]
[null,""]
[null,""]
[null,""]
[null,""]
[null,""]
[null,""]
[null,""]
[null,""]
[null,""]
[null,""]
[null,""]
[null,""]
[null,""]
[null,""]
[null,""]
[null,""]
[null,""]
[null,""]
[null,""]
[null,""]
[null,""]
[null,""]
[null,""]
[null,""]
[null,""]
[null,""]
[null,""]
[null,""]
[null,""]
[null,""]
[null,""]
[null,""]
[null,""]
[null,""]
[null,""]
[null,""]
[null,""]
[null,""]
[null,{"$f":"IF(C6499=0,\"\",C6499-C6498)","v":""}]
[null,""]
[null,""]
[null,""]
[null,""]
[null,""]
[null,""]
[null,""]
[null,""]
[null,""]
[null,""]
[null,""]
[null,""]
[null,""]
[null,""]
[null,""]
[null,""]
[null,""]
[null,""]
[null,""]
[null,""]
[null,""]
[null,""]
[null,""]
[null,""]
[null,""]
[null,""]
[null,""]
[null,""]
[null,""]
[null,""]
[null,""]
[null,""]
[null,""]
[null,""]
[null,""]
[null,""]
[null,""]
[null,""]
[null,""]
[null,""]
[null,""]
[null,""]
[null,""]
[null,""]
[null,""]
[null,""]
[null,""]
[null,""]
[null,""]
[null,""]
[null,""]
[null,""]
[null,""]
[null,""]
[null,""]
[null,""]
[null,""]
[null,""]
[null,""]
[null,""]
[null,""]
[null,""]
[null,""]
[null,{"$f":"IF(C6563=0,\"\",C6563-C6562)","v":""}]
[null,""]
[null,""]
[null,""]
[null,""]
[null,""]
[null,""]
[null,""]
[null,""]
[null,""]
[null,""]
[null,""]
[null,""]
[null,""]
[null,""]
[null,""]
[null,""]
[null,""]
[null,""]
[null,""]
[null,""]
[null,""]
[null,""]
[null,""]
[null,""]
[null,""]
[null,""]
[null,""]
[null,""]
[null,""]
[null,""]
[null,""]
[null,""]
[null,""]
[null,""]
[null,""]
[null,""]
[null,""]
[null,""]
[null,""]
[null,""]
[null,""]
[null,""]
[null,""]
[null,""]
[null,""]
[null,""]
[null,""]
[null,""]
[null,""]
[null,""]
[null,""]
[null,""]
[null,""]
[null,""]
[null,""]
[null,""]
[null,""]
[null,""]
[null,""]
[null,""]
[null,""]
[null,""]
[null,""]
[null,{"$f":"IF(C6627=0,\"\",C6627-C6626)","v":""}]
[null,""]
[null,""]
[null,""]
[null,""]
[null,""]
[null,""]
[null,""]
[null,""]
[null,""]
[null,""]
[null,""]
[null,""]
[null,""]
[null,""]
[null,""]
[null,""]
[null,""]
[null,""]
[null,""]
[null,""]
[null,""]
[null,""]
[null,""]
[null,""]
[null,""]
[null,""]
[null,""]
[null,""]
[null,""]
[null,""]
[null,""]
[null,""]
[null,""]
[null,""]
[null,""]
[null,""]
[null,""]
[null,""]
[null,""]
[null,""]
[null,""]
[null,""]
[null,""]
[null,""]
[null,""]
[null,""]
[null,""]
[null,""]
[null,""]
[null,""]
[null,""]
[null,""]
[null,""]
[null,""]
[null,""]
[null,""]
[null,""]
[null,""]
[null,""]
[null,""]
[null,""]
[null,""]
[null,""]
[null,{"$f":"IF(C6691=0,\"\",C6691-C6690)","v":""}]
[null,""]
[null,""]
[null,""]
[null,""]
[null,""]
[null,""]
[null,""]
[null,""]
[null,""]
[null,""]
[null,""]
[null,""]
[null,""]
[null,""]
[null,""]
[null,""]
[null,""]
[null,""]
[null,""]
[null,""]
[null,""]
[null,""]
[null,""]
[null,""]
[null,""]
[null,""]
[null,""]
[null,""]
[null,""]
[null,""]
[null,""]
[null,""]
[null,""]
[null,""]
[null,""]
[null,""]
[null,""]
[null,""]
[null,""]
[null,""]
[null,""]
[null,""]
[null,""]
[null,""]
[null,""]
[null,""]
[null,""]
[null,""]
[null,""]
[null,""]
[null,""]
[null,""]
[null,""]
[null,""]
[null,""]
[null,""]
[null,""]
[null,""]
[null,""]
[null,""]
[null,""]
[null,""]
[null,""]
[null,{"$f":"IF(C6755=0,\"\",C6755-C6754)","v":""}]
[null,""]
[null,""]
[null,""]
[null,""]
[null,""]
[null,""]
[null,""]
[null,""]
[null,""]
[null,""]
[null,""]
[null,""]
[null,""]
[null,""]
[null,""]
[null,""]
[null,""]
[null,""]
[null,""]
[null,""]
[null,""]
[null,""]
[null,""]
[null,""]
[null,""]
[null,""]
[null,""]
[null,""]
[null,""]
[null,""]
[null,""]
[null,""]
[null,""]
[null,""]
[null,""]
[null,""]
[null,""]
[null,""]
[null,""]
[null,""]
[null,""]
[null,""]
[null,""]
[null,""]
[null,""]
[null,""]
[null,""]
[null,""]
[null,""]
[null,""]
[null,""]
[null,""]
[null,""]
[null,""]
[null,""]
[null,""]
[null,""]
[null,""]
[null,""]
[null,""]
[null,""]
[null,""]
[null,""]
[null,{"$f":"IF(C6819=0,\"\",C6819-C6818)","v":""}]
[null,""]
[null,""]
[null,""]
[null,""]
[null,""]
[null,""]
[null,""]
[null,""]
[null,""]
[null,""]
[null,""]
[null,""]
[null,""]
[null,""]
[null,""]
[null,""]
[null,""]
[null,""]
[null,""]
[null,""]
[null,""]
[null,""]
[null,""]
[null,""]
[null,""]
[null,""]
[null,""]
[null,""]
[null,""]
[null,""]
[null,""]
[null,""]
[null,""]
[null,""]
[null,""]
[null,""]
[null,""]
[null,""]
[null,""]
[null,""]
[null,""]
[null,""]
[null,""]
[null,""]
[null,""]
[null,""]
[null,""]
[null,""]
[null,""]
[null,""]
[null,""]
[null,""]
[null,""]
[null,""]
[null,""]
[null,""]
[null,""]
[null,""]
[null,""]
[null,""]
[null,""]
[null,""]
[null,""]
[null,{"$f":"IF(C6883=0,\"\",C6883-C6882)","v":""}]
[null,""]
[null,""]
[null,""]
[null,""]
[null,""]
[null,""]
[null,""]
[null,""]
[null,""]
[null,""]
[null,""]
[null,""]
[null,""]
[null,""]
[null,""]
[null,""]
[null,""]
[null,""]
[null,""]
[null,""]
[null,""]
[null,""]
[null,""]
[null,""]
[null,""]
[null,""]
[null,""]
[null,""]
[null,""]
[null,""]
[null,""]
[null,""]
[null,""]
[null,""]
[null,""]
[null,""]
[null,""]
[null,""]
[null,""]
[null,""]
[null,""]
[null,""]
[null,""]
[null,""]
[null,""]
[null,""]
[null,""]
[null,""]
[null,""]
[null,""]
[null,""]
[null,""]
[null,""]
[null,""]
[null,""]
[null,""]
[null,""]
[null,""]
[null,""]
[null,""]
[null,""]
[null,""]
[null,""]
[null,{"$f":"IF(C6947=0,\"\",C6947-C6946)","v":""}]
[null,""]
[null,""]
[null,""]
[null,""]
[null,""]
[null,""]
[null,""]
[null,""]
[null,""]
[null,""]
[null,""]
[null,""]
[null,""]
[null,""]
[null,""]
[null,""]
[null,""]
[null,""]
[null,""]
[null,""]
[null,""]
[null,""]
[null,""]
[null,""]
[null,""]
[null,""]
[null,""]
[null,""]
[null,""]
[null,""]
[null,""]
[null,""]
[null,""]
[null,""]
[null,""]
[null,""]
[null,""]
[null,""]
[null,""]
[null,""]
[null,""]
[null,""]
[null,""]
[null,""]
[null,""]
[null,""]
[null,""]
[null,""]
[null,""]
[null,""]
[null,""]
[null,""]
[null,""]
[null,""]
[null,""]
[null,""]
[null,""]
[null,""]
[null,""]
[null,""]
[null,""]
[null,""]
[null,""]
[null,{"$f":"IF(C7011=0,\"\",C7011-C7010)","v":""}]
[null,""]
[null,""]
[null,""]
[null,""]
[null,""]
[null,""]
[null,""]
[null,""]
[null,""]
[null,""]
[null,""]
[null,""]
[null,""]
[null,""]
[null,""]
[null,""]
[null,""]
[null,""]
[null,""]
[null,""]
[null,""]
[null,""]
[null,""]
[null,""]
[null,""]
[null,""]
[null,""]
[null,""]
[null,""]
[null,""]
[null,""]
[null,""]
[null,""]
[null,""]
[null,""]
[null,""]
[null,""]
[null,""]
[null,""]
[null,""]
[null,""]
[null,""]
[null,""]
[null,""]
[null,""]
[null,""]
[null,""]
[null,""]
[null,""]
[null,""]
[null,""]
[null,""]
[null,""]
[null,""]
[null,""]
[null,""]
[null,""]
[null,""]
[null,""]
[null,""]
[null,""]
[null,""]
[null,""]
[null,{"$f":"IF(C7075=0,\"\",C7075-C7074)","v":""}]
[null,""]
[null,""]
[null,""]
[null,""]
[null,""]
[null,""]
[null,""]
[null,""]
[null,""]
[null,""]
[null,""]
[null,""]
[null,""]
[null,""]
[null,""]
[null,""]
[null,""]
[null,""]
[null,""]
[null,""]
[null,""]
[null,""]
[null,""]
[null,""]
[null,""]
[null,""]
[null,""]
[null,""]
[null,""]
[null,""]
[null,""]
[null,""]
[null,""]
[null,""]
[null,""]
[null,""]
[null,""]
[null,""]
[null,""]
[null,""]
[null,""]
[null,""]
[null,""]
[null,""]
[null,""]
[null,""]
[null,""]
[null,""]
[null,""]
[null,""]
[null,""]
[null,""]
[null,""]
[null,""]
[null,""]
[null,""]
[null,""]
[null,""]
[null,""]
[null,""]
[null,""]
[null,""]
[null,""]
[null,{"$f":"IF(C7139=0,\"\",C7139-C7138)","v":""}]
[null,""]
[null,""]
[null,""]
[null,""]
[null,""]
[null,""]
[null,""]
[null,""]
[null,""]
[null,""]
[null,""]
[null,""]
[null,""]
[null,""]
[null,""]
[null,""]
[null,""]
[null,""]
[null,""]
[null,""]
[null,""]
[null,""]
[null,""]
[null,""]
[null,""]
[null,""]
[null,""]
[null,""]
[null,""]
[null,""]
[null,""]
[null,""]
[null,""]
[null,""]
[null,""]
[null,""]
[null,""]
[null,""]
[null,""]
[null,""]
[null,""]
[null,""]
[null,""]
[null,""]
[null,""]
[null,""]
[null,""]
[null,""]
[null,""]
[null,""]
[null,""]
[null,""]
[null,""]
[null,""]
[null,""]
[null,""]
[null,""]
[null,""]
[null,""]
[null,""]
[null,""]
[null,""]
[null,""]
[null,{"$f":"IF(C7203=0,\"\",C7203-C7202)","v":""}]
[null,""]
[null,""]
[null,""]
[null,""]
[null,""]
[null,""]
[null,""]
[null,""]
[null,""]
[null,""]
[null,""]
[null,""]
[null,""]
[null,""]
[null,""]
[null,""]
[null,""]
[null,""]
[null,""]
[null,""]
[null,""]
[null,""]
[null,""]
[null,""]
[null,""]
[null,""]
[null,""]
[null,""]
[null,""]
[null,""]
[null,""]
[null,""]
[null,""]
[null,""]
[null,""]
[null,""]
[null,""]
[null,""]
[null,""]
[null,""]
[null,""]
[null,""]
[null,""]
[null,""]
[null,""]
[null,""]
[null,""]
[null,""]
[null,""]
[null,""]
[null,""]
[null,""]
[null,""]
[null,""]
[null,""]
[null,""]
[null,""]
[null,""]
[null,""]
[null,""]
[null,""]
[null,""]
[null,""]
[null,{"$f":"IF(C7267=0,\"\",C7267-C7266)","v":""}]
[null,""]
[null,""]
[null,""]
[null,""]
[null,""]
[null,""]
[null,""]
[null,""]
[null,""]
[null,""]
[null,""]
[null,""]
[null,""]
[null,""]
[null,""]
[null,""]
[null,""]
[null,""]
[null,""]
[null,""]
[null,""]
[null,""]
[null,""]
[null,""]
[null,""]
[null,""]
[null,""]
[null,""]
[null,""]
[null,""]
[null,""]
[null,""]
[null,""]
[null,""]
[null,""]
[null,""]
[null,""]
[null,""]
[null,""]
[null,""]
[null,""]
[null,""]
[null,""]
[null,""]
[null,""]
[null,""]
[null,""]
[null,""]
[null,""]
[null,""]
[null,""]
[null,""]
[null,""]
[null,""]
[null,""]
[null,""]
[null,""]
[null,""]
[null,""]
[null,""]
[null,""]
[null,""]
[null,""]
[null,{"$f":"IF(C7331=0,\"\",C7331-C7330)","v":""}]
[null,""]
[null,""]
[null,""]
[null,""]
[null,""]
[null,""]
[null,""]
[null,""]
[null,""]
[null,""]
[null,""]
[null,""]
[null,""]
[null,""]
[null,""]
[null,""]
[null,""]
[null,""]
[null,""]
[null,""]
[null,""]
[null,""]
[null,""]
[null,""]
[null,""]
[null,""]
[null,""]
[null,""]
[null,""]
[null,""]
[null,""]
[null,""]
[null,""]
[null,""]
[null,""]
[null,""]
[null,""]
[null,""]
[null,""]
[null,""]
[null,""]
[null,""]
[null,""]
[null,""]
[null,""]
[null,""]
[null,""]
[null,""]
[null,""]
[null,""]
[null,""]
[null,""]
[null,""]
[null,""]
[null,""]
[null,""]
[null,""]
[null,""]
[null,""]
[null,""]
[null,""]
[null,""]
[null,""]
[null,{"$f":"IF(C7395=0,\"\",C7395-C7394)","v":""}]
[null,""]
[null,""]
[null,""]
[null,""]
[null,""]
[null,""]
[null,""]
[null,""]
[null,""]
[null,""]
[null,""]
[null,""]
[null,""]
[null,""]
[null,""]
[null,""]
[null,""]
[null,""]
[null,""]
[null,""]
[null,""]
[null,""]
[null,""]
[null,""]
[null,""]
[null,""]
[null,""]
[null,""]
[null,""]
[null,""]
[null,""]
[null,""]
[null,""]
[null,""]
[null,""]
[null,""]
[null,""]
[null,""]
[null,""]
[null,""]
[null,""]
[null,""]
[null,""]
[null,""]
[null,""]
[null,""]
[null,""]
[null,""]
[null,""]
[null,""]
[null,""]
[null,""]
[null,""]
[null,""]
[null,""]
[null,""]
[null,""]
[null,""]
[null,""]
[null,""]
[null,""]
[null,""]
[null,""]
[null,{"$f":"IF(C7459=0,\"\",C7459-C7458)","v":""}]
[null,""]
[null,""]
[null,""]
[null,""]
[null,""]
[null,""]
[null,""]
[null,""]
[null,""]
[null,""]
[null,""]
[null,""]
[null,""]
[null,""]
[null,""]
[null,""]
[null,""]
[null,""]
[null,""]
[null,""]
[null,""]
[null,""]
[null,""]
[null,""]
[null,""]
[null,""]
[null,""]
[null,""]
[null,""]
[null,""]
[null,""]
[null,""]
[null,""]
[null,""]
[null,""]
[null,""]
[null,""]
[null,""]
[null,""]
[null,""]
[null,""]
[null,""]
[null,""]
[null,""]
[null,""]
[null,""]
[null,""]
[null,""]
[null,""]
[null,""]
[null,""]
[null,""]
[null,""]
[null,""]
[null,""]
[null,""]
[null,""]
[null,""]
[null,""]
[null,""]
[null,""]
[null,""]
[null,""]
[null,{"$f":"IF(C7523=0,\"\",C7523-C7522)","v":""}]
[null,""]
[null,""]
[null,""]
[null,""]
[null,""]
[null,""]
[null,""]
[null,""]
[null,""]
[null,""]
[null,""]
[null,""]
[null,""]
[null,""]
[null,""]
[null,""]
[null,""]
[null,""]
[null,""]
[null,""]
[null,""]
[null,""]
[null,""]
[null,""]
[null,""]
[null,""]
[null,""]
[null,""]
[null,""]
[null,""]
[null,""]
[null,""]
[null,""]
[null,""]
[null,""]
[null,""]
[null,""]
[null,""]
[null,""]
[null,""]
[null,""]
[null,""]
[null,""]
[null,""]
[null,""]
[null,""]
[null,""]
[null,""]
[null,""]
[null,""]
[null,""]
[null,""]
[null,""]
[null,""]
[null,""]
[null,""]
[null,""]
[null,""]
[null,""]
[null,""]
[null,""]
[null,""]
[null,""]
[null,{"$f":"IF(C7587=0,\"\",C7587-C7586)","v":""}]
[null,""]
[null,""]
[null,""]
[null,""]
[null,""]
[null,""]
[null,""]
[null,""]
[null,""]
[null,""]
[null,""]
[null,""]
[null,""]
[null,""]
[null,""]
[null,""]
[null,""]
[null,""]
[null,""]
[null,""]
[null,""]
[null,""]
[null,""]
[null,""]
[null,""]
[null,""]
[null,""]
[null,""]
[null,""]
[null,""]
[null,""]
[null,""]
[null,""]
[null,""]
[null,""]
[null,""]
[null,""]
[null,""]
[null,""]
[null,""]
[null,""]
[null,""]
[null,""]
[null,""]
[null,""]
[null,""]
[null,""]
[null,""]
[null,""]
[null,""]
[null,""]
[null,""]
[null,""]
[null,""]
[null,""]
[null,""]
[null,""]
[null,""]
[null,""]
[null,""]
[null,""]
[null,""]
[null,""]
[null,{"$f":"IF(C7651=0,\"\",C7651-C7650)","v":""}]
[null,""]
[null,""]
[null,""]
[null,""]
[null,""]
[null,""]
[null,""]
[null,""]
[null,""]
[null,""]
[null,""]
[null,""]
[null,""]
[null,""]
[null,""]
[null,""]
[null,""]
[null,""]
[null,""]
[null,""]
[null,""]
[null,""]
[null,""]
[null,""]
[null,""]
[null,""]
[null,""]
[null,""]
[null,""]
[null,""]
[null,""]
[null,""]
[null,""]
[null,""]
[null,""]
[null,""]
[null,""]
[null,""]
[null,""]
[null,""]
[null,""]
[null,""]
[null,""]
[null,""]
[null,""]
[null,""]
[null,""]
[null,""]
[null,""]
[null,""]
[null,""]
[null,""]
[null,""]
[null,""]
[null,""]
[null,""]
[null,""]
[null,""]
[null,""]
[null,""]
[null,""]
[null,""]
[null,""]
[null,{"$f":"IF(C7715=0,\"\",C7715-C7714)","v":""}]
[null,""]
[null,""]
[null,""]
[null,""]
[null,""]
[null,""]
[null,""]
[null,""]
[null,""]
[null,""]
[null,""]
[null,""]
[null,""]
[null,""]
[null,""]
[null,""]
[null,""]
[null,""]
[null,""]
[null,""]
[null,""]
[null,""]
[null,""]
[null,""]
[null,""]
[null,""]
[null,""]
[null,""]
[null,""]
[null,""]
[null,""]
[null,""]
[null,""]
[null,""]
[null,""]
[null,""]
[null,""]
[null,""]
[null,""]
[null,""]
[null,""]
[null,""]
[null,""]
[null,""]
[null,""]
[null,""]
[null,""]
[null,""]
[null,""]
[null,""]
[null,""]
[null,""]
[null,""]
[null,""]
[null,""]
[null,""]
[null,""]
[null,""]
[null,""]
[null,""]
[null,""]
[null,""]
[null,""]
[null,{"$f":"IF(C7779=0,\"\",C7779-C7778)","v":""}]
[null,""]
[null,""]
[null,""]
[null,""]
[null,""]
[null,""]
[null,""]
[null,""]
[null,""]
[null,""]
[null,""]
[null,""]
[null,""]
[null,""]
[null,""]
[null,""]
[null,""]
[null,""]
[null,""]
[null,""]
[null,""]
[null,""]
[null,""]
[null,""]
[null,""]
[null,""]
[null,""]
[null,""]
[null,""]
[null,""]
[null,""]
[null,""]
[null,""]
[null,""]
[null,""]
[null,""]
[null,""]
[null,""]
[null,""]
[null,""]
[null,""]
[null,""]
[null,""]
[null,""]
[null,""]
[null,""]
[null,""]
[null,""]
[null,""]
[null,""]
[null,""]
[null,""]
[null,""]
[null,""]
[null,""]
[null,""]
[null,""]
[null,""]
[null,""]
[null,""]
[null,""]
[null,""]
[null,""]
[null,{"$f":"IF(C7843=0,\"\",C7843-C7842)","v":""}]
[null,""]
[null,""]
[null,""]
[null,""]
[null,""]
[null,""]
[null,""]
[null,""]
[null,""]
[null,""]
[null,""]
[null,""]
[null,""]
[null,""]
[null,""]
[null,""]
[null,""]
[null,""]
[null,""]
[null,""]
[null,""]
[null,""]
[null,""]
[null,""]
[null,""]
[null,""]
[null,""]
[null,""]
[null,""]
[null,""]
[null,""]
[null,""]
[null,""]
[null,""]
[null,""]
[null,""]
[null,""]
[null,""]
[null,""]
[null,""]
[null,""]
[null,""]
[null,""]
[null,""]
[null,""]
[null,""]
[null,""]
[null,""]
[null,""]
[null,""]
[null,""]
[null,""]
[null,""]
[null,""]
[null,""]
[null,""]
[null,""]
[null,""]
[null,""]
[null,""]
[null,""]
[null,""]
[null,""]
[null,{"$f":"IF(C7907=0,\"\",C7907-C7906)","v":""}]
[null,""]
[null,""]
[null,""]
[null,""]
[null,""]
[null,""]
[null,""]
[null,""]
[null,""]
[null,""]
[null,""]
[null,""]
[null,""]
[null,""]
[null,""]
[null,""]
[null,""]
[null,""]
[null,""]
[null,""]
[null,""]
[null,""]
[null,""]
[null,""]
[null,""]
[null,""]
[null,""]
[null,""]
[null,""]
[null,""]
[null,""]
[null,""]
[null,""]
[null,""]
[null,""]
[null,""]
[null,""]
[null,""]
[null,""]
[null,""]
[null,""]
[null,""]
[null,""]
[null,""]
[null,""]
[null,""]
[null,""]
[null,""]
[null,""]
[null,""]
[null,""]
[null,""]
[null,""]
[null,""]
[null,""]
[null,""]
[null,""]
[null,""]
[null,""]
[null,""]
[null,""]
[null,""]
[null,""]
[null,{"$f":"IF(C7971=0,\"\",C7971-C7970)","v":""}]
[null,""]
[null,""]
[null,""]
[null,""]
[null,""]
[null,""]
[null,""]
[null,""]
[null,""]
[null,""]
[null,""]
[null,""]
[null,""]
[null,""]
[null,""]
[null,""]
[null,""]
[null,""]
[null,""]
[null,""]
[null,""]
[null,""]
[null,""]
[null,""]
[null,""]
[null,""]
[null,""]
[null,""]
[null,""]
[null,""]
[null,""]
[null,""]
[null,""]
[null,""]
[null,""]
[null,""]
[null,""]
[null,""]
[null,""]
[null,""]
[null,""]
[null,""]
[null,""]
[null,""]
[null,""]
[null,""]
[null,""]
[null,""]
[null,""]
[null,""]
[null,""]
[null,""]
[null,""]
[null,""]
[null,""]
[null,""]
[null,""]
[null,""]
[null,""]
[null,""]
[null,""]
[null,""]
[null,""]
[null,{"$f":"IF(C8035=0,\"\",C8035-C8034)","v":""}]
[null,""]
[null,""]
[null,""]
[null,""]
[null,""]
[null,""]
[null,""]
[null,""]
[null,""]
[null,""]
[null,""]
[null,""]
[null,""]
[null,""]
[null,""]
[null,""]
[null,""]
[null,""]
[null,""]
[null,""]
[null,""]
[null,""]
[null,""]
[null,""]
[null,""]
[null,""]
[null,""]
[null,""]
[null,""]
[null,""]
[null,""]
[null,""]
[null,""]
[null,""]
[null,""]
[null,""]
[null,""]
[null,""]
[null,""]
[null,""]
[null,""]
[null,""]
[null,""]
[null,""]
[null,""]
[null,""]
[null,""]
[null,""]
[null,""]
[null,""]
[null,""]
[null,""]
[null,""]
[null,""]
[null,""]
[null,""]
[null,""]
[null,""]
[null,""]
[null,""]
[null,""]
[null,""]
[null,""]
[null,{"$f":"IF(C8099=0,\"\",C8099-C8098)","v":""}]
[null,""]
[null,""]
[null,""]
[null,""]
[null,""]
[null,""]
[null,""]
[null,""]
[null,""]
[null,""]
[null,""]
[null,""]
[null,""]
[null,""]
[null,""]
[null,""]
[null,""]
[null,""]
[null,""]
[null,""]
[null,""]
[null,""]
[null,""]
[null,""]
[null,""]
[null,""]
[null,""]
[null,""]
[null,""]
[null,""]
[null,""]
[null,""]
[null,""]
[null,""]
[null,""]
[null,""]
[null,""]
[null,""]
[null,""]
[null,""]
[null,""]
[null,""]
[null,""]
[null,""]
[null,""]
[null,""]
[null,""]
[null,""]
[null,""]
[null,""]
[null,""]
[null,""]
[null,""]
[null,""]
[null,""]
[null,""]
[null,""]
[null,""]
[null,""]
[null,""]
[null,""]
[null,""]
[null,""]
[null,{"$f":"IF(C8163=0,\"\",C8163-C8162)","v":""}]
[null,""]
[null,""]
[null,""]
[null,""]
[null,""]
[null,""]
[null,""]
[null,""]
[null,""]
[null,""]
[null,""]
[null,""]
[null,""]
[null,""]
[null,""]
[null,""]
[null,""]
[null,""]
[null,""]
[null,""]
[null,""]
[null,""]
[null,""]
[null,""]
[null,""]
[null,""]
[null,""]
[null,""]
[null,""]
[null,""]
[null,""]
[null,""]
[null,""]
[null,""]
[null,""]
[null,""]
[null,""]
[null,""]
[null,""]
[null,""]
[null,""]
[null,""]
[null,""]
[null,""]
[null,""]
[null,""]
[null,""]
[null,""]
[null,""]
[null,""]
[null,""]
[null,""]
[null,""]
[null,""]
[null,""]
[null,""]
[null,""]
[null,""]
[null,""]
[null,""]
[null,""]
[null,""]
[null,""]
[null,{"$f":"IF(C8227=0,\"\",C8227-C8226)","v":""}]
[null,""]
[null,""]
[null,""]
[null,""]
[null,""]
[null,""]
[null,""]
[null,""]
[null,""]
[null,""]
[null,""]
[null,""]
[null,""]
[null,""]
[null,""]
[null,""]
[null,""]
[null,""]
[null,""]
[null,""]
[null,""]
[null,""]
[null,""]
[null,""]
[null,""]
[null,""]
[null,""]
[null,""]
[null,""]
[null,""]
[null,""]
[null,""]
[null,""]
[null,""]
[null,""]
[null,""]
[null,""]
[null,""]
[null,""]
[null,""]
[null,""]
[null,""]
[null,""]
[null,""]
[null,""]
[null,""]
[null,""]
[null,""]
[null,""]
[null,""]
[null,""]
[null,""]
[null,""]
[null,""]
[null,""]
[null,""]
[null,""]
[null,""]
[null,""]
[null,""]
[null,""]
[null,""]
[null,""]
[null,{"$f":"IF(C8291=0,\"\",C8291-C8290)","v":""}]
[null,""]
[null,""]
[null,""]
[null,""]
[null,""]
[null,""]
[null,""]
[null,""]
[null,""]
[null,""]
[null,""]
[null,""]
[null,""]
[null,""]
[null,""]
[null,""]
[null,""]
[null,""]
[null,""]
[null,""]
[null,""]
[null,""]
[null,""]
[null,""]
[null,""]
[null,""]
[null,""]
[null,""]
[null,""]
[null,""]
[null,""]
[null,""]
[null,""]
[null,""]
[null,""]
[null,""]
[null,""]
[null,""]
[null,""]
[null,""]
[null,""]
[null,""]
[null,""]
[null,""]
[null,""]
[null,""]
[null,""]
[null,""]
[null,""]
[null,""]
[null,""]
[null,""]
[null,""]
[null,""]
[null,""]
[null,""]
[null,""]
[null,""]
[null,""]
[null,""]
[null,""]
[null,""]
[null,""]
[null,{"$f":"IF(C8355=0,\"\",C8355-C8354)","v":""}]
[null,""]
[null,""]
[null,""]
[null,""]
[null,""]
[null,""]
[null,""]
[null,""]
[null,""]
[null,""]
[null,""]
[null,""]
[null,""]
[null,""]
[null,""]
[null,""]
[null,""]
[null,""]
[null,""]
[null,""]
[null,""]
[null,""]
[null,""]
[null,""]
[null,""]
[null,""]
[null,""]
[null,""]
[null,""]
[null,""]
[null,""]
[null,""]
[null,""]
[null,""]
[null,""]
[null,""]
[null,""]
[null,""]
[null,""]
[null,""]
[null,""]
[null,""]
[null,""]
[null,""]
[null,""]
[null,""]
[null,""]
[null,""]
[null,""]
[null,""]
[null,""]
[null,""]
[null,""]
[null,""]
[null,""]
[null,""]
[null,""]
[null,""]
[null,""]
[null,""]
[null,""]
[null,""]
[null,""]
[null,{"$f":"IF(C8419=0,\"\",C8419-C8418)","v":""}]
[null,""]
[null,""]
[null,""]
[null,""]
[null,""]
[null,""]
[null,""]
[null,""]
[null,""]
[null,""]
[null,""]
[null,""]
[null,""]
[null,""]
[null,""]
[null,""]
[null,""]
[null,""]
[null,""]
[null,""]
[null,""]
[null,""]
[null,""]
[null,""]
[null,""]
[null,""]
[null,""]
[null,""]
[null,""]
[null,""]
[null,""]
[null,""]
[null,""]
[null,""]
[null,""]
[null,""]
[null,""]
[null,""]
[null,""]
[null,""]
[null,""]
[null,""]
[null,""]
[null,""]
[null,""]
[null,""]
[null,""]
[null,""]
[null,""]
[null,""]
[null,""]
[null,""]
[null,""]
[null,""]
[null,""]
[null,""]
[null,""]
[null,""]
[null,""]
[null,""]
[null,""]
[null,""]
[null,""]
[null,{"$f":"IF(C8483=0,\"\",C8483-C8482)","v":""}]
[null,""]
[null,""]
[null,""]
[null,""]
[null,""]
[null,""]
[null,""]
[null,""]
[null,""]
[null,""]
[null,""]
[null,""]
[null,""]
[null,""]
[null,""]
[null,""]
[null,""]
[null,""]
[null,""]
[null,""]
[null,""]
[null,""]
[null,""]
[null,""]
[null,""]
[null,""]
[null,""]
[null,""]
[null,""]
[null,""]
[null,""]
[null,""]
[null,""]
[null,""]
[null,""]
[null,""]
[null,""]
[null,""]
[null,""]
[null,""]
[null,""]
[null,""]
[null,""]
[null,""]
[null,""]
[null,""]
[null,""]
[null,""]
[null,""]
[null,""]
[null,""]
[null,""]
[null,""]
[null,""]
[null,""]
[null,""]
[null,""]
[null,""]
[null,""]
[null,""]
[null,""]
[null,""]
[null,""]
[null,{"$f":"IF(C8547=0,\"\",C8547-C8546)","v":""}]
[null,""]
[null,""]
[null,""]
[null,""]
[null,""]
[null,""]
[null,""]
[null,""]
[null,""]
[null,""]
[null,""]
[null,""]
[null,""]
[null,""]
[null,""]
[null,""]
[null,""]
[null,""]
[null,""]
[null,""]
[null,""]
[null,""]
[null,""]
[null,""]
[null,""]
[null,""]
[null,""]
[null,""]
[null,""]
[null,""]
[null,""]
[null,""]
[null,""]
[null,""]
[null,""]
[null,""]
[null,""]
[null,""]
[null,""]
[null,""]
[null,""]
[null,""]
[null,""]
[null,""]
[null,""]
[null,""]
[null,""]
[null,""]
[null,""]
[null,""]
[null,""]
[null,""]
[null,""]
[null,""]
[null,""]
[null,""]
[null,""]
[null,""]
[null,""]
[null,""]
[null,""]
[null,""]
[null,""]
[null,{"$f":"IF(C8611=0,\"\",C8611-C8610)","v":""}]
[null,""]
[null,""]
[null,""]
[null,""]
[null,""]
[null,""]
[null,""]
[null,""]
[null,""]
[null,""]
[null,""]
[null,""]
[null,""]
[null,""]
[null,""]
[null,""]
[null,""]
[null,""]
[null,""]
[null,""]
[null,""]
[null,""]
[null,""]
[null,""]
[null,""]
[null,""]
[null,""]
[null,""]
[null,""]
[null,""]
[null,""]
[null,""]
[null,""]
[null,""]
[null,""]
[null,""]
[null,""]
[null,""]
[null,""]
[null,""]
[null,""]
[null,""]
[null,""]
[null,""]
[null,""]
[null,""]
[null,""]
[null,""]
[null,""]
[null,""]
[null,""]
[null,""]
[null,""]
[null,""]
[null,""]
[null,""]
[null,""]
[null,""]
[null,""]
[null,""]
[null,""]
[null,""]
[null,""]
[null,{"$f":"IF(C8675=0,\"\",C8675-C8674)","v":""}]
[null,""]
[null,""]
[null,""]
[null,""]
[null,""]
[null,""]
[null,""]
[null,""]
[null,""]
[null,""]
[null,""]
[null,""]
[null,""]
[null,""]
[null,""]
[null,""]
[null,""]
[null,""]
[null,""]
[null,""]
[null,""]
[null,""]
[null,""]
[null,""]
[null,""]
[null,""]
[null,""]
[null,""]
[null,""]
[null,""]
[null,""]
[null,""]
[null,""]
[null,""]
[null,""]
[null,""]
[null,""]
[null,""]
[null,""]
[null,""]
[null,""]
[null,""]
[null,""]
[null,""]
[null,""]
[null,""]
[null,""]
[null,""]
[null,""]
[null,""]
[null,""]
[null,""]
[null,""]
[null,""]
[null,""]
[null,""]
[null,""]
[null,""]
[null,""]
[null,""]
[null,""]
[null,""]
[null,""]
[null,{"$f":"IF(C8739=0,\"\",C8739-C8738)","v":""}]
[null,""]
[null,""]
[null,""]
[null,""]
[null,""]
[null,""]
[null,""]
[null,""]
[null,""]
[null,""]
[null,""]
[null,""]
[null,""]
[null,""]
[null,""]
[null,""]
[null,""]
[null,""]
[null,""]
[null,""]
[null,""]
[null,""]
[null,""]
[null,""]
[null,""]
[null,""]
[null,""]
[null,""]
[null,""]
[null,""]
[null,""]
[null,""]
[null,""]
[null,""]
[null,""]
[null,""]
[null,""]
[null,""]
[null,""]
[null,""]
[null,""]
[null,""]
[null,""]
[null,""]
[null,""]
[null,""]
[null,""]
[null,""]
[null,""]
[null,""]
[null,""]
[null,""]
[null,""]
[null,""]
[null,""]
[null,""]
[null,""]
[null,""]
[null,""]
[null,""]
[null,""]
[null,""]
[null,""]
[null,{"$f":"IF(C8803=0,\"\",C8803-C8802)","v":""}]
[null,""]
[null,""]
[null,""]
[null,""]
[null,""]
[null,""]
[null,""]
[null,""]
[null,""]
[null,""]
[null,""]
[null,""]
[null,""]
[null,""]
[null,""]
[null,""]
[null,""]
[null,""]
[null,""]
[null,""]
[null,""]
[null,""]
[null,""]
[null,""]
[null,""]
[null,""]
[null,""]
[null,""]
[null,""]
[null,""]
[null,""]
[null,""]
[null,""]
[null,""]
[null,""]
[null,""]
[null,""]
[null,""]
[null,""]
[null,""]
[null,""]
[null,""]
[null,""]
[null,""]
[null,""]
[null,""]
[null,""]
[null,""]
[null,""]
[null,""]
[null,""]
[null,""]
[null,""]
[null,""]
[null,""]
[null,""]
[null,""]
[null,""]
[null,""]
[null,""]
[null,""]
[null,""]
[null,""]
[null,{"$f":"IF(C8867=0,\"\",C8867-C8866)","v":""}]
[null,""]
[null,""]
[null,""]
[null,""]
[null,""]
[null,""]
[null,""]
[null,""]
[null,""]
[null,""]
[null,""]
[null,""]
[null,""]
[null,""]
[null,""]
[null,""]
[null,""]
[null,""]
[null,""]
[null,""]
[null,""]
[null,""]
[null,""]
[null,""]
[null,""]
[null,""]
[null,""]
[null,""]
[null,""]
[null,""]
[null,""]
[null,""]
[null,""]
[null,""]
[null,""]
[null,""]
[null,""]
[null,""]
[null,""]
[null,""]
[null,""]
[null,""]
[null,""]
[null,""]
[null,""]
[null,""]
[null,""]
[null,""]
[null,""]
[null,""]
[null,""]
[null,""]
[null,""]
[null,""]
[null,""]
[null,""]
[null,""]
[null,""]
[null,""]
[null,""]
[null,""]
[null,""]
[null,""]
[null,{"$f":"IF(C8931=0,\"\",C8931-C8930)","v":""}]
[null,""]
[null,""]
[null,""]
[null,""]
[null,""]
[null,""]
[null,""]
[null,""]
[null,""]
[null,""]
[null,""]
[null,""]
[null,""]
[null,""]
[null,""]
[null,""]
[null,""]
[null,""]
[null,""]
[null,""]
[null,""]
[null,""]
[null,""]
[null,""]
[null,""]
[null,""]
[null,""]
[null,""]
[null,""]
[null,""]
[null,""]
[null,""]
[null,""]
[null,""]
[null,""]
[null,""]
[null,""]
[null,""]
[null,""]
[null,""]
[null,""]
[null,""]
[null,""]
[null,""]
[null,""]
[null,""]
[null,""]
[null,""]
[null,""]
[null,""]
[null,""]
[null,""]
[null,""]
[null,""]
[null,""]
[null,""]
[null,""]
[null,""]
[null,""]
[null,""]
[null,""]
[null,""]
[null,""]
[null,{"$f":"IF(C8995=0,\"\",C8995-C8994)","v":""}]
[null,""]
[null,""]
[null,""]
[null,""]
[null,""]
[null,""]
[null,""]
[null,""]
[null,""]
[null,""]
[null,""]
[null,""]
[null,""]
[null,""]
[null,""]
[null,""]
[null,""]
[null,""]
[null,""]
[null,""]
[null,""]
[null,""]
[null,""]
[null,""]
[null,""]
[null,""]
[null,""]
[null,""]
[null,""]
[null,""]
[null,""]
[null,""]
[null,""]
[null,""]
[null,""]
[null,""]
[null,""]
[null,""]
[null,""]
[null,""]
[null,""]
[null,""]
[null,""]
[null,""]
[null,""]
[null,""]
[null,""]
[null,""]
[null,""]
[null,""]
[null,""]
[null,""]
[null,""]
[null,""]
[null,""]
[null,""]
[null,""]
[null,""]
[null,""]
[null,""]
[null,""]
[null,""]
[null,""]
[null,{"$f":"IF(C9059=0,\"\",C9059-C9058)","v":""}]
[null,""]
[null,""]
[null,""]
[null,""]
[null,""]
[null,""]
[null,""]
[null,""]
[null,""]
[null,""]
[null,""]
[null,""]
[null,""]
[null,""]
[null,""]
[null,""]
[null,""]
[null,""]
[null,""]
[null,""]
[null,""]
[null,""]
[null,""]
[null,""]
[null,""]
[null,""]
[null,""]
[null,""]
[null,""]
[null,""]
[null,""]
[null,""]
[null,""]
[null,""]
[null,""]
[null,""]
[null,""]
[null,""]
[null,""]
[null,""]
[null,""]
[null,""]
[null,""]
[null,""]
[null,""]
[null,""]
[null,""]
[null,""]
[null,""]
[null,""]
[null,""]
[null,""]
[null,""]
[null,""]
[null,""]
[null,""]
[null,""]
[null,""]
[null,""]
[null,""]
[null,""]
[null,""]
[null,""]
[null,{"$f":"IF(C9123=0,\"\",C9123-C9122)","v":""}]
[null,""]
[null,""]
[null,""]
[null,""]
[null,""]
[null,""]
[null,""]
[null,""]
[null,""]
[null,""]
[null,""]
[null,""]
[null,""]
[null,""]
[null,""]
[null,""]
[null,""]
[null,""]
[null,""]
[null,""]
[null,""]
[null,""]
[null,""]
[null,""]
[null,""]
[null,""]
[null,""]
[null,""]
[null,""]
[null,""]
[null,""]
[null,""]
[null,""]
[null,""]
[null,""]
[null,""]
[null,""]
[null,""]
[null,""]
[null,""]
[null,""]
[null,""]
[null,""]
[null,""]
[null,""]
[null,""]
[null,""]
[null,""]
[null,""]
[null,""]
[null,""]
[null,""]
[null,""]
[null,""]
[null,""]
[null,""]
[null,""]
[null,""]
[null,""]
[null,""]
[null,""]
[null,""]
[null,""]
[null,{"$f":"IF(C9187=0,\"\",C9187-C9186)","v":""}]
[null,""]
[null,""]
[null,""]
[null,""]
[null,""]
[null,""]
[null,""]
[null,""]
[null,""]
[null,""]
[null,""]
[null,""]
[null,""]
[null,""]
[null,""]
[null,""]
[null,""]
[null,""]
[null,""]
[null,""]
[null,""]
[null,""]
[null,""]
[null,""]
[null,""]
[null,""]
[null,""]
[null,""]
[null,""]
[null,""]
[null,""]
[null,""]
[null,""]
[null,""]
[null,""]
[null,""]
[null,""]
[null,""]
[null,""]
[null,""]
[null,""]
[null,""]
[null,""]
[null,""]
[null,""]
[null,""]
[null,""]
[null,""]
[null,""]
[null,""]
[null,""]
[null,""]
[null,""]
[null,""]
[null,""]
[null,""]
[null,""]
[null,""]
[null,""]
[null,""]
[null,""]
[null,""]
[null,""]
[null,{"$f":"IF(C9251=0,\"\",C9251-C9250)","v":""}]
[null,""]
[null,""]
[null,""]
[null,""]
[null,""]
[null,""]
[null,""]
[null,""]
[null,""]
[null,""]
[null,""]
[null,""]
[null,""]
[null,""]
[null,""]
[null,""]
[null,""]
[null,""]
[null,""]
[null,""]
[null,""]
[null,""]
[null,""]
[null,""]
[null,""]
[null,""]
[null,""]
[null,""]
[null,""]
[null,""]
[null,""]
[null,""]
[null,""]
[null,""]
[null,""]
[null,""]
[null,""]
[null,""]
[null,""]
[null,""]
[null,""]
[null,""]
[null,""]
[null,""]
[null,""]
[null,""]
[null,""]
[null,""]
[null,""]
[null,""]
[null,""]
[null,""]
[null,""]
[null,""]
[null,""]
[null,""]
[null,""]
[null,""]
[null,""]
[null,""]
[null,""]
[null,""]
[null,""]
[null,{"$f":"IF(C9315=0,\"\",C9315-C9314)","v":""}]
[null,""]
[null,""]
[null,""]
[null,""]
[null,""]
[null,""]
[null,""]
[null,""]
[null,""]
[null,""]
[null,""]
[null,""]
[null,""]
[null,""]
[null,""]
[null,""]
[null,""]
[null,""]
[null,""]
[null,""]
[null,""]
[null,""]
[null,""]
[null,""]
[null,""]
[null,""]
[null,""]
[null,""]
[null,""]
[null,""]
[null,""]
[null,""]
[null,""]
[null,""]
[null,""]
[null,""]
[null,""]
[null,""]
[null,""]
[null,""]
[null,""]
[null,""]
[null,""]
[null,""]
[null,""]
[null,""]
[null,""]
[null,""]
[null,""]
[null,""]
[null,""]
[null,""]
[null,""]
[null,""]
[null,""]
[null,""]
[null,""]
[null,""]
[null,""]
[null,""]
[null,""]
[null,""]
[null,""]
[null,{"$f":"IF(C9379=0,\"\",C9379-C9378)","v":""}]
[null,""]
[null,""]
[null,""]
[null,""]
[null,""]
[null,""]
[null,""]
[null,""]
[null,""]
[null,""]
[null,""]
[null,""]
[null,""]
[null,""]
[null,""]
[null,""]
[null,""]
[null,""]
[null,""]
[null,""]
[null,""]
[null,""]
[null,""]
[null,""]
[null,""]
[null,""]
[null,""]
[null,""]
[null,""]
[null,""]
[null,""]
[null,""]
[null,""]
[null,""]
[null,""]
[null,""]
[null,""]
[null,""]
[null,""]
[null,""]
[null,""]
[null,""]
[null,""]
[null,""]
[null,""]
[null,""]
[null,""]
[null,""]
[null,""]
[null,""]
[null,""]
[null,""]
[null,""]
[null,""]
[null,""]
[null,""]
[null,""]
[null,""]
[null,""]
[null,""]
[null,""]
[null,""]
[null,""]
[null,{"$f":"IF(C9443=0,\"\",C9443-C9442)","v":""}]
[null,""]
[null,""]
[null,""]
[null,""]
[null,""]
[null,""]
[null,""]
[null,""]
[null,""]
[null,""]
[null,""]
[null,""]
[null,""]
[null,""]
[null,""]
[null,""]
[null,""]
[null,""]
[null,""]
[null,""]
[null,""]
[null,""]
[null,""]
[null,""]
[null,""]
[null,""]
[null,""]
[null,""]
[null,""]
[null,""]
[null,""]
[null,""]
[null,""]
[null,""]
[null,""]
[null,""]
[null,""]
[null,""]
[null,""]
[null,""]
[null,""]
[null,""]
[null,""]
[null,""]
[null,""]
[null,""]
[null,""]
[null,""]
[null,""]
[null,""]
[null,""]
[null,""]
[null,""]
[null,""]
[null,""]
[null,""]
[null,""]
[null,""]
[null,""]
[null,""]
[null,""]
[null,""]
[null,""]
[null,{"$f":"IF(C9507=0,\"\",C9507-C9506)","v":""}]
[null,""]
[null,""]
[null,""]
[null,""]
[null,""]
[null,""]
[null,""]
[null,""]
[null,""]
[null,""]
[null,""]
[null,""]
[null,""]
[null,""]
[null,""]
[null,""]
[null,""]
[null,""]
[null,""]
[null,""]
[null,""]
[null,""]
[null,""]
[null,""]
[null,""]
[null,""]
[null,""]
[null,""]
[null,""]
[null,""]
[null,""]
[null,""]
[null,""]
[null,""]
[null,""]
[null,""]
[null,""]
[null,""]
[null,""]
[null,""]
[null,""]
[null,""]
[null,""]
[null,""]
[null,""]
[null,""]
[null,""]
[null,""]
[null,""]
[null,""]
[null,""]
[null,""]
[null,""]
[null,""]
[null,""]
[null,""]
[null,""]
[null,""]
[null,""]
[null,""]
[null,""]
[null,""]
[null,""]
[null,{"$f":"IF(C9571=0,\"\",C9571-C9570)","v":""}]
[null,""]
[null,""]
[null,""]
[null,""]
[null,""]
[null,""]
[null,""]
[null,""]
[null,""]
[null,""]
[null,""]
[null,""]
[null,""]
[null,""]
[null,""]
[null,""]
[null,""]
[null,""]
[null,""]
[null,""]
[null,""]
[null,""]
[null,""]
[null,""]
[null,""]
[null,""]
[null,""]
[null,""]
[null,""]
[null,""]
[null,""]
[null,""]
[null,""]
[null,""]
[null,""]
[null,""]
[null,""]
[null,""]
[null,""]
[null,""]
[null,""]
[null,""]
[null,""]
[null,""]
[null,""]
[null,""]
[null,""]
[null,""]
[null,""]
[null,""]
[null,""]
[null,""]
[null,""]
[null,""]
[null,""]
[null,""]
[null,""]
[null,""]
[null,""]
[null,""]
[null,""]
[null,""]
[null,""]
[null,{"$f":"IF(C9635=0,\"\",C9635-C9634)","v":""}]
[null,""]
[null,""]
[null,""]
[null,""]
[null,""]
[null,""]
[null,""]
[null,""]
[null,""]
[null,""]
[null,""]
[null,""]
[null,""]
[null,""]
[null,""]
[null,""]
[null,""]
[null,""]
[null,""]
[null,""]
[null,""]
[null,""]
[null,""]
[null,""]
[null,""]
[null,""]
[null,""]
[null,""]
[null,""]
[null,""]
[null,""]
[null,""]
[null,""]
[null,""]
[null,""]
[null,""]
[null,""]
[null,""]
[null,""]
[null,""]
[null,""]
[null,""]
[null,""]
[null,""]
[null,""]
[null,""]
[null,""]
[null,""]
[null,""]
[null,""]
[null,""]
[null,""]
[null,""]
[null,""]
[null,""]
[null,""]
[null,""]
[null,""]
[null,""]
[null,""]
[null,""]
[null,""]
[null,""]
[null,{"$f":"IF(C9699=0,\"\",C9699-C9698)","v":""}]
[null,""]
[null,""]
[null,""]
[null,""]
[null,""]
[null,""]
[null,""]
[null,""]
[null,""]
[null,""]
[null,""]
[null,""]
[null,""]
[null,""]
[null,""]
[null,""]
[null,""]
[null,""]
[null,""]
[null,""]
[null,""]
[null,""]
[null,""]
[null,""]
[null,""]
[null,""]
[null,""]
[null,""]
[null,""]
[null,""]
[null,""]
[null,""]
[null,""]
[null,""]
[null,""]
[null,""]
[null,""]
[null,""]
[null,""]
[null,""]
[null,""]
[null,""]
[null,""]
[null,""]
[null,""]
[null,""]
[null,""]
[null,""]
[null,""]
[null,""]
[null,""]
[null,""]
[null,""]
[null,""]
[null,""]
[null,""]
[null,""]
[null,""]
[null,""]
[null,""]
[null,""]
[null,""]
[null,""]
[null,{"$f":"IF(C9763=0,\"\",C9763-C9762)","v":""}]
[null,""]
[null,""]
[null,""]
[null,""]
[null,""]
[null,""]
[null,""]
[null,""]
[null,""]
[null,""]
[null,""]
[null,""]
[null,""]
[null,""]
[null,""]
[null,""]
[null,""]
[null,""]
[null,""]
[null,""]
[null,""]
[null,""]
[null,""]
[null,""]
[null,""]
[null,""]
[null,""]
[null,""]
[null,""]
[null,""]
[null,""]
[null,""]
[null,""]
[null,""]
[null,""]
[null,""]
[null,""]
[null,""]
[null,""]
[null,""]
[null,""]
[null,""]
[null,""]
[null,""]
[null,""]
[null,""]
[null,""]
[null,""]
[null,""]
[null,""]
[null,""]
[null,""]
[null,""]
[null,""]
[null,""]
[null,""]
[null,""]
[null,""]
[null,""]
[null,""]
[null,""]
[null,""]
[null,""]
[null,{"$f":"IF(C9827=0,\"\",C9827-C9826)","v":""}]
[null,""]
[null,""]
[null,""]
[null,""]
[null,""]
[null,""]
[null,""]
[null,""]
[null,""]
[null,""]
[null,""]
[null,""]
[null,""]
[null,""]
[null,""]
[null,""]
[null,""]
[null,""]
[null,""]
[null,""]
[null,""]
[null,""]
[null,""]
[null,""]
[null,""]
[null,""]
[null,""]
[null,""]
[null,""]
[null,""]
[null,""]
[null,""]
[null,""]
[null,""]
[null,""]
[null,""]
[null,""]
[null,""]
[null,""]
[null,""]
[null,""]
[null,""]
[null,""]
[null,""]
[null,""]
[null,""]
[null,""]
[null,""]
[null,""]
[null,""]
[null,""]
[null,""]
[null,""]
[null,""]
[null,""]
[null,""]
[null,""]
[null,""]
[null,""]
[null,""]
[null,""]
[null,""]
[null,""]
[null,{"$f":"IF(C9891=0,\"\",C9891-C9890)","v":""}]
[null,""]
[null,""]
[null,""]
[null,""]
[null,""]
[null,""]
[null,""]
[null,""]
[null,""]
[null,""]
[null,""]
[null,""]
[null,""]
[null,""]
[null,""]
[null,""]
[null,""]
[null,""]
[null,""]
[null,""]
[null,""]
[null,""]
[null,""]
[null,""]
[null,""]
[null,""]
[null,""]
[null,""]
[null,""]
[null,""]
[null,""]
[null,""]
[null,""]
[null,""]
[null,""]
[null,""]
[null,""]
[null,""]
[null,""]
[null,""]
[null,""]
[null,""]
[null,""]
[null,""]
[null,""]
[null,""]
[null,""]
[null,""]
[null,""]
[null,""]
[null,""]
[null,""]
[null,""]
[null,""]
[null,""]
[null,""]
[null,""]
[null,""]
[null,""]
[null,""]
[null,""]
[null,""]
[null,""]
[null,{"$f":"IF(C9955=0,\"\",C9955-C9954)","v":""}]
[null,""]
[null,""]
[null,""]
[null,""]
[null,""]
[null,""]
[null,""]
[null,""]
[null,""]
[null,""]
[null,""]
[null,""]
[null,""]
[null,""]
[null,""]
[null,""]
[null,""]
[null,""]
[null,""]
[null,""]
[null,""]
[null,""]
[null,""]
[null,""]
[null,""]
[null,""]
[null,""]
[null,""]
[null,""]
[null,""]
[null,""]
[null,""]
[null,""]
[null,""]
[null,""]
[null,""]
[null,""]
[null,""]
[null,""]
[null,""]
[null,""]
[null,""]
[null,""]
[null,""]
[null,""]
[null,""]
[null,""]
[null,""]
[null,""]
[null,""]
[null,""]
[null,""]
[null,""]
[null,""]
[null,""]
[null,""]
[null,""]
[null,""]
[null,""]
[null,""]
[null,""]
[null,""]
[null,""]
[null,{"$f":"IF(C10019=0,\"\",C10019-C10018)","v":""}]
[null,""]
[null,""]
[null,""]
[null,""]
[null,""]
[null,""]
[null,""]
[null,""]
[null,""]
[null,""]
[null,""]
[null,""]
[null,""]
[null,""]
[null,""]
[null,""]
[null,""]
[null,""]
[null,""]
[null,""]
[null,""]
[null,""]
[null,""]
[null,""]
[null,""]
[null,""]
[null,""]
[null,""]
[null,""]
[null,""]
[null,""]
[null,""]
[null,""]
[null,""]
[null,""]
[null,""]
[null,""]
[null,""]
[null,""]
[null,""]
[null,""]
[null,""]
[null,""]
[null,""]
[null,""]
[null,""]
[null,""]
[null,""]
[null,""]
[null,""]
[null,""]
[null,""]
[null,""]
[null,""]
[null,""]
[null,""]
[null,""]
[null,""]
[null,""]
[null,""]
[null,""]
[null,""]
[null,""]
[null,{"$f":"IF(C10083=0,\"\",C10083-C10082)","v":""}]
[null,""]
[null,""]
[null,""]
[null,""]
[null,""]
[null,""]
[null,{"$f":"IF(C10090=0,\"\",C10090-C10089)","v":""}]

{"sheet":"Condition 2","index":6,"n_rows":10089,"n_cols":30,"rows_kept":10089,"cut":false,"hidden":false,"merged":[[205,0,205,3],[206,0,210,1],[206,2,206,3],[207,2,207,3],[208,2,208,3],[209,2,209,3],[210,2,210,3],[211,0,211,3],[212,0,216,1],[212,2,212,3],[213,2,213,3],[214,2,214,3],[215,2,215,3],[216,2,216,3],[193,0,193,3],[194,0,198,1],[194,2,194,3],[195,2,195,3],[196,2,196,3],[197,2,197,3],[198,2,198,3],[199,0,199,3],[200,0,204,1],[200,2,200,3],[201,2,201,3],[202,2,202,3],[203,2,203,3],[204,2,204,3],[181,0,181,3],[182,0,186,1],[182,2,182,3],[183,2,183,3],[184,2,184,3],[185,2,185,3],[186,2,186,3],[187,0,187,3],[188,0,192,1],[188,2,188,3],[189,2,189,3],[190,2,190,3],[191,2,191,3],[192,2,192,3],[170,0,174,1],[170,2,170,3],[171,2,171,3],[172,2,172,3],[173,2,173,3],[174,2,174,3],[175,0,175,3],[176,0,180,1],[176,2,176,3],[177,2,177,3],[178,2,178,3],[179,2,179,3],[180,2,180,3],[162,2,162,3],[163,0,163,3],[164,0,168,1],[164,2,164,3],[165,2,165,3],[166,2,166,3],[167,2,167,3],[168,2,168,3],[169,0,169,3],[247,5,248,5],[247,8,248,8],[247,17,248,17],[1,0,1,2],[1,3,1,6],[139,0,139,3],[140,0,144,1],[140,2,140,3],[141,2,141,3],[142,2,142,3],[143,2,143,3],[144,2,144,3],[145,0,145,3],[146,0,150,1],[146,2,146,3],[147,2,147,3],[148,2,148,3],[149,2,149,3],[150,2,150,3],[246,9,246,11],[227,0,227,3],[228,0,228,3],[229,0,229,3],[230,0,230,3],[231,0,231,3],[220,0,220,3],[221,0,221,3],[222,0,222,3],[133,0,133,3],[134,0,138,1],[134,2,134,3],[135,2,135,3],[136,2,136,3],[137,2,137,3],[138,2,138,3],[151,0,151,3],[152,0,156,1],[152,2,152,3],[153,2,153,3],[154,2,154,3],[155,2,155,3],[156,2,156,3],[157,0,157,3],[158,0,162,1],[158,2,158,3],[159,2,159,3],[160,2,160,3],[161,2,161,3],[125,2,125,3],[126,2,126,3],[128,0,132,1],[128,2,128,3],[129,2,129,3],[130,2,130,3],[131,2,131,3],[132,2,132,3],[127,0,127,3],[28,5,28,6],[29,5,29,6],[26,0,29,2],[5,0,5,2],[5,3,5,6],[6,0,6,6],[7,0,8,0],[10,0,10,3],[25,0,25,3],[25,5,25,6],[26,5,26,6],[27,5,27,6],[0,0,0,6],[2,0,2,2],[2,3,2,6],[3,0,3,2],[3,3,3,6],[4,0,4,2],[4,3,4,6],[23,0,23,6],[24,0,24,3],[24,5,24,6],[11,0,12,2],[13,0,14,2],[15,0,16,2],[17,0,18,2],[19,0,20,2],[21,0,22,1],[21,2,21,3],[22,2,22,3],[30,5,30,6],[31,5,31,6],[32,0,32,6],[33,0,33,3],[34,0,34,3],[34,4,34,6],[38,0,39,0],[38,1,38,3],[39,1,39,3],[35,0,35,3],[36,0,36,3],[30,0,31,2],[37,0,37,3],[42,0,43,0],[42,1,42,3],[43,1,43,3],[48,0,49,0],[48,1,48,3],[49,1,49,3],[45,1,45,3],[46,0,46,3],[47,0,47,3],[44,0,45,0],[44,1,44,3],[40,0,41,0],[40,1,40,3],[41,1,41,3],[50,0,51,0],[50,1,50,3],[51,1,51,3],[71,1,71,3],[58,0,59,0],[58,1,58,3],[59,1,59,3],[60,0,61,0],[60,1,60,3],[61,1,61,3],[62,0,63,0],[62,1,62,3],[63,1,63,3],[64,1,64,3],[65,1,65,3],[66,0,66,3],[67,0,67,3],[68,0,69,0],[68,1,68,3],[69,1,69,3],[70,0,71,0],[52,0,53,0],[52,1,52,3],[53,1,53,3],[70,1,70,3],[54,0,55,0],[54,1,54,3],[55,1,55,3],[56,0,56,3],[57,0,57,3],[64,0,65,0],[112,2,112,3],[113,2,113,3],[109,0,109,3],[110,0,114,1],[110,2,110,3],[223,0,223,3],[224,0,224,3],[225,0,225,3],[217,0,217,6],[218,0,218,3],[219,0,219,3],[114,2,114,3],[115,0,115,3],[116,0,120,1],[116,2,116,3],[117,2,117,3],[118,2,118,3],[119,2,119,3],[120,2,120,3],[121,0,121,3],[122,0,126,1],[122,2,122,3],[123,2,123,3],[124,2,124,3],[72,0,73,0],[72,1,72,3],[73,1,73,3],[106,2,106,3],[107,2,107,3],[108,2,108,3],[104,0,108,1],[104,2,104,3],[105,2,105,3],[96,0,96,3],[97,0,97,3],[98,0,102,1],[98,2,98,3],[99,2,99,3],[100,2,100,3],[101,2,101,3],[102,2,102,3],[103,0,103,3],[76,0,76,3],[77,0,77,3],[78,0,79,0],[78,1,78,3],[79,1,79,3],[80,0,81,0],[246,15,246,17],[246,27,246,29],[74,0,75,0],[74,1,74,3],[75,1,75,3],[244,0,244,6],[245,3,245,12],[245,13,245,14],[245,15,245,29],[246,19,246,22],[246,23,246,26],[232,0,232,3],[239,0,239,6],[240,0,240,3],[241,0,241,3],[242,0,242,3],[243,0,243,3],[226,0,226,3],[246,3,246,5],[246,6,246,8],[111,2,111,3],[80,1,80,3],[81,1,81,3],[82,0,83,0],[87,0,87,3],[88,0,89,0],[88,1,88,3],[89,1,89,3],[90,0,91,0],[90,1,90,3],[91,1,91,3],[92,0,93,0],[92,1,92,3],[93,1,93,3],[233,0,233,6],[234,0,234,3],[235,0,235,3],[236,0,236,3],[237,0,237,3],[238,0,238,3],[8,7,8,18],[10,7,10,9],[11,7,22,9],[10,10,10,12],[10,13,10,15],[10,16,10,18],[11,10,22,12],[11,13,22,15],[11,16,22,18],[82,1,82,3],[83,1,83,3],[84,0,85,0],[84,1,84,3],[85,1,85,3],[86,0,86,3],[94,0,95,0],[94,1,94,3],[95,1,95,3]]}
[{"$f":"'Test Plan'!$A$51","v":"Condition 2"}]
["AHRI Test Stand Inspection Number",null,null,{"$f":"IF('Test Plan'!$B$3=0,\" \",'Test Plan'!$B$2)","v":"FIACCL-230##-1"}]
["AHRI Test Number",null,null,{"$f":"IF('Test Plan'!$B$3=0,\" \",'Test Plan'!$B$3)","v":"ACCL-230##-1-A"}]
["Model Designation",{"$f":"IF('[2]WCCL-DS2'!B4:D4=0,\" \",'[2]WCCL-DS2'!B4:D4)","v":"DEF"},null,{"$f":"IF('Test Plan'!$B$4=0,\" \",'Test Plan'!$B$4)","v":" "}]
["Manufacturer",{"$f":"IF('[2]WCCL-DS2'!B5:D5=0,\" \",'[2]WCCL-DS2'!B5:D5)","v":43101},null,{"$f":"IF('Test Plan'!$B$5=0,\" \",'Test Plan'!$B$5)","v":" "}]
["Test Date",{"$f":"IF('[2]WCCL-DS2'!B6:D6=0,\" \",'[2]WCCL-DS2'!B6:D6)","v":{"$error":"#REF!"}}]
[]
["Measurement Time","Data Points","Units","Period (min)","Mean Intvl. (s)","Max. Intvl. (s)","Max. Intvl. for Avg. of Data (s)"]
[null,{"$f":"COUNTA(C258:C10089)","v":0},"h:mm:ss:ms",{"$f":"(INDEX(C258:C10089,$B$9)-C258)*24*60","v":{"$error":"#VALUE!"}},{"$f":"D9*60/(B9-1)","v":{"$error":"#VALUE!"}},{"$f":"MAX(B258:B10089)*60*60*24","v":0},{"$f":"D9*60/60","v":{"$error":"#VALUE!"}},"Photographs to confirm compliance with Appendix E of AHRI Standards 550/590 and 551/591"]
[]
["Air and Water Measurements",null,null,null,"Units","Evaporator","Condenser","Chiller Condenser Side 1",null,null,"Chiller Condenser Side 2",null,null,"Chiller Condenser Side 3",null,null,"Chiller Condenser Side 4"]
["Atmospheric Pressure",null,null,"Mean",{"$f":"'Test Plan'!$B$41","v":"kPa"},null,{"$f":"IF(O252=\"Yes\",$O$250,$O$256)","v":{"$error":"#DIV/0!"}},"Photo",null,null,"Photo",null,null,"Photo",null,null,"Photo"]
[null,null,null,"St. Dev.",{"$f":"'Test Plan'!$B$41","v":"kPa"},null,{"$f":"IF(O252=\"Yes\",\"Lab Data\",$O$257)","v":{"$error":"#DIV/0!"}}]
["Leaving Water Temperature",null,null,"Mean",{"$f":"'Test Conditions'!$B$18","v":"°C"},{"$f":"IF(F252=\"Yes\",$F$250,$F$256)","v":{"$error":"#DIV/0!"}}]
[null,null,null,"St. Dev.",{"$f":"'Test Conditions'!$B$18","v":"°C"},{"$f":"IF(F252=\"Yes\",\"Lab Data\",$F$257)","v":{"$error":"#DIV/0!"}}]
["Entering Db Air and Water Temperatures",null,null,"Mean",{"$f":"'Test Conditions'!$B$19","v":"°C"},{"$f":"IF(I252=\"Yes\",$I$250,$I$256)","v":{"$error":"#DIV/0!"}},{"$f":"IF(N252=\"Yes\",$N$250,$N$256)","v":{"$error":"#DIV/0!"}}]
[null,null,null,"St. Dev.",{"$f":"'Test Conditions'!$B$19","v":"°C"},{"$f":"IF(I252=\"Yes\",\"Lab Data\",$I$257)","v":{"$error":"#DIV/0!"}},{"$f":"IF(N252=\"Yes\",\"Lab Data\",$N$257)","v":{"$error":"#DIV/0!"}}]
["Water Flow Rate",null,null,"Mean",{"$f":"'Test Conditions'!$B$20","v":"m³/h"},{"$f":"$L$256","v":{"$error":"#DIV/0!"}}]
[null,null,null,"St. Dev.",{"$f":"'Test Conditions'!$B$20","v":"m³/h"},{"$f":"$L$257","v":{"$error":"#DIV/0!"}}]
["Water Pressure Drop",null,null,"Mean",{"$f":"'Test Plan'!$B$127","v":"kPa"},{"$f":"IF('Test Plan'!$B$19=\"I-P\",IF(M252=\"Yes\",$M$250/0.4331,$M$256/0.4331),IF(M252=\"Yes\",$M$250,$M$256))","v":{"$error":"#DIV/0!"}}]
[null,null,null,"St. Dev.",{"$f":"'Test Plan'!$B$127","v":"kPa"},{"$f":"IF(M252=\"Yes\",\"Lab Data\",IF('Test Plan'!$B$19=\"I-P\",$M$257/0.4331,$M$257))","v":{"$error":"#DIV/0!"}}]
[null,null,"Correction (∆padj)",null,{"$f":"'Test Plan'!$B$127","v":"kPa"}]
[null,null,"Corrected (∆pcorrected)",null,{"$f":"'Test Plan'!$B$127","v":"kPa"},{"$f":"F20-F22","v":{"$error":"#DIV/0!"}}]
[]
["Electrical Measurements",null,null,null,"Units","Total"]
["Power",null,null,null,"kW",{"$f":"IF(R252=\"Yes\",$R$250,$R$256)","v":{"$error":"#DIV/0!"}}]
["Voltage",null,null,"Mean","V",{"$f":"IF(R252=\"Yes\",\"Lab Data\",$S$256)","v":{"$error":"#DIV/0!"}}]
[null,null,null,"St. Dev.",{"$f":"E27","v":"V"},{"$f":"IF(R252=\"Yes\",\"Lab Data\",$S$257)","v":{"$error":"#DIV/0!"}}]
[null,null,null,"V1 Balance","%",{"$f":"IF(R252=\"Yes\",\"Lab Data\",ROUND(MAX(ABS($U$256-$T$256),ABS($V$256-$T$256),ABS($W$256-$T$256))/$T$256,4-(1+INT(LOG10(ABS(MAX(ABS($U$256-$T$256),ABS($V$256-$T$256),ABS($W$256-$T$256))/$T$256))))))","v":{"$error":"#DIV/0!"}}]
[null,null,null,"V2 Balance","%",{"$f":"IF(R252=\"Yes\",\"Lab Data\",ROUND(MAX(ABS($Y$256-$X$256),ABS($Z$256-$X$256),ABS($AA$256-$X$256))/$X$256,4-(1+INT(LOG10(ABS(MAX(ABS($Y$256-$X$256),ABS($Z$256-$X$256),ABS($AA$256-$X$256))/$X$256))))))","v":{"$error":"#DIV/0!"}}]
["Frequency",null,null,"Mean","Hz",{"$f":"IF(R252=\"Yes\",\"Lab Data\",$AB$256)","v":{"$error":"#DIV/0!"}}]
[null,null,null,"St. Dev.",{"$f":"E31","v":"Hz"},{"$f":"IF(R252=\"Yes\",\"Lab Data\",$AB$257)","v":{"$error":"#DIV/0!"}}]
[]
["Air Temperature Measurement",null,null,null,"Units",null,"Condenser"]
["Measurement Method"]
["# of Aspirating Psychrometers",null,null,null,"#"]
["Aspirating Psychrometer #1, Mean Air Temperature",null,null,null,{"$f":"'Test Conditions'!$B$19","v":"°C"}]
["# of Air Sampling Trees on Aspirating Psychrometer #1",null,null,null,"#",null,4]
["#1-A\nTemperatures","Air Sampling Tree Thermopile Grid",null,null,{"$f":"'Test Conditions'!$B$19","v":"°C"}]
[null,"Recirculation Thermocouple",null,null,{"$f":"'Test Conditions'!$B$19","v":"°C"}]
["#1-B\nTemperatures","Air Sampling Tree Thermopile Grid",null,null,{"$f":"'Test Conditions'!$B$19","v":"°C"}]
[null,"Recirculation Thermocouple",null,null,{"$f":"'Test Conditions'!$B$19","v":"°C"}]
["#1-C\nTemperatures","Air Sampling Tree Thermopile Grid",null,null,{"$f":"'Test Conditions'!$B$19","v":"°C"}]
[null,"Recirculation Thermocouple",null,null,{"$f":"'Test Conditions'!$B$19","v":"°C"}]
["#1-D\nTemperatures","Air Sampling Tree Thermopile Grid",null,null,{"$f":"'Test Conditions'!$B$19","v":"°C"}]
[null,"Recirculation Thermocouple",null,null,{"$f":"'Test Conditions'!$B$19","v":"°C"}]
["Aspirating Psychrometer #2, Mean Air Temperature",null,null,null,{"$f":"'Test Conditions'!$B$19","v":"°C"}]
["# of Air Sampling Trees on Aspirating Psychrometer #2",null,null,null,"#",null,4]
["#2-A\nTemperatures","Air Sampling Tree Thermopile Grid",null,null,{"$f":"'Test Conditions'!$B$19","v":"°C"}]
[null,"Recirculation Thermocouple",null,null,{"$f":"'Test Conditions'!$B$19","v":"°C"}]
["#2-B\nTemperatures","Air Sampling Tree Thermopile Grid",null,null,{"$f":"'Test Conditions'!$B$19","v":"°C"}]
[null,"Recirculation Thermocouple",null,null,{"$f":"'Test Conditions'!$B$19","v":"°C"}]
["#2-C\nTemperatures","Air Sampling Tree Thermopile Grid",null,null,{"$f":"'Test Conditions'!$B$19","v":"°C"}]
[null,"Recirculation Thermocouple",null,null,{"$f":"'Test Conditions'!$B$19","v":"°C"}]
["#2-D\nTemperatures","Air Sampling Tree Thermopile Grid",null,null,{"$f":"'Test Conditions'!$B$19","v":"°C"}]
[null,"Recirculation Thermocouple",null,null,{"$f":"'Test Conditions'!$B$19","v":"°C"}]
["Aspirating Psychrometer #3, Mean Air Temperature",null,null,null,{"$f":"'Test Conditions'!$B$19","v":"°C"}]
["# of Air Sampling Trees on Aspirating Psychrometer #3",null,null,null,"#",null,4]
["#3-A\nTemperatures","Air Sampling Tree Thermopile Grid",null,null,{"$f":"'Test Conditions'!$B$19","v":"°C"}]
[null,"Recirculation Thermocouple",null,null,{"$f":"'Test Conditions'!$B$19","v":"°C"}]
["#3-B\nTemperatures","Air Sampling Tree Thermopile Grid",null,null,{"$f":"'Test Conditions'!$B$19","v":"°C"}]
[null,"Recirculation Thermocouple",null,null,{"$f":"'Test Conditions'!$B$19","v":"°C"}]
["#3-C\nTemperatures","Air Sampling Tree Thermopile Grid",null,null,{"$f":"'Test Conditions'!$B$19","v":"°C"}]
[null,"Recirculation Thermocouple",null,null,{"$f":"'Test Conditions'!$B$19","v":"°C"}]
["#3-D\nTemperatures","Air Sampling Tree Thermopile Grid",null,null,{"$f":"'Test Conditions'!$B$19","v":"°C"}]
[null,"Recirculation Thermocouple",null,null,{"$f":"'Test Conditions'!$B$19","v":"°C"}]
["Aspirating Psychrometer #4, Mean Air Temperature",null,null,null,{"$f":"'Test Conditions'!$B$19","v":"°C"}]
["# of Air Sampling Trees on Aspirating Psychrometer #4",null,null,null,"#",null,4]
["#4-A\nTemperatures","Air Sampling Tree Thermopile Grid",null,null,{"$f":"'Test Conditions'!$B$19","v":"°C"}]
[null,"Recirculation Thermocouple",null,null,{"$f":"'Test Conditions'!$B$19","v":"°C"}]
["#4-B\nTemperatures","Air Sampling Tree Thermopile Grid",null,null,{"$f":"'Test Conditions'!$B$19","v":"°C"}]
[null,"Recirculation Thermocouple",null,null,{"$f":"'Test Conditions'!$B$19","v":"°C"}]
["#4-C\nTemperatures","Air Sampling Tree Thermopile Grid",null,null,{"$f":"'Test Conditions'!$B$19","v":"°C"}]
[null,"Recirculation Thermocouple",null,null,{"$f":"'Test Conditions'!$B$19","v":"°C"}]
["#4-D\nTemperatures","Air Sampling Tree Thermopile Grid",null,null,{"$f":"'Test Conditions'!$B$19","v":"°C"}]
[null,"Recirculation Thermocouple",null,null,{"$f":"'Test Conditions'!$B$19","v":"°C"}]
["Aspirating Psychrometer #5, Mean Air Temperature",null,null,null,{"$f":"'Test Conditions'!$B$19","v":"°C"}]
["# of Air Sampling Trees on Aspirating Psychrometer #5",null,null,null,"#",null,4]
["#5-A\nTemperatures","Air Sampling Tree Thermopile Grid",null,null,{"$f":"'Test Conditions'!$B$19","v":"°C"}]
[null,"Recirculation Thermocouple",null,null,{"$f":"'Test Conditions'!$B$19","v":"°C"}]
["#5-B\nTemperatures","Air Sampling Tree Thermopile Grid",null,null,{"$f":"'Test Conditions'!$B$19","v":"°C"}]
[null,"Recirculation Thermocouple",null,null,{"$f":"'Test Conditions'!$B$19","v":"°C"}]
["#5-C\nTemperatures","Air Sampling Tree Thermopile Grid",null,null,{"$f":"'Test Conditions'!$B$19","v":"°C"}]
[null,"Recirculation Thermocouple",null,null,{"$f":"'Test Conditions'!$B$19","v":"°C"}]
["#5-D\nTemperatures","Air Sampling Tree Thermopile Grid",null,null,{"$f":"'Test Conditions'!$B$19","v":"°C"}]
[null,"Recirculation Thermocouple",null,null,{"$f":"'Test Conditions'!$B$19","v":"°C"}]
["Aspirating Psychrometer #6, Mean Air Temperature",null,null,null,{"$f":"'Test Conditions'!$B$19","v":"°C"}]
["# of Air Sampling Trees on Aspirating Psychrometer #6",null,null,null,"#",null,4]
["#6-A\nTemperatures","Air Sampling Tree Thermopile Grid",null,null,{"$f":"'Test Conditions'!$B$19","v":"°C"}]
[null,"Recirculation Thermocouple",null,null,{"$f":"'Test Conditions'!$B$19","v":"°C"}]
["#6-B\nTemperatures","Air Sampling Tree Thermopile Grid",null,null,{"$f":"'Test Conditions'!$B$19","v":"°C"}]
[null,"Recirculation Thermocouple",null,null,{"$f":"'Test Conditions'!$B$19","v":"°C"}]
["#6-C\nTemperatures","Air Sampling Tree Thermopile Grid",null,null,{"$f":"'Test Conditions'!$B$19","v":"°C"}]
[null,"Recirculation Thermocouple",null,null,{"$f":"'Test Conditions'!$B$19","v":"°C"}]
["#6-D\nTemperatures","Air Sampling Tree Thermopile Grid",null,null,{"$f":"'Test Conditions'!$B$19","v":"°C"}]
[null,"Recirculation Thermocouple",null,null,{"$f":"'Test Conditions'!$B$19","v":"°C"}]
["# of Air Sampling Arrays",null,null,null,"#"]
["Air Sampling Array #1, Mean Air Temperature",null,null,null,{"$f":"'Test Conditions'!$B$19","v":"°C"},null,{"$f":"AVERAGE(G99:G102)","v":{"$error":"#DIV/0!"}}]
["Air Sampling Array Individual \nMeasurement Temperatures",null,"#1-A",null,{"$f":"'Test Conditions'!$B$19","v":"°C"}]
[null,null,"#1-B",null,{"$f":"'Test Conditions'!$B$19","v":"°C"}]
[null,null,"#1-C",null,{"$f":"'Test Conditions'!$B$19","v":"°C"}]
[null,null,"#1-D",null,{"$f":"'Test Conditions'!$B$19","v":"°C"}]
[null,null,"Recirculation Thermocouple",null,{"$f":"'Test Conditions'!$B$19","v":"°C"}]
["Air Sampling Array #2, Mean Air Temperature",null,null,null,{"$f":"'Test Conditions'!$B$19","v":"°C"},null,{"$f":"AVERAGE(G105:G108)","v":{"$error":"#DIV/0!"}}]
["Air Sampling Array Individual \nMeasurement Temperatures",null,"#2-A",null,{"$f":"'Test Conditions'!$B$19","v":"°C"}]
[null,null,"#2-B",null,{"$f":"'Test Conditions'!$B$19","v":"°C"}]
[null,null,"#2-C",null,{"$f":"'Test Conditions'!$B$19","v":"°C"}]
[null,null,"#2-D",null,{"$f":"'Test Conditions'!$B$19","v":"°C"}]
[null,null,"Recirculation Thermocouple",null,{"$f":"'Test Conditions'!$B$19","v":"°C"}]
["Air Sampling Array #3, Mean Air Temperature",null,null,null,{"$f":"'Test Conditions'!$B$19","v":"°C"},null,{"$f":"AVERAGE(G111:G114)","v":{"$error":"#DIV/0!"}}]
["Air Sampling Array Individual \nMeasurement Temperatures",null,"#3-A",null,{"$f":"'Test Conditions'!$B$19","v":"°C"}]
[null,null,"#3-B",null,{"$f":"'Test Conditions'!$B$19","v":"°C"}]
[null,null,"#3-C",null,{"$f":"'Test Conditions'!$B$19","v":"°C"}]
[null,null,"#3-D",null,{"$f":"'Test Conditions'!$B$19","v":"°C"}]
[null,null,"Recirculation Thermocouple",null,{"$f":"'Test Conditions'!$B$19","v":"°C"}]
["Air Sampling Array #4, Mean Air Temperature",null,null,null,{"$f":"'Test Conditions'!$B$19","v":"°C"},null,{"$f":"AVERAGE(G117:G120)","v":{"$error":"#DIV/0!"}}]
["Air Sampling Array Individual \nMeasurement Temperatures",null,"#4-A",null,{"$f":"'Test Conditions'!$B$19","v":"°C"}]
[null,null,"#4-B",null,{"$f":"'Test Conditions'!$B$19","v":"°C"}]
[null,null,"#4-C",null,{"$f":"'Test Conditions'!$B$19","v":"°C"}]
[null,null,"#4-D",null,{"$f":"'Test Conditions'!$B$19","v":"°C"}]
[null,null,"Recirculation Thermocouple",null,{"$f":"'Test Conditions'!$B$19","v":"°C"}]
["Air Sampling Array #5, Mean Air Temperature",null,null,null,{"$f":"'Test Conditions'!$B$19","v":"°C"},null,{"$f":"AVERAGE(G123:G126)","v":{"$error":"#DIV/0!"}}]
["Air Sampling Array Individual \nMeasurement Temperatures",null,"#5-A",null,{"$f":"'Test Conditions'!$B$19","v":"°C"}]
[null,null,"#5-B",null,{"$f":"'Test Conditions'!$B$19","v":"°C"}]
[null,null,"#5-C",null,{"$f":"'Test Conditions'!$B$19","v":"°C"}]
[null,null,"#5-D",null,{"$f":"'Test Conditions'!$B$19","v":"°C"}]
[null,null,"Recirculation Thermocouple",null,{"$f":"'Test Conditions'!$B$19","v":"°C"}]
["Air Sampling Array #6, Mean Air Temperature",null,null,null,{"$f":"'Test Conditions'!$B$19","v":"°C"},null,{"$f":"AVERAGE(G129:G132)","v":{"$error":"#DIV/0!"}}]
["Air Sampling Array Individual \nMeasurement Temperatures",null,"#6-A",null,{"$f":"'Test Conditions'!$B$19","v":"°C"}]
[null,null,"#6-B",null,{"$f":"'Test Conditions'!$B$19","v":"°C"}]
[null,null,"#6-C",null,{"$f":"'Test Conditions'!$B$19","v":"°C"}]
[null,null,"#6-D",null,{"$f":"'Test Conditions'!$B$19","v":"°C"}]
[null,null,"Recirculation Thermocouple",null,{"$f":"'Test Conditions'!$B$19","v":"°C"}]
["Air Sampling Array #7, Mean Air Temperature",null,null,null,{"$f":"'Test Conditions'!$B$19","v":"°C"},null,{"$f":"AVERAGE(G135:G138)","v":{"$error":"#DIV/0!"}}]
["Air Sampling Array Individual \nMeasurement Temperatures",null,"#7-A",null,{"$f":"'Test Conditions'!$B$19","v":"°C"}]
[null,null,"#7-B",null,{"$f":"'Test Conditions'!$B$19","v":"°C"}]
[null,null,"#7-C",null,{"$f":"'Test Conditions'!$B$19","v":"°C"}]
[null,null,"#7-D",null,{"$f":"'Test Conditions'!$B$19","v":"°C"}]
[null,null,"Recirculation Thermocouple",null,{"$f":"'Test Conditions'!$B$19","v":"°C"}]
["Air Sampling Array #8, Mean Air Temperature",null,null,null,{"$f":"'Test Conditions'!$B$19","v":"°C"},null,{"$f":"AVERAGE(G141:G144)","v":{"$error":"#DIV/0!"}}]
["Air Sampling Array Individual \nMeasurement Temperatures",null,"#8-A",null,{"$f":"'Test Conditions'!$B$19","v":"°C"}]
[null,null,"#8-B",null,{"$f":"'Test Conditions'!$B$19","v":"°C"}]
[null,null,"#8-C",null,{"$f":"'Test Conditions'!$B$19","v":"°C"}]
[null,null,"#8-D",null,{"$f":"'Test Conditions'!$B$19","v":"°C"}]
[null,null,"Recirculation Thermocouple",null,{"$f":"'Test Conditions'!$B$19","v":"°C"}]
["Air Sampling Array #9, Mean Air Temperature",null,null,null,{"$f":"'Test Conditions'!$B$19","v":"°C"},null,{"$f":"AVERAGE(G147:G150)","v":{"$error":"#DIV/0!"}}]
["Air Sampling Array Individual \nMeasurement Temperatures",null,"#9-A",null,{"$f":"'Test Conditions'!$B$19","v":"°C"}]
[null,null,"#9-B",null,{"$f":"'Test Conditions'!$B$19","v":"°C"}]
[null,null,"#9-C",null,{"$f":"'Test Conditions'!$B$19","v":"°C"}]
[null,null,"#9-D",null,{"$f":"'Test Conditions'!$B$19","v":"°C"}]
[null,null,"Recirculation Thermocouple",null,{"$f":"'Test Conditions'!$B$19","v":"°C"}]
["Air Sampling Array #10, Mean Air Temperature",null,null,null,{"$f":"'Test Conditions'!$B$19","v":"°C"},null,{"$f":"AVERAGE(G153:G156)","v":{"$error":"#DIV/0!"}}]
["Air Sampling Array Individual \nMeasurement Temperatures",null,"#10-A",null,{"$f":"'Test Conditions'!$B$19","v":"°C"}]
[null,null,"#10-B",null,{"$f":"'Test Conditions'!$B$19","v":"°C"}]
[null,null,"#10-C",null,{"$f":"'Test Conditions'!$B$19","v":"°C"}]
[null,null,"#10-D",null,{"$f":"'Test Conditions'!$B$19","v":"°C"}]
[null,null,"Recirculation Thermocouple",null,{"$f":"'Test Conditions'!$B$19","v":"°C"}]
["Air Sampling Array #11, Mean Air Temperature",null,null,null,{"$f":"'Test Conditions'!$B$19","v":"°C"},null,{"$f":"AVERAGE(G159:G162)","v":{"$error":"#DIV/0!"}}]
["Air Sampling Array Individual \nMeasurement Temperatures",null,"#11-A",null,{"$f":"'Test Conditions'!$B$19","v":"°C"}]
[null,null,"#11-B",null,{"$f":"'Test Conditions'!$B$19","v":"°C"}]
[null,null,"#11-C",null,{"$f":"'Test Conditions'!$B$19","v":"°C"}]
[null,null,"#11-D",null,{"$f":"'Test Conditions'!$B$19","v":"°C"}]
[null,null,"Recirculation Thermocouple",null,{"$f":"'Test Conditions'!$B$19","v":"°C"}]
["Air Sampling Array #12, Mean Air Temperature",null,null,null,{"$f":"'Test Conditions'!$B$19","v":"°C"},null,{"$f":"AVERAGE(G165:G168)","v":{"$error":"#DIV/0!"}}]
["Air Sampling Array Individual \nMeasurement Temperatures",null,"#12-A",null,{"$f":"'Test Conditions'!$B$19","v":"°C"}]
[null,null,"#12-B",null,{"$f":"'Test Conditions'!$B$19","v":"°C"}]
[null,null,"#12-C",null,{"$f":"'Test Conditions'!$B$19","v":"°C"}]
[null,null,"#12-D",null,{"$f":"'Test Conditions'!$B$19","v":"°C"}]
[null,null,"Recirculation Thermocouple",null,{"$f":"'Test Conditions'!$B$19","v":"°C"}]
["Air Sampling Array #13, Mean Air Temperature",null,null,null,{"$f":"'Test Conditions'!$B$19","v":"°C"},null,{"$f":"AVERAGE(G171:G174)","v":{"$error":"#DIV/0!"}}]
["Air Sampling Array Individual \nMeasurement Temperatures",null,"#13-A",null,{"$f":"'Test Conditions'!$B$19","v":"°C"}]
[null,null,"#13-B",null,{"$f":"'Test Conditions'!$B$19","v":"°C"}]
[null,null,"#13-C",null,{"$f":"'Test Conditions'!$B$19","v":"°C"}]
[null,null,"#13-D",null,{"$f":"'Test Conditions'!$B$19","v":"°C"}]
[null,null,"Recirculation Thermocouple",null,{"$f":"'Test Conditions'!$B$19","v":"°C"}]
["Air Sampling Array #14, Mean Air Temperature",null,null,null,{"$f":"'Test Conditions'!$B$19","v":"°C"},null,{"$f":"AVERAGE(G177:G180)","v":{"$error":"#DIV/0!"}}]
["Air Sampling Array Individual \nMeasurement Temperatures",null,"#14-A",null,{"$f":"'Test Conditions'!$B$19","v":"°C"}]
[null,null,"#14-B",null,{"$f":"'Test Conditions'!$B$19","v":"°C"}]
[null,null,"#14-C",null,{"$f":"'Test Conditions'!$B$19","v":"°C"}]
[null,null,"#14-D",null,{"$f":"'Test Conditions'!$B$19","v":"°C"}]
[null,null,"Recirculation Thermocouple",null,{"$f":"'Test Conditions'!$B$19","v":"°C"}]
["Air Sampling Array #15, Mean Air Temperature",null,null,null,{"$f":"'Test Conditions'!$B$19","v":"°C"},null,{"$f":"AVERAGE(G183:G186)","v":{"$error":"#DIV/0!"}}]
["Air Sampling Array Individual \nMeasurement Temperatures",null,"#15-A",null,{"$f":"'Test Conditions'!$B$19","v":"°C"}]
[null,null,"#15-B",null,{"$f":"'Test Conditions'!$B$19","v":"°C"}]
[null,null,"#15-C",null,{"$f":"'Test Conditions'!$B$19","v":"°C"}]
[null,null,"#15-D",null,{"$f":"'Test Conditions'!$B$19","v":"°C"}]
[null,null,"Recirculation Thermocouple",null,{"$f":"'Test Conditions'!$B$19","v":"°C"}]
["Air Sampling Array #16, Mean Air Temperature",null,null,null,{"$f":"'Test Conditions'!$B$19","v":"°C"},null,{"$f":"AVERAGE(G189:G192)","v":{"$error":"#DIV/0!"}}]
["Air Sampling Array Individual \nMeasurement Temperatures",null,"#16-A",null,{"$f":"'Test Conditions'!$B$19","v":"°C"}]
[null,null,"#16-B",null,{"$f":"'Test Conditions'!$B$19","v":"°C"}]
[null,null,"#16-C",null,{"$f":"'Test Conditions'!$B$19","v":"°C"}]
[null,null,"#16-D",null,{"$f":"'Test Conditions'!$B$19","v":"°C"}]
[null,null,"Recirculation Thermocouple",null,{"$f":"'Test Conditions'!$B$19","v":"°C"}]
["Air Sampling Array #17, Mean Air Temperature",null,null,null,{"$f":"'Test Conditions'!$B$19","v":"°C"},null,{"$f":"AVERAGE(G195:G198)","v":{"$error":"#DIV/0!"}}]
["Air Sampling Array Individual \nMeasurement Temperatures",null,"#17-A",null,{"$f":"'Test Conditions'!$B$19","v":"°C"}]
[null,null,"#17-B",null,{"$f":"'Test Conditions'!$B$19","v":"°C"}]
[null,null,"#17-C",null,{"$f":"'Test Conditions'!$B$19","v":"°C"}]
[null,null,"#17-D",null,{"$f":"'Test Conditions'!$B$19","v":"°C"}]
[null,null,"Recirculation Thermocouple",null,{"$f":"'Test Conditions'!$B$19","v":"°C"}]
["Air Sampling Array #18, Mean Air Temperature",null,null,null,{"$f":"'Test Conditions'!$B$19","v":"°C"},null,{"$f":"AVERAGE(G201:G204)","v":{"$error":"#DIV/0!"}}]
["Air Sampling Array Individual \nMeasurement Temperatures",null,"#18-A",null,{"$f":"'Test Conditions'!$B$19","v":"°C"}]
[null,null,"#18-B",null,{"$f":"'Test Conditions'!$B$19","v":"°C"}]
[null,null,"#18-C",null,{"$f":"'Test Conditions'!$B$19","v":"°C"}]
[null,null,"#18-D",null,{"$f":"'Test Conditions'!$B$19","v":"°C"}]
[null,null,"Recirculation Thermocouple",null,{"$f":"'Test Conditions'!$B$19","v":"°C"}]
["Air Sampling Array #19, Mean Air Temperature",null,null,null,{"$f":"'Test Conditions'!$B$19","v":"°C"},null,{"$f":"AVERAGE(G207:G210)","v":{"$error":"#DIV/0!"}}]
["Air Sampling Array Individual \nMeasurement Temperatures",null,"#19-A",null,{"$f":"'Test Conditions'!$B$19","v":"°C"}]
[null,null,"#19-B",null,{"$f":"'Test Conditions'!$B$19","v":"°C"}]
[null,null,"#19-C",null,{"$f":"'Test Conditions'!$B$19","v":"°C"}]
[null,null,"#19-D",null,{"$f":"'Test Conditions'!$B$19","v":"°C"}]
[null,null,"Recirculation Thermocouple",null,{"$f":"'Test Conditions'!$B$19","v":"°C"}]
["Air Sampling Array #20, Mean Air Temperature",null,null,null,{"$f":"'Test Conditions'!$B$19","v":"°C"},null,{"$f":"AVERAGE(G213:G216)","v":{"$error":"#DIV/0!"}}]
["Air Sampling Array Individual \nMeasurement Temperatures",null,"#20-A",null,{"$f":"'Test Conditions'!$B$19","v":"°C"}]
[null,null,"#20-B",null,{"$f":"'Test Conditions'!$B$19","v":"°C"}]
[null,null,"#20-C",null,{"$f":"'Test Conditions'!$B$19","v":"°C"}]
[null,null,"#20-D",null,{"$f":"'Test Conditions'!$B$19","v":"°C"}]
[null,null,"Recirculation Thermocouple",null,{"$f":"'Test Conditions'!$B$19","v":"°C"}]
[]
["Atmospheric Pressure Correction",null,null,null,"Units","Evaporator","Condenser"]
["Location of Water Flow Meter Relative to Chiller",null,null,null,"-"]
["Water Temperature (T) for Density",null,null,null,{"$f":"'Test Conditions'!$B$18","v":"°C"},{"$f":"IF($F$220=\"Entering\",$F$16,$F$14)","v":{"$error":"#DIV/0!"}}]
["Water Density (ρ)",null,null,null,{"$f":"IF('Test Plan'!$B$19=\"I-P\",'Unit Conversion'!$B$10,'Unit Conversion'!$C$10)","v":"kg/m³"},{"$f":"IF('Test Plan'!$B$19=\"I-P\",(-0.00000000074704*$F$221^4)+(0.00000052643*$F$221^3)+(-0.00018846*$F$221^2)+(0.012164*$F$221)+62.227,((-0.00000012556*$F$221^4)+(0.000040229*$F$221^3)+(-0.0073948*$F$221^2)+(0.046734*$F$221)+1000.2))","v":{"$error":"#DIV/0!"}}]
["Average Water Temperature (T) for Specific Heat & ∆pcorrected Density",null,null,null,{"$f":"'Test Conditions'!$B$18","v":"°C"},{"$f":"AVERAGE($F$14,$F$16)","v":{"$error":"#DIV/0!"}}]
["Water Specific Heat (cp)",null,null,null,{"$f":"IF('Test Plan'!$B$19=\"I-P\",'Unit Conversion'!$B$13,'Unit Conversion'!$C$13)","v":"kJ/kg·K"},{"$f":"IF('Test Plan'!$B$19=\"I-P\",(-0.00000000000040739*$F$223^5)+(0.00000000031031*$F$223^4)+(-0.000000092501*$F$223^3)+(0.000014071*$F$223^2)+(-0.0010677*$F$223)+1.0295,((-0.00000000003222*$F$223^5)+(0.00000001077*$F$223^4)+(-0.0000013901*$F$223^3)+(0.000094433*$F$223^2)+(-0.0031103*$F$223)+4.216))","v":{"$error":"#DIV/0!"}}]
["Water Density (ρ) for ∆pcorrected",null,null,null,{"$f":"IF('Test Plan'!$B$19=\"I-P\",'Unit Conversion'!$B$10,'Unit Conversion'!$C$10)","v":"kg/m³"},{"$f":"IF('Test Plan'!$B$19=\"I-P\",(-0.00000000074704*$F$223^4)+(0.00000052643*$F$223^3)+(-0.00018846*$F$223^2)+(0.012164*$F$223)+62.227,((-0.00000012556*$F$223^4)+(0.000040229*$F$223^3)+(-0.0073948*$F$223^2)+(0.046734*$F$223)+1000.2))","v":{"$error":"#DIV/0!"}}]
["Water Mass Flow Rate (mw)",null,null,null,{"$f":"IF('Test Plan'!$B$19=\"I-P\",'Unit Conversion'!$B$11,'Unit Conversion'!$C$11)","v":"kg/h"},{"$f":"IF('Test Plan'!$B$19=\"I-P\",$F$18*$F$222/0.124675,$F$18*$F$222)","v":{"$error":"#DIV/0!"}}]
["Gross Refrigeranting Capacity (Q'ev)",null,null,null,{"$f":"'Test Plan'!$B$125","v":"kW"},{"$f":"IF('Test Plan'!$B$19=\"I-P\",$F$226*($F$224*ABS($F$16-$F$14)+(0.18505*$F$23/$F$225*0.4331))/12000,$F$226*($F$224*ABS($F$16-$F$14)+($F$23/$F$225))/3600)","v":{"$error":"#DIV/0!"}}]
["Net Refrigerating Capacity (Qev)",null,null,null,{"$f":"'Test Plan'!$B$125","v":"kW"},{"$f":"IF('Test Plan'!$B$19=\"I-P\",$F$226*($F$224*ABS($F$16-$F$14))/12000,IF('Test Plan'!$B$17=\"EN 14511 and 14825\",$F$226*($F$224*ABS($F$16-$F$14))/3600-$F$238,$F$226*($F$224*ABS($F$16-$F$14))/3600))","v":{"$error":"#DIV/0!"}}]
["Cooling Energy Efficiency",null,null,null,{"$f":"'Test Plan'!$B$126","v":"kW/kW"},{"$f":"IF('Test Plan'!$B$19=\"I-P\",$F$26/$F$228,IF('Test Plan'!$B$17=\"EN 14511 and 14825\",$F$228/($F$26+$F$239),$F$228/$F$26))","v":{"$error":"#DIV/0!"}}]
["Coefficient Correction Factor (Capacity), DQ",null,null,null,"-",null,{"$f":"IF('Test Plan'!$B$19=\"I-P\",0.0011273*$G$12^2-0.041272*$G$12+1.36304,0.000023713*$G$12^2-0.005986*$G$12+1.36304)","v":{"$error":"#DIV/0!"}}]
["Coefficient Correction Factor (Efficiency), Dƞ",null,null,null,"-",null,{"$f":"IF('Test Plan'!$B$19=\"I-P\",0.0024308*$G$12^2-0.090075*$G$12+1.79872,0.000051135*$G$12^2-0.013064*$G$12+1.79872)","v":{"$error":"#DIV/0!"}}]
["Correction Factor (Capacity), CFQ",null,null,null,"-",null,{"$f":"IF('Test Plan'!$B$19=\"I-P\",1+($F$228/'100% Load Condition '!$F$228)*($G$230-1)*EXP(-0.35*(($G$231*(12/'100% Load Condition '!$F$229))-9.6)),1+($F$228/'100% Load Condition '!$F$228)*($G$230-1)*EXP(-0.35*((3.41214*$G$231*'100% Load Condition '!$F$229)-9.6)))","v":{"$error":"#DIV/0!"}}]
["Correction Factor (Efficiency), CFƞ",null,null,null,"-",null,{"$f":"IF('Test Plan'!$B$19=\"I-P\",1+($F$228/'100% Load Condition '!$F$228)*($G$231-1)*EXP(-0.35*(($G$231*(12/'100% Load Condition '!$F$229))-9.6)),1+($F$228/'100% Load Condition '!$F$228)*($G$231-1)*EXP(-0.35*((3.41214*$G$231*'100% Load Condition '!$F$229)-9.6)))","v":{"$error":"#DIV/0!"}}]
[]
["Pump Power Correction",null,null,null,"Units","Evaporator"]
["Hydraulic Pump Power (Phyd)",null,null,null,"W",{"$f":"($F$18/(60*60))*$F$23*1000","v":{"$error":"#DIV/0!"}}]
["Pump Efficiency (η)",null,null,null,"kW/kW",{"$f":"IF($F$236<=300,((0.35844*$F$236)/(1.7*$F$236+17*(1-EXP(-0.3*$F$236))))*(0.49/0.23),IF($F$236<=500,0.0721*$F$236^0.3183,0.092*LN($F$236)-0.0403))","v":{"$error":"#DIV/0!"}}]
["Pump Capacity Correction",null,null,null,"kW",{"$f":"IF($F$236<=0.3,($F$18/(60*60))*($F$23)*((1-$F$237)/$F$237),($F$18/(60*60))*($F$23)*((0.88-$F$237)/$F$237))","v":{"$error":"#DIV/0!"}}]
["Pump Power Correction",null,null,null,"kW",{"$f":"($F$18/(60*60))*($F$23)/$F$237","v":{"$error":"#DIV/0!"}}]
[]
["Test Result",null,null,null,"Units","Evaporator"]
["Corrected Net Refrigerating Capacity (Qev)",null,null,null,{"$f":"'Test Plan'!$B$125","v":"kW"},{"$f":"$F$228*$G$232","v":{"$error":"#DIV/0!"}}]
["Corrected Cooling Energy Efficiency",null,null,null,{"$f":"'Test Plan'!$B$126","v":"kW/kW"},{"$f":"IF('Test Plan'!$B$19=\"I-P\",$F$229/$G$233,$F$229*$G$233)","v":{"$error":"#DIV/0!"}}]
["Water Pressure Drop",null,null,null,{"$f":"'Test Plan'!$B$127","v":"kPa"},{"$f":"$F$23","v":{"$error":"#DIV/0!"}}]
[]
[null,null,null,"Evaporator Water",null,null,null,null,null,null,null,null,null,"Condenser Air",null,"Electrical"]
[null,null,null,"Lvg. Temp.",null,null,"Ent. Temp.",null,null,"Flow Rate",null,null,null,null,null,"Power",null,null,"Total Voltage","Voltage 1",null,null,null,"Voltage 2",null,null,null,"Frequency"]
["Laboratory Data","Start Time","Stop Time",null,null,{"$f":"'Test Conditions'!$B$18","v":"°C"},null,null,{"$f":"'Test Conditions'!$B$18","v":"°C"},null,null,null,"Press. Drop","Ent. Temp.","Atm Press.",null,null,"kW"]
["Unit",{"$f":"$C$9","v":"h:mm:ss:ms"},{"$f":"$C$9","v":"h:mm:ss:ms"},null,null,null,null,null,null,null,null,null,{"$f":"IF('Test Plan'!$B$19=\"I-P\",'Unit Conversion'!$B$9,'Unit Conversion'!$C$9)","v":"kPa"},{"$f":"'Test Conditions'!$B$19","v":"°C"},{"$f":"IF('Test Plan'!$B$19=\"I-P\",'Unit Conversion'!$B$7,'Unit Conversion'!$C$7)","v":"kPa"}]
["Mean"]
["Data Comparison",{"$f":"ABS(B250-Zero)*24*60*60","v":0},{"$f":"ABS(C250-INDEX(Zero:C10202,$B$10))*24*60*60","v":{"$error":"#VALUE!"}},null,null,{"$f":"ABS(F250-F256)","v":{"$error":"#DIV/0!"}},null,null,{"$f":"ABS(I250-I256)","v":{"$error":"#DIV/0!"}},null,null,null,{"$f":"ABS(M250-M256)","v":{"$error":"#DIV/0!"}},{"$f":"ABS(N250-N256)","v":{"$error":"#DIV/0!"}},{"$f":"ABS(O250-O256)/O256","v":{"$error":"#DIV/0!"}},null,null,{"$f":"ABS(R250-R256)/R256","v":{"$error":"#DIV/0!"}}]
["Use Lab Data?"]
["Test Stand Data","Time Interval","Time Stamp",1,2,"Avg.",1,2,"Avg.",1,2,"Avg.","Press. Drop","Ent. Temp.","Atm Press.",1,2,"Avg.","Avg","Avg."," A-B"," B-C"," C-A","Avg."," A-B"," B-C"," C-A","Avg.",1,2]
["Unit",{"$f":"$C$9","v":"h:mm:ss:ms"},{"$f":"$C$9","v":"h:mm:ss:ms"},{"$f":"'Test Conditions'!$B$18","v":"°C"},{"$f":"'Test Conditions'!$B$18","v":"°C"},{"$f":"'Test Conditions'!$B$18","v":"°C"},{"$f":"'Test Conditions'!$B$19","v":"°C"},{"$f":"'Test Conditions'!$B$19","v":"°C"},{"$f":"'Test Conditions'!$B$19","v":"°C"},{"$f":"'Test Conditions'!$B$20","v":"m³/h"},{"$f":"'Test Conditions'!$B$20","v":"m³/h"},{"$f":"'Test Conditions'!$B$20","v":"m³/h"},{"$f":"IF('Test Plan'!$B$19=\"I-P\",'Unit Conversion'!$B$9,'Unit Conversion'!$C$9)","v":"kPa"},{"$f":"'Test Conditions'!$B$19","v":"°C"},{"$f":"IF('Test Plan'!$B$19=\"I-P\",'Unit Conversion'!$B$7,'Unit Conversion'!$C$7)","v":"kPa"},"kW","kW","kW","V","V","V","V","V","V","V","V","V","Hz","Hz","Hz"]
["Rating","-","-",{"$f":"'Test Conditions'!$C$28","v":{"$error":"#VALUE!"}},{"$f":"'Test Conditions'!$C$28","v":{"$error":"#VALUE!"}},{"$f":"'Test Conditions'!$C$28","v":{"$error":"#VALUE!"}},{"$f":"'Test Plan'!$C$53","v":0},{"$f":"'Test Plan'!$C$53","v":0},{"$f":"'Test Plan'!$C$53","v":0},{"$f":"'Test Plan'!$C$55","v":0},{"$f":"'Test Plan'!$C$55","v":0},{"$f":"'Test Plan'!$C$55","v":0},{"$f":"IF('Test Plan'!$B$19=\"I-P\",'Test Plan'!$C$127*0.4331,'Test Plan'!$C$127)","v":0},{"$f":"'Test Conditions'!$D$29","v":0},{"$f":"'Test Plan'!$C$41","v":101.33},{"$f":"'Test Plan'!$C$57","v":""},{"$f":"'Test Plan'!$C$57","v":""},{"$f":"'Test Plan'!$C$57","v":""},{"$f":"'Test Plan'!$B$14","v":0},{"$f":"'Test Plan'!$B$14","v":0},{"$f":"'Test Plan'!$B$14","v":0},{"$f":"'Test Plan'!$B$14","v":0},{"$f":"'Test Plan'!$B$14","v":0},{"$f":"'Test Plan'!$B$14","v":0},{"$f":"'Test Plan'!$B$14","v":0},{"$f":"'Test Plan'!$B$14","v":0},{"$f":"'Test Plan'!$B$14","v":0},{"$f":"'Test Plan'!$D$14","v":0},{"$f":"'Test Plan'!$D$14","v":0},{"$f":"'Test Plan'!$D$14","v":0}]
["Mean","-","-",{"$f":"AVERAGE(D258:INDEX(D258:D10089,$B$9))","v":{"$error":"#DIV/0!"}},{"$f":"AVERAGE(E258:INDEX(E258:E10089,$B$9))","v":{"$error":"#DIV/0!"}},{"$f":"AVERAGE(D256:E256)","v":{"$error":"#DIV/0!"}},{"$f":"AVERAGE(G258:INDEX(G258:G10089,$B$9))","v":{"$error":"#DIV/0!"}},{"$f":"AVERAGE(H258:INDEX(H258:H10089,$B$9))","v":{"$error":"#DIV/0!"}},{"$f":"AVERAGE(G256:H256)","v":{"$error":"#DIV/0!"}},{"$f":"AVERAGE(J258:INDEX(J258:J10089,$B$9))","v":{"$error":"#DIV/0!"}},{"$f":"AVERAGE(K258:INDEX(K258:K10089,$B$9))","v":{"$error":"#DIV/0!"}},{"$f":"AVERAGE(J256:K256)","v":{"$error":"#DIV/0!"}},{"$f":"AVERAGE(M258:INDEX(M258:M10089,$B$9))","v":{"$error":"#DIV/0!"}},{"$f":"AVERAGE(N258:INDEX(N258:N10089,$B$9))","v":{"$error":"#DIV/0!"}},{"$f":"AVERAGE(O258:INDEX(O258:O10089,$B$9))","v":{"$error":"#DIV/0!"}},{"$f":"AVERAGE(P258:INDEX(P258:P10089,$B$9))","v":{"$error":"#DIV/0!"}},{"$f":"AVERAGE(Q258:INDEX(Q258:Q10089,$B$9))","v":{"$error":"#DIV/0!"}},{"$f":"AVERAGE(P256:Q256)","v":{"$error":"#DIV/0!"}},{"$f":"AVERAGE(T256,X256)","v":{"$error":"#DIV/0!"}},{"$f":"AVERAGE(T258:INDEX(T258:T10089,$B$9))","v":{"$error":"#DIV/0!"}},{"$f":"AVERAGE(U258:INDEX(U258:U10089,$B$9))","v":{"$error":"#DIV/0!"}},{"$f":"AVERAGE(V258:INDEX(V258:V10089,$B$9))","v":{"$error":"#DIV/0!"}},{"$f":"AVERAGE(W258:INDEX(W258:W10089,$B$9))","v":{"$error":"#DIV/0!"}},{"$f":"AVERAGE(X258:INDEX(X258:X10089,$B$9))","v":{"$error":"#DIV/0!"}},{"$f":"AVERAGE(Y258:INDEX(Y258:Y10089,$B$9))","v":{"$error":"#DIV/0!"}},{"$f":"AVERAGE(Z258:INDEX(Z258:Z10089,$B$9))","v":{"$error":"#DIV/0!"}},{"$f":"AVERAGE(AA258:INDEX(AA258:AA10089,$B$9))","v":{"$error":"#DIV/0!"}},{"$f":"AVERAGE(AC256:AD256)","v":{"$error":"#DIV/0!"}},{"$f":"AVERAGE(AC258:INDEX(AC258:AC10089,$B$9))","v":{"$error":"#DIV/0!"}},{"$f":"AVERAGE(AD258:INDEX(AD258:AD10089,$B$9))","v":{"$error":"#DIV/0!"}}]
["St. Dev.","-","-",{"$f":"_xlfn.STDEV.S(D258:INDEX(D258:D10089,$B$9))","v":{"$error":"#DIV/0!"}},{"$f":"_xlfn.STDEV.S(E258:INDEX(E258:E10089,$B$9))","v":{"$error":"#DIV/0!"}},{"$f":"SQRT((D257^2+E257^2)/2)","v":{"$error":"#DIV/0!"}},{"$f":"_xlfn.STDEV.S(G258:INDEX(G258:G10089,$B$9))","v":{"$error":"#DIV/0!"}},{"$f":"_xlfn.STDEV.S(H258:INDEX(H258:H10089,$B$9))","v":{"$error":"#DIV/0!"}},{"$f":"SQRT((G257^2+H257^2)/2)","v":{"$error":"#DIV/0!"}},{"$f":"_xlfn.STDEV.S(J258:INDEX(J258:J10089,$B$9))","v":{"$error":"#DIV/0!"}},{"$f":"_xlfn.STDEV.S(K258:INDEX(K258:K10089,$B$9))","v":{"$error":"#DIV/0!"}},{"$f":"SQRT((J257^2+K257^2)/2)","v":{"$error":"#DIV/0!"}},{"$f":"_xlfn.STDEV.S(M258:INDEX(M258:M10089,$B$9))","v":{"$error":"#DIV/0!"}},{"$f":"_xlfn.STDEV.S(N258:INDEX(N258:N10089,$B$9))","v":{"$error":"#DIV/0!"}},{"$f":"_xlfn.STDEV.S(O258:INDEX(O258:O10089,$B$9))","v":{"$error":"#DIV/0!"}},{"$f":"_xlfn.STDEV.S(P258:INDEX(P258:P10089,$B$9))","v":{"$error":"#DIV/0!"}},{"$f":"_xlfn.STDEV.S(Q258:INDEX(Q258:Q10089,$B$9))","v":{"$error":"#DIV/0!"}},{"$f":"SQRT((P257^2+Q257^2)/2)","v":{"$error":"#DIV/0!"}},{"$f":"SQRT((T257^2+X257^2)/2)","v":{"$error":"#DIV/0!"}},{"$f":"_xlfn.STDEV.S(T258:INDEX(T258:T10089,$B$9))","v":{"$error":"#DIV/0!"}},{"$f":"_xlfn.STDEV.S(U258:INDEX(U258:U10089,$B$9))","v":{"$error":"#DIV/0!"}},{"$f":"_xlfn.STDEV.S(V258:INDEX(V258:V10089,$B$9))","v":{"$error":"#DIV/0!"}},{"$f":"_xlfn.STDEV.S(W258:INDEX(W258:W10089,$B$9))","v":{"$error":"#DIV/0!"}},{"$f":"_xlfn.STDEV.S(X258:INDEX(X258:X10089,$B$9))","v":{"$error":"#DIV/0!"}},{"$f":"_xlfn.STDEV.S(Y258:INDEX(Y258:Y10089,$B$9))","v":{"$error":"#DIV/0!"}},{"$f":"_xlfn.STDEV.S(Z258:INDEX(Z258:Z10089,$B$9))","v":{"$error":"#DIV/0!"}},{"$f":"_xlfn.STDEV.S(AA258:INDEX(AA258:AA10089,$B$9))","v":{"$error":"#DIV/0!"}},{"$f":"SQRT((AC257^2+AD257^2)/2)","v":{"$error":"#DIV/0!"}},{"$f":"_xlfn.STDEV.S(AC258:INDEX(AC258:AC10089,$B$9))","v":{"$error":"#DIV/0!"}},{"$f":"_xlfn.STDEV.S(AD258:INDEX(AD258:AD10089,$B$9))","v":{"$error":"#DIV/0!"}}]
[null,{"$f":"C259-C258","v":"00:00:00"}]
[null,{"$f":"C260-C259","v":"00:00:00"}]
[null,{"$f":"C261-C260","v":"00:00:00"}]
[null,"00:00:00"]
[null,"00:00:00"]
[null,"00:00:00"]
[null,"00:00:00"]
[null,"00:00:00"]
[null,"00:00:00"]
[null,"00:00:00"]
[null,"00:00:00"]
[null,"00:00:00"]
[null,"00:00:00"]
[null,"00:00:00"]
[null,"00:00:00"]
[null,"00:00:00"]
[null,"00:00:00"]
[null,"00:00:00"]
[null,"00:00:00"]
[null,"00:00:00"]
[null,"00:00:00"]
[null,"00:00:00"]
[null,"00:00:00"]
[null,"00:00:00"]
[null,"00:00:00"]
[null,"00:00:00"]
[null,"00:00:00"]
[null,{"$f":"C286-C285","v":"00:00:00"}]
[null,{"$f":"C287-C286","v":"00:00:00"}]
[null,{"$f":"IF(C288=0,\"\",C288-C287)","v":""}]
[null,{"$f":"IF(C289=0,\"\",C289-C288)","v":""}]
[null,{"$f":"IF(C290=0,\"\",C290-C289)","v":""}]
[null,{"$f":"IF(C291=0,\"\",C291-C290)","v":""}]
[null,""]
[null,""]
[null,""]
[null,""]
[null,""]
[null,""]
[null,""]
[null,""]
[null,""]
[null,""]
[null,""]
[null,""]
[null,""]
[null,""]
[null,""]
[null,""]
[null,""]
[null,""]
[null,""]
[null,""]
[null,""]
[null,""]
[null,""]
[null,""]
[null,""]
[null,""]
[null,""]
[null,""]
[null,""]
[null,""]
[null,""]
[null,""]
[null,""]
[null,""]
[null,""]
[null,""]
[null,""]
[null,""]
[null,""]
[null,""]
[null,""]
[null,""]
[null,""]
[null,""]
[null,""]
[null,""]
[null,""]
[null,""]
[null,""]
[null,""]
[null,""]
[null,""]
[null,""]
[null,""]
[null,""]
[null,""]
[null,""]
[null,""]
[null,""]
[null,""]
[null,""]
[null,""]
[null,""]
[null,{"$f":"IF(C355=0,\"\",C355-C354)","v":""}]
[null,""]
[null,""]
[null,""]
[null,""]
[null,""]
[null,""]
[null,""]
[null,""]
[null,""]
[null,""]
[null,""]
[null,""]
[null,""]
[null,""]
[null,""]
[null,""]
[null,""]
[null,""]
[null,""]
[null,""]
[null,""]
[null,""]
[null,""]
[null,""]
[null,""]
[null,""]
[null,""]
[null,""]
[null,""]
[null,""]
[null,""]
[null,""]
[null,""]
[null,""]
[null,""]
[null,""]
[null,""]
[null,""]
[null,""]
[null,""]
[null,""]
[null,""]
[null,""]
[null,""]
[null,""]
[null,""]
[null,""]
[null,""]
[null,""]
[null,""]
[null,""]
[null,""]
[null,""]
[null,""]
[null,""]
[null,""]
[null,""]
[null,""]
[null,""]
[null,""]
[null,""]
[null,""]
[null,""]
[null,{"$f":"IF(C419=0,\"\",C419-C418)","v":""}]
[null,""]
[null,""]
[null,""]
[null,""]
[null,""]
[null,""]
[null,""]
[null,""]
[null,""]
[null,""]
[null,""]
[null,""]
[null,""]
[null,""]
[null,""]
[null,""]
[null,""]
[null,""]
[null,""]
[null,""]
[null,""]
[null,""]
[null,""]
[null,""]
[null,""]
[null,""]
[null,""]
[null,""]
[null,""]
[null,""]
[null,""]
[null,""]
[null,""]
[null,""]
[null,""]
[null,""]
[null,""]
[null,""]
[null,""]
[null,""]
[null,""]
[null,""]
[null,""]
[null,""]
[null,""]
[null,""]
[null,""]
[null,""]
[null,""]
[null,""]
[null,""]
[null,""]
[null,""]
[null,""]
[null,""]
[null,""]
[null,""]
[null,""]
[null,""]
[null,""]
[null,""]
[null,""]
[null,""]
[null,{"$f":"IF(C483=0,\"\",C483-C482)","v":""}]
[null,""]
[null,""]
[null,""]
[null,""]
[null,""]
[null,""]
[null,""]
[null,""]
[null,""]
[null,""]
[null,""]
[null,""]
[null,""]
[null,""]
[null,""]
[null,""]
[null,""]
[null,""]
[null,""]
[null,""]
[null,""]
[null,""]
[null,""]
[null,""]
[null,""]
[null,""]
[null,""]
[null,""]
[null,""]
[null,""]
[null,""]
[null,""]
[null,""]
[null,""]
[null,""]
[null,""]
[null,""]
[null,""]
[null,""]
[null,""]
[null,""]
[null,""]
[null,""]
[null,""]
[null,""]
[null,""]
[null,""]
[null,""]
[null,""]
[null,""]
[null,""]
[null,""]
[null,""]
[null,""]
[null,""]
[null,""]
[null,""]
[null,""]
[null,""]
[null,""]
[null,""]
[null,""]
[null,""]
[null,{"$f":"IF(C547=0,\"\",C547-C546)","v":""}]
[null,""]
[null,""]
[null,""]
[null,""]
[null,""]
[null,""]
[null,""]
[null,""]
[null,""]
[null,""]
[null,""]
[null,""]
[null,""]
[null,""]
[null,""]
[null,""]
[null,""]
[null,""]
[null,""]
[null,""]
[null,""]
[null,""]
[null,""]
[null,""]
[null,""]
[null,""]
[null,""]
[null,""]
[null,""]
[null,""]
[null,""]
[null,""]
[null,""]
[null,""]
[null,""]
[null,""]
[null,""]
[null,""]
[null,""]
[null,""]
[null,""]
[null,""]
[null,""]
[null,""]
[null,""]
[null,""]
[null,""]
[null,""]
[null,""]
[null,""]
[null,""]
[null,""]
[null,""]
[null,""]
[null,""]
[null,""]
[null,""]
[null,""]
[null,""]
[null,""]
[null,""]
[null,""]
[null,""]
[null,{"$f":"IF(C611=0,\"\",C611-C610)","v":""}]
[null,""]
[null,""]
[null,""]
[null,""]
[null,""]
[null,""]
[null,""]
[null,""]
[null,""]
[null,""]
[null,""]
[null,""]
[null,""]
[null,""]
[null,""]
[null,""]
[null,""]
[null,""]
[null,""]
[null,""]
[null,""]
[null,""]
[null,""]
[null,""]
[null,""]
[null,""]
[null,""]
[null,""]
[null,""]
[null,""]
[null,""]
[null,""]
[null,""]
[null,""]
[null,""]
[null,""]
[null,""]
[null,""]
[null,""]
[null,""]
[null,""]
[null,""]
[null,""]
[null,""]
[null,""]
[null,""]
[null,""]
[null,""]
[null,""]
[null,""]
[null,""]
[null,""]
[null,""]
[null,""]
[null,""]
[null,""]
[null,""]
[null,""]
[null,""]
[null,""]
[null,""]
[null,""]
[null,""]
[null,{"$f":"IF(C675=0,\"\",C675-C674)","v":""}]
[null,""]
[null,""]
[null,""]
[null,""]
[null,""]
[null,""]
[null,""]
[null,""]
[null,""]
[null,""]
[null,""]
[null,""]
[null,""]
[null,""]
[null,""]
[null,""]
[null,""]
[null,""]
[null,""]
[null,""]
[null,""]
[null,""]
[null,""]
[null,""]
[null,""]
[null,""]
[null,""]
[null,""]
[null,""]
[null,""]
[null,""]
[null,""]
[null,""]
[null,""]
[null,""]
[null,""]
[null,""]
[null,""]
[null,""]
[null,""]
[null,""]
[null,""]
[null,""]
[null,""]
[null,""]
[null,""]
[null,""]
[null,""]
[null,""]
[null,""]
[null,""]
[null,""]
[null,""]
[null,""]
[null,""]
[null,""]
[null,""]
[null,""]
[null,""]
[null,""]
[null,""]
[null,""]
[null,""]
[null,{"$f":"IF(C739=0,\"\",C739-C738)","v":""}]
[null,""]
[null,""]
[null,""]
[null,""]
[null,""]
[null,""]
[null,""]
[null,""]
[null,""]
[null,""]
[null,""]
[null,""]
[null,""]
[null,""]
[null,""]
[null,""]
[null,""]
[null,""]
[null,""]
[null,""]
[null,""]
[null,""]
[null,""]
[null,""]
[null,""]
[null,""]
[null,""]
[null,""]
[null,""]
[null,""]
[null,""]
[null,""]
[null,""]
[null,""]
[null,""]
[null,""]
[null,""]
[null,""]
[null,""]
[null,""]
[null,""]
[null,""]
[null,""]
[null,""]
[null,""]
[null,""]
[null,""]
[null,""]
[null,""]
[null,""]
[null,""]
[null,""]
[null,""]
[null,""]
[null,""]
[null,""]
[null,""]
[null,""]
[null,""]
[null,""]
[null,""]
[null,""]
[null,""]
[null,{"$f":"IF(C803=0,\"\",C803-C802)","v":""}]
[null,""]
[null,""]
[null,""]
[null,""]
[null,""]
[null,""]
[null,""]
[null,""]
[null,""]
[null,""]
[null,""]
[null,""]
[null,""]
[null,""]
[null,""]
[null,""]
[null,""]
[null,""]
[null,""]
[null,""]
[null,""]
[null,""]
[null,""]
[null,""]
[null,""]
[null,""]
[null,""]
[null,""]
[null,""]
[null,""]
[null,""]
[null,""]
[null,""]
[null,""]
[null,""]
[null,""]
[null,""]
[null,""]
[null,""]
[null,""]
[null,""]
[null,""]
[null,""]
[null,""]
[null,""]
[null,""]
[null,""]
[null,""]
[null,""]
[null,""]
[null,""]
[null,""]
[null,""]
[null,""]
[null,""]
[null,""]
[null,""]
[null,""]
[null,""]
[null,""]
[null,""]
[null,""]
[null,""]
[null,{"$f":"IF(C867=0,\"\",C867-C866)","v":""}]
[null,""]
[null,""]
[null,""]
[null,""]
[null,""]
[null,""]
[null,""]
[null,""]
[null,""]
[null,""]
[null,""]
[null,""]
[null,""]
[null,""]
[null,""]
[null,""]
[null,""]
[null,""]
[null,""]
[null,""]
[null,""]
[null,""]
[null,""]
[null,""]
[null,""]
[null,""]
[null,""]
[null,""]
[null,""]
[null,""]
[null,""]
[null,""]
[null,""]
[null,""]
[null,""]
[null,""]
[null,""]
[null,""]
[null,""]
[null,""]
[null,""]
[null,""]
[null,""]
[null,""]
[null,""]
[null,""]
[null,""]
[null,""]
[null,""]
[null,""]
[null,""]
[null,""]
[null,""]
[null,""]
[null,""]
[null,""]
[null,""]
[null,""]
[null,""]
[null,""]
[null,""]
[null,""]
[null,""]
[null,{"$f":"IF(C931=0,\"\",C931-C930)","v":""}]
[null,""]
[null,""]
[null,""]
[null,""]
[null,""]
[null,""]
[null,""]
[null,""]
[null,""]
[null,""]
[null,""]
[null,""]
[null,""]
[null,""]
[null,""]
[null,""]
[null,""]
[null,""]
[null,""]
[null,""]
[null,""]
[null,""]
[null,""]
[null,""]
[null,""]
[null,""]
[null,""]
[null,""]
[null,""]
[null,""]
[null,""]
[null,""]
[null,""]
[null,""]
[null,""]
[null,""]
[null,""]
[null,""]
[null,""]
[null,""]
[null,""]
[null,""]
[null,""]
[null,""]
[null,""]
[null,""]
[null,""]
[null,""]
[null,""]
[null,""]
[null,""]
[null,""]
[null,""]
[null,""]
[null,""]
[null,""]
[null,""]
[null,""]
[null,""]
[null,""]
[null,""]
[null,""]
[null,""]
[null,{"$f":"IF(C995=0,\"\",C995-C994)","v":""}]
[null,""]
[null,""]
[null,""]
[null,""]
[null,""]
[null,""]
[null,""]
[null,""]
[null,""]
[null,""]
[null,""]
[null,""]
[null,""]
[null,""]
[null,""]
[null,""]
[null,""]
[null,""]
[null,""]
[null,""]
[null,""]
[null,""]
[null,""]
[null,""]
[null,""]
[null,""]
[null,""]
[null,""]
[null,""]
[null,""]
[null,""]
[null,""]
[null,""]
[null,""]
[null,""]
[null,""]
[null,""]
[null,""]
[null,""]
[null,""]
[null,""]
[null,""]
[null,""]
[null,""]
[null,""]
[null,""]
[null,""]
[null,""]
[null,""]
[null,""]
[null,""]
[null,""]
[null,""]
[null,""]
[null,""]
[null,""]
[null,""]
[null,""]
[null,""]
[null,""]
[null,""]
[null,""]
[null,""]
[null,{"$f":"IF(C1059=0,\"\",C1059-C1058)","v":""}]
[null,""]
[null,""]
[null,""]
[null,""]
[null,""]
[null,""]
[null,""]
[null,""]
[null,""]
[null,""]
[null,""]
[null,""]
[null,""]
[null,""]
[null,""]
[null,""]
[null,""]
[null,""]
[null,""]
[null,""]
[null,""]
[null,""]
[null,""]
[null,""]
[null,""]
[null,""]
[null,""]
[null,""]
[null,""]
[null,""]
[null,""]
[null,""]
[null,""]
[null,""]
[null,""]
[null,""]
[null,""]
[null,""]
[null,""]
[null,""]
[null,""]
[null,""]
[null,""]
[null,""]
[null,""]
[null,""]
[null,""]
[null,""]
[null,""]
[null,""]
[null,""]
[null,""]
[null,""]
[null,""]
[null,""]
[null,""]
[null,""]
[null,""]
[null,""]
[null,""]
[null,""]
[null,""]
[null,""]
[null,{"$f":"IF(C1123=0,\"\",C1123-C1122)","v":""}]
[null,""]
[null,""]
[null,""]
[null,""]
[null,""]
[null,""]
[null,""]
[null,""]
[null,""]
[null,""]
[null,""]
[null,""]
[null,""]
[null,""]
[null,""]
[null,""]
[null,""]
[null,""]
[null,""]
[null,""]
[null,""]
[null,""]
[null,""]
[null,""]
[null,""]
[null,""]
[null,""]
[null,""]
[null,""]
[null,""]
[null,""]
[null,""]
[null,""]
[null,""]
[null,""]
[null,""]
[null,""]
[null,""]
[null,""]
[null,""]
[null,""]
[null,""]
[null,""]
[null,""]
[null,""]
[null,""]
[null,""]
[null,""]
[null,""]
[null,""]
[null,""]
[null,""]
[null,""]
[null,""]
[null,""]
[null,""]
[null,""]
[null,""]
[null,""]
[null,""]
[null,""]
[null,""]
[null,""]
[null,{"$f":"IF(C1187=0,\"\",C1187-C1186)","v":""}]
[null,""]
[null,""]
[null,""]
[null,""]
[null,""]
[null,""]
[null,""]
[null,""]
[null,""]
[null,""]
[null,""]
[null,""]
[null,""]
[null,""]
[null,""]
[null,""]
[null,""]
[null,""]
[null,""]
[null,""]
[null,""]
[null,""]
[null,""]
[null,""]
[null,""]
[null,""]
[null,""]
[null,""]
[null,""]
[null,""]
[null,""]
[null,""]
[null,""]
[null,""]
[null,""]
[null,""]
[null,""]
[null,""]
[null,""]
[null,""]
[null,""]
[null,""]
[null,""]
[null,""]
[null,""]
[null,""]
[null,""]
[null,""]
[null,""]
[null,""]
[null,""]
[null,""]
[null,""]
[null,""]
[null,""]
[null,""]
[null,""]
[null,""]
[null,""]
[null,""]
[null,""]
[null,""]
[null,""]
[null,{"$f":"IF(C1251=0,\"\",C1251-C1250)","v":""}]
[null,""]
[null,""]
[null,""]
[null,""]
[null,""]
[null,""]
[null,""]
[null,""]
[null,""]
[null,""]
[null,""]
[null,""]
[null,""]
[null,""]
[null,""]
[null,""]
[null,""]
[null,""]
[null,""]
[null,""]
[null,""]
[null,""]
[null,""]
[null,""]
[null,""]
[null,""]
[null,""]
[null,""]
[null,""]
[null,""]
[null,""]
[null,""]
[null,""]
[null,""]
[null,""]
[null,""]
[null,""]
[null,""]
[null,""]
[null,""]
[null,""]
[null,""]
[null,""]
[null,""]
[null,""]
[null,""]
[null,""]
[null,""]
[null,""]
[null,""]
[null,""]
[null,""]
[null,""]
[null,""]
[null,""]
[null,""]
[null,""]
[null,""]
[null,""]
[null,""]
[null,""]
[null,""]
[null,""]
[null,{"$f":"IF(C1315=0,\"\",C1315-C1314)","v":""}]
[null,""]
[null,""]
[null,""]
[null,""]
[null,""]
[null,""]
[null,""]
[null,""]
[null,""]
[null,""]
[null,""]
[null,""]
[null,""]
[null,""]
[null,""]
[null,""]
[null,""]
[null,""]
[null,""]
[null,""]
[null,""]
[null,""]
[null,""]
[null,""]
[null,""]
[null,""]
[null,""]
[null,""]
[null,""]
[null,""]
[null,""]
[null,""]
[null,""]
[null,""]
[null,""]
[null,""]
[null,""]
[null,""]
[null,""]
[null,""]
[null,""]
[null,""]
[null,""]
[null,""]
[null,""]
[null,""]
[null,""]
[null,""]
[null,""]
[null,""]
[null,""]
[null,""]
[null,""]
[null,""]
[null,""]
[null,""]
[null,""]
[null,""]
[null,""]
[null,""]
[null,""]
[null,""]
[null,""]
[null,{"$f":"IF(C1379=0,\"\",C1379-C1378)","v":""}]
[null,""]
[null,""]
[null,""]
[null,""]
[null,""]
[null,""]
[null,""]
[null,""]
[null,""]
[null,""]
[null,""]
[null,""]
[null,""]
[null,""]
[null,""]
[null,""]
[null,""]
[null,""]
[null,""]
[null,""]
[null,""]
[null,""]
[null,""]
[null,""]
[null,""]
[null,""]
[null,""]
[null,""]
[null,""]
[null,""]
[null,""]
[null,""]
[null,""]
[null,""]
[null,""]
[null,""]
[null,""]
[null,""]
[null,""]
[null,""]
[null,""]
[null,""]
[null,""]
[null,""]
[null,""]
[null,""]
[null,""]
[null,""]
[null,""]
[null,""]
[null,""]
[null,""]
[null,""]
[null,""]
[null,""]
[null,""]
[null,""]
[null,""]
[null,""]
[null,""]
[null,""]
[null,""]
[null,""]
[null,{"$f":"IF(C1443=0,\"\",C1443-C1442)","v":""}]
[null,""]
[null,""]
[null,""]
[null,""]
[null,""]
[null,""]
[null,""]
[null,""]
[null,""]
[null,""]
[null,""]
[null,""]
[null,""]
[null,""]
[null,""]
[null,""]
[null,""]
[null,""]
[null,""]
[null,""]
[null,""]
[null,""]
[null,""]
[null,""]
[null,""]
[null,""]
[null,""]
[null,""]
[null,""]
[null,""]
[null,""]
[null,""]
[null,""]
[null,""]
[null,""]
[null,""]
[null,""]
[null,""]
[null,""]
[null,""]
[null,""]
[null,""]
[null,""]
[null,""]
[null,""]
[null,""]
[null,""]
[null,""]
[null,""]
[null,""]
[null,""]
[null,""]
[null,""]
[null,""]
[null,""]
[null,""]
[null,""]
[null,""]
[null,""]
[null,""]
[null,""]
[null,""]
[null,""]
[null,{"$f":"IF(C1507=0,\"\",C1507-C1506)","v":""}]
[null,""]
[null,""]
[null,""]
[null,""]
[null,""]
[null,""]
[null,""]
[null,""]
[null,""]
[null,""]
[null,""]
[null,""]
[null,""]
[null,""]
[null,""]
[null,""]
[null,""]
[null,""]
[null,""]
[null,""]
[null,""]
[null,""]
[null,""]
[null,""]
[null,""]
[null,""]
[null,""]
[null,""]
[null,""]
[null,""]
[null,""]
[null,""]
[null,""]
[null,""]
[null,""]
[null,""]
[null,""]
[null,""]
[null,""]
[null,""]
[null,""]
[null,""]
[null,""]
[null,""]
[null,""]
[null,""]
[null,""]
[null,""]
[null,""]
[null,""]
[null,""]
[null,""]
[null,""]
[null,""]
[null,""]
[null,""]
[null,""]
[null,""]
[null,""]
[null,""]
[null,""]
[null,""]
[null,""]
[null,{"$f":"IF(C1571=0,\"\",C1571-C1570)","v":""}]
[null,""]
[null,""]
[null,""]
[null,""]
[null,""]
[null,""]
[null,""]
[null,""]
[null,""]
[null,""]
[null,""]
[null,""]
[null,""]
[null,""]
[null,""]
[null,""]
[null,""]
[null,""]
[null,""]
[null,""]
[null,""]
[null,""]
[null,""]
[null,""]
[null,""]
[null,""]
[null,""]
[null,""]
[null,""]
[null,""]
[null,""]
[null,""]
[null,""]
[null,""]
[null,""]
[null,""]
[null,""]
[null,""]
[null,""]
[null,""]
[null,""]
[null,""]
[null,""]
[null,""]
[null,""]
[null,""]
[null,""]
[null,""]
[null,""]
[null,""]
[null,""]
[null,""]
[null,""]
[null,""]
[null,""]
[null,""]
[null,""]
[null,""]
[null,""]
[null,""]
[null,""]
[null,""]
[null,""]
[null,{"$f":"IF(C1635=0,\"\",C1635-C1634)","v":""}]
[null,""]
[null,""]
[null,""]
[null,""]
[null,""]
[null,""]
[null,""]
[null,""]
[null,""]
[null,""]
[null,""]
[null,""]
[null,""]
[null,""]
[null,""]
[null,""]
[null,""]
[null,""]
[null,""]
[null,""]
[null,""]
[null,""]
[null,""]
[null,""]
[null,""]
[null,""]
[null,""]
[null,""]
[null,""]
[null,""]
[null,""]
[null,""]
[null,""]
[null,""]
[null,""]
[null,""]
[null,""]
[null,""]
[null,""]
[null,""]
[null,""]
[null,""]
[null,""]
[null,""]
[null,""]
[null,""]
[null,""]
[null,""]
[null,""]
[null,""]
[null,""]
[null,""]
[null,""]
[null,""]
[null,""]
[null,""]
[null,""]
[null,""]
[null,""]
[null,""]
[null,""]
[null,""]
[null,""]
[null,{"$f":"IF(C1699=0,\"\",C1699-C1698)","v":""}]
[null,""]
[null,""]
[null,""]
[null,""]
[null,""]
[null,""]
[null,""]
[null,""]
[null,""]
[null,""]
[null,""]
[null,""]
[null,""]
[null,""]
[null,""]
[null,""]
[null,""]
[null,""]
[null,""]
[null,""]
[null,""]
[null,""]
[null,""]
[null,""]
[null,""]
[null,""]
[null,""]
[null,""]
[null,""]
[null,""]
[null,""]
[null,""]
[null,""]
[null,""]
[null,""]
[null,""]
[null,""]
[null,""]
[null,""]
[null,""]
[null,""]
[null,""]
[null,""]
[null,""]
[null,""]
[null,""]
[null,""]
[null,""]
[null,""]
[null,""]
[null,""]
[null,""]
[null,""]
[null,""]
[null,""]
[null,""]
[null,""]
[null,""]
[null,""]
[null,""]
[null,""]
[null,""]
[null,""]
[null,{"$f":"IF(C1763=0,\"\",C1763-C1762)","v":""}]
[null,""]
[null,""]
[null,""]
[null,""]
[null,""]
[null,""]
[null,""]
[null,""]
[null,""]
[null,""]
[null,""]
[null,""]
[null,""]
[null,""]
[null,""]
[null,""]
[null,""]
[null,""]
[null,""]
[null,""]
[null,""]
[null,""]
[null,""]
[null,""]
[null,""]
[null,""]
[null,""]
[null,""]
[null,""]
[null,""]
[null,""]
[null,""]
[null,""]
[null,""]
[null,""]
[null,""]
[null,""]
[null,""]
[null,""]
[null,""]
[null,""]
[null,""]
[null,""]
[null,""]
[null,""]
[null,""]
[null,""]
[null,""]
[null,""]
[null,""]
[null,""]
[null,""]
[null,""]
[null,""]
[null,""]
[null,""]
[null,""]
[null,""]
[null,""]
[null,""]
[null,""]
[null,""]
[null,""]
[null,{"$f":"IF(C1827=0,\"\",C1827-C1826)","v":""}]
[null,""]
[null,""]
[null,""]
[null,""]
[null,""]
[null,""]
[null,""]
[null,""]
[null,""]
[null,""]
[null,""]
[null,""]
[null,""]
[null,""]
[null,""]
[null,""]
[null,""]
[null,""]
[null,""]
[null,""]
[null,""]
[null,""]
[null,""]
[null,""]
[null,""]
[null,""]
[null,""]
[null,""]
[null,""]
[null,""]
[null,""]
[null,""]
[null,""]
[null,""]
[null,""]
[null,""]
[null,""]
[null,""]
[null,""]
[null,""]
[null,""]
[null,""]
[null,""]
[null,""]
[null,""]
[null,""]
[null,""]
[null,""]
[null,""]
[null,""]
[null,""]
[null,""]
[null,""]
[null,""]
[null,""]
[null,""]
[null,""]
[null,""]
[null,""]
[null,""]
[null,""]
[null,""]
[null,""]
[null,{"$f":"IF(C1891=0,\"\",C1891-C1890)","v":""}]
[null,""]
[null,""]
[null,""]
[null,""]
[null,""]
[null,""]
[null,""]
[null,""]
[null,""]
[null,""]
[null,""]
[null,""]
[null,""]
[null,""]
[null,""]
[null,""]
[null,""]
[null,""]
[null,""]
[null,""]
[null,""]
[null,""]
[null,""]
[null,""]
[null,""]
[null,""]
[null,""]
[null,""]
[null,""]
[null,""]
[null,""]
[null,""]
[null,""]
[null,""]
[null,""]
[null,""]
[null,""]
[null,""]
[null,""]
[null,""]
[null,""]
[null,""]
[null,""]
[null,""]
[null,""]
[null,""]
[null,""]
[null,""]
[null,""]
[null,""]
[null,""]
[null,""]
[null,""]
[null,""]
[null,""]
[null,""]
[null,""]
[null,""]
[null,""]
[null,""]
[null,""]
[null,""]
[null,""]
[null,{"$f":"IF(C1955=0,\"\",C1955-C1954)","v":""}]
[null,""]
[null,""]
[null,""]
[null,""]
[null,""]
[null,""]
[null,""]
[null,""]
[null,""]
[null,""]
[null,""]
[null,""]
[null,""]
[null,""]
[null,""]
[null,""]
[null,""]
[null,""]
[null,""]
[null,""]
[null,""]
[null,""]
[null,""]
[null,""]
[null,""]
[null,""]
[null,""]
[null,""]
[null,""]
[null,""]
[null,""]
[null,""]
[null,""]
[null,""]
[null,""]
[null,""]
[null,""]
[null,""]
[null,""]
[null,""]
[null,""]
[null,""]
[null,""]
[null,""]
[null,""]
[null,""]
[null,""]
[null,""]
[null,""]
[null,""]
[null,""]
[null,""]
[null,""]
[null,""]
[null,""]
[null,""]
[null,""]
[null,""]
[null,""]
[null,""]
[null,""]
[null,""]
[null,""]
[null,{"$f":"IF(C2019=0,\"\",C2019-C2018)","v":""}]
[null,""]
[null,""]
[null,""]
[null,""]
[null,""]
[null,""]
[null,""]
[null,""]
[null,""]
[null,""]
[null,""]
[null,""]
[null,""]
[null,""]
[null,""]
[null,""]
[null,""]
[null,""]
[null,""]
[null,""]
[null,""]
[null,""]
[null,""]
[null,""]
[null,""]
[null,""]
[null,""]
[null,""]
[null,""]
[null,""]
[null,""]
[null,""]
[null,""]
[null,""]
[null,""]
[null,""]
[null,""]
[null,""]
[null,""]
[null,""]
[null,""]
[null,""]
[null,""]
[null,""]
[null,""]
[null,""]
[null,""]
[null,""]
[null,""]
[null,""]
[null,""]
[null,""]
[null,""]
[null,""]
[null,""]
[null,""]
[null,""]
[null,""]
[null,""]
[null,""]
[null,""]
[null,""]
[null,""]
[null,{"$f":"IF(C2083=0,\"\",C2083-C2082)","v":""}]
[null,""]
[null,""]
[null,""]
[null,""]
[null,""]
[null,""]
[null,""]
[null,""]
[null,""]
[null,""]
[null,""]
[null,""]
[null,""]
[null,""]
[null,""]
[null,""]
[null,""]
[null,""]
[null,""]
[null,""]
[null,""]
[null,""]
[null,""]
[null,""]
[null,""]
[null,""]
[null,""]
[null,""]
[null,""]
[null,""]
[null,""]
[null,""]
[null,""]
[null,""]
[null,""]
[null,""]
[null,""]
[null,""]
[null,""]
[null,""]
[null,""]
[null,""]
[null,""]
[null,""]
[null,""]
[null,""]
[null,""]
[null,""]
[null,""]
[null,""]
[null,""]
[null,""]
[null,""]
[null,""]
[null,""]
[null,""]
[null,""]
[null,""]
[null,""]
[null,""]
[null,""]
[null,""]
[null,""]
[null,{"$f":"IF(C2147=0,\"\",C2147-C2146)","v":""}]
[null,""]
[null,""]
[null,""]
[null,""]
[null,""]
[null,""]
[null,""]
[null,""]
[null,""]
[null,""]
[null,""]
[null,""]
[null,""]
[null,""]
[null,""]
[null,""]
[null,""]
[null,""]
[null,""]
[null,""]
[null,""]
[null,""]
[null,""]
[null,""]
[null,""]
[null,""]
[null,""]
[null,""]
[null,""]
[null,""]
[null,""]
[null,""]
[null,""]
[null,""]
[null,""]
[null,""]
[null,""]
[null,""]
[null,""]
[null,""]
[null,""]
[null,""]
[null,""]
[null,""]
[null,""]
[null,""]
[null,""]
[null,""]
[null,""]
[null,""]
[null,""]
[null,""]
[null,""]
[null,""]
[null,""]
[null,""]
[null,""]
[null,""]
[null,""]
[null,""]
[null,""]
[null,""]
[null,""]
[null,{"$f":"IF(C2211=0,\"\",C2211-C2210)","v":""}]
[null,""]
[null,""]
[null,""]
[null,""]
[null,""]
[null,""]
[null,""]
[null,""]
[null,""]
[null,""]
[null,""]
[null,""]
[null,""]
[null,""]
[null,""]
[null,""]
[null,""]
[null,""]
[null,""]
[null,""]
[null,""]
[null,""]
[null,""]
[null,""]
[null,""]
[null,""]
[null,""]
[null,""]
[null,""]
[null,""]
[null,""]
[null,""]
[null,""]
[null,""]
[null,""]
[null,""]
[null,""]
[null,""]
[null,""]
[null,""]
[null,""]
[null,""]
[null,""]
[null,""]
[null,""]
[null,""]
[null,""]
[null,""]
[null,""]
[null,""]
[null,""]
[null,""]
[null,""]
[null,""]
[null,""]
[null,""]
[null,""]
[null,""]
[null,""]
[null,""]
[null,""]
[null,""]
[null,""]
[null,{"$f":"IF(C2275=0,\"\",C2275-C2274)","v":""}]
[null,""]
[null,""]
[null,""]
[null,""]
[null,""]
[null,""]
[null,""]
[null,""]
[null,""]
[null,""]
[null,""]
[null,""]
[null,""]
[null,""]
[null,""]
[null,""]
[null,""]
[null,""]
[null,""]
[null,""]
[null,""]
[null,""]
[null,""]
[null,""]
[null,""]
[null,""]
[null,""]
[null,""]
[null,""]
[null,""]
[null,""]
[null,""]
[null,""]
[null,""]
[null,""]
[null,""]
[null,""]
[null,""]
[null,""]
[null,""]
[null,""]
[null,""]
[null,""]
[null,""]
[null,""]
[null,""]
[null,""]
[null,""]
[null,""]
[null,""]
[null,""]
[null,""]
[null,""]
[null,""]
[null,""]
[null,""]
[null,""]
[null,""]
[null,""]
[null,""]
[null,""]
[null,""]
[null,""]
[null,{"$f":"IF(C2339=0,\"\",C2339-C2338)","v":""}]
[null,""]
[null,""]
[null,""]
[null,""]
[null,""]
[null,""]
[null,""]
[null,""]
[null,""]
[null,""]
[null,""]
[null,""]
[null,""]
[null,""]
[null,""]
[null,""]
[null,""]
[null,""]
[null,""]
[null,""]
[null,""]
[null,""]
[null,""]
[null,""]
[null,""]
[null,""]
[null,""]
[null,""]
[null,""]
[null,""]
[null,""]
[null,""]
[null,""]
[null,""]
[null,""]
[null,""]
[null,""]
[null,""]
[null,""]
[null,""]
[null,""]
[null,""]
[null,""]
[null,""]
[null,""]
[null,""]
[null,""]
[null,""]
[null,""]
[null,""]
[null,""]
[null,""]
[null,""]
[null,""]
[null,""]
[null,""]
[null,""]
[null,""]
[null,""]
[null,""]
[null,""]
[null,""]
[null,""]
[null,{"$f":"IF(C2403=0,\"\",C2403-C2402)","v":""}]
[null,""]
[null,""]
[null,""]
[null,""]
[null,""]
[null,""]
[null,""]
[null,""]
[null,""]
[null,""]
[null,""]
[null,""]
[null,""]
[null,""]
[null,""]
[null,""]
[null,""]
[null,""]
[null,""]
[null,""]
[null,""]
[null,""]
[null,""]
[null,""]
[null,""]
[null,""]
[null,""]
[null,""]
[null,""]
[null,""]
[null,""]
[null,""]
[null,""]
[null,""]
[null,""]
[null,""]
[null,""]
[null,""]
[null,""]
[null,""]
[null,""]
[null,""]
[null,""]
[null,""]
[null,""]
[null,""]
[null,""]
[null,""]
[null,""]
[null,""]
[null,""]
[null,""]
[null,""]
[null,""]
[null,""]
[null,""]
[null,""]
[null,""]
[null,""]
[null,""]
[null,""]
[null,""]
[null,""]
[null,{"$f":"IF(C2467=0,\"\",C2467-C2466)","v":""}]
[null,""]
[null,""]
[null,""]
[null,""]
[null,""]
[null,""]
[null,""]
[null,""]
[null,""]
[null,""]
[null,""]
[null,""]
[null,""]
[null,""]
[null,""]
[null,""]
[null,""]
[null,""]
[null,""]
[null,""]
[null,""]
[null,""]
[null,""]
[null,""]
[null,""]
[null,""]
[null,""]
[null,""]
[null,""]
[null,""]
[null,""]
[null,""]
[null,""]
[null,""]
[null,""]
[null,""]
[null,""]
[null,""]
[null,""]
[null,""]
[null,""]
[null,""]
[null,""]
[null,""]
[null,""]
[null,""]
[null,""]
[null,""]
[null,""]
[null,""]
[null,""]
[null,""]
[null,""]
[null,""]
[null,""]
[null,""]
[null,""]
[null,""]
[null,""]
[null,""]
[null,""]
[null,""]
[null,""]
[null,{"$f":"IF(C2531=0,\"\",C2531-C2530)","v":""}]
[null,""]
[null,""]
[null,""]
[null,""]
[null,""]
[null,""]
[null,""]
[null,""]
[null,""]
[null,""]
[null,""]
[null,""]
[null,""]
[null,""]
[null,""]
[null,""]
[null,""]
[null,""]
[null,""]
[null,""]
[null,""]
[null,""]
[null,""]
[null,""]
[null,""]
[null,""]
[null,""]
[null,""]
[null,""]
[null,""]
[null,""]
[null,""]
[null,""]
[null,""]
[null,""]
[null,""]
[null,""]
[null,""]
[null,""]
[null,""]
[null,""]
[null,""]
[null,""]
[null,""]
[null,""]
[null,""]
[null,""]
[null,""]
[null,""]
[null,""]
[null,""]
[null,""]
[null,""]
[null,""]
[null,""]
[null,""]
[null,""]
[null,""]
[null,""]
[null,""]
[null,""]
[null,""]
[null,""]
[null,{"$f":"IF(C2595=0,\"\",C2595-C2594)","v":""}]
[null,""]
[null,""]
[null,""]
[null,""]
[null,""]
[null,""]
[null,""]
[null,""]
[null,""]
[null,""]
[null,""]
[null,""]
[null,""]
[null,""]
[null,""]
[null,""]
[null,""]
[null,""]
[null,""]
[null,""]
[null,""]
[null,""]
[null,""]
[null,""]
[null,""]
[null,""]
[null,""]
[null,""]
[null,""]
[null,""]
[null,""]
[null,""]
[null,""]
[null,""]
[null,""]
[null,""]
[null,""]
[null,""]
[null,""]
[null,""]
[null,""]
[null,""]
[null,""]
[null,""]
[null,""]
[null,""]
[null,""]
[null,""]
[null,""]
[null,""]
[null,""]
[null,""]
[null,""]
[null,""]
[null,""]
[null,""]
[null,""]
[null,""]
[null,""]
[null,""]
[null,""]
[null,""]
[null,""]
[null,{"$f":"IF(C2659=0,\"\",C2659-C2658)","v":""}]
[null,""]
[null,""]
[null,""]
[null,""]
[null,""]
[null,""]
[null,""]
[null,""]
[null,""]
[null,""]
[null,""]
[null,""]
[null,""]
[null,""]
[null,""]
[null,""]
[null,""]
[null,""]
[null,""]
[null,""]
[null,""]
[null,""]
[null,""]
[null,""]
[null,""]
[null,""]
[null,""]
[null,""]
[null,""]
[null,""]
[null,""]
[null,""]
[null,""]
[null,""]
[null,""]
[null,""]
[null,""]
[null,""]
[null,""]
[null,""]
[null,""]
[null,""]
[null,""]
[null,""]
[null,""]
[null,""]
[null,""]
[null,""]
[null,""]
[null,""]
[null,""]
[null,""]
[null,""]
[null,""]
[null,""]
[null,""]
[null,""]
[null,""]
[null,""]
[null,""]
[null,""]
[null,""]
[null,""]
[null,{"$f":"IF(C2723=0,\"\",C2723-C2722)","v":""}]
[null,""]
[null,""]
[null,""]
[null,""]
[null,""]
[null,""]
[null,""]
[null,""]
[null,""]
[null,""]
[null,""]
[null,""]
[null,""]
[null,""]
[null,""]
[null,""]
[null,""]
[null,""]
[null,""]
[null,""]
[null,""]
[null,""]
[null,""]
[null,""]
[null,""]
[null,""]
[null,""]
[null,""]
[null,""]
[null,""]
[null,""]
[null,""]
[null,""]
[null,""]
[null,""]
[null,""]
[null,""]
[null,""]
[null,""]
[null,""]
[null,""]
[null,""]
[null,""]
[null,""]
[null,""]
[null,""]
[null,""]
[null,""]
[null,""]
[null,""]
[null,""]
[null,""]
[null,""]
[null,""]
[null,""]
[null,""]
[null,""]
[null,""]
[null,""]
[null,""]
[null,""]
[null,""]
[null,""]
[null,{"$f":"IF(C2787=0,\"\",C2787-C2786)","v":""}]
[null,""]
[null,""]
[null,""]
[null,""]
[null,""]
[null,""]
[null,""]
[null,""]
[null,""]
[null,""]
[null,""]
[null,""]
[null,""]
[null,""]
[null,""]
[null,""]
[null,""]
[null,""]
[null,""]
[null,""]
[null,""]
[null,""]
[null,""]
[null,""]
[null,""]
[null,""]
[null,""]
[null,""]
[null,""]
[null,""]
[null,""]
[null,""]
[null,""]
[null,""]
[null,""]
[null,""]
[null,""]
[null,""]
[null,""]
[null,""]
[null,""]
[null,""]
[null,""]
[null,""]
[null,""]
[null,""]
[null,""]
[null,""]
[null,""]
[null,""]
[null,""]
[null,""]
[null,""]
[null,""]
[null,""]
[null,""]
[null,""]
[null,""]
[null,""]
[null,""]
[null,""]
[null,""]
[null,""]
[null,{"$f":"IF(C2851=0,\"\",C2851-C2850)","v":""}]
[null,""]
[null,""]
[null,""]
[null,""]
[null,""]
[null,""]
[null,""]
[null,""]
[null,""]
[null,""]
[null,""]
[null,""]
[null,""]
[null,""]
[null,""]
[null,""]
[null,""]
[null,""]
[null,""]
[null,""]
[null,""]
[null,""]
[null,""]
[null,""]
[null,""]
[null,""]
[null,""]
[null,""]
[null,""]
[null,""]
[null,""]
[null,""]
[null,""]
[null,""]
[null,""]
[null,""]
[null,""]
[null,""]
[null,""]
[null,""]
[null,""]
[null,""]
[null,""]
[null,""]
[null,""]
[null,""]
[null,""]
[null,""]
[null,""]
[null,""]
[null,""]
[null,""]
[null,""]
[null,""]
[null,""]
[null,""]
[null,""]
[null,""]
[null,""]
[null,""]
[null,""]
[null,""]
[null,""]
[null,{"$f":"IF(C2915=0,\"\",C2915-C2914)","v":""}]
[null,""]
[null,""]
[null,""]
[null,""]
[null,""]
[null,""]
[null,""]
[null,""]
[null,""]
[null,""]
[null,""]
[null,""]
[null,""]
[null,""]
[null,""]
[null,""]
[null,""]
[null,""]
[null,""]
[null,""]
[null,""]
[null,""]
[null,""]
[null,""]
[null,""]
[null,""]
[null,""]
[null,""]
[null,""]
[null,""]
[null,""]
[null,""]
[null,""]
[null,""]
[null,""]
[null,""]
[null,""]
[null,""]
[null,""]
[null,""]
[null,""]
[null,""]
[null,""]
[null,""]
[null,""]
[null,""]
[null,""]
[null,""]
[null,""]
[null,""]
[null,""]
[null,""]
[null,""]
[null,""]
[null,""]
[null,""]
[null,""]
[null,""]
[null,""]
[null,""]
[null,""]
[null,""]
[null,""]
[null,{"$f":"IF(C2979=0,\"\",C2979-C2978)","v":""}]
[null,""]
[null,""]
[null,""]
[null,""]
[null,""]
[null,""]
[null,""]
[null,""]
[null,""]
[null,""]
[null,""]
[null,""]
[null,""]
[null,""]
[null,""]
[null,""]
[null,""]
[null,""]
[null,""]
[null,""]
[null,""]
[null,""]
[null,""]
[null,""]
[null,""]
[null,""]
[null,""]
[null,""]
[null,""]
[null,""]
[null,""]
[null,""]
[null,""]
[null,""]
[null,""]
[null,""]
[null,""]
[null,""]
[null,""]
[null,""]
[null,""]
[null,""]
[null,""]
[null,""]
[null,""]
[null,""]
[null,""]
[null,""]
[null,""]
[null,""]
[null,""]
[null,""]
[null,""]
[null,""]
[null,""]
[null,""]
[null,""]
[null,""]
[null,""]
[null,""]
[null,""]
[null,""]
[null,""]
[null,{"$f":"IF(C3043=0,\"\",C3043-C3042)","v":""}]
[null,""]
[null,""]
[null,""]
[null,""]
[null,""]
[null,""]
[null,""]
[null,""]
[null,""]
[null,""]
[null,""]
[null,""]
[null,""]
[null,""]
[null,""]
[null,""]
[null,""]
[null,""]
[null,""]
[null,""]
[null,""]
[null,""]
[null,""]
[null,""]
[null,""]
[null,""]
[null,""]
[null,""]
[null,""]
[null,""]
[null,""]
[null,""]
[null,""]
[null,""]
[null,""]
[null,""]
[null,""]
[null,""]
[null,""]
[null,""]
[null,""]
[null,""]
[null,""]
[null,""]
[null,""]
[null,""]
[null,""]
[null,""]
[null,""]
[null,""]
[null,""]
[null,""]
[null,""]
[null,""]
[null,""]
[null,""]
[null,""]
[null,""]
[null,""]
[null,""]
[null,""]
[null,""]
[null,""]
[null,{"$f":"IF(C3107=0,\"\",C3107-C3106)","v":""}]
[null,""]
[null,""]
[null,""]
[null,""]
[null,""]
[null,""]
[null,""]
[null,""]
[null,""]
[null,""]
[null,""]
[null,""]
[null,""]
[null,""]
[null,""]
[null,""]
[null,""]
[null,""]
[null,""]
[null,""]
[null,""]
[null,""]
[null,""]
[null,""]
[null,""]
[null,""]
[null,""]
[null,""]
[null,""]
[null,""]
[null,""]
[null,""]
[null,""]
[null,""]
[null,""]
[null,""]
[null,""]
[null,""]
[null,""]
[null,""]
[null,""]
[null,""]
[null,""]
[null,""]
[null,""]
[null,""]
[null,""]
[null,""]
[null,""]
[null,""]
[null,""]
[null,""]
[null,""]
[null,""]
[null,""]
[null,""]
[null,""]
[null,""]
[null,""]
[null,""]
[null,""]
[null,""]
[null,""]
[null,{"$f":"IF(C3171=0,\"\",C3171-C3170)","v":""}]
[null,""]
[null,""]
[null,""]
[null,""]
[null,""]
[null,""]
[null,""]
[null,""]
[null,""]
[null,""]
[null,""]
[null,""]
[null,""]
[null,""]
[null,""]
[null,""]
[null,""]
[null,""]
[null,""]
[null,""]
[null,""]
[null,""]
[null,""]
[null,""]
[null,""]
[null,""]
[null,""]
[null,""]
[null,""]
[null,""]
[null,""]
[null,""]
[null,""]
[null,""]
[null,""]
[null,""]
[null,""]
[null,""]
[null,""]
[null,""]
[null,""]
[null,""]
[null,""]
[null,""]
[null,""]
[null,""]
[null,""]
[null,""]
[null,""]
[null,""]
[null,""]
[null,""]
[null,""]
[null,""]
[null,""]
[null,""]
[null,""]
[null,""]
[null,""]
[null,""]
[null,""]
[null,""]
[null,""]
[null,{"$f":"IF(C3235=0,\"\",C3235-C3234)","v":""}]
[null,""]
[null,""]
[null,""]
[null,""]
[null,""]
[null,""]
[null,""]
[null,""]
[null,""]
[null,""]
[null,""]
[null,""]
[null,""]
[null,""]
[null,""]
[null,""]
[null,""]
[null,""]
[null,""]
[null,""]
[null,""]
[null,""]
[null,""]
[null,""]
[null,""]
[null,""]
[null,""]
[null,""]
[null,""]
[null,""]
[null,""]
[null,""]
[null,""]
[null,""]
[null,""]
[null,""]
[null,""]
[null,""]
[null,""]
[null,""]
[null,""]
[null,""]
[null,""]
[null,""]
[null,""]
[null,""]
[null,""]
[null,""]
[null,""]
[null,""]
[null,""]
[null,""]
[null,""]
[null,""]
[null,""]
[null,""]
[null,""]
[null,""]
[null,""]
[null,""]
[null,""]
[null,""]
[null,""]
[null,{"$f":"IF(C3299=0,\"\",C3299-C3298)","v":""}]
[null,""]
[null,""]
[null,""]
[null,""]
[null,""]
[null,""]
[null,""]
[null,""]
[null,""]
[null,""]
[null,""]
[null,""]
[null,""]
[null,""]
[null,""]
[null,""]
[null,""]
[null,""]
[null,""]
[null,""]
[null,""]
[null,""]
[null,""]
[null,""]
[null,""]
[null,""]
[null,""]
[null,""]
[null,""]
[null,""]
[null,""]
[null,""]
[null,""]
[null,""]
[null,""]
[null,""]
[null,""]
[null,""]
[null,""]
[null,""]
[null,""]
[null,""]
[null,""]
[null,""]
[null,""]
[null,""]
[null,""]
[null,""]
[null,""]
[null,""]
[null,""]
[null,""]
[null,""]
[null,""]
[null,""]
[null,""]
[null,""]
[null,""]
[null,""]
[null,""]
[null,""]
[null,""]
[null,""]
[null,{"$f":"IF(C3363=0,\"\",C3363-C3362)","v":""}]
[null,""]
[null,""]
[null,""]
[null,""]
[null,""]
[null,""]
[null,""]
[null,""]
[null,""]
[null,""]
[null,""]
[null,""]
[null,""]
[null,""]
[null,""]
[null,""]
[null,""]
[null,""]
[null,""]
[null,""]
[null,""]
[null,""]
[null,""]
[null,""]
[null,""]
[null,""]
[null,""]
[null,""]
[null,""]
[null,""]
[null,""]
[null,""]
[null,""]
[null,""]
[null,""]
[null,""]
[null,""]
[null,""]
[null,""]
[null,""]
[null,""]
[null,""]
[null,""]
[null,""]
[null,""]
[null,""]
[null,""]
[null,""]
[null,""]
[null,""]
[null,""]
[null,""]
[null,""]
[null,""]
[null,""]
[null,""]
[null,""]
[null,""]
[null,""]
[null,""]
[null,""]
[null,""]
[null,""]
[null,{"$f":"IF(C3427=0,\"\",C3427-C3426)","v":""}]
[null,""]
[null,""]
[null,""]
[null,""]
[null,""]
[null,""]
[null,""]
[null,""]
[null,""]
[null,""]
[null,""]
[null,""]
[null,""]
[null,""]
[null,""]
[null,""]
[null,""]
[null,""]
[null,""]
[null,""]
[null,""]
[null,""]
[null,""]
[null,""]
[null,""]
[null,""]
[null,""]
[null,""]
[null,""]
[null,""]
[null,""]
[null,""]
[null,""]
[null,""]
[null,""]
[null,""]
[null,""]
[null,""]
[null,""]
[null,""]
[null,""]
[null,""]
[null,""]
[null,""]
[null,""]
[null,""]
[null,""]
[null,""]
[null,""]
[null,""]
[null,""]
[null,""]
[null,""]
[null,""]
[null,""]
[null,""]
[null,""]
[null,""]
[null,""]
[null,""]
[null,""]
[null,""]
[null,""]
[null,{"$f":"IF(C3491=0,\"\",C3491-C3490)","v":""}]
[null,""]
[null,""]
[null,""]
[null,""]
[null,""]
[null,""]
[null,""]
[null,""]
[null,""]
[null,""]
[null,""]
[null,""]
[null,""]
[null,""]
[null,""]
[null,""]
[null,""]
[null,""]
[null,""]
[null,""]
[null,""]
[null,""]
[null,""]
[null,""]
[null,""]
[null,""]
[null,""]
[null,""]
[null,""]
[null,""]
[null,""]
[null,""]
[null,""]
[null,""]
[null,""]
[null,""]
[null,""]
[null,""]
[null,""]
[null,""]
[null,""]
[null,""]
[null,""]
[null,""]
[null,""]
[null,""]
[null,""]
[null,""]
[null,""]
[null,""]
[null,""]
[null,""]
[null,""]
[null,""]
[null,""]
[null,""]
[null,""]
[null,""]
[null,""]
[null,""]
[null,""]
[null,""]
[null,""]
[null,{"$f":"IF(C3555=0,\"\",C3555-C3554)","v":""}]
[null,""]
[null,""]
[null,""]
[null,""]
[null,""]
[null,""]
[null,""]
[null,""]
[null,""]
[null,""]
[null,""]
[null,""]
[null,""]
[null,""]
[null,""]
[null,""]
[null,""]
[null,""]
[null,""]
[null,""]
[null,""]
[null,""]
[null,""]
[null,""]
[null,""]
[null,""]
[null,""]
[null,""]
[null,""]
[null,""]
[null,""]
[null,""]
[null,""]
[null,""]
[null,""]
[null,""]
[null,""]
[null,""]
[null,""]
[null,""]
[null,""]
[null,""]
[null,""]
[null,""]
[null,""]
[null,""]
[null,""]
[null,""]
[null,""]
[null,""]
[null,""]
[null,""]
[null,""]
[null,""]
[null,""]
[null,""]
[null,""]
[null,""]
[null,""]
[null,""]
[null,""]
[null,""]
[null,""]
[null,{"$f":"IF(C3619=0,\"\",C3619-C3618)","v":""}]
[null,""]
[null,""]
[null,""]
[null,""]
[null,""]
[null,""]
[null,""]
[null,""]
[null,""]
[null,""]
[null,""]
[null,""]
[null,""]
[null,""]
[null,""]
[null,""]
[null,""]
[null,""]
[null,""]
[null,""]
[null,""]
[null,""]
[null,""]
[null,""]
[null,""]
[null,""]
[null,""]
[null,""]
[null,""]
[null,""]
[null,""]
[null,""]
[null,""]
[null,""]
[null,""]
[null,""]
[null,""]
[null,""]
[null,""]
[null,""]
[null,""]
[null,""]
[null,""]
[null,""]
[null,""]
[null,""]
[null,""]
[null,""]
[null,""]
[null,""]
[null,""]
[null,""]
[null,""]
[null,""]
[null,""]
[null,""]
[null,""]
[null,""]
[null,""]
[null,""]
[null,""]
[null,""]
[null,""]
[null,{"$f":"IF(C3683=0,\"\",C3683-C3682)","v":""}]
[null,""]
[null,""]
[null,""]
[null,""]
[null,""]
[null,""]
[null,""]
[null,""]
[null,""]
[null,""]
[null,""]
[null,""]
[null,""]
[null,""]
[null,""]
[null,""]
[null,""]
[null,""]
[null,""]
[null,""]
[null,""]
[null,""]
[null,""]
[null,""]
[null,""]
[null,""]
[null,""]
[null,""]
[null,""]
[null,""]
[null,""]
[null,""]
[null,""]
[null,""]
[null,""]
[null,""]
[null,""]
[null,""]
[null,""]
[null,""]
[null,""]
[null,""]
[null,""]
[null,""]
[null,""]
[null,""]
[null,""]
[null,""]
[null,""]
[null,""]
[null,""]
[null,""]
[null,""]
[null,""]
[null,""]
[null,""]
[null,""]
[null,""]
[null,""]
[null,""]
[null,""]
[null,""]
[null,""]
[null,{"$f":"IF(C3747=0,\"\",C3747-C3746)","v":""}]
[null,""]
[null,""]
[null,""]
[null,""]
[null,""]
[null,""]
[null,""]
[null,""]
[null,""]
[null,""]
[null,""]
[null,""]
[null,""]
[null,""]
[null,""]
[null,""]
[null,""]
[null,""]
[null,""]
[null,""]
[null,""]
[null,""]
[null,""]
[null,""]
[null,""]
[null,""]
[null,""]
[null,""]
[null,""]
[null,""]
[null,""]
[null,""]
[null,""]
[null,""]
[null,""]
[null,""]
[null,""]
[null,""]
[null,""]
[null,""]
[null,""]
[null,""]
[null,""]
[null,""]
[null,""]
[null,""]
[null,""]
[null,""]
[null,""]
[null,""]
[null,""]
[null,""]
[null,""]
[null,""]
[null,""]
[null,""]
[null,""]
[null,""]
[null,""]
[null,""]
[null,""]
[null,""]
[null,""]
[null,{"$f":"IF(C3811=0,\"\",C3811-C3810)","v":""}]
[null,""]
[null,""]
[null,""]
[null,""]
[null,""]
[null,""]
[null,""]
[null,""]
[null,""]
[null,""]
[null,""]
[null,""]
[null,""]
[null,""]
[null,""]
[null,""]
[null,""]
[null,""]
[null,""]
[null,""]
[null,""]
[null,""]
[null,""]
[null,""]
[null,""]
[null,""]
[null,""]
[null,""]
[null,""]
[null,""]
[null,""]
[null,""]
[null,""]
[null,""]
[null,""]
[null,""]
[null,""]
[null,""]
[null,""]
[null,""]
[null,""]
[null,""]
[null,""]
[null,""]
[null,""]
[null,""]
[null,""]
[null,""]
[null,""]
[null,""]
[null,""]
[null,""]
[null,""]
[null,""]
[null,""]
[null,""]
[null,""]
[null,""]
[null,""]
[null,""]
[null,""]
[null,""]
[null,""]
[null,{"$f":"IF(C3875=0,\"\",C3875-C3874)","v":""}]
[null,""]
[null,""]
[null,""]
[null,""]
[null,""]
[null,""]
[null,""]
[null,""]
[null,""]
[null,""]
[null,""]
[null,""]
[null,""]
[null,""]
[null,""]
[null,""]
[null,""]
[null,""]
[null,""]
[null,""]
[null,""]
[null,""]
[null,""]
[null,""]
[null,""]
[null,""]
[null,""]
[null,""]
[null,""]
[null,""]
[null,""]
[null,""]
[null,""]
[null,""]
[null,""]
[null,""]
[null,""]
[null,""]
[null,""]
[null,""]
[null,""]
[null,""]
[null,""]
[null,""]
[null,""]
[null,""]
[null,""]
[null,""]
[null,""]
[null,""]
[null,""]
[null,""]
[null,""]
[null,""]
[null,""]
[null,""]
[null,""]
[null,""]
[null,""]
[null,""]
[null,""]
[null,""]
[null,""]
[null,{"$f":"IF(C3939=0,\"\",C3939-C3938)","v":""}]
[null,""]
[null,""]
[null,""]
[null,""]
[null,""]
[null,""]
[null,""]
[null,""]
[null,""]
[null,""]
[null,""]
[null,""]
[null,""]
[null,""]
[null,""]
[null,""]
[null,""]
[null,""]
[null,""]
[null,""]
[null,""]
[null,""]
[null,""]
[null,""]
[null,""]
[null,""]
[null,""]
[null,""]
[null,""]
[null,""]
[null,""]
[null,""]
[null,""]
[null,""]
[null,""]
[null,""]
[null,""]
[null,""]
[null,""]
[null,""]
[null,""]
[null,""]
[null,""]
[null,""]
[null,""]
[null,""]
[null,""]
[null,""]
[null,""]
[null,""]
[null,""]
[null,""]
[null,""]
[null,""]
[null,""]
[null,""]
[null,""]
[null,""]
[null,""]
[null,""]
[null,""]
[null,""]
[null,""]
[null,{"$f":"IF(C4003=0,\"\",C4003-C4002)","v":""}]
[null,""]
[null,""]
[null,""]
[null,""]
[null,""]
[null,""]
[null,""]
[null,""]
[null,""]
[null,""]
[null,""]
[null,""]
[null,""]
[null,""]
[null,""]
[null,""]
[null,""]
[null,""]
[null,""]
[null,""]
[null,""]
[null,""]
[null,""]
[null,""]
[null,""]
[null,""]
[null,""]
[null,""]
[null,""]
[null,""]
[null,""]
[null,""]
[null,""]
[null,""]
[null,""]
[null,""]
[null,""]
[null,""]
[null,""]
[null,""]
[null,""]
[null,""]
[null,""]
[null,""]
[null,""]
[null,""]
[null,""]
[null,""]
[null,""]
[null,""]
[null,""]
[null,""]
[null,""]
[null,""]
[null,""]
[null,""]
[null,""]
[null,""]
[null,""]
[null,""]
[null,""]
[null,""]
[null,""]
[null,{"$f":"IF(C4067=0,\"\",C4067-C4066)","v":""}]
[null,""]
[null,""]
[null,""]
[null,""]
[null,""]
[null,""]
[null,""]
[null,""]
[null,""]
[null,""]
[null,""]
[null,""]
[null,""]
[null,""]
[null,""]
[null,""]
[null,""]
[null,""]
[null,""]
[null,""]
[null,""]
[null,""]
[null,""]
[null,""]
[null,""]
[null,""]
[null,""]
[null,""]
[null,""]
[null,""]
[null,""]
[null,""]
[null,""]
[null,""]
[null,""]
[null,""]
[null,""]
[null,""]
[null,""]
[null,""]
[null,""]
[null,""]
[null,""]
[null,""]
[null,""]
[null,""]
[null,""]
[null,""]
[null,""]
[null,""]
[null,""]
[null,""]
[null,""]
[null,""]
[null,""]
[null,""]
[null,""]
[null,""]
[null,""]
[null,""]
[null,""]
[null,""]
[null,""]
[null,{"$f":"IF(C4131=0,\"\",C4131-C4130)","v":""}]
[null,""]
[null,""]
[null,""]
[null,""]
[null,""]
[null,""]
[null,""]
[null,""]
[null,""]
[null,""]
[null,""]
[null,""]
[null,""]
[null,""]
[null,""]
[null,""]
[null,""]
[null,""]
[null,""]
[null,""]
[null,""]
[null,""]
[null,""]
[null,""]
[null,""]
[null,""]
[null,""]
[null,""]
[null,""]
[null,""]
[null,""]
[null,""]
[null,""]
[null,""]
[null,""]
[null,""]
[null,""]
[null,""]
[null,""]
[null,""]
[null,""]
[null,""]
[null,""]
[null,""]
[null,""]
[null,""]
[null,""]
[null,""]
[null,""]
[null,""]
[null,""]
[null,""]
[null,""]
[null,""]
[null,""]
[null,""]
[null,""]
[null,""]
[null,""]
[null,""]
[null,""]
[null,""]
[null,""]
[null,{"$f":"IF(C4195=0,\"\",C4195-C4194)","v":""}]
[null,""]
[null,""]
[null,""]
[null,""]
[null,""]
[null,""]
[null,""]
[null,""]
[null,""]
[null,""]
[null,""]
[null,""]
[null,""]
[null,""]
[null,""]
[null,""]
[null,""]
[null,""]
[null,""]
[null,""]
[null,""]
[null,""]
[null,""]
[null,""]
[null,""]
[null,""]
[null,""]
[null,""]
[null,""]
[null,""]
[null,""]
[null,""]
[null,""]
[null,""]
[null,""]
[null,""]
[null,""]
[null,""]
[null,""]
[null,""]
[null,""]
[null,""]
[null,""]
[null,""]
[null,""]
[null,""]
[null,""]
[null,""]
[null,""]
[null,""]
[null,""]
[null,""]
[null,""]
[null,""]
[null,""]
[null,""]
[null,""]
[null,""]
[null,""]
[null,""]
[null,""]
[null,""]
[null,""]
[null,{"$f":"IF(C4259=0,\"\",C4259-C4258)","v":""}]
[null,""]
[null,""]
[null,""]
[null,""]
[null,""]
[null,""]
[null,""]
[null,""]
[null,""]
[null,""]
[null,""]
[null,""]
[null,""]
[null,""]
[null,""]
[null,""]
[null,""]
[null,""]
[null,""]
[null,""]
[null,""]
[null,""]
[null,""]
[null,""]
[null,""]
[null,""]
[null,""]
[null,""]
[null,""]
[null,""]
[null,""]
[null,""]
[null,""]
[null,""]
[null,""]
[null,""]
[null,""]
[null,""]
[null,""]
[null,""]
[null,""]
[null,""]
[null,""]
[null,""]
[null,""]
[null,""]
[null,""]
[null,""]
[null,""]
[null,""]
[null,""]
[null,""]
[null,""]
[null,""]
[null,""]
[null,""]
[null,""]
[null,""]
[null,""]
[null,""]
[null,""]
[null,""]
[null,""]
[null,{"$f":"IF(C4323=0,\"\",C4323-C4322)","v":""}]
[null,""]
[null,""]
[null,""]
[null,""]
[null,""]
[null,""]
[null,""]
[null,""]
[null,""]
[null,""]
[null,""]
[null,""]
[null,""]
[null,""]
[null,""]
[null,""]
[null,""]
[null,""]
[null,""]
[null,""]
[null,""]
[null,""]
[null,""]
[null,""]
[null,""]
[null,""]
[null,""]
[null,""]
[null,""]
[null,""]
[null,""]
[null,""]
[null,""]
[null,""]
[null,""]
[null,""]
[null,""]
[null,""]
[null,""]
[null,""]
[null,""]
[null,""]
[null,""]
[null,""]
[null,""]
[null,""]
[null,""]
[null,""]
[null,""]
[null,""]
[null,""]
[null,""]
[null,""]
[null,""]
[null,""]
[null,""]
[null,""]
[null,""]
[null,""]
[null,""]
[null,""]
[null,""]
[null,""]
[null,{"$f":"IF(C4387=0,\"\",C4387-C4386)","v":""}]
[null,""]
[null,""]
[null,""]
[null,""]
[null,""]
[null,""]
[null,""]
[null,""]
[null,""]
[null,""]
[null,""]
[null,""]
[null,""]
[null,""]
[null,""]
[null,""]
[null,""]
[null,""]
[null,""]
[null,""]
[null,""]
[null,""]
[null,""]
[null,""]
[null,""]
[null,""]
[null,""]
[null,""]
[null,""]
[null,""]
[null,""]
[null,""]
[null,""]
[null,""]
[null,""]
[null,""]
[null,""]
[null,""]
[null,""]
[null,""]
[null,""]
[null,""]
[null,""]
[null,""]
[null,""]
[null,""]
[null,""]
[null,""]
[null,""]
[null,""]
[null,""]
[null,""]
[null,""]
[null,""]
[null,""]
[null,""]
[null,""]
[null,""]
[null,""]
[null,""]
[null,""]
[null,""]
[null,""]
[null,{"$f":"IF(C4451=0,\"\",C4451-C4450)","v":""}]
[null,""]
[null,""]
[null,""]
[null,""]
[null,""]
[null,""]
[null,""]
[null,""]
[null,""]
[null,""]
[null,""]
[null,""]
[null,""]
[null,""]
[null,""]
[null,""]
[null,""]
[null,""]
[null,""]
[null,""]
[null,""]
[null,""]
[null,""]
[null,""]
[null,""]
[null,""]
[null,""]
[null,""]
[null,""]
[null,""]
[null,""]
[null,""]
[null,""]
[null,""]
[null,""]
[null,""]
[null,""]
[null,""]
[null,""]
[null,""]
[null,""]
[null,""]
[null,""]
[null,""]
[null,""]
[null,""]
[null,""]
[null,""]
[null,""]
[null,""]
[null,""]
[null,""]
[null,""]
[null,""]
[null,""]
[null,""]
[null,""]
[null,""]
[null,""]
[null,""]
[null,""]
[null,""]
[null,""]
[null,{"$f":"IF(C4515=0,\"\",C4515-C4514)","v":""}]
[null,""]
[null,""]
[null,""]
[null,""]
[null,""]
[null,""]
[null,""]
[null,""]
[null,""]
[null,""]
[null,""]
[null,""]
[null,""]
[null,""]
[null,""]
[null,""]
[null,""]
[null,""]
[null,""]
[null,""]
[null,""]
[null,""]
[null,""]
[null,""]
[null,""]
[null,""]
[null,""]
[null,""]
[null,""]
[null,""]
[null,""]
[null,""]
[null,""]
[null,""]
[null,""]
[null,""]
[null,""]
[null,""]
[null,""]
[null,""]
[null,""]
[null,""]
[null,""]
[null,""]
[null,""]
[null,""]
[null,""]
[null,""]
[null,""]
[null,""]
[null,""]
[null,""]
[null,""]
[null,""]
[null,""]
[null,""]
[null,""]
[null,""]
[null,""]
[null,""]
[null,""]
[null,""]
[null,""]
[null,{"$f":"IF(C4579=0,\"\",C4579-C4578)","v":""}]
[null,""]
[null,""]
[null,""]
[null,""]
[null,""]
[null,""]
[null,""]
[null,""]
[null,""]
[null,""]
[null,""]
[null,""]
[null,""]
[null,""]
[null,""]
[null,""]
[null,""]
[null,""]
[null,""]
[null,""]
[null,""]
[null,""]
[null,""]
[null,""]
[null,""]
[null,""]
[null,""]
[null,""]
[null,""]
[null,""]
[null,""]
[null,""]
[null,""]
[null,""]
[null,""]
[null,""]
[null,""]
[null,""]
[null,""]
[null,""]
[null,""]
[null,""]
[null,""]
[null,""]
[null,""]
[null,""]
[null,""]
[null,""]
[null,""]
[null,""]
[null,""]
[null,""]
[null,""]
[null,""]
[null,""]
[null,""]
[null,""]
[null,""]
[null,""]
[null,""]
[null,""]
[null,""]
[null,""]
[null,{"$f":"IF(C4643=0,\"\",C4643-C4642)","v":""}]
[null,""]
[null,""]
[null,""]
[null,""]
[null,""]
[null,""]
[null,""]
[null,""]
[null,""]
[null,""]
[null,""]
[null,""]
[null,""]
[null,""]
[null,""]
[null,""]
[null,""]
[null,""]
[null,""]
[null,""]
[null,""]
[null,""]
[null,""]
[null,""]
[null,""]
[null,""]
[null,""]
[null,""]
[null,""]
[null,""]
[null,""]
[null,""]
[null,""]
[null,""]
[null,""]
[null,""]
[null,""]
[null,""]
[null,""]
[null,""]
[null,""]
[null,""]
[null,""]
[null,""]
[null,""]
[null,""]
[null,""]
[null,""]
[null,""]
[null,""]
[null,""]
[null,""]
[null,""]
[null,""]
[null,""]
[null,""]
[null,""]
[null,""]
[null,""]
[null,""]
[null,""]
[null,""]
[null,""]
[null,{"$f":"IF(C4707=0,\"\",C4707-C4706)","v":""}]
[null,""]
[null,""]
[null,""]
[null,""]
[null,""]
[null,""]
[null,""]
[null,""]
[null,""]
[null,""]
[null,""]
[null,""]
[null,""]
[null,""]
[null,""]
[null,""]
[null,""]
[null,""]
[null,""]
[null,""]
[null,""]
[null,""]
[null,""]
[null,""]
[null,""]
[null,""]
[null,""]
[null,""]
[null,""]
[null,""]
[null,""]
[null,""]
[null,""]
[null,""]
[null,""]
[null,""]
[null,""]
[null,""]
[null,""]
[null,""]
[null,""]
[null,""]
[null,""]
[null,""]
[null,""]
[null,""]
[null,""]
[null,""]
[null,""]
[null,""]
[null,""]
[null,""]
[null,""]
[null,""]
[null,""]
[null,""]
[null,""]
[null,""]
[null,""]
[null,""]
[null,""]
[null,""]
[null,""]
[null,{"$f":"IF(C4771=0,\"\",C4771-C4770)","v":""}]
[null,""]
[null,""]
[null,""]
[null,""]
[null,""]
[null,""]
[null,""]
[null,""]
[null,""]
[null,""]
[null,""]
[null,""]
[null,""]
[null,""]
[null,""]
[null,""]
[null,""]
[null,""]
[null,""]
[null,""]
[null,""]
[null,""]
[null,""]
[null,""]
[null,""]
[null,""]
[null,""]
[null,""]
[null,""]
[null,""]
[null,""]
[null,""]
[null,""]
[null,""]
[null,""]
[null,""]
[null,""]
[null,""]
[null,""]
[null,""]
[null,""]
[null,""]
[null,""]
[null,""]
[null,""]
[null,""]
[null,""]
[null,""]
[null,""]
[null,""]
[null,""]
[null,""]
[null,""]
[null,""]
[null,""]
[null,""]
[null,""]
[null,""]
[null,""]
[null,""]
[null,""]
[null,""]
[null,""]
[null,{"$f":"IF(C4835=0,\"\",C4835-C4834)","v":""}]
[null,""]
[null,""]
[null,""]
[null,""]
[null,""]
[null,""]
[null,""]
[null,""]
[null,""]
[null,""]
[null,""]
[null,""]
[null,""]
[null,""]
[null,""]
[null,""]
[null,""]
[null,""]
[null,""]
[null,""]
[null,""]
[null,""]
[null,""]
[null,""]
[null,""]
[null,""]
[null,""]
[null,""]
[null,""]
[null,""]
[null,""]
[null,""]
[null,""]
[null,""]
[null,""]
[null,""]
[null,""]
[null,""]
[null,""]
[null,""]
[null,""]
[null,""]
[null,""]
[null,""]
[null,""]
[null,""]
[null,""]
[null,""]
[null,""]
[null,""]
[null,""]
[null,""]
[null,""]
[null,""]
[null,""]
[null,""]
[null,""]
[null,""]
[null,""]
[null,""]
[null,""]
[null,""]
[null,""]
[null,{"$f":"IF(C4899=0,\"\",C4899-C4898)","v":""}]
[null,""]
[null,""]
[null,""]
[null,""]
[null,""]
[null,""]
[null,""]
[null,""]
[null,""]
[null,""]
[null,""]
[null,""]
[null,""]
[null,""]
[null,""]
[null,""]
[null,""]
[null,""]
[null,""]
[null,""]
[null,""]
[null,""]
[null,""]
[null,""]
[null,""]
[null,""]
[null,""]
[null,""]
[null,""]
[null,""]
[null,""]
[null,""]
[null,""]
[null,""]
[null,""]
[null,""]
[null,""]
[null,""]
[null,""]
[null,""]
[null,""]
[null,""]
[null,""]
[null,""]
[null,""]
[null,""]
[null,""]
[null,""]
[null,""]
[null,""]
[null,""]
[null,""]
[null,""]
[null,""]
[null,""]
[null,""]
[null,""]
[null,""]
[null,""]
[null,""]
[null,""]
[null,""]
[null,""]
[null,{"$f":"IF(C4963=0,\"\",C4963-C4962)","v":""}]
[null,""]
[null,""]
[null,""]
[null,""]
[null,""]
[null,""]
[null,""]
[null,""]
[null,""]
[null,""]
[null,""]
[null,""]
[null,""]
[null,""]
[null,""]
[null,""]
[null,""]
[null,""]
[null,""]
[null,""]
[null,""]
[null,""]
[null,""]
[null,""]
[null,""]
[null,""]
[null,""]
[null,""]
[null,""]
[null,""]
[null,""]
[null,""]
[null,""]
[null,""]
[null,""]
[null,""]
[null,""]
[null,""]
[null,""]
[null,""]
[null,""]
[null,""]
[null,""]
[null,""]
[null,""]
[null,""]
[null,""]
[null,""]
[null,""]
[null,""]
[null,""]
[null,""]
[null,""]
[null,""]
[null,""]
[null,""]
[null,""]
[null,""]
[null,""]
[null,""]
[null,""]
[null,""]
[null,""]
[null,{"$f":"IF(C5027=0,\"\",C5027-C5026)","v":""}]
[null,""]
[null,""]
[null,""]
[null,""]
[null,""]
[null,""]
[null,""]
[null,""]
[null,""]
[null,""]
[null,""]
[null,""]
[null,""]
[null,""]
[null,""]
[null,""]
[null,""]
[null,""]
[null,""]
[null,""]
[null,""]
[null,""]
[null,""]
[null,""]
[null,""]
[null,""]
[null,""]
[null,""]
[null,""]
[null,""]
[null,""]
[null,""]
[null,""]
[null,""]
[null,""]
[null,""]
[null,""]
[null,""]
[null,""]
[null,""]
[null,""]
[null,""]
[null,""]
[null,""]
[null,""]
[null,""]
[null,""]
[null,""]
[null,""]
[null,""]
[null,""]
[null,""]
[null,""]
[null,""]
[null,""]
[null,""]
[null,""]
[null,""]
[null,""]
[null,""]
[null,""]
[null,""]
[null,""]
[null,{"$f":"IF(C5091=0,\"\",C5091-C5090)","v":""}]
[null,""]
[null,""]
[null,""]
[null,""]
[null,""]
[null,""]
[null,""]
[null,""]
[null,""]
[null,""]
[null,""]
[null,""]
[null,""]
[null,""]
[null,""]
[null,""]
[null,""]
[null,""]
[null,""]
[null,""]
[null,""]
[null,""]
[null,""]
[null,""]
[null,""]
[null,""]
[null,""]
[null,""]
[null,""]
[null,""]
[null,""]
[null,""]
[null,""]
[null,""]
[null,""]
[null,""]
[null,""]
[null,""]
[null,""]
[null,""]
[null,""]
[null,""]
[null,""]
[null,""]
[null,""]
[null,""]
[null,""]
[null,""]
[null,""]
[null,""]
[null,""]
[null,""]
[null,""]
[null,""]
[null,""]
[null,""]
[null,""]
[null,""]
[null,""]
[null,""]
[null,""]
[null,""]
[null,""]
[null,{"$f":"IF(C5155=0,\"\",C5155-C5154)","v":""}]
[null,""]
[null,""]
[null,""]
[null,""]
[null,""]
[null,""]
[null,""]
[null,""]
[null,""]
[null,""]
[null,""]
[null,""]
[null,""]
[null,""]
[null,""]
[null,""]
[null,""]
[null,""]
[null,""]
[null,""]
[null,""]
[null,""]
[null,""]
[null,""]
[null,""]
[null,""]
[null,""]
[null,""]
[null,""]
[null,""]
[null,""]
[null,""]
[null,""]
[null,""]
[null,""]
[null,""]
[null,""]
[null,""]
[null,""]
[null,""]
[null,""]
[null,""]
[null,""]
[null,""]
[null,""]
[null,""]
[null,""]
[null,""]
[null,""]
[null,""]
[null,""]
[null,""]
[null,""]
[null,""]
[null,""]
[null,""]
[null,""]
[null,""]
[null,""]
[null,""]
[null,""]
[null,""]
[null,""]
[null,{"$f":"IF(C5219=0,\"\",C5219-C5218)","v":""}]
[null,""]
[null,""]
[null,""]
[null,""]
[null,""]
[null,""]
[null,""]
[null,""]
[null,""]
[null,""]
[null,""]
[null,""]
[null,""]
[null,""]
[null,""]
[null,""]
[null,""]
[null,""]
[null,""]
[null,""]
[null,""]
[null,""]
[null,""]
[null,""]
[null,""]
[null,""]
[null,""]
[null,""]
[null,""]
[null,""]
[null,""]
[null,""]
[null,""]
[null,""]
[null,""]
[null,""]
[null,""]
[null,""]
[null,""]
[null,""]
[null,""]
[null,""]
[null,""]
[null,""]
[null,""]
[null,""]
[null,""]
[null,""]
[null,""]
[null,""]
[null,""]
[null,""]
[null,""]
[null,""]
[null,""]
[null,""]
[null,""]
[null,""]
[null,""]
[null,""]
[null,""]
[null,""]
[null,""]
[null,{"$f":"IF(C5283=0,\"\",C5283-C5282)","v":""}]
[null,""]
[null,""]
[null,""]
[null,""]
[null,""]
[null,""]
[null,""]
[null,""]
[null,""]
[null,""]
[null,""]
[null,""]
[null,""]
[null,""]
[null,""]
[null,""]
[null,""]
[null,""]
[null,""]
[null,""]
[null,""]
[null,""]
[null,""]
[null,""]
[null,""]
[null,""]
[null,""]
[null,""]
[null,""]
[null,""]
[null,""]
[null,""]
[null,""]
[null,""]
[null,""]
[null,""]
[null,""]
[null,""]
[null,""]
[null,""]
[null,""]
[null,""]
[null,""]
[null,""]
[null,""]
[null,""]
[null,""]
[null,""]
[null,""]
[null,""]
[null,""]
[null,""]
[null,""]
[null,""]
[null,""]
[null,""]
[null,""]
[null,""]
[null,""]
[null,""]
[null,""]
[null,""]
[null,""]
[null,{"$f":"IF(C5347=0,\"\",C5347-C5346)","v":""}]
[null,""]
[null,""]
[null,""]
[null,""]
[null,""]
[null,""]
[null,""]
[null,""]
[null,""]
[null,""]
[null,""]
[null,""]
[null,""]
[null,""]
[null,""]
[null,""]
[null,""]
[null,""]
[null,""]
[null,""]
[null,""]
[null,""]
[null,""]
[null,""]
[null,""]
[null,""]
[null,""]
[null,""]
[null,""]
[null,""]
[null,""]
[null,""]
[null,""]
[null,""]
[null,""]
[null,""]
[null,""]
[null,""]
[null,""]
[null,""]
[null,""]
[null,""]
[null,""]
[null,""]
[null,""]
[null,""]
[null,""]
[null,""]
[null,""]
[null,""]
[null,""]
[null,""]
[null,""]
[null,""]
[null,""]
[null,""]
[null,""]
[null,""]
[null,""]
[null,""]
[null,""]
[null,""]
[null,""]
[null,{"$f":"IF(C5411=0,\"\",C5411-C5410)","v":""}]
[null,""]
[null,""]
[null,""]
[null,""]
[null,""]
[null,""]
[null,""]
[null,""]
[null,""]
[null,""]
[null,""]
[null,""]
[null,""]
[null,""]
[null,""]
[null,""]
[null,""]
[null,""]
[null,""]
[null,""]
[null,""]
[null,""]
[null,""]
[null,""]
[null,""]
[null,""]
[null,""]
[null,""]
[null,""]
[null,""]
[null,""]
[null,""]
[null,""]
[null,""]
[null,""]
[null,""]
[null,""]
[null,""]
[null,""]
[null,""]
[null,""]
[null,""]
[null,""]
[null,""]
[null,""]
[null,""]
[null,""]
[null,""]
[null,""]
[null,""]
[null,""]
[null,""]
[null,""]
[null,""]
[null,""]
[null,""]
[null,""]
[null,""]
[null,""]
[null,""]
[null,""]
[null,""]
[null,""]
[null,{"$f":"IF(C5475=0,\"\",C5475-C5474)","v":""}]
[null,""]
[null,""]
[null,""]
[null,""]
[null,""]
[null,""]
[null,""]
[null,""]
[null,""]
[null,""]
[null,""]
[null,""]
[null,""]
[null,""]
[null,""]
[null,""]
[null,""]
[null,""]
[null,""]
[null,""]
[null,""]
[null,""]
[null,""]
[null,""]
[null,""]
[null,""]
[null,""]
[null,""]
[null,""]
[null,""]
[null,""]
[null,""]
[null,""]
[null,""]
[null,""]
[null,""]
[null,""]
[null,""]
[null,""]
[null,""]
[null,""]
[null,""]
[null,""]
[null,""]
[null,""]
[null,""]
[null,""]
[null,""]
[null,""]
[null,""]
[null,""]
[null,""]
[null,""]
[null,""]
[null,""]
[null,""]
[null,""]
[null,""]
[null,""]
[null,""]
[null,""]
[null,""]
[null,""]
[null,{"$f":"IF(C5539=0,\"\",C5539-C5538)","v":""}]
[null,""]
[null,""]
[null,""]
[null,""]
[null,""]
[null,""]
[null,""]
[null,""]
[null,""]
[null,""]
[null,""]
[null,""]
[null,""]
[null,""]
[null,""]
[null,""]
[null,""]
[null,""]
[null,""]
[null,""]
[null,""]
[null,""]
[null,""]
[null,""]
[null,""]
[null,""]
[null,""]
[null,""]
[null,""]
[null,""]
[null,""]
[null,""]
[null,""]
[null,""]
[null,""]
[null,""]
[null,""]
[null,""]
[null,""]
[null,""]
[null,""]
[null,""]
[null,""]
[null,""]
[null,""]
[null,""]
[null,""]
[null,""]
[null,""]
[null,""]
[null,""]
[null,""]
[null,""]
[null,""]
[null,""]
[null,""]
[null,""]
[null,""]
[null,""]
[null,""]
[null,""]
[null,""]
[null,""]
[null,{"$f":"IF(C5603=0,\"\",C5603-C5602)","v":""}]
[null,""]
[null,""]
[null,""]
[null,""]
[null,""]
[null,""]
[null,""]
[null,""]
[null,""]
[null,""]
[null,""]
[null,""]
[null,""]
[null,""]
[null,""]
[null,""]
[null,""]
[null,""]
[null,""]
[null,""]
[null,""]
[null,""]
[null,""]
[null,""]
[null,""]
[null,""]
[null,""]
[null,""]
[null,""]
[null,""]
[null,""]
[null,""]
[null,""]
[null,""]
[null,""]
[null,""]
[null,""]
[null,""]
[null,""]
[null,""]
[null,""]
[null,""]
[null,""]
[null,""]
[null,""]
[null,""]
[null,""]
[null,""]
[null,""]
[null,""]
[null,""]
[null,""]
[null,""]
[null,""]
[null,""]
[null,""]
[null,""]
[null,""]
[null,""]
[null,""]
[null,""]
[null,""]
[null,""]
[null,{"$f":"IF(C5667=0,\"\",C5667-C5666)","v":""}]
[null,""]
[null,""]
[null,""]
[null,""]
[null,""]
[null,""]
[null,""]
[null,""]
[null,""]
[null,""]
[null,""]
[null,""]
[null,""]
[null,""]
[null,""]
[null,""]
[null,""]
[null,""]
[null,""]
[null,""]
[null,""]
[null,""]
[null,""]
[null,""]
[null,""]
[null,""]
[null,""]
[null,""]
[null,""]
[null,""]
[null,""]
[null,""]
[null,""]
[null,""]
[null,""]
[null,""]
[null,""]
[null,""]
[null,""]
[null,""]
[null,""]
[null,""]
[null,""]
[null,""]
[null,""]
[null,""]
[null,""]
[null,""]
[null,""]
[null,""]
[null,""]
[null,""]
[null,""]
[null,""]
[null,""]
[null,""]
[null,""]
[null,""]
[null,""]
[null,""]
[null,""]
[null,""]
[null,""]
[null,{"$f":"IF(C5731=0,\"\",C5731-C5730)","v":""}]
[null,""]
[null,""]
[null,""]
[null,""]
[null,""]
[null,""]
[null,""]
[null,""]
[null,""]
[null,""]
[null,""]
[null,""]
[null,""]
[null,""]
[null,""]
[null,""]
[null,""]
[null,""]
[null,""]
[null,""]
[null,""]
[null,""]
[null,""]
[null,""]
[null,""]
[null,""]
[null,""]
[null,""]
[null,""]
[null,""]
[null,""]
[null,""]
[null,""]
[null,""]
[null,""]
[null,""]
[null,""]
[null,""]
[null,""]
[null,""]
[null,""]
[null,""]
[null,""]
[null,""]
[null,""]
[null,""]
[null,""]
[null,""]
[null,""]
[null,""]
[null,""]
[null,""]
[null,""]
[null,""]
[null,""]
[null,""]
[null,""]
[null,""]
[null,""]
[null,""]
[null,""]
[null,""]
[null,""]
[null,{"$f":"IF(C5795=0,\"\",C5795-C5794)","v":""}]
[null,""]
[null,""]
[null,""]
[null,""]
[null,""]
[null,""]
[null,""]
[null,""]
[null,""]
[null,""]
[null,""]
[null,""]
[null,""]
[null,""]
[null,""]
[null,""]
[null,""]
[null,""]
[null,""]
[null,""]
[null,""]
[null,""]
[null,""]
[null,""]
[null,""]
[null,""]
[null,""]
[null,""]
[null,""]
[null,""]
[null,""]
[null,""]
[null,""]
[null,""]
[null,""]
[null,""]
[null,""]
[null,""]
[null,""]
[null,""]
[null,""]
[null,""]
[null,""]
[null,""]
[null,""]
[null,""]
[null,""]
[null,""]
[null,""]
[null,""]
[null,""]
[null,""]
[null,""]
[null,""]
[null,""]
[null,""]
[null,""]
[null,""]
[null,""]
[null,""]
[null,""]
[null,""]
[null,""]
[null,{"$f":"IF(C5859=0,\"\",C5859-C5858)","v":""}]
[null,""]
[null,""]
[null,""]
[null,""]
[null,""]
[null,""]
[null,""]
[null,""]
[null,""]
[null,""]
[null,""]
[null,""]
[null,""]
[null,""]
[null,""]
[null,""]
[null,""]
[null,""]
[null,""]
[null,""]
[null,""]
[null,""]
[null,""]
[null,""]
[null,""]
[null,""]
[null,""]
[null,""]
[null,""]
[null,""]
[null,""]
[null,""]
[null,""]
[null,""]
[null,""]
[null,""]
[null,""]
[null,""]
[null,""]
[null,""]
[null,""]
[null,""]
[null,""]
[null,""]
[null,""]
[null,""]
[null,""]
[null,""]
[null,""]
[null,""]
[null,""]
[null,""]
[null,""]
[null,""]
[null,""]
[null,""]
[null,""]
[null,""]
[null,""]
[null,""]
[null,""]
[null,""]
[null,""]
[null,{"$f":"IF(C5923=0,\"\",C5923-C5922)","v":""}]
[null,""]
[null,""]
[null,""]
[null,""]
[null,""]
[null,""]
[null,""]
[null,""]
[null,""]
[null,""]
[null,""]
[null,""]
[null,""]
[null,""]
[null,""]
[null,""]
[null,""]
[null,""]
[null,""]
[null,""]
[null,""]
[null,""]
[null,""]
[null,""]
[null,""]
[null,""]
[null,""]
[null,""]
[null,""]
[null,""]
[null,""]
[null,""]
[null,""]
[null,""]
[null,""]
[null,""]
[null,""]
[null,""]
[null,""]
[null,""]
[null,""]
[null,""]
[null,""]
[null,""]
[null,""]
[null,""]
[null,""]
[null,""]
[null,""]
[null,""]
[null,""]
[null,""]
[null,""]
[null,""]
[null,""]
[null,""]
[null,""]
[null,""]
[null,""]
[null,""]
[null,""]
[null,""]
[null,""]
[null,{"$f":"IF(C5987=0,\"\",C5987-C5986)","v":""}]
[null,""]
[null,""]
[null,""]
[null,""]
[null,""]
[null,""]
[null,""]
[null,""]
[null,""]
[null,""]
[null,""]
[null,""]
[null,""]
[null,""]
[null,""]
[null,""]
[null,""]
[null,""]
[null,""]
[null,""]
[null,""]
[null,""]
[null,""]
[null,""]
[null,""]
[null,""]
[null,""]
[null,""]
[null,""]
[null,""]
[null,""]
[null,""]
[null,""]
[null,""]
[null,""]
[null,""]
[null,""]
[null,""]
[null,""]
[null,""]
[null,""]
[null,""]
[null,""]
[null,""]
[null,""]
[null,""]
[null,""]
[null,""]
[null,""]
[null,""]
[null,""]
[null,""]
[null,""]
[null,""]
[null,""]
[null,""]
[null,""]
[null,""]
[null,""]
[null,""]
[null,""]
[null,""]
[null,""]
[null,{"$f":"IF(C6051=0,\"\",C6051-C6050)","v":""}]
[null,""]
[null,""]
[null,""]
[null,""]
[null,""]
[null,""]
[null,""]
[null,""]
[null,""]
[null,""]
[null,""]
[null,""]
[null,""]
[null,""]
[null,""]
[null,""]
[null,""]
[null,""]
[null,""]
[null,""]
[null,""]
[null,""]
[null,""]
[null,""]
[null,""]
[null,""]
[null,""]
[null,""]
[null,""]
[null,""]
[null,""]
[null,""]
[null,""]
[null,""]
[null,""]
[null,""]
[null,""]
[null,""]
[null,""]
[null,""]
[null,""]
[null,""]
[null,""]
[null,""]
[null,""]
[null,""]
[null,""]
[null,""]
[null,""]
[null,""]
[null,""]
[null,""]
[null,""]
[null,""]
[null,""]
[null,""]
[null,""]
[null,""]
[null,""]
[null,""]
[null,""]
[null,""]
[null,""]
[null,{"$f":"IF(C6115=0,\"\",C6115-C6114)","v":""}]
[null,""]
[null,""]
[null,""]
[null,""]
[null,""]
[null,""]
[null,""]
[null,""]
[null,""]
[null,""]
[null,""]
[null,""]
[null,""]
[null,""]
[null,""]
[null,""]
[null,""]
[null,""]
[null,""]
[null,""]
[null,""]
[null,""]
[null,""]
[null,""]
[null,""]
[null,""]
[null,""]
[null,""]
[null,""]
[null,""]
[null,""]
[null,""]
[null,""]
[null,""]
[null,""]
[null,""]
[null,""]
[null,""]
[null,""]
[null,""]
[null,""]
[null,""]
[null,""]
[null,""]
[null,""]
[null,""]
[null,""]
[null,""]
[null,""]
[null,""]
[null,""]
[null,""]
[null,""]
[null,""]
[null,""]
[null,""]
[null,""]
[null,""]
[null,""]
[null,""]
[null,""]
[null,""]
[null,""]
[null,{"$f":"IF(C6179=0,\"\",C6179-C6178)","v":""}]
[null,""]
[null,""]
[null,""]
[null,""]
[null,""]
[null,""]
[null,""]
[null,""]
[null,""]
[null,""]
[null,""]
[null,""]
[null,""]
[null,""]
[null,""]
[null,""]
[null,""]
[null,""]
[null,""]
[null,""]
[null,""]
[null,""]
[null,""]
[null,""]
[null,""]
[null,""]
[null,""]
[null,""]
[null,""]
[null,""]
[null,""]
[null,""]
[null,""]
[null,""]
[null,""]
[null,""]
[null,""]
[null,""]
[null,""]
[null,""]
[null,""]
[null,""]
[null,""]
[null,""]
[null,""]
[null,""]
[null,""]
[null,""]
[null,""]
[null,""]
[null,""]
[null,""]
[null,""]
[null,""]
[null,""]
[null,""]
[null,""]
[null,""]
[null,""]
[null,""]
[null,""]
[null,""]
[null,""]
[null,{"$f":"IF(C6243=0,\"\",C6243-C6242)","v":""}]
[null,""]
[null,""]
[null,""]
[null,""]
[null,""]
[null,""]
[null,""]
[null,""]
[null,""]
[null,""]
[null,""]
[null,""]
[null,""]
[null,""]
[null,""]
[null,""]
[null,""]
[null,""]
[null,""]
[null,""]
[null,""]
[null,""]
[null,""]
[null,""]
[null,""]
[null,""]
[null,""]
[null,""]
[null,""]
[null,""]
[null,""]
[null,""]
[null,""]
[null,""]
[null,""]
[null,""]
[null,""]
[null,""]
[null,""]
[null,""]
[null,""]
[null,""]
[null,""]
[null,""]
[null,""]
[null,""]
[null,""]
[null,""]
[null,""]
[null,""]
[null,""]
[null,""]
[null,""]
[null,""]
[null,""]
[null,""]
[null,""]
[null,""]
[null,""]
[null,""]
[null,""]
[null,""]
[null,""]
[null,{"$f":"IF(C6307=0,\"\",C6307-C6306)","v":""}]
[null,""]
[null,""]
[null,""]
[null,""]
[null,""]
[null,""]
[null,""]
[null,""]
[null,""]
[null,""]
[null,""]
[null,""]
[null,""]
[null,""]
[null,""]
[null,""]
[null,""]
[null,""]
[null,""]
[null,""]
[null,""]
[null,""]
[null,""]
[null,""]
[null,""]
[null,""]
[null,""]
[null,""]
[null,""]
[null,""]
[null,""]
[null,""]
[null,""]
[null,""]
[null,""]
[null,""]
[null,""]
[null,""]
[null,""]
[null,""]
[null,""]
[null,""]
[null,""]
[null,""]
[null,""]
[null,""]
[null,""]
[null,""]
[null,""]
[null,""]
[null,""]
[null,""]
[null,""]
[null,""]
[null,""]
[null,""]
[null,""]
[null,""]
[null,""]
[null,""]
[null,""]
[null,""]
[null,""]
[null,{"$f":"IF(C6371=0,\"\",C6371-C6370)","v":""}]
[null,""]
[null,""]
[null,""]
[null,""]
[null,""]
[null,""]
[null,""]
[null,""]
[null,""]
[null,""]
[null,""]
[null,""]
[null,""]
[null,""]
[null,""]
[null,""]
[null,""]
[null,""]
[null,""]
[null,""]
[null,""]
[null,""]
[null,""]
[null,""]
[null,""]
[null,""]
[null,""]
[null,""]
[null,""]
[null,""]
[null,""]
[null,""]
[null,""]
[null,""]
[null,""]
[null,""]
[null,""]
[null,""]
[null,""]
[null,""]
[null,""]
[null,""]
[null,""]
[null,""]
[null,""]
[null,""]
[null,""]
[null,""]
[null,""]
[null,""]
[null,""]
[null,""]
[null,""]
[null,""]
[null,""]
[null,""]
[null,""]
[null,""]
[null,""]
[null,""]
[null,""]
[null,""]
[null,""]
[null,{"$f":"IF(C6435=0,\"\",C6435-C6434)","v":""}]
[null,""]
[null,""]
[null,""]
[null,""]
[null,""]
[null,""]
[null,""]
[null,""]
[null,""]
[null,""]
[null,""]
[null,""]
[null,""]
[null,""]
[null,""]
[null,""]
[null,""]
[null,""]
[null,""]
[null,""]
[null,""]
[null,""]
[null,""]
[null,""]
[null,""]
[null,""]
[null,""]
[null,""]
[null,""]
[null,""]
[null,""]
[null,""]
[null,""]
[null,""]
[null,""]
[null,""]
[null,""]
[null,""]
[null,""]
[null,""]
[null,""]
[null,""]
[null,""]
[null,""]
[null,""]
[null,""]
[null,""]
[null,""]
[null,""]
[null,""]
[null,""]
[null,""]
[null,""]
[null,""]
[null,""]
[null,""]
[null,""]
[null,""]
[null,""]
[null,""]
[null,""]
[null,""]
[null,""]
[null,{"$f":"IF(C6499=0,\"\",C6499-C6498)","v":""}]
[null,""]
[null,""]
[null,""]
[null,""]
[null,""]
[null,""]
[null,""]
[null,""]
[null,""]
[null,""]
[null,""]
[null,""]
[null,""]
[null,""]
[null,""]
[null,""]
[null,""]
[null,""]
[null,""]
[null,""]
[null,""]
[null,""]
[null,""]
[null,""]
[null,""]
[null,""]
[null,""]
[null,""]
[null,""]
[null,""]
[null,""]
[null,""]
[null,""]
[null,""]
[null,""]
[null,""]
[null,""]
[null,""]
[null,""]
[null,""]
[null,""]
[null,""]
[null,""]
[null,""]
[null,""]
[null,""]
[null,""]
[null,""]
[null,""]
[null,""]
[null,""]
[null,""]
[null,""]
[null,""]
[null,""]
[null,""]
[null,""]
[null,""]
[null,""]
[null,""]
[null,""]
[null,""]
[null,""]
[null,{"$f":"IF(C6563=0,\"\",C6563-C6562)","v":""}]
[null,""]
[null,""]
[null,""]
[null,""]
[null,""]
[null,""]
[null,""]
[null,""]
[null,""]
[null,""]
[null,""]
[null,""]
[null,""]
[null,""]
[null,""]
[null,""]
[null,""]
[null,""]
[null,""]
[null,""]
[null,""]
[null,""]
[null,""]
[null,""]
[null,""]
[null,""]
[null,""]
[null,""]
[null,""]
[null,""]
[null,""]
[null,""]
[null,""]
[null,""]
[null,""]
[null,""]
[null,""]
[null,""]
[null,""]
[null,""]
[null,""]
[null,""]
[null,""]
[null,""]
[null,""]
[null,""]
[null,""]
[null,""]
[null,""]
[null,""]
[null,""]
[null,""]
[null,""]
[null,""]
[null,""]
[null,""]
[null,""]
[null,""]
[null,""]
[null,""]
[null,""]
[null,""]
[null,""]
[null,{"$f":"IF(C6627=0,\"\",C6627-C6626)","v":""}]
[null,""]
[null,""]
[null,""]
[null,""]
[null,""]
[null,""]
[null,""]
[null,""]
[null,""]
[null,""]
[null,""]
[null,""]
[null,""]
[null,""]
[null,""]
[null,""]
[null,""]
[null,""]
[null,""]
[null,""]
[null,""]
[null,""]
[null,""]
[null,""]
[null,""]
[null,""]
[null,""]
[null,""]
[null,""]
[null,""]
[null,""]
[null,""]
[null,""]
[null,""]
[null,""]
[null,""]
[null,""]
[null,""]
[null,""]
[null,""]
[null,""]
[null,""]
[null,""]
[null,""]
[null,""]
[null,""]
[null,""]
[null,""]
[null,""]
[null,""]
[null,""]
[null,""]
[null,""]
[null,""]
[null,""]
[null,""]
[null,""]
[null,""]
[null,""]
[null,""]
[null,""]
[null,""]
[null,""]
[null,{"$f":"IF(C6691=0,\"\",C6691-C6690)","v":""}]
[null,""]
[null,""]
[null,""]
[null,""]
[null,""]
[null,""]
[null,""]
[null,""]
[null,""]
[null,""]
[null,""]
[null,""]
[null,""]
[null,""]
[null,""]
[null,""]
[null,""]
[null,""]
[null,""]
[null,""]
[null,""]
[null,""]
[null,""]
[null,""]
[null,""]
[null,""]
[null,""]
[null,""]
[null,""]
[null,""]
[null,""]
[null,""]
[null,""]
[null,""]
[null,""]
[null,""]
[null,""]
[null,""]
[null,""]
[null,""]
[null,""]
[null,""]
[null,""]
[null,""]
[null,""]
[null,""]
[null,""]
[null,""]
[null,""]
[null,""]
[null,""]
[null,""]
[null,""]
[null,""]
[null,""]
[null,""]
[null,""]
[null,""]
[null,""]
[null,""]
[null,""]
[null,""]
[null,""]
[null,{"$f":"IF(C6755=0,\"\",C6755-C6754)","v":""}]
[null,""]
[null,""]
[null,""]
[null,""]
[null,""]
[null,""]
[null,""]
[null,""]
[null,""]
[null,""]
[null,""]
[null,""]
[null,""]
[null,""]
[null,""]
[null,""]
[null,""]
[null,""]
[null,""]
[null,""]
[null,""]
[null,""]
[null,""]
[null,""]
[null,""]
[null,""]
[null,""]
[null,""]
[null,""]
[null,""]
[null,""]
[null,""]
[null,""]
[null,""]
[null,""]
[null,""]
[null,""]
[null,""]
[null,""]
[null,""]
[null,""]
[null,""]
[null,""]
[null,""]
[null,""]
[null,""]
[null,""]
[null,""]
[null,""]
[null,""]
[null,""]
[null,""]
[null,""]
[null,""]
[null,""]
[null,""]
[null,""]
[null,""]
[null,""]
[null,""]
[null,""]
[null,""]
[null,""]
[null,{"$f":"IF(C6819=0,\"\",C6819-C6818)","v":""}]
[null,""]
[null,""]
[null,""]
[null,""]
[null,""]
[null,""]
[null,""]
[null,""]
[null,""]
[null,""]
[null,""]
[null,""]
[null,""]
[null,""]
[null,""]
[null,""]
[null,""]
[null,""]
[null,""]
[null,""]
[null,""]
[null,""]
[null,""]
[null,""]
[null,""]
[null,""]
[null,""]
[null,""]
[null,""]
[null,""]
[null,""]
[null,""]
[null,""]
[null,""]
[null,""]
[null,""]
[null,""]
[null,""]
[null,""]
[null,""]
[null,""]
[null,""]
[null,""]
[null,""]
[null,""]
[null,""]
[null,""]
[null,""]
[null,""]
[null,""]
[null,""]
[null,""]
[null,""]
[null,""]
[null,""]
[null,""]
[null,""]
[null,""]
[null,""]
[null,""]
[null,""]
[null,""]
[null,""]
[null,{"$f":"IF(C6883=0,\"\",C6883-C6882)","v":""}]
[null,""]
[null,""]
[null,""]
[null,""]
[null,""]
[null,""]
[null,""]
[null,""]
[null,""]
[null,""]
[null,""]
[null,""]
[null,""]
[null,""]
[null,""]
[null,""]
[null,""]
[null,""]
[null,""]
[null,""]
[null,""]
[null,""]
[null,""]
[null,""]
[null,""]
[null,""]
[null,""]
[null,""]
[null,""]
[null,""]
[null,""]
[null,""]
[null,""]
[null,""]
[null,""]
[null,""]
[null,""]
[null,""]
[null,""]
[null,""]
[null,""]
[null,""]
[null,""]
[null,""]
[null,""]
[null,""]
[null,""]
[null,""]
[null,""]
[null,""]
[null,""]
[null,""]
[null,""]
[null,""]
[null,""]
[null,""]
[null,""]
[null,""]
[null,""]
[null,""]
[null,""]
[null,""]
[null,""]
[null,{"$f":"IF(C6947=0,\"\",C6947-C6946)","v":""}]
[null,""]
[null,""]
[null,""]
[null,""]
[null,""]
[null,""]
[null,""]
[null,""]
[null,""]
[null,""]
[null,""]
[null,""]
[null,""]
[null,""]
[null,""]
[null,""]
[null,""]
[null,""]
[null,""]
[null,""]
[null,""]
[null,""]
[null,""]
[null,""]
[null,""]
[null,""]
[null,""]
[null,""]
[null,""]
[null,""]
[null,""]
[null,""]
[null,""]
[null,""]
[null,""]
[null,""]
[null,""]
[null,""]
[null,""]
[null,""]
[null,""]
[null,""]
[null,""]
[null,""]
[null,""]
[null,""]
[null,""]
[null,""]
[null,""]
[null,""]
[null,""]
[null,""]
[null,""]
[null,""]
[null,""]
[null,""]
[null,""]
[null,""]
[null,""]
[null,""]
[null,""]
[null,""]
[null,""]
[null,{"$f":"IF(C7011=0,\"\",C7011-C7010)","v":""}]
[null,""]
[null,""]
[null,""]
[null,""]
[null,""]
[null,""]
[null,""]
[null,""]
[null,""]
[null,""]
[null,""]
[null,""]
[null,""]
[null,""]
[null,""]
[null,""]
[null,""]
[null,""]
[null,""]
[null,""]
[null,""]
[null,""]
[null,""]
[null,""]
[null,""]
[null,""]
[null,""]
[null,""]
[null,""]
[null,""]
[null,""]
[null,""]
[null,""]
[null,""]
[null,""]
[null,""]
[null,""]
[null,""]
[null,""]
[null,""]
[null,""]
[null,""]
[null,""]
[null,""]
[null,""]
[null,""]
[null,""]
[null,""]
[null,""]
[null,""]
[null,""]
[null,""]
[null,""]
[null,""]
[null,""]
[null,""]
[null,""]
[null,""]
[null,""]
[null,""]
[null,""]
[null,""]
[null,""]
[null,{"$f":"IF(C7075=0,\"\",C7075-C7074)","v":""}]
[null,""]
[null,""]
[null,""]
[null,""]
[null,""]
[null,""]
[null,""]
[null,""]
[null,""]
[null,""]
[null,""]
[null,""]
[null,""]
[null,""]
[null,""]
[null,""]
[null,""]
[null,""]
[null,""]
[null,""]
[null,""]
[null,""]
[null,""]
[null,""]
[null,""]
[null,""]
[null,""]
[null,""]
[null,""]
[null,""]
[null,""]
[null,""]
[null,""]
[null,""]
[null,""]
[null,""]
[null,""]
[null,""]
[null,""]
[null,""]
[null,""]
[null,""]
[null,""]
[null,""]
[null,""]
[null,""]
[null,""]
[null,""]
[null,""]
[null,""]
[null,""]
[null,""]
[null,""]
[null,""]
[null,""]
[null,""]
[null,""]
[null,""]
[null,""]
[null,""]
[null,""]
[null,""]
[null,""]
[null,{"$f":"IF(C7139=0,\"\",C7139-C7138)","v":""}]
[null,""]
[null,""]
[null,""]
[null,""]
[null,""]
[null,""]
[null,""]
[null,""]
[null,""]
[null,""]
[null,""]
[null,""]
[null,""]
[null,""]
[null,""]
[null,""]
[null,""]
[null,""]
[null,""]
[null,""]
[null,""]
[null,""]
[null,""]
[null,""]
[null,""]
[null,""]
[null,""]
[null,""]
[null,""]
[null,""]
[null,""]
[null,""]
[null,""]
[null,""]
[null,""]
[null,""]
[null,""]
[null,""]
[null,""]
[null,""]
[null,""]
[null,""]
[null,""]
[null,""]
[null,""]
[null,""]
[null,""]
[null,""]
[null,""]
[null,""]
[null,""]
[null,""]
[null,""]
[null,""]
[null,""]
[null,""]
[null,""]
[null,""]
[null,""]
[null,""]
[null,""]
[null,""]
[null,""]
[null,{"$f":"IF(C7203=0,\"\",C7203-C7202)","v":""}]
[null,""]
[null,""]
[null,""]
[null,""]
[null,""]
[null,""]
[null,""]
[null,""]
[null,""]
[null,""]
[null,""]
[null,""]
[null,""]
[null,""]
[null,""]
[null,""]
[null,""]
[null,""]
[null,""]
[null,""]
[null,""]
[null,""]
[null,""]
[null,""]
[null,""]
[null,""]
[null,""]
[null,""]
[null,""]
[null,""]
[null,""]
[null,""]
[null,""]
[null,""]
[null,""]
[null,""]
[null,""]
[null,""]
[null,""]
[null,""]
[null,""]
[null,""]
[null,""]
[null,""]
[null,""]
[null,""]
[null,""]
[null,""]
[null,""]
[null,""]
[null,""]
[null,""]
[null,""]
[null,""]
[null,""]
[null,""]
[null,""]
[null,""]
[null,""]
[null,""]
[null,""]
[null,""]
[null,""]
[null,{"$f":"IF(C7267=0,\"\",C7267-C7266)","v":""}]
[null,""]
[null,""]
[null,""]
[null,""]
[null,""]
[null,""]
[null,""]
[null,""]
[null,""]
[null,""]
[null,""]
[null,""]
[null,""]
[null,""]
[null,""]
[null,""]
[null,""]
[null,""]
[null,""]
[null,""]
[null,""]
[null,""]
[null,""]
[null,""]
[null,""]
[null,""]
[null,""]
[null,""]
[null,""]
[null,""]
[null,""]
[null,""]
[null,""]
[null,""]
[null,""]
[null,""]
[null,""]
[null,""]
[null,""]
[null,""]
[null,""]
[null,""]
[null,""]
[null,""]
[null,""]
[null,""]
[null,""]
[null,""]
[null,""]
[null,""]
[null,""]
[null,""]
[null,""]
[null,""]
[null,""]
[null,""]
[null,""]
[null,""]
[null,""]
[null,""]
[null,""]
[null,""]
[null,""]
[null,{"$f":"IF(C7331=0,\"\",C7331-C7330)","v":""}]
[null,""]
[null,""]
[null,""]
[null,""]
[null,""]
[null,""]
[null,""]
[null,""]
[null,""]
[null,""]
[null,""]
[null,""]
[null,""]
[null,""]
[null,""]
[null,""]
[null,""]
[null,""]
[null,""]
[null,""]
[null,""]
[null,""]
[null,""]
[null,""]
[null,""]
[null,""]
[null,""]
[null,""]
[null,""]
[null,""]
[null,""]
[null,""]
[null,""]
[null,""]
[null,""]
[null,""]
[null,""]
[null,""]
[null,""]
[null,""]
[null,""]
[null,""]
[null,""]
[null,""]
[null,""]
[null,""]
[null,""]
[null,""]
[null,""]
[null,""]
[null,""]
[null,""]
[null,""]
[null,""]
[null,""]
[null,""]
[null,""]
[null,""]
[null,""]
[null,""]
[null,""]
[null,""]
[null,""]
[null,{"$f":"IF(C7395=0,\"\",C7395-C7394)","v":""}]
[null,""]
[null,""]
[null,""]
[null,""]
[null,""]
[null,""]
[null,""]
[null,""]
[null,""]
[null,""]
[null,""]
[null,""]
[null,""]
[null,""]
[null,""]
[null,""]
[null,""]
[null,""]
[null,""]
[null,""]
[null,""]
[null,""]
[null,""]
[null,""]
[null,""]
[null,""]
[null,""]
[null,""]
[null,""]
[null,""]
[null,""]
[null,""]
[null,""]
[null,""]
[null,""]
[null,""]
[null,""]
[null,""]
[null,""]
[null,""]
[null,""]
[null,""]
[null,""]
[null,""]
[null,""]
[null,""]
[null,""]
[null,""]
[null,""]
[null,""]
[null,""]
[null,""]
[null,""]
[null,""]
[null,""]
[null,""]
[null,""]
[null,""]
[null,""]
[null,""]
[null,""]
[null,""]
[null,""]
[null,{"$f":"IF(C7459=0,\"\",C7459-C7458)","v":""}]
[null,""]
[null,""]
[null,""]
[null,""]
[null,""]
[null,""]
[null,""]
[null,""]
[null,""]
[null,""]
[null,""]
[null,""]
[null,""]
[null,""]
[null,""]
[null,""]
[null,""]
[null,""]
[null,""]
[null,""]
[null,""]
[null,""]
[null,""]
[null,""]
[null,""]
[null,""]
[null,""]
[null,""]
[null,""]
[null,""]
[null,""]
[null,""]
[null,""]
[null,""]
[null,""]
[null,""]
[null,""]
[null,""]
[null,""]
[null,""]
[null,""]
[null,""]
[null,""]
[null,""]
[null,""]
[null,""]
[null,""]
[null,""]
[null,""]
[null,""]
[null,""]
[null,""]
[null,""]
[null,""]
[null,""]
[null,""]
[null,""]
[null,""]
[null,""]
[null,""]
[null,""]
[null,""]
[null,""]
[null,{"$f":"IF(C7523=0,\"\",C7523-C7522)","v":""}]
[null,""]
[null,""]
[null,""]
[null,""]
[null,""]
[null,""]
[null,""]
[null,""]
[null,""]
[null,""]
[null,""]
[null,""]
[null,""]
[null,""]
[null,""]
[null,""]
[null,""]
[null,""]
[null,""]
[null,""]
[null,""]
[null,""]
[null,""]
[null,""]
[null,""]
[null,""]
[null,""]
[null,""]
[null,""]
[null,""]
[null,""]
[null,""]
[null,""]
[null,""]
[null,""]
[null,""]
[null,""]
[null,""]
[null,""]
[null,""]
[null,""]
[null,""]
[null,""]
[null,""]
[null,""]
[null,""]
[null,""]
[null,""]
[null,""]
[null,""]
[null,""]
[null,""]
[null,""]
[null,""]
[null,""]
[null,""]
[null,""]
[null,""]
[null,""]
[null,""]
[null,""]
[null,""]
[null,""]
[null,{"$f":"IF(C7587=0,\"\",C7587-C7586)","v":""}]
[null,""]
[null,""]
[null,""]
[null,""]
[null,""]
[null,""]
[null,""]
[null,""]
[null,""]
[null,""]
[null,""]
[null,""]
[null,""]
[null,""]
[null,""]
[null,""]
[null,""]
[null,""]
[null,""]
[null,""]
[null,""]
[null,""]
[null,""]
[null,""]
[null,""]
[null,""]
[null,""]
[null,""]
[null,""]
[null,""]
[null,""]
[null,""]
[null,""]
[null,""]
[null,""]
[null,""]
[null,""]
[null,""]
[null,""]
[null,""]
[null,""]
[null,""]
[null,""]
[null,""]
[null,""]
[null,""]
[null,""]
[null,""]
[null,""]
[null,""]
[null,""]
[null,""]
[null,""]
[null,""]
[null,""]
[null,""]
[null,""]
[null,""]
[null,""]
[null,""]
[null,""]
[null,""]
[null,""]
[null,{"$f":"IF(C7651=0,\"\",C7651-C7650)","v":""}]
[null,""]
[null,""]
[null,""]
[null,""]
[null,""]
[null,""]
[null,""]
[null,""]
[null,""]
[null,""]
[null,""]
[null,""]
[null,""]
[null,""]
[null,""]
[null,""]
[null,""]
[null,""]
[null,""]
[null,""]
[null,""]
[null,""]
[null,""]
[null,""]
[null,""]
[null,""]
[null,""]
[null,""]
[null,""]
[null,""]
[null,""]
[null,""]
[null,""]
[null,""]
[null,""]
[null,""]
[null,""]
[null,""]
[null,""]
[null,""]
[null,""]
[null,""]
[null,""]
[null,""]
[null,""]
[null,""]
[null,""]
[null,""]
[null,""]
[null,""]
[null,""]
[null,""]
[null,""]
[null,""]
[null,""]
[null,""]
[null,""]
[null,""]
[null,""]
[null,""]
[null,""]
[null,""]
[null,""]
[null,{"$f":"IF(C7715=0,\"\",C7715-C7714)","v":""}]
[null,""]
[null,""]
[null,""]
[null,""]
[null,""]
[null,""]
[null,""]
[null,""]
[null,""]
[null,""]
[null,""]
[null,""]
[null,""]
[null,""]
[null,""]
[null,""]
[null,""]
[null,""]
[null,""]
[null,""]
[null,""]
[null,""]
[null,""]
[null,""]
[null,""]
[null,""]
[null,""]
[null,""]
[null,""]
[null,""]
[null,""]
[null,""]
[null,""]
[null,""]
[null,""]
[null,""]
[null,""]
[null,""]
[null,""]
[null,""]
[null,""]
[null,""]
[null,""]
[null,""]
[null,""]
[null,""]
[null,""]
[null,""]
[null,""]
[null,""]
[null,""]
[null,""]
[null,""]
[null,""]
[null,""]
[null,""]
[null,""]
[null,""]
[null,""]
[null,""]
[null,""]
[null,""]
[null,""]
[null,{"$f":"IF(C7779=0,\"\",C7779-C7778)","v":""}]
[null,""]
[null,""]
[null,""]
[null,""]
[null,""]
[null,""]
[null,""]
[null,""]
[null,""]
[null,""]
[null,""]
[null,""]
[null,""]
[null,""]
[null,""]
[null,""]
[null,""]
[null,""]
[null,""]
[null,""]
[null,""]
[null,""]
[null,""]
[null,""]
[null,""]
[null,""]
[null,""]
[null,""]
[null,""]
[null,""]
[null,""]
[null,""]
[null,""]
[null,""]
[null,""]
[null,""]
[null,""]
[null,""]
[null,""]
[null,""]
[null,""]
[null,""]
[null,""]
[null,""]
[null,""]
[null,""]
[null,""]
[null,""]
[null,""]
[null,""]
[null,""]
[null,""]
[null,""]
[null,""]
[null,""]
[null,""]
[null,""]
[null,""]
[null,""]
[null,""]
[null,""]
[null,""]
[null,""]
[null,{"$f":"IF(C7843=0,\"\",C7843-C7842)","v":""}]
[null,""]
[null,""]
[null,""]
[null,""]
[null,""]
[null,""]
[null,""]
[null,""]
[null,""]
[null,""]
[null,""]
[null,""]
[null,""]
[null,""]
[null,""]
[null,""]
[null,""]
[null,""]
[null,""]
[null,""]
[null,""]
[null,""]
[null,""]
[null,""]
[null,""]
[null,""]
[null,""]
[null,""]
[null,""]
[null,""]
[null,""]
[null,""]
[null,""]
[null,""]
[null,""]
[null,""]
[null,""]
[null,""]
[null,""]
[null,""]
[null,""]
[null,""]
[null,""]
[null,""]
[null,""]
[null,""]
[null,""]
[null,""]
[null,""]
[null,""]
[null,""]
[null,""]
[null,""]
[null,""]
[null,""]
[null,""]
[null,""]
[null,""]
[null,""]
[null,""]
[null,""]
[null,""]
[null,""]
[null,{"$f":"IF(C7907=0,\"\",C7907-C7906)","v":""}]
[null,""]
[null,""]
[null,""]
[null,""]
[null,""]
[null,""]
[null,""]
[null,""]
[null,""]
[null,""]
[null,""]
[null,""]
[null,""]
[null,""]
[null,""]
[null,""]
[null,""]
[null,""]
[null,""]
[null,""]
[null,""]
[null,""]
[null,""]
[null,""]
[null,""]
[null,""]
[null,""]
[null,""]
[null,""]
[null,""]
[null,""]
[null,""]
[null,""]
[null,""]
[null,""]
[null,""]
[null,""]
[null,""]
[null,""]
[null,""]
[null,""]
[null,""]
[null,""]
[null,""]
[null,""]
[null,""]
[null,""]
[null,""]
[null,""]
[null,""]
[null,""]
[null,""]
[null,""]
[null,""]
[null,""]
[null,""]
[null,""]
[null,""]
[null,""]
[null,""]
[null,""]
[null,""]
[null,""]
[null,{"$f":"IF(C7971=0,\"\",C7971-C7970)","v":""}]
[null,""]
[null,""]
[null,""]
[null,""]
[null,""]
[null,""]
[null,""]
[null,""]
[null,""]
[null,""]
[null,""]
[null,""]
[null,""]
[null,""]
[null,""]
[null,""]
[null,""]
[null,""]
[null,""]
[null,""]
[null,""]
[null,""]
[null,""]
[null,""]
[null,""]
[null,""]
[null,""]
[null,""]
[null,""]
[null,""]
[null,""]
[null,""]
[null,""]
[null,""]
[null,""]
[null,""]
[null,""]
[null,""]
[null,""]
[null,""]
[null,""]
[null,""]
[null,""]
[null,""]
[null,""]
[null,""]
[null,""]
[null,""]
[null,""]
[null,""]
[null,""]
[null,""]
[null,""]
[null,""]
[null,""]
[null,""]
[null,""]
[null,""]
[null,""]
[null,""]
[null,""]
[null,""]
[null,""]
[null,{"$f":"IF(C8035=0,\"\",C8035-C8034)","v":""}]
[null,""]
[null,""]
[null,""]
[null,""]
[null,""]
[null,""]
[null,""]
[null,""]
[null,""]
[null,""]
[null,""]
[null,""]
[null,""]
[null,""]
[null,""]
[null,""]
[null,""]
[null,""]
[null,""]
[null,""]
[null,""]
[null,""]
[null,""]
[null,""]
[null,""]
[null,""]
[null,""]
[null,""]
[null,""]
[null,""]
[null,""]
[null,""]
[null,""]
[null,""]
[null,""]
[null,""]
[null,""]
[null,""]
[null,""]
[null,""]
[null,""]
[null,""]
[null,""]
[null,""]
[null,""]
[null,""]
[null,""]
[null,""]
[null,""]
[null,""]
[null,""]
[null,""]
[null,""]
[null,""]
[null,""]
[null,""]
[null,""]
[null,""]
[null,""]
[null,""]
[null,""]
[null,""]
[null,""]
[null,{"$f":"IF(C8099=0,\"\",C8099-C8098)","v":""}]
[null,""]
[null,""]
[null,""]
[null,""]
[null,""]
[null,""]
[null,""]
[null,""]
[null,""]
[null,""]
[null,""]
[null,""]
[null,""]
[null,""]
[null,""]
[null,""]
[null,""]
[null,""]
[null,""]
[null,""]
[null,""]
[null,""]
[null,""]
[null,""]
[null,""]
[null,""]
[null,""]
[null,""]
[null,""]
[null,""]
[null,""]
[null,""]
[null,""]
[null,""]
[null,""]
[null,""]
[null,""]
[null,""]
[null,""]
[null,""]
[null,""]
[null,""]
[null,""]
[null,""]
[null,""]
[null,""]
[null,""]
[null,""]
[null,""]
[null,""]
[null,""]
[null,""]
[null,""]
[null,""]
[null,""]
[null,""]
[null,""]
[null,""]
[null,""]
[null,""]
[null,""]
[null,""]
[null,""]
[null,{"$f":"IF(C8163=0,\"\",C8163-C8162)","v":""}]
[null,""]
[null,""]
[null,""]
[null,""]
[null,""]
[null,""]
[null,""]
[null,""]
[null,""]
[null,""]
[null,""]
[null,""]
[null,""]
[null,""]
[null,""]
[null,""]
[null,""]
[null,""]
[null,""]
[null,""]
[null,""]
[null,""]
[null,""]
[null,""]
[null,""]
[null,""]
[null,""]
[null,""]
[null,""]
[null,""]
[null,""]
[null,""]
[null,""]
[null,""]
[null,""]
[null,""]
[null,""]
[null,""]
[null,""]
[null,""]
[null,""]
[null,""]
[null,""]
[null,""]
[null,""]
[null,""]
[null,""]
[null,""]
[null,""]
[null,""]
[null,""]
[null,""]
[null,""]
[null,""]
[null,""]
[null,""]
[null,""]
[null,""]
[null,""]
[null,""]
[null,""]
[null,""]
[null,""]
[null,{"$f":"IF(C8227=0,\"\",C8227-C8226)","v":""}]
[null,""]
[null,""]
[null,""]
[null,""]
[null,""]
[null,""]
[null,""]
[null,""]
[null,""]
[null,""]
[null,""]
[null,""]
[null,""]
[null,""]
[null,""]
[null,""]
[null,""]
[null,""]
[null,""]
[null,""]
[null,""]
[null,""]
[null,""]
[null,""]
[null,""]
[null,""]
[null,""]
[null,""]
[null,""]
[null,""]
[null,""]
[null,""]
[null,""]
[null,""]
[null,""]
[null,""]
[null,""]
[null,""]
[null,""]
[null,""]
[null,""]
[null,""]
[null,""]
[null,""]
[null,""]
[null,""]
[null,""]
[null,""]
[null,""]
[null,""]
[null,""]
[null,""]
[null,""]
[null,""]
[null,""]
[null,""]
[null,""]
[null,""]
[null,""]
[null,""]
[null,""]
[null,""]
[null,""]
[null,{"$f":"IF(C8291=0,\"\",C8291-C8290)","v":""}]
[null,""]
[null,""]
[null,""]
[null,""]
[null,""]
[null,""]
[null,""]
[null,""]
[null,""]
[null,""]
[null,""]
[null,""]
[null,""]
[null,""]
[null,""]
[null,""]
[null,""]
[null,""]
[null,""]
[null,""]
[null,""]
[null,""]
[null,""]
[null,""]
[null,""]
[null,""]
[null,""]
[null,""]
[null,""]
[null,""]
[null,""]
[null,""]
[null,""]
[null,""]
[null,""]
[null,""]
[null,""]
[null,""]
[null,""]
[null,""]
[null,""]
[null,""]
[null,""]
[null,""]
[null,""]
[null,""]
[null,""]
[null,""]
[null,""]
[null,""]
[null,""]
[null,""]
[null,""]
[null,""]
[null,""]
[null,""]
[null,""]
[null,""]
[null,""]
[null,""]
[null,""]
[null,""]
[null,""]
[null,{"$f":"IF(C8355=0,\"\",C8355-C8354)","v":""}]
[null,""]
[null,""]
[null,""]
[null,""]
[null,""]
[null,""]
[null,""]
[null,""]
[null,""]
[null,""]
[null,""]
[null,""]
[null,""]
[null,""]
[null,""]
[null,""]
[null,""]
[null,""]
[null,""]
[null,""]
[null,""]
[null,""]
[null,""]
[null,""]
[null,""]
[null,""]
[null,""]
[null,""]
[null,""]
[null,""]
[null,""]
[null,""]
[null,""]
[null,""]
[null,""]
[null,""]
[null,""]
[null,""]
[null,""]
[null,""]
[null,""]
[null,""]
[null,""]
[null,""]
[null,""]
[null,""]
[null,""]
[null,""]
[null,""]
[null,""]
[null,""]
[null,""]
[null,""]
[null,""]
[null,""]
[null,""]
[null,""]
[null,""]
[null,""]
[null,""]
[null,""]
[null,""]
[null,""]
[null,{"$f":"IF(C8419=0,\"\",C8419-C8418)","v":""}]
[null,""]
[null,""]
[null,""]
[null,""]
[null,""]
[null,""]
[null,""]
[null,""]
[null,""]
[null,""]
[null,""]
[null,""]
[null,""]
[null,""]
[null,""]
[null,""]
[null,""]
[null,""]
[null,""]
[null,""]
[null,""]
[null,""]
[null,""]
[null,""]
[null,""]
[null,""]
[null,""]
[null,""]
[null,""]
[null,""]
[null,""]
[null,""]
[null,""]
[null,""]
[null,""]
[null,""]
[null,""]
[null,""]
[null,""]
[null,""]
[null,""]
[null,""]
[null,""]
[null,""]
[null,""]
[null,""]
[null,""]
[null,""]
[null,""]
[null,""]
[null,""]
[null,""]
[null,""]
[null,""]
[null,""]
[null,""]
[null,""]
[null,""]
[null,""]
[null,""]
[null,""]
[null,""]
[null,""]
[null,{"$f":"IF(C8483=0,\"\",C8483-C8482)","v":""}]
[null,""]
[null,""]
[null,""]
[null,""]
[null,""]
[null,""]
[null,""]
[null,""]
[null,""]
[null,""]
[null,""]
[null,""]
[null,""]
[null,""]
[null,""]
[null,""]
[null,""]
[null,""]
[null,""]
[null,""]
[null,""]
[null,""]
[null,""]
[null,""]
[null,""]
[null,""]
[null,""]
[null,""]
[null,""]
[null,""]
[null,""]
[null,""]
[null,""]
[null,""]
[null,""]
[null,""]
[null,""]
[null,""]
[null,""]
[null,""]
[null,""]
[null,""]
[null,""]
[null,""]
[null,""]
[null,""]
[null,""]
[null,""]
[null,""]
[null,""]
[null,""]
[null,""]
[null,""]
[null,""]
[null,""]
[null,""]
[null,""]
[null,""]
[null,""]
[null,""]
[null,""]
[null,""]
[null,""]
[null,{"$f":"IF(C8547=0,\"\",C8547-C8546)","v":""}]
[null,""]
[null,""]
[null,""]
[null,""]
[null,""]
[null,""]
[null,""]
[null,""]
[null,""]
[null,""]
[null,""]
[null,""]
[null,""]
[null,""]
[null,""]
[null,""]
[null,""]
[null,""]
[null,""]
[null,""]
[null,""]
[null,""]
[null,""]
[null,""]
[null,""]
[null,""]
[null,""]
[null,""]
[null,""]
[null,""]
[null,""]
[null,""]
[null,""]
[null,""]
[null,""]
[null,""]
[null,""]
[null,""]
[null,""]
[null,""]
[null,""]
[null,""]
[null,""]
[null,""]
[null,""]
[null,""]
[null,""]
[null,""]
[null,""]
[null,""]
[null,""]
[null,""]
[null,""]
[null,""]
[null,""]
[null,""]
[null,""]
[null,""]
[null,""]
[null,""]
[null,""]
[null,""]
[null,""]
[null,{"$f":"IF(C8611=0,\"\",C8611-C8610)","v":""}]
[null,""]
[null,""]
[null,""]
[null,""]
[null,""]
[null,""]
[null,""]
[null,""]
[null,""]
[null,""]
[null,""]
[null,""]
[null,""]
[null,""]
[null,""]
[null,""]
[null,""]
[null,""]
[null,""]
[null,""]
[null,""]
[null,""]
[null,""]
[null,""]
[null,""]
[null,""]
[null,""]
[null,""]
[null,""]
[null,""]
[null,""]
[null,""]
[null,""]
[null,""]
[null,""]
[null,""]
[null,""]
[null,""]
[null,""]
[null,""]
[null,""]
[null,""]
[null,""]
[null,""]
[null,""]
[null,""]
[null,""]
[null,""]
[null,""]
[null,""]
[null,""]
[null,""]
[null,""]
[null,""]
[null,""]
[null,""]
[null,""]
[null,""]
[null,""]
[null,""]
[null,""]
[null,""]
[null,""]
[null,{"$f":"IF(C8675=0,\"\",C8675-C8674)","v":""}]
[null,""]
[null,""]
[null,""]
[null,""]
[null,""]
[null,""]
[null,""]
[null,""]
[null,""]
[null,""]
[null,""]
[null,""]
[null,""]
[null,""]
[null,""]
[null,""]
[null,""]
[null,""]
[null,""]
[null,""]
[null,""]
[null,""]
[null,""]
[null,""]
[null,""]
[null,""]
[null,""]
[null,""]
[null,""]
[null,""]
[null,""]
[null,""]
[null,""]
[null,""]
[null,""]
[null,""]
[null,""]
[null,""]
[null,""]
[null,""]
[null,""]
[null,""]
[null,""]
[null,""]
[null,""]
[null,""]
[null,""]
[null,""]
[null,""]
[null,""]
[null,""]
[null,""]
[null,""]
[null,""]
[null,""]
[null,""]
[null,""]
[null,""]
[null,""]
[null,""]
[null,""]
[null,""]
[null,""]
[null,{"$f":"IF(C8739=0,\"\",C8739-C8738)","v":""}]
[null,""]
[null,""]
[null,""]
[null,""]
[null,""]
[null,""]
[null,""]
[null,""]
[null,""]
[null,""]
[null,""]
[null,""]
[null,""]
[null,""]
[null,""]
[null,""]
[null,""]
[null,""]
[null,""]
[null,""]
[null,""]
[null,""]
[null,""]
[null,""]
[null,""]
[null,""]
[null,""]
[null,""]
[null,""]
[null,""]
[null,""]
[null,""]
[null,""]
[null,""]
[null,""]
[null,""]
[null,""]
[null,""]
[null,""]
[null,""]
[null,""]
[null,""]
[null,""]
[null,""]
[null,""]
[null,""]
[null,""]
[null,""]
[null,""]
[null,""]
[null,""]
[null,""]
[null,""]
[null,""]
[null,""]
[null,""]
[null,""]
[null,""]
[null,""]
[null,""]
[null,""]
[null,""]
[null,""]
[null,{"$f":"IF(C8803=0,\"\",C8803-C8802)","v":""}]
[null,""]
[null,""]
[null,""]
[null,""]
[null,""]
[null,""]
[null,""]
[null,""]
[null,""]
[null,""]
[null,""]
[null,""]
[null,""]
[null,""]
[null,""]
[null,""]
[null,""]
[null,""]
[null,""]
[null,""]
[null,""]
[null,""]
[null,""]
[null,""]
[null,""]
[null,""]
[null,""]
[null,""]
[null,""]
[null,""]
[null,""]
[null,""]
[null,""]
[null,""]
[null,""]
[null,""]
[null,""]
[null,""]
[null,""]
[null,""]
[null,""]
[null,""]
[null,""]
[null,""]
[null,""]
[null,""]
[null,""]
[null,""]
[null,""]
[null,""]
[null,""]
[null,""]
[null,""]
[null,""]
[null,""]
[null,""]
[null,""]
[null,""]
[null,""]
[null,""]
[null,""]
[null,""]
[null,""]
[null,{"$f":"IF(C8867=0,\"\",C8867-C8866)","v":""}]
[null,""]
[null,""]
[null,""]
[null,""]
[null,""]
[null,""]
[null,""]
[null,""]
[null,""]
[null,""]
[null,""]
[null,""]
[null,""]
[null,""]
[null,""]
[null,""]
[null,""]
[null,""]
[null,""]
[null,""]
[null,""]
[null,""]
[null,""]
[null,""]
[null,""]
[null,""]
[null,""]
[null,""]
[null,""]
[null,""]
[null,""]
[null,""]
[null,""]
[null,""]
[null,""]
[null,""]
[null,""]
[null,""]
[null,""]
[null,""]
[null,""]
[null,""]
[null,""]
[null,""]
[null,""]
[null,""]
[null,""]
[null,""]
[null,""]
[null,""]
[null,""]
[null,""]
[null,""]
[null,""]
[null,""]
[null,""]
[null,""]
[null,""]
[null,""]
[null,""]
[null,""]
[null,""]
[null,""]
[null,{"$f":"IF(C8931=0,\"\",C8931-C8930)","v":""}]
[null,""]
[null,""]
[null,""]
[null,""]
[null,""]
[null,""]
[null,""]
[null,""]
[null,""]
[null,""]
[null,""]
[null,""]
[null,""]
[null,""]
[null,""]
[null,""]
[null,""]
[null,""]
[null,""]
[null,""]
[null,""]
[null,""]
[null,""]
[null,""]
[null,""]
[null,""]
[null,""]
[null,""]
[null,""]
[null,""]
[null,""]
[null,""]
[null,""]
[null,""]
[null,""]
[null,""]
[null,""]
[null,""]
[null,""]
[null,""]
[null,""]
[null,""]
[null,""]
[null,""]
[null,""]
[null,""]
[null,""]
[null,""]
[null,""]
[null,""]
[null,""]
[null,""]
[null,""]
[null,""]
[null,""]
[null,""]
[null,""]
[null,""]
[null,""]
[null,""]
[null,""]
[null,""]
[null,""]
[null,{"$f":"IF(C8995=0,\"\",C8995-C8994)","v":""}]
[null,""]
[null,""]
[null,""]
[null,""]
[null,""]
[null,""]
[null,""]
[null,""]
[null,""]
[null,""]
[null,""]
[null,""]
[null,""]
[null,""]
[null,""]
[null,""]
[null,""]
[null,""]
[null,""]
[null,""]
[null,""]
[null,""]
[null,""]
[null,""]
[null,""]
[null,""]
[null,""]
[null,""]
[null,""]
[null,""]
[null,""]
[null,""]
[null,""]
[null,""]
[null,""]
[null,""]
[null,""]
[null,""]
[null,""]
[null,""]
[null,""]
[null,""]
[null,""]
[null,""]
[null,""]
[null,""]
[null,""]
[null,""]
[null,""]
[null,""]
[null,""]
[null,""]
[null,""]
[null,""]
[null,""]
[null,""]
[null,""]
[null,""]
[null,""]
[null,""]
[null,""]
[null,""]
[null,""]
[null,{"$f":"IF(C9059=0,\"\",C9059-C9058)","v":""}]
[null,""]
[null,""]
[null,""]
[null,""]
[null,""]
[null,""]
[null,""]
[null,""]
[null,""]
[null,""]
[null,""]
[null,""]
[null,""]
[null,""]
[null,""]
[null,""]
[null,""]
[null,""]
[null,""]
[null,""]
[null,""]
[null,""]
[null,""]
[null,""]
[null,""]
[null,""]
[null,""]
[null,""]
[null,""]
[null,""]
[null,""]
[null,""]
[null,""]
[null,""]
[null,""]
[null,""]
[null,""]
[null,""]
[null,""]
[null,""]
[null,""]
[null,""]
[null,""]
[null,""]
[null,""]
[null,""]
[null,""]
[null,""]
[null,""]
[null,""]
[null,""]
[null,""]
[null,""]
[null,""]
[null,""]
[null,""]
[null,""]
[null,""]
[null,""]
[null,""]
[null,""]
[null,""]
[null,""]
[null,{"$f":"IF(C9123=0,\"\",C9123-C9122)","v":""}]
[null,""]
[null,""]
[null,""]
[null,""]
[null,""]
[null,""]
[null,""]
[null,""]
[null,""]
[null,""]
[null,""]
[null,""]
[null,""]
[null,""]
[null,""]
[null,""]
[null,""]
[null,""]
[null,""]
[null,""]
[null,""]
[null,""]
[null,""]
[null,""]
[null,""]
[null,""]
[null,""]
[null,""]
[null,""]
[null,""]
[null,""]
[null,""]
[null,""]
[null,""]
[null,""]
[null,""]
[null,""]
[null,""]
[null,""]
[null,""]
[null,""]
[null,""]
[null,""]
[null,""]
[null,""]
[null,""]
[null,""]
[null,""]
[null,""]
[null,""]
[null,""]
[null,""]
[null,""]
[null,""]
[null,""]
[null,""]
[null,""]
[null,""]
[null,""]
[null,""]
[null,""]
[null,""]
[null,""]
[null,{"$f":"IF(C9187=0,\"\",C9187-C9186)","v":""}]
[null,""]
[null,""]
[null,""]
[null,""]
[null,""]
[null,""]
[null,""]
[null,""]
[null,""]
[null,""]
[null,""]
[null,""]
[null,""]
[null,""]
[null,""]
[null,""]
[null,""]
[null,""]
[null,""]
[null,""]
[null,""]
[null,""]
[null,""]
[null,""]
[null,""]
[null,""]
[null,""]
[null,""]
[null,""]
[null,""]
[null,""]
[null,""]
[null,""]
[null,""]
[null,""]
[null,""]
[null,""]
[null,""]
[null,""]
[null,""]
[null,""]
[null,""]
[null,""]
[null,""]
[null,""]
[null,""]
[null,""]
[null,""]
[null,""]
[null,""]
[null,""]
[null,""]
[null,""]
[null,""]
[null,""]
[null,""]
[null,""]
[null,""]
[null,""]
[null,""]
[null,""]
[null,""]
[null,""]
[null,{"$f":"IF(C9251=0,\"\",C9251-C9250)","v":""}]
[null,""]
[null,""]
[null,""]
[null,""]
[null,""]
[null,""]
[null,""]
[null,""]
[null,""]
[null,""]
[null,""]
[null,""]
[null,""]
[null,""]
[null,""]
[null,""]
[null,""]
[null,""]
[null,""]
[null,""]
[null,""]
[null,""]
[null,""]
[null,""]
[null,""]
[null,""]
[null,""]
[null,""]
[null,""]
[null,""]
[null,""]
[null,""]
[null,""]
[null,""]
[null,""]
[null,""]
[null,""]
[null,""]
[null,""]
[null,""]
[null,""]
[null,""]
[null,""]
[null,""]
[null,""]
[null,""]
[null,""]
[null,""]
[null,""]
[null,""]
[null,""]
[null,""]
[null,""]
[null,""]
[null,""]
[null,""]
[null,""]
[null,""]
[null,""]
[null,""]
[null,""]
[null,""]
[null,""]
[null,{"$f":"IF(C9315=0,\"\",C9315-C9314)","v":""}]
[null,""]
[null,""]
[null,""]
[null,""]
[null,""]
[null,""]
[null,""]
[null,""]
[null,""]
[null,""]
[null,""]
[null,""]
[null,""]
[null,""]
[null,""]
[null,""]
[null,""]
[null,""]
[null,""]
[null,""]
[null,""]
[null,""]
[null,""]
[null,""]
[null,""]
[null,""]
[null,""]
[null,""]
[null,""]
[null,""]
[null,""]
[null,""]
[null,""]
[null,""]
[null,""]
[null,""]
[null,""]
[null,""]
[null,""]
[null,""]
[null,""]
[null,""]
[null,""]
[null,""]
[null,""]
[null,""]
[null,""]
[null,""]
[null,""]
[null,""]
[null,""]
[null,""]
[null,""]
[null,""]
[null,""]
[null,""]
[null,""]
[null,""]
[null,""]
[null,""]
[null,""]
[null,""]
[null,""]
[null,{"$f":"IF(C9379=0,\"\",C9379-C9378)","v":""}]
[null,""]
[null,""]
[null,""]
[null,""]
[null,""]
[null,""]
[null,""]
[null,""]
[null,""]
[null,""]
[null,""]
[null,""]
[null,""]
[null,""]
[null,""]
[null,""]
[null,""]
[null,""]
[null,""]
[null,""]
[null,""]
[null,""]
[null,""]
[null,""]
[null,""]
[null,""]
[null,""]
[null,""]
[null,""]
[null,""]
[null,""]
[null,""]
[null,""]
[null,""]
[null,""]
[null,""]
[null,""]
[null,""]
[null,""]
[null,""]
[null,""]
[null,""]
[null,""]
[null,""]
[null,""]
[null,""]
[null,""]
[null,""]
[null,""]
[null,""]
[null,""]
[null,""]
[null,""]
[null,""]
[null,""]
[null,""]
[null,""]
[null,""]
[null,""]
[null,""]
[null,""]
[null,""]
[null,""]
[null,{"$f":"IF(C9443=0,\"\",C9443-C9442)","v":""}]
[null,""]
[null,""]
[null,""]
[null,""]
[null,""]
[null,""]
[null,""]
[null,""]
[null,""]
[null,""]
[null,""]
[null,""]
[null,""]
[null,""]
[null,""]
[null,""]
[null,""]
[null,""]
[null,""]
[null,""]
[null,""]
[null,""]
[null,""]
[null,""]
[null,""]
[null,""]
[null,""]
[null,""]
[null,""]
[null,""]
[null,""]
[null,""]
[null,""]
[null,""]
[null,""]
[null,""]
[null,""]
[null,""]
[null,""]
[null,""]
[null,""]
[null,""]
[null,""]
[null,""]
[null,""]
[null,""]
[null,""]
[null,""]
[null,""]
[null,""]
[null,""]
[null,""]
[null,""]
[null,""]
[null,""]
[null,""]
[null,""]
[null,""]
[null,""]
[null,""]
[null,""]
[null,""]
[null,""]
[null,{"$f":"IF(C9507=0,\"\",C9507-C9506)","v":""}]
[null,""]
[null,""]
[null,""]
[null,""]
[null,""]
[null,""]
[null,""]
[null,""]
[null,""]
[null,""]
[null,""]
[null,""]
[null,""]
[null,""]
[null,""]
[null,""]
[null,""]
[null,""]
[null,""]
[null,""]
[null,""]
[null,""]
[null,""]
[null,""]
[null,""]
[null,""]
[null,""]
[null,""]
[null,""]
[null,""]
[null,""]
[null,""]
[null,""]
[null,""]
[null,""]
[null,""]
[null,""]
[null,""]
[null,""]
[null,""]
[null,""]
[null,""]
[null,""]
[null,""]
[null,""]
[null,""]
[null,""]
[null,""]
[null,""]
[null,""]
[null,""]
[null,""]
[null,""]
[null,""]
[null,""]
[null,""]
[null,""]
[null,""]
[null,""]
[null,""]
[null,""]
[null,""]
[null,""]
[null,{"$f":"IF(C9571=0,\"\",C9571-C9570)","v":""}]
[null,""]
[null,""]
[null,""]
[null,""]
[null,""]
[null,""]
[null,""]
[null,""]
[null,""]
[null,""]
[null,""]
[null,""]
[null,""]
[null,""]
[null,""]
[null,""]
[null,""]
[null,""]
[null,""]
[null,""]
[null,""]
[null,""]
[null,""]
[null,""]
[null,""]
[null,""]
[null,""]
[null,""]
[null,""]
[null,""]
[null,""]
[null,""]
[null,""]
[null,""]
[null,""]
[null,""]
[null,""]
[null,""]
[null,""]
[null,""]
[null,""]
[null,""]
[null,""]
[null,""]
[null,""]
[null,""]
[null,""]
[null,""]
[null,""]
[null,""]
[null,""]
[null,""]
[null,""]
[null,""]
[null,""]
[null,""]
[null,""]
[null,""]
[null,""]
[null,""]
[null,""]
[null,""]
[null,""]
[null,{"$f":"IF(C9635=0,\"\",C9635-C9634)","v":""}]
[null,""]
[null,""]
[null,""]
[null,""]
[null,""]
[null,""]
[null,""]
[null,""]
[null,""]
[null,""]
[null,""]
[null,""]
[null,""]
[null,""]
[null,""]
[null,""]
[null,""]
[null,""]
[null,""]
[null,""]
[null,""]
[null,""]
[null,""]
[null,""]
[null,""]
[null,""]
[null,""]
[null,""]
[null,""]
[null,""]
[null,""]
[null,""]
[null,""]
[null,""]
[null,""]
[null,""]
[null,""]
[null,""]
[null,""]
[null,""]
[null,""]
[null,""]
[null,""]
[null,""]
[null,""]
[null,""]
[null,""]
[null,""]
[null,""]
[null,""]
[null,""]
[null,""]
[null,""]
[null,""]
[null,""]
[null,""]
[null,""]
[null,""]
[null,""]
[null,""]
[null,""]
[null,""]
[null,""]
[null,{"$f":"IF(C9699=0,\"\",C9699-C9698)","v":""}]
[null,""]
[null,""]
[null,""]
[null,""]
[null,""]
[null,""]
[null,""]
[null,""]
[null,""]
[null,""]
[null,""]
[null,""]
[null,""]
[null,""]
[null,""]
[null,""]
[null,""]
[null,""]
[null,""]
[null,""]
[null,""]
[null,""]
[null,""]
[null,""]
[null,""]
[null,""]
[null,""]
[null,""]
[null,""]
[null,""]
[null,""]
[null,""]
[null,""]
[null,""]
[null,""]
[null,""]
[null,""]
[null,""]
[null,""]
[null,""]
[null,""]
[null,""]
[null,""]
[null,""]
[null,""]
[null,""]
[null,""]
[null,""]
[null,""]
[null,""]
[null,""]
[null,""]
[null,""]
[null,""]
[null,""]
[null,""]
[null,""]
[null,""]
[null,""]
[null,""]
[null,""]
[null,""]
[null,""]
[null,{"$f":"IF(C9763=0,\"\",C9763-C9762)","v":""}]
[null,""]
[null,""]
[null,""]
[null,""]
[null,""]
[null,""]
[null,""]
[null,""]
[null,""]
[null,""]
[null,""]
[null,""]
[null,""]
[null,""]
[null,""]
[null,""]
[null,""]
[null,""]
[null,""]
[null,""]
[null,""]
[null,""]
[null,""]
[null,""]
[null,""]
[null,""]
[null,""]
[null,""]
[null,""]
[null,""]
[null,""]
[null,""]
[null,""]
[null,""]
[null,""]
[null,""]
[null,""]
[null,""]
[null,""]
[null,""]
[null,""]
[null,""]
[null,""]
[null,""]
[null,""]
[null,""]
[null,""]
[null,""]
[null,""]
[null,""]
[null,""]
[null,""]
[null,""]
[null,""]
[null,""]
[null,""]
[null,""]
[null,""]
[null,""]
[null,""]
[null,""]
[null,""]
[null,""]
[null,{"$f":"IF(C9827=0,\"\",C9827-C9826)","v":""}]
[null,""]
[null,""]
[null,""]
[null,""]
[null,""]
[null,""]
[null,""]
[null,""]
[null,""]
[null,""]
[null,""]
[null,""]
[null,""]
[null,""]
[null,""]
[null,""]
[null,""]
[null,""]
[null,""]
[null,""]
[null,""]
[null,""]
[null,""]
[null,""]
[null,""]
[null,""]
[null,""]
[null,""]
[null,""]
[null,""]
[null,""]
[null,""]
[null,""]
[null,""]
[null,""]
[null,""]
[null,""]
[null,""]
[null,""]
[null,""]
[null,""]
[null,""]
[null,""]
[null,""]
[null,""]
[null,""]
[null,""]
[null,""]
[null,""]
[null,""]
[null,""]
[null,""]
[null,""]
[null,""]
[null,""]
[null,""]
[null,""]
[null,""]
[null,""]
[null,""]
[null,""]
[null,""]
[null,""]
[null,{"$f":"IF(C9891=0,\"\",C9891-C9890)","v":""}]
[null,""]
[null,""]
[null,""]
[null,""]
[null,""]
[null,""]
[null,""]
[null,""]
[null,""]
[null,""]
[null,""]
[null,""]
[null,""]
[null,""]
[null,""]
[null,""]
[null,""]
[null,""]
[null,""]
[null,""]
[null,""]
[null,""]
[null,""]
[null,""]
[null,""]
[null,""]
[null,""]
[null,""]
[null,""]
[null,""]
[null,""]
[null,""]
[null,""]
[null,""]
[null,""]
[null,""]
[null,""]
[null,""]
[null,""]
[null,""]
[null,""]
[null,""]
[null,""]
[null,""]
[null,""]
[null,""]
[null,""]
[null,""]
[null,""]
[null,""]
[null,""]
[null,""]
[null,""]
[null,""]
[null,""]
[null,""]
[null,""]
[null,""]
[null,""]
[null,""]
[null,""]
[null,""]
[null,""]
[null,{"$f":"IF(C9955=0,\"\",C9955-C9954)","v":""}]
[null,""]
[null,""]
[null,""]
[null,""]
[null,""]
[null,""]
[null,""]
[null,""]
[null,""]
[null,""]
[null,""]
[null,""]
[null,""]
[null,""]
[null,""]
[null,""]
[null,""]
[null,""]
[null,""]
[null,""]
[null,""]
[null,""]
[null,""]
[null,""]
[null,""]
[null,""]
[null,""]
[null,""]
[null,""]
[null,""]
[null,""]
[null,""]
[null,""]
[null,""]
[null,""]
[null,""]
[null,""]
[null,""]
[null,""]
[null,""]
[null,""]
[null,""]
[null,""]
[null,""]
[null,""]
[null,""]
[null,""]
[null,""]
[null,""]
[null,""]
[null,""]
[null,""]
[null,""]
[null,""]
[null,""]
[null,""]
[null,""]
[null,""]
[null,""]
[null,""]
[null,""]
[null,""]
[null,""]
[null,{"$f":"IF(C10019=0,\"\",C10019-C10018)","v":""}]
[null,""]
[null,""]
[null,""]
[null,""]
[null,""]
[null,""]
[null,""]
[null,""]
[null,""]
[null,""]
[null,""]
[null,""]
[null,""]
[null,""]
[null,""]
[null,""]
[null,""]
[null,""]
[null,""]
[null,""]
[null,""]
[null,""]
[null,""]
[null,""]
[null,""]
[null,""]
[null,""]
[null,""]
[null,""]
[null,""]
[null,""]
[null,""]
[null,""]
[null,""]
[null,""]
[null,""]
[null,""]
[null,""]
[null,""]
[null,""]
[null,""]
[null,""]
[null,""]
[null,""]
[null,""]
[null,""]
[null,""]
[null,""]
[null,""]
[null,""]
[null,""]
[null,""]
[null,""]
[null,""]
[null,""]
[null,""]
[null,""]
[null,""]
[null,""]
[null,""]
[null,""]
[null,""]
[null,""]
[null,{"$f":"IF(C10083=0,\"\",C10083-C10082)","v":""}]
[null,""]
[null,""]
[null,""]
[null,""]
[null,""]
[null,""]
[null,{"$f":"IF(C10090=0,\"\",C10090-C10089)","v":""}]

{"sheet":"Condition 3","index":7,"n_rows":10089,"n_cols":30,"rows_kept":10089,"cut":false,"hidden":false,"merged":[[205,0,205,3],[206,0,210,1],[206,2,206,3],[207,2,207,3],[208,2,208,3],[209,2,209,3],[210,2,210,3],[211,0,211,3],[212,0,216,1],[212,2,212,3],[213,2,213,3],[214,2,214,3],[215,2,215,3],[216,2,216,3],[193,0,193,3],[194,0,198,1],[194,2,194,3],[195,2,195,3],[196,2,196,3],[197,2,197,3],[198,2,198,3],[199,0,199,3],[200,0,204,1],[200,2,200,3],[201,2,201,3],[202,2,202,3],[203,2,203,3],[204,2,204,3],[181,0,181,3],[182,0,186,1],[182,2,182,3],[183,2,183,3],[184,2,184,3],[185,2,185,3],[186,2,186,3],[187,0,187,3],[188,0,192,1],[188,2,188,3],[189,2,189,3],[190,2,190,3],[191,2,191,3],[192,2,192,3],[169,0,169,3],[170,0,174,1],[170,2,170,3],[171,2,171,3],[172,2,172,3],[173,2,173,3],[174,2,174,3],[175,0,175,3],[176,0,180,1],[176,2,176,3],[177,2,177,3],[178,2,178,3],[179,2,179,3],[180,2,180,3],[158,0,162,1],[158,2,158,3],[159,2,159,3],[160,2,160,3],[161,2,161,3],[162,2,162,3],[163,0,163,3],[164,0,168,1],[164,2,164,3],[165,2,165,3],[166,2,166,3],[167,2,167,3],[168,2,168,3],[247,8,248,8],[247,17,248,17],[136,2,136,3],[137,2,137,3],[138,2,138,3],[152,2,152,3],[153,2,153,3],[154,2,154,3],[155,2,155,3],[156,2,156,3],[242,0,242,3],[243,0,243,3],[226,0,226,3],[227,0,227,3],[228,0,228,3],[152,0,156,1],[223,0,223,3],[224,0,224,3],[225,0,225,3],[217,0,217,6],[218,0,218,3],[219,0,219,3],[145,0,145,3],[157,0,157,3],[120,2,120,3],[114,2,114,3],[115,0,115,3],[116,0,120,1],[247,5,248,5],[148,2,148,3],[149,2,149,3],[150,2,150,3],[221,0,221,3],[222,0,222,3],[241,0,241,3],[231,0,231,3],[220,0,220,3],[229,0,229,3],[230,0,230,3],[232,0,232,3],[239,0,239,6],[240,0,240,3],[124,2,124,3],[125,2,125,3],[126,2,126,3],[151,0,151,3],[133,0,133,3],[134,0,138,1],[109,0,109,3],[110,0,114,1],[110,2,110,3],[111,2,111,3],[112,2,112,3],[113,2,113,3],[139,0,139,3],[140,0,144,1],[140,2,140,3],[141,2,141,3],[142,2,142,3],[143,2,143,3],[144,2,144,3],[127,0,127,3],[128,0,132,1],[128,2,128,3],[116,2,116,3],[117,2,117,3],[118,2,118,3],[119,2,119,3],[121,0,121,3],[122,0,126,1],[122,2,122,3],[123,2,123,3],[5,0,5,2],[5,3,5,6],[6,0,6,6],[7,0,8,0],[10,0,10,3],[0,0,0,6],[2,0,2,2],[2,3,2,6],[3,0,3,2],[3,3,3,6],[4,0,4,2],[4,3,4,6],[1,0,1,2],[1,3,1,6],[23,0,23,6],[24,0,24,3],[24,5,24,6],[25,0,25,3],[25,5,25,6],[26,5,26,6],[27,5,27,6],[11,0,12,2],[13,0,14,2],[15,0,16,2],[17,0,18,2],[19,0,20,2],[21,0,22,1],[21,2,21,3],[22,2,22,3],[26,0,29,2],[28,5,28,6],[29,5,29,6],[30,5,30,6],[31,5,31,6],[32,0,32,6],[33,0,33,3],[34,0,34,3],[34,4,34,6],[37,0,37,3],[38,0,39,0],[38,1,38,3],[39,1,39,3],[35,0,35,3],[36,0,36,3],[30,0,31,2],[44,0,45,0],[44,1,44,3],[45,1,45,3],[46,0,46,3],[47,0,47,3],[48,0,49,0],[48,1,48,3],[49,1,49,3],[50,0,51,0],[50,1,50,3],[51,1,51,3],[40,0,41,0],[40,1,40,3],[41,1,41,3],[42,0,43,0],[42,1,42,3],[43,1,43,3],[246,27,246,29],[244,0,244,6],[245,3,245,12],[245,13,245,14],[245,15,245,29],[246,3,246,5],[246,6,246,8],[246,9,246,11],[246,15,246,17],[246,23,246,26],[246,19,246,22],[53,1,53,3],[54,0,55,0],[54,1,54,3],[55,1,55,3],[56,0,56,3],[57,0,57,3],[58,0,59,0],[58,1,58,3],[59,1,59,3],[52,0,53,0],[52,1,52,3],[60,0,61,0],[60,1,60,3],[61,1,61,3],[62,0,63,0],[62,1,62,3],[63,1,63,3],[96,0,96,3],[97,0,97,3],[98,0,102,1],[98,2,98,3],[64,0,65,0],[64,1,64,3],[65,1,65,3],[72,0,73,0],[72,1,72,3],[73,1,73,3],[74,0,75,0],[74,1,74,3],[75,1,75,3],[66,0,66,3],[67,0,67,3],[68,0,69,0],[68,1,68,3],[69,1,69,3],[70,0,71,0],[70,1,70,3],[71,1,71,3],[76,0,76,3],[77,0,77,3],[78,0,79,0],[99,2,99,3],[100,2,100,3],[101,2,101,3],[102,2,102,3],[103,0,103,3],[104,0,108,1],[104,2,104,3],[105,2,105,3],[106,2,106,3],[107,2,107,3],[108,2,108,3],[134,2,134,3],[135,2,135,3],[146,0,150,1],[146,2,146,3],[147,2,147,3],[129,2,129,3],[130,2,130,3],[131,2,131,3],[132,2,132,3],[90,1,90,3],[91,1,91,3],[92,0,93,0],[92,1,92,3],[93,1,93,3],[78,1,78,3],[79,1,79,3],[80,0,81,0],[80,1,80,3],[81,1,81,3],[82,0,83,0],[82,1,82,3],[83,1,83,3],[84,0,85,0],[84,1,84,3],[85,1,85,3],[233,0,233,6],[234,0,234,3],[235,0,235,3],[236,0,236,3],[237,0,237,3],[238,0,238,3],[8,7,8,18],[10,7,10,9],[11,7,22,9],[10,10,10,12],[10,13,10,15],[10,16,10,18],[11,10,22,12],[11,13,22,15],[11,16,22,18],[94,0,95,0],[94,1,94,3],[95,1,95,3],[86,0,86,3],[87,0,87,3],[88,0,89,0],[88,1,88,3],[89,1,89,3],[90,0,91,0]]}
[{"$f":"'Test Plan'!$A$58","v":"Condition 3"}]
["AHRI Test Stand Inspection Number",null,null,{"$f":"IF('Test Plan'!$B$3=0,\" \",'Test Plan'!$B$2)","v":"FIACCL-230##-1"}]
["AHRI Test Number",null,null,{"$f":"IF('Test Plan'!$B$3=0,\" \",'Test Plan'!$B$3)","v":"ACCL-230##-1-A"}]
["Model Designation",{"$f":"IF('[2]WCCL-DS2'!B4:D4=0,\" \",'[2]WCCL-DS2'!B4:D4)","v":"DEF"},null,{"$f":"IF('Test Plan'!$B$4=0,\" \",'Test Plan'!$B$4)","v":" "}]
["Manufacturer",{"$f":"IF('[2]WCCL-DS2'!B5:D5=0,\" \",'[2]WCCL-DS2'!B5:D5)","v":43101},null,{"$f":"IF('Test Plan'!$B$5=0,\" \",'Test Plan'!$B$5)","v":" "}]
["Test Date",{"$f":"IF('[2]WCCL-DS2'!B6:D6=0,\" \",'[2]WCCL-DS2'!B6:D6)","v":{"$error":"#REF!"}}]
[]
["Measurement Time","Data Points","Units","Period (min)","Mean Intvl. (s)","Max. Intvl. (s)","Max. Intvl. for Avg. of Data (s)"]
[null,{"$f":"COUNTA(C258:C10089)","v":0},"h:mm:ss:ms",{"$f":"(INDEX(C258:C10089,$B$9)-C258)*24*60","v":{"$error":"#VALUE!"}},{"$f":"D9*60/(B9-1)","v":{"$error":"#VALUE!"}},{"$f":"MAX(B258:B10089)*60*60*24","v":0},{"$f":"D9*60/60","v":{"$error":"#VALUE!"}},"Photographs to confirm compliance with Appendix E of AHRI Standards 550/590 and 551/591"]
[]
["Air and Water Measurements",null,null,null,"Units","Evaporator","Condenser","Chiller Condenser Side 1",null,null,"Chiller Condenser Side 2",null,null,"Chiller Condenser Side 3",null,null,"Chiller Condenser Side 4"]
["Atmospheric Pressure",null,null,"Mean",{"$f":"'Test Plan'!$B$41","v":"kPa"},null,{"$f":"IF(O252=\"Yes\",$O$250,$O$256)","v":{"$error":"#DIV/0!"}},"Photo",null,null,"Photo",null,null,"Photo",null,null,"Photo"]
[null,null,null,"St. Dev.",{"$f":"'Test Plan'!$B$41","v":"kPa"},null,{"$f":"IF(O252=\"Yes\",\"Lab Data\",$O$257)","v":{"$error":"#DIV/0!"}}]
["Leaving Water Temperature",null,null,"Mean",{"$f":"'Test Conditions'!$B$18","v":"°C"},{"$f":"IF(F252=\"Yes\",$F$250,$F$256)","v":{"$error":"#DIV/0!"}}]
[null,null,null,"St. Dev.",{"$f":"'Test Conditions'!$B$18","v":"°C"},{"$f":"IF(F252=\"Yes\",\"Lab Data\",$F$257)","v":{"$error":"#DIV/0!"}}]
["Entering Db Air and Water Temperatures",null,null,"Mean",{"$f":"'Test Conditions'!$B$19","v":"°C"},{"$f":"IF(I252=\"Yes\",$I$250,$I$256)","v":{"$error":"#DIV/0!"}},{"$f":"IF(N252=\"Yes\",$N$250,$N$256)","v":{"$error":"#DIV/0!"}}]
[null,null,null,"St. Dev.",{"$f":"'Test Conditions'!$B$19","v":"°C"},{"$f":"IF(I252=\"Yes\",\"Lab Data\",$I$257)","v":{"$error":"#DIV/0!"}},{"$f":"IF(N252=\"Yes\",\"Lab Data\",$N$257)","v":{"$error":"#DIV/0!"}}]
["Water Flow Rate",null,null,"Mean",{"$f":"'Test Conditions'!$B$20","v":"m³/h"},{"$f":"$L$256","v":{"$error":"#DIV/0!"}}]
[null,null,null,"St. Dev.",{"$f":"'Test Conditions'!$B$20","v":"m³/h"},{"$f":"$L$257","v":{"$error":"#DIV/0!"}}]
["Water Pressure Drop",null,null,"Mean",{"$f":"'Test Plan'!$B$127","v":"kPa"},{"$f":"IF('Test Plan'!$B$19=\"I-P\",IF(M252=\"Yes\",$M$250/0.4331,$M$256/0.4331),IF(M252=\"Yes\",$M$250,$M$256))","v":{"$error":"#DIV/0!"}}]
[null,null,null,"St. Dev.",{"$f":"'Test Plan'!$B$127","v":"kPa"},{"$f":"IF(M252=\"Yes\",\"Lab Data\",IF('Test Plan'!$B$19=\"I-P\",$M$257/0.4331,$M$257))","v":{"$error":"#DIV/0!"}}]
[null,null,"Correction (∆padj)",null,{"$f":"'Test Plan'!$B$127","v":"kPa"}]
[null,null,"Corrected (∆pcorrected)",null,{"$f":"'Test Plan'!$B$127","v":"kPa"},{"$f":"F20-F22","v":{"$error":"#DIV/0!"}}]
[]
["Electrical Measurements",null,null,null,"Units","Total"]
["Power",null,null,null,"kW",{"$f":"IF(R252=\"Yes\",$R$250,$R$256)","v":{"$error":"#DIV/0!"}}]
["Voltage",null,null,"Mean","V",{"$f":"IF(R252=\"Yes\",\"Lab Data\",$S$256)","v":{"$error":"#DIV/0!"}}]
[null,null,null,"St. Dev.",{"$f":"E27","v":"V"},{"$f":"IF(R252=\"Yes\",\"Lab Data\",$S$257)","v":{"$error":"#DIV/0!"}}]
[null,null,null,"V1 Balance","%",{"$f":"IF(R252=\"Yes\",\"Lab Data\",ROUND(MAX(ABS($U$256-$T$256),ABS($V$256-$T$256),ABS($W$256-$T$256))/$T$256,4-(1+INT(LOG10(ABS(MAX(ABS($U$256-$T$256),ABS($V$256-$T$256),ABS($W$256-$T$256))/$T$256))))))","v":{"$error":"#DIV/0!"}}]
[null,null,null,"V2 Balance","%",{"$f":"IF(R252=\"Yes\",\"Lab Data\",ROUND(MAX(ABS($Y$256-$X$256),ABS($Z$256-$X$256),ABS($AA$256-$X$256))/$X$256,4-(1+INT(LOG10(ABS(MAX(ABS($Y$256-$X$256),ABS($Z$256-$X$256),ABS($AA$256-$X$256))/$X$256))))))","v":{"$error":"#DIV/0!"}}]
["Frequency",null,null,"Mean","Hz",{"$f":"IF(R252=\"Yes\",\"Lab Data\",$AB$256)","v":{"$error":"#DIV/0!"}}]
[null,null,null,"St. Dev.",{"$f":"E31","v":"Hz"},{"$f":"IF(R252=\"Yes\",\"Lab Data\",$AB$257)","v":{"$error":"#DIV/0!"}}]
[]
["Air Temperature Measurement",null,null,null,"Units",null,"Condenser"]
["Measurement Method"]
["# of Aspirating Psychrometers",null,null,null,"#"]
["Aspirating Psychrometer #1, Mean Air Temperature",null,null,null,{"$f":"'Test Conditions'!$B$19","v":"°C"}]
["# of Air Sampling Trees on Aspirating Psychrometer #1",null,null,null,"#",null,4]
["#1-A\nTemperatures","Air Sampling Tree Thermopile Grid",null,null,{"$f":"'Test Conditions'!$B$19","v":"°C"}]
[null,"Recirculation Thermocouple",null,null,{"$f":"'Test Conditions'!$B$19","v":"°C"}]
["#1-B\nTemperatures","Air Sampling Tree Thermopile Grid",null,null,{"$f":"'Test Conditions'!$B$19","v":"°C"}]
[null,"Recirculation Thermocouple",null,null,{"$f":"'Test Conditions'!$B$19","v":"°C"}]
["#1-C\nTemperatures","Air Sampling Tree Thermopile Grid",null,null,{"$f":"'Test Conditions'!$B$19","v":"°C"}]
[null,"Recirculation Thermocouple",null,null,{"$f":"'Test Conditions'!$B$19","v":"°C"}]
["#1-D\nTemperatures","Air Sampling Tree Thermopile Grid",null,null,{"$f":"'Test Conditions'!$B$19","v":"°C"}]
[null,"Recirculation Thermocouple",null,null,{"$f":"'Test Conditions'!$B$19","v":"°C"}]
["Aspirating Psychrometer #2, Mean Air Temperature",null,null,null,{"$f":"'Test Conditions'!$B$19","v":"°C"}]
["# of Air Sampling Trees on Aspirating Psychrometer #2",null,null,null,"#",null,4]
["#2-A\nTemperatures","Air Sampling Tree Thermopile Grid",null,null,{"$f":"'Test Conditions'!$B$19","v":"°C"}]
[null,"Recirculation Thermocouple",null,null,{"$f":"'Test Conditions'!$B$19","v":"°C"}]
["#2-B\nTemperatures","Air Sampling Tree Thermopile Grid",null,null,{"$f":"'Test Conditions'!$B$19","v":"°C"}]
[null,"Recirculation Thermocouple",null,null,{"$f":"'Test Conditions'!$B$19","v":"°C"}]
["#2-C\nTemperatures","Air Sampling Tree Thermopile Grid",null,null,{"$f":"'Test Conditions'!$B$19","v":"°C"}]
[null,"Recirculation Thermocouple",null,null,{"$f":"'Test Conditions'!$B$19","v":"°C"}]
["#2-D\nTemperatures","Air Sampling Tree Thermopile Grid",null,null,{"$f":"'Test Conditions'!$B$19","v":"°C"}]
[null,"Recirculation Thermocouple",null,null,{"$f":"'Test Conditions'!$B$19","v":"°C"}]
["Aspirating Psychrometer #3, Mean Air Temperature",null,null,null,{"$f":"'Test Conditions'!$B$19","v":"°C"}]
["# of Air Sampling Trees on Aspirating Psychrometer #3",null,null,null,"#",null,4]
["#3-A\nTemperatures","Air Sampling Tree Thermopile Grid",null,null,{"$f":"'Test Conditions'!$B$19","v":"°C"}]
[null,"Recirculation Thermocouple",null,null,{"$f":"'Test Conditions'!$B$19","v":"°C"}]
["#3-B\nTemperatures","Air Sampling Tree Thermopile Grid",null,null,{"$f":"'Test Conditions'!$B$19","v":"°C"}]
[null,"Recirculation Thermocouple",null,null,{"$f":"'Test Conditions'!$B$19","v":"°C"}]
["#3-C\nTemperatures","Air Sampling Tree Thermopile Grid",null,null,{"$f":"'Test Conditions'!$B$19","v":"°C"}]
[null,"Recirculation Thermocouple",null,null,{"$f":"'Test Conditions'!$B$19","v":"°C"}]
["#3-D\nTemperatures","Air Sampling Tree Thermopile Grid",null,null,{"$f":"'Test Conditions'!$B$19","v":"°C"}]
[null,"Recirculation Thermocouple",null,null,{"$f":"'Test Conditions'!$B$19","v":"°C"}]
["Aspirating Psychrometer #4, Mean Air Temperature",null,null,null,{"$f":"'Test Conditions'!$B$19","v":"°C"}]
["# of Air Sampling Trees on Aspirating Psychrometer #4",null,null,null,"#",null,4]
["#4-A\nTemperatures","Air Sampling Tree Thermopile Grid",null,null,{"$f":"'Test Conditions'!$B$19","v":"°C"}]
[null,"Recirculation Thermocouple",null,null,{"$f":"'Test Conditions'!$B$19","v":"°C"}]
["#4-B\nTemperatures","Air Sampling Tree Thermopile Grid",null,null,{"$f":"'Test Conditions'!$B$19","v":"°C"}]
[null,"Recirculation Thermocouple",null,null,{"$f":"'Test Conditions'!$B$19","v":"°C"}]
["#4-C\nTemperatures","Air Sampling Tree Thermopile Grid",null,null,{"$f":"'Test Conditions'!$B$19","v":"°C"}]
[null,"Recirculation Thermocouple",null,null,{"$f":"'Test Conditions'!$B$19","v":"°C"}]
["#4-D\nTemperatures","Air Sampling Tree Thermopile Grid",null,null,{"$f":"'Test Conditions'!$B$19","v":"°C"}]
[null,"Recirculation Thermocouple",null,null,{"$f":"'Test Conditions'!$B$19","v":"°C"}]
["Aspirating Psychrometer #5, Mean Air Temperature",null,null,null,{"$f":"'Test Conditions'!$B$19","v":"°C"}]
["# of Air Sampling Trees on Aspirating Psychrometer #5",null,null,null,"#",null,4]
["#5-A\nTemperatures","Air Sampling Tree Thermopile Grid",null,null,{"$f":"'Test Conditions'!$B$19","v":"°C"}]
[null,"Recirculation Thermocouple",null,null,{"$f":"'Test Conditions'!$B$19","v":"°C"}]
["#5-B\nTemperatures","Air Sampling Tree Thermopile Grid",null,null,{"$f":"'Test Conditions'!$B$19","v":"°C"}]
[null,"Recirculation Thermocouple",null,null,{"$f":"'Test Conditions'!$B$19","v":"°C"}]
["#5-C\nTemperatures","Air Sampling Tree Thermopile Grid",null,null,{"$f":"'Test Conditions'!$B$19","v":"°C"}]
[null,"Recirculation Thermocouple",null,null,{"$f":"'Test Conditions'!$B$19","v":"°C"}]
["#5-D\nTemperatures","Air Sampling Tree Thermopile Grid",null,null,{"$f":"'Test Conditions'!$B$19","v":"°C"}]
[null,"Recirculation Thermocouple",null,null,{"$f":"'Test Conditions'!$B$19","v":"°C"}]
["Aspirating Psychrometer #6, Mean Air Temperature",null,null,null,{"$f":"'Test Conditions'!$B$19","v":"°C"}]
["# of Air Sampling Trees on Aspirating Psychrometer #6",null,null,null,"#",null,4]
["#6-A\nTemperatures","Air Sampling Tree Thermopile Grid",null,null,{"$f":"'Test Conditions'!$B$19","v":"°C"}]
[null,"Recirculation Thermocouple",null,null,{"$f":"'Test Conditions'!$B$19","v":"°C"}]
["#6-B\nTemperatures","Air Sampling Tree Thermopile Grid",null,null,{"$f":"'Test Conditions'!$B$19","v":"°C"}]
[null,"Recirculation Thermocouple",null,null,{"$f":"'Test Conditions'!$B$19","v":"°C"}]
["#6-C\nTemperatures","Air Sampling Tree Thermopile Grid",null,null,{"$f":"'Test Conditions'!$B$19","v":"°C"}]
[null,"Recirculation Thermocouple",null,null,{"$f":"'Test Conditions'!$B$19","v":"°C"}]
["#6-D\nTemperatures","Air Sampling Tree Thermopile Grid",null,null,{"$f":"'Test Conditions'!$B$19","v":"°C"}]
[null,"Recirculation Thermocouple",null,null,{"$f":"'Test Conditions'!$B$19","v":"°C"}]
["# of Air Sampling Arrays",null,null,null,"#"]
["Air Sampling Array #1, Mean Air Temperature",null,null,null,{"$f":"'Test Conditions'!$B$19","v":"°C"},null,{"$f":"AVERAGE(G99:G102)","v":{"$error":"#DIV/0!"}}]
["Air Sampling Array Individual \nMeasurement Temperatures",null,"#1-A",null,{"$f":"'Test Conditions'!$B$19","v":"°C"}]
[null,null,"#1-B",null,{"$f":"'Test Conditions'!$B$19","v":"°C"}]
[null,null,"#1-C",null,{"$f":"'Test Conditions'!$B$19","v":"°C"}]
[null,null,"#1-D",null,{"$f":"'Test Conditions'!$B$19","v":"°C"}]
[null,null,"Recirculation Thermocouple",null,{"$f":"'Test Conditions'!$B$19","v":"°C"}]
["Air Sampling Array #2, Mean Air Temperature",null,null,null,{"$f":"'Test Conditions'!$B$19","v":"°C"},null,{"$f":"AVERAGE(G105:G108)","v":{"$error":"#DIV/0!"}}]
["Air Sampling Array Individual \nMeasurement Temperatures",null,"#2-A",null,{"$f":"'Test Conditions'!$B$19","v":"°C"}]
[null,null,"#2-B",null,{"$f":"'Test Conditions'!$B$19","v":"°C"}]
[null,null,"#2-C",null,{"$f":"'Test Conditions'!$B$19","v":"°C"}]
[null,null,"#2-D",null,{"$f":"'Test Conditions'!$B$19","v":"°C"}]
[null,null,"Recirculation Thermocouple",null,{"$f":"'Test Conditions'!$B$19","v":"°C"}]
["Air Sampling Array #3, Mean Air Temperature",null,null,null,{"$f":"'Test Conditions'!$B$19","v":"°C"},null,{"$f":"AVERAGE(G111:G114)","v":{"$error":"#DIV/0!"}}]
["Air Sampling Array Individual \nMeasurement Temperatures",null,"#3-A",null,{"$f":"'Test Conditions'!$B$19","v":"°C"}]
[null,null,"#3-B",null,{"$f":"'Test Conditions'!$B$19","v":"°C"}]
[null,null,"#3-C",null,{"$f":"'Test Conditions'!$B$19","v":"°C"}]
[null,null,"#3-D",null,{"$f":"'Test Conditions'!$B$19","v":"°C"}]
[null,null,"Recirculation Thermocouple",null,{"$f":"'Test Conditions'!$B$19","v":"°C"}]
["Air Sampling Array #4, Mean Air Temperature",null,null,null,{"$f":"'Test Conditions'!$B$19","v":"°C"},null,{"$f":"AVERAGE(G117:G120)","v":{"$error":"#DIV/0!"}}]
["Air Sampling Array Individual \nMeasurement Temperatures",null,"#4-A",null,{"$f":"'Test Conditions'!$B$19","v":"°C"}]
[null,null,"#4-B",null,{"$f":"'Test Conditions'!$B$19","v":"°C"}]
[null,null,"#4-C",null,{"$f":"'Test Conditions'!$B$19","v":"°C"}]
[null,null,"#4-D",null,{"$f":"'Test Conditions'!$B$19","v":"°C"}]
[null,null,"Recirculation Thermocouple",null,{"$f":"'Test Conditions'!$B$19","v":"°C"}]
["Air Sampling Array #5, Mean Air Temperature",null,null,null,{"$f":"'Test Conditions'!$B$19","v":"°C"},null,{"$f":"AVERAGE(G123:G126)","v":{"$error":"#DIV/0!"}}]
["Air Sampling Array Individual \nMeasurement Temperatures",null,"#5-A",null,{"$f":"'Test Conditions'!$B$19","v":"°C"}]
[null,null,"#5-B",null,{"$f":"'Test Conditions'!$B$19","v":"°C"}]
[null,null,"#5-C",null,{"$f":"'Test Conditions'!$B$19","v":"°C"}]
[null,null,"#5-D",null,{"$f":"'Test Conditions'!$B$19","v":"°C"}]
[null,null,"Recirculation Thermocouple",null,{"$f":"'Test Conditions'!$B$19","v":"°C"}]
["Air Sampling Array #6, Mean Air Temperature",null,null,null,{"$f":"'Test Conditions'!$B$19","v":"°C"},null,{"$f":"AVERAGE(G129:G132)","v":{"$error":"#DIV/0!"}}]
["Air Sampling Array Individual \nMeasurement Temperatures",null,"#6-A",null,{"$f":"'Test Conditions'!$B$19","v":"°C"}]
[null,null,"#6-B",null,{"$f":"'Test Conditions'!$B$19","v":"°C"}]
[null,null,"#6-C",null,{"$f":"'Test Conditions'!$B$19","v":"°C"}]
[null,null,"#6-D",null,{"$f":"'Test Conditions'!$B$19","v":"°C"}]
[null,null,"Recirculation Thermocouple",null,{"$f":"'Test Conditions'!$B$19","v":"°C"}]
["Air Sampling Array #7, Mean Air Temperature",null,null,null,{"$f":"'Test Conditions'!$B$19","v":"°C"},null,{"$f":"AVERAGE(G135:G138)","v":{"$error":"#DIV/0!"}}]
["Air Sampling Array Individual \nMeasurement Temperatures",null,"#7-A",null,{"$f":"'Test Conditions'!$B$19","v":"°C"}]
[null,null,"#7-B",null,{"$f":"'Test Conditions'!$B$19","v":"°C"}]
[null,null,"#7-C",null,{"$f":"'Test Conditions'!$B$19","v":"°C"}]
[null,null,"#7-D",null,{"$f":"'Test Conditions'!$B$19","v":"°C"}]
[null,null,"Recirculation Thermocouple",null,{"$f":"'Test Conditions'!$B$19","v":"°C"}]
["Air Sampling Array #8, Mean Air Temperature",null,null,null,{"$f":"'Test Conditions'!$B$19","v":"°C"},null,{"$f":"AVERAGE(G141:G144)","v":{"$error":"#DIV/0!"}}]
["Air Sampling Array Individual \nMeasurement Temperatures",null,"#8-A",null,{"$f":"'Test Conditions'!$B$19","v":"°C"}]
[null,null,"#8-B",null,{"$f":"'Test Conditions'!$B$19","v":"°C"}]
[null,null,"#8-C",null,{"$f":"'Test Conditions'!$B$19","v":"°C"}]
[null,null,"#8-D",null,{"$f":"'Test Conditions'!$B$19","v":"°C"}]
[null,null,"Recirculation Thermocouple",null,{"$f":"'Test Conditions'!$B$19","v":"°C"}]
["Air Sampling Array #9, Mean Air Temperature",null,null,null,{"$f":"'Test Conditions'!$B$19","v":"°C"},null,{"$f":"AVERAGE(G147:G150)","v":{"$error":"#DIV/0!"}}]
["Air Sampling Array Individual \nMeasurement Temperatures",null,"#9-A",null,{"$f":"'Test Conditions'!$B$19","v":"°C"}]
[null,null,"#9-B",null,{"$f":"'Test Conditions'!$B$19","v":"°C"}]
[null,null,"#9-C",null,{"$f":"'Test Conditions'!$B$19","v":"°C"}]
[null,null,"#9-D",null,{"$f":"'Test Conditions'!$B$19","v":"°C"}]
[null,null,"Recirculation Thermocouple",null,{"$f":"'Test Conditions'!$B$19","v":"°C"}]
["Air Sampling Array #10, Mean Air Temperature",null,null,null,{"$f":"'Test Conditions'!$B$19","v":"°C"},null,{"$f":"AVERAGE(G153:G156)","v":{"$error":"#DIV/0!"}}]
["Air Sampling Array Individual \nMeasurement Temperatures",null,"#10-A",null,{"$f":"'Test Conditions'!$B$19","v":"°C"}]
[null,null,"#10-B",null,{"$f":"'Test Conditions'!$B$19","v":"°C"}]
[null,null,"#10-C",null,{"$f":"'Test Conditions'!$B$19","v":"°C"}]
[null,null,"#10-D",null,{"$f":"'Test Conditions'!$B$19","v":"°C"}]
[null,null,"Recirculation Thermocouple",null,{"$f":"'Test Conditions'!$B$19","v":"°C"}]
["Air Sampling Array #11, Mean Air Temperature",null,null,null,{"$f":"'Test Conditions'!$B$19","v":"°C"},null,{"$f":"AVERAGE(G159:G162)","v":{"$error":"#DIV/0!"}}]
["Air Sampling Array Individual \nMeasurement Temperatures",null,"#11-A",null,{"$f":"'Test Conditions'!$B$19","v":"°C"}]
[null,null,"#11-B",null,{"$f":"'Test Conditions'!$B$19","v":"°C"}]
[null,null,"#11-C",null,{"$f":"'Test Conditions'!$B$19","v":"°C"}]
[null,null,"#11-D",null,{"$f":"'Test Conditions'!$B$19","v":"°C"}]
[null,null,"Recirculation Thermocouple",null,{"$f":"'Test Conditions'!$B$19","v":"°C"}]
["Air Sampling Array #12, Mean Air Temperature",null,null,null,{"$f":"'Test Conditions'!$B$19","v":"°C"},null,{"$f":"AVERAGE(G165:G168)","v":{"$error":"#DIV/0!"}}]
["Air Sampling Array Individual \nMeasurement Temperatures",null,"#12-A",null,{"$f":"'Test Conditions'!$B$19","v":"°C"}]
[null,null,"#12-B",null,{"$f":"'Test Conditions'!$B$19","v":"°C"}]
[null,null,"#12-C",null,{"$f":"'Test Conditions'!$B$19","v":"°C"}]
[null,null,"#12-D",null,{"$f":"'Test Conditions'!$B$19","v":"°C"}]
[null,null,"Recirculation Thermocouple",null,{"$f":"'Test Conditions'!$B$19","v":"°C"}]
["Air Sampling Array #13, Mean Air Temperature",null,null,null,{"$f":"'Test Conditions'!$B$19","v":"°C"},null,{"$f":"AVERAGE(G171:G174)","v":{"$error":"#DIV/0!"}}]
["Air Sampling Array Individual \nMeasurement Temperatures",null,"#13-A",null,{"$f":"'Test Conditions'!$B$19","v":"°C"}]
[null,null,"#13-B",null,{"$f":"'Test Conditions'!$B$19","v":"°C"}]
[null,null,"#13-C",null,{"$f":"'Test Conditions'!$B$19","v":"°C"}]
[null,null,"#13-D",null,{"$f":"'Test Conditions'!$B$19","v":"°C"}]
[null,null,"Recirculation Thermocouple",null,{"$f":"'Test Conditions'!$B$19","v":"°C"}]
["Air Sampling Array #14, Mean Air Temperature",null,null,null,{"$f":"'Test Conditions'!$B$19","v":"°C"},null,{"$f":"AVERAGE(G177:G180)","v":{"$error":"#DIV/0!"}}]
["Air Sampling Array Individual \nMeasurement Temperatures",null,"#14-A",null,{"$f":"'Test Conditions'!$B$19","v":"°C"}]
[null,null,"#14-B",null,{"$f":"'Test Conditions'!$B$19","v":"°C"}]
[null,null,"#14-C",null,{"$f":"'Test Conditions'!$B$19","v":"°C"}]
[null,null,"#14-D",null,{"$f":"'Test Conditions'!$B$19","v":"°C"}]
[null,null,"Recirculation Thermocouple",null,{"$f":"'Test Conditions'!$B$19","v":"°C"}]
["Air Sampling Array #15, Mean Air Temperature",null,null,null,{"$f":"'Test Conditions'!$B$19","v":"°C"},null,{"$f":"AVERAGE(G183:G186)","v":{"$error":"#DIV/0!"}}]
["Air Sampling Array Individual \nMeasurement Temperatures",null,"#15-A",null,{"$f":"'Test Conditions'!$B$19","v":"°C"}]
[null,null,"#15-B",null,{"$f":"'Test Conditions'!$B$19","v":"°C"}]
[null,null,"#15-C",null,{"$f":"'Test Conditions'!$B$19","v":"°C"}]
[null,null,"#15-D",null,{"$f":"'Test Conditions'!$B$19","v":"°C"}]
[null,null,"Recirculation Thermocouple",null,{"$f":"'Test Conditions'!$B$19","v":"°C"}]
["Air Sampling Array #16, Mean Air Temperature",null,null,null,{"$f":"'Test Conditions'!$B$19","v":"°C"},null,{"$f":"AVERAGE(G189:G192)","v":{"$error":"#DIV/0!"}}]
["Air Sampling Array Individual \nMeasurement Temperatures",null,"#16-A",null,{"$f":"'Test Conditions'!$B$19","v":"°C"}]
[null,null,"#16-B",null,{"$f":"'Test Conditions'!$B$19","v":"°C"}]
[null,null,"#16-C",null,{"$f":"'Test Conditions'!$B$19","v":"°C"}]
[null,null,"#16-D",null,{"$f":"'Test Conditions'!$B$19","v":"°C"}]
[null,null,"Recirculation Thermocouple",null,{"$f":"'Test Conditions'!$B$19","v":"°C"}]
["Air Sampling Array #17, Mean Air Temperature",null,null,null,{"$f":"'Test Conditions'!$B$19","v":"°C"},null,{"$f":"AVERAGE(G195:G198)","v":{"$error":"#DIV/0!"}}]
["Air Sampling Array Individual \nMeasurement Temperatures",null,"#17-A",null,{"$f":"'Test Conditions'!$B$19","v":"°C"}]
[null,null,"#17-B",null,{"$f":"'Test Conditions'!$B$19","v":"°C"}]
[null,null,"#17-C",null,{"$f":"'Test Conditions'!$B$19","v":"°C"}]
[null,null,"#17-D",null,{"$f":"'Test Conditions'!$B$19","v":"°C"}]
[null,null,"Recirculation Thermocouple",null,{"$f":"'Test Conditions'!$B$19","v":"°C"}]
["Air Sampling Array #18, Mean Air Temperature",null,null,null,{"$f":"'Test Conditions'!$B$19","v":"°C"},null,{"$f":"AVERAGE(G201:G204)","v":{"$error":"#DIV/0!"}}]
["Air Sampling Array Individual \nMeasurement Temperatures",null,"#18-A",null,{"$f":"'Test Conditions'!$B$19","v":"°C"}]
[null,null,"#18-B",null,{"$f":"'Test Conditions'!$B$19","v":"°C"}]
[null,null,"#18-C",null,{"$f":"'Test Conditions'!$B$19","v":"°C"}]
[null,null,"#18-D",null,{"$f":"'Test Conditions'!$B$19","v":"°C"}]
[null,null,"Recirculation Thermocouple",null,{"$f":"'Test Conditions'!$B$19","v":"°C"}]
["Air Sampling Array #19, Mean Air Temperature",null,null,null,{"$f":"'Test Conditions'!$B$19","v":"°C"},null,{"$f":"AVERAGE(G207:G210)","v":{"$error":"#DIV/0!"}}]
["Air Sampling Array Individual \nMeasurement Temperatures",null,"#19-A",null,{"$f":"'Test Conditions'!$B$19","v":"°C"}]
[null,null,"#19-B",null,{"$f":"'Test Conditions'!$B$19","v":"°C"}]
[null,null,"#19-C",null,{"$f":"'Test Conditions'!$B$19","v":"°C"}]
[null,null,"#19-D",null,{"$f":"'Test Conditions'!$B$19","v":"°C"}]
[null,null,"Recirculation Thermocouple",null,{"$f":"'Test Conditions'!$B$19","v":"°C"}]
["Air Sampling Array #20, Mean Air Temperature",null,null,null,{"$f":"'Test Conditions'!$B$19","v":"°C"},null,{"$f":"AVERAGE(G213:G216)","v":{"$error":"#DIV/0!"}}]
["Air Sampling Array Individual \nMeasurement Temperatures",null,"#20-A",null,{"$f":"'Test Conditions'!$B$19","v":"°C"}]
[null,null,"#20-B",null,{"$f":"'Test Conditions'!$B$19","v":"°C"}]
[null,null,"#20-C",null,{"$f":"'Test Conditions'!$B$19","v":"°C"}]
[null,null,"#20-D",null,{"$f":"'Test Conditions'!$B$19","v":"°C"}]
[null,null,"Recirculation Thermocouple",null,{"$f":"'Test Conditions'!$B$19","v":"°C"}]
[]
["Atmospheric Pressure Correction",null,null,null,"Units","Evaporator","Condenser"]
["Location of Water Flow Meter Relative to Chiller",null,null,null,"-"]
["Water Temperature (T) for Density",null,null,null,{"$f":"'Test Conditions'!$B$18","v":"°C"},{"$f":"IF($F$220=\"Entering\",$F$16,$F$14)","v":{"$error":"#DIV/0!"}}]
["Water Density (ρ)",null,null,null,{"$f":"IF('Test Plan'!$B$19=\"I-P\",'Unit Conversion'!$B$10,'Unit Conversion'!$C$10)","v":"kg/m³"},{"$f":"IF('Test Plan'!$B$19=\"I-P\",(-0.00000000074704*$F$221^4)+(0.00000052643*$F$221^3)+(-0.00018846*$F$221^2)+(0.012164*$F$221)+62.227,((-0.00000012556*$F$221^4)+(0.000040229*$F$221^3)+(-0.0073948*$F$221^2)+(0.046734*$F$221)+1000.2))","v":{"$error":"#DIV/0!"}}]
["Average Water Temperature (T) for Specific Heat & ∆pcorrected Density",null,null,null,{"$f":"'Test Conditions'!$B$18","v":"°C"},{"$f":"AVERAGE($F$14,$F$16)","v":{"$error":"#DIV/0!"}}]
["Water Specific Heat (cp)",null,null,null,{"$f":"IF('Test Plan'!$B$19=\"I-P\",'Unit Conversion'!$B$13,'Unit Conversion'!$C$13)","v":"kJ/kg·K"},{"$f":"IF('Test Plan'!$B$19=\"I-P\",(-0.00000000000040739*$F$223^5)+(0.00000000031031*$F$223^4)+(-0.000000092501*$F$223^3)+(0.000014071*$F$223^2)+(-0.0010677*$F$223)+1.0295,((-0.00000000003222*$F$223^5)+(0.00000001077*$F$223^4)+(-0.0000013901*$F$223^3)+(0.000094433*$F$223^2)+(-0.0031103*$F$223)+4.216))","v":{"$error":"#DIV/0!"}}]
["Water Density (ρ) for ∆pcorrected",null,null,null,{"$f":"IF('Test Plan'!$B$19=\"I-P\",'Unit Conversion'!$B$10,'Unit Conversion'!$C$10)","v":"kg/m³"},{"$f":"IF('Test Plan'!$B$19=\"I-P\",(-0.00000000074704*$F$223^4)+(0.00000052643*$F$223^3)+(-0.00018846*$F$223^2)+(0.012164*$F$223)+62.227,((-0.00000012556*$F$223^4)+(0.000040229*$F$223^3)+(-0.0073948*$F$223^2)+(0.046734*$F$223)+1000.2))","v":{"$error":"#DIV/0!"}}]
["Water Mass Flow Rate (mw)",null,null,null,{"$f":"IF('Test Plan'!$B$19=\"I-P\",'Unit Conversion'!$B$11,'Unit Conversion'!$C$11)","v":"kg/h"},{"$f":"IF('Test Plan'!$B$19=\"I-P\",$F$18*$F$222/0.124675,$F$18*$F$222)","v":{"$error":"#DIV/0!"}}]
["Gross Refrigeranting Capacity (Q'ev)",null,null,null,{"$f":"'Test Plan'!$B$125","v":"kW"},{"$f":"IF('Test Plan'!$B$19=\"I-P\",$F$226*($F$224*ABS($F$16-$F$14)+(0.18505*$F$23/$F$225*0.4331))/12000,$F$226*($F$224*ABS($F$16-$F$14)+($F$23/$F$225))/3600)","v":{"$error":"#DIV/0!"}}]
["Net Refrigerating Capacity (Qev)",null,null,null,{"$f":"'Test Plan'!$B$125","v":"kW"},{"$f":"IF('Test Plan'!$B$19=\"I-P\",$F$226*($F$224*ABS($F$16-$F$14))/12000,IF('Test Plan'!$B$17=\"EN 14511 and 14825\",$F$226*($F$224*ABS($F$16-$F$14))/3600-$F$238,$F$226*($F$224*ABS($F$16-$F$14))/3600))","v":{"$error":"#DIV/0!"}}]
["Cooling Energy Efficiency",null,null,null,{"$f":"'Test Plan'!$B$126","v":"kW/kW"},{"$f":"IF('Test Plan'!$B$19=\"I-P\",$F$26/$F$228,IF('Test Plan'!$B$17=\"EN 14511 and 14825\",$F$228/($F$26+$F$239),$F$228/$F$26))","v":{"$error":"#DIV/0!"}}]
["Coefficient Correction Factor (Capacity), DQ",null,null,null,"-",null,{"$f":"IF('Test Plan'!$B$19=\"I-P\",0.0011273*$G$12^2-0.041272*$G$12+1.36304,0.000023713*$G$12^2-0.005986*$G$12+1.36304)","v":{"$error":"#DIV/0!"}}]
["Coefficient Correction Factor (Efficiency), Dƞ",null,null,null,"-",null,{"$f":"IF('Test Plan'!$B$19=\"I-P\",0.0024308*$G$12^2-0.090075*$G$12+1.79872,0.000051135*$G$12^2-0.013064*$G$12+1.79872)","v":{"$error":"#DIV/0!"}}]
["Correction Factor (Capacity), CFQ",null,null,null,"-",null,{"$f":"IF('Test Plan'!$B$19=\"I-P\",1+($F$228/'100% Load Condition '!$F$228)*($G$230-1)*EXP(-0.35*(($G$231*(12/'100% Load Condition '!$F$229))-9.6)),1+($F$228/'100% Load Condition '!$F$228)*($G$230-1)*EXP(-0.35*((3.41214*$G$231*'100% Load Condition '!$F$229)-9.6)))","v":{"$error":"#DIV/0!"}}]
["Correction Factor (Efficiency), CFƞ",null,null,null,"-",null,{"$f":"IF('Test Plan'!$B$19=\"I-P\",1+($F$228/'100% Load Condition '!$F$228)*($G$231-1)*EXP(-0.35*(($G$231*(12/'100% Load Condition '!$F$229))-9.6)),1+($F$228/'100% Load Condition '!$F$228)*($G$231-1)*EXP(-0.35*((3.41214*$G$231*'100% Load Condition '!$F$229)-9.6)))","v":{"$error":"#DIV/0!"}}]
[]
["Pump Power Correction",null,null,null,"Units","Evaporator"]
["Hydraulic Pump Power (Phyd)",null,null,null,"W",{"$f":"($F$18/(60*60))*$F$23*1000","v":{"$error":"#DIV/0!"}}]
["Pump Efficiency (η)",null,null,null,"kW/kW",{"$f":"IF($F$236<=300,((0.35844*$F$236)/(1.7*$F$236+17*(1-EXP(-0.3*$F$236))))*(0.49/0.23),IF($F$236<=500,0.0721*$F$236^0.3183,0.092*LN($F$236)-0.0403))","v":{"$error":"#DIV/0!"}}]
["Pump Capacity Correction",null,null,null,"kW",{"$f":"IF($F$236<=0.3,($F$18/(60*60))*($F$23)*((1-$F$237)/$F$237),($F$18/(60*60))*($F$23)*((0.88-$F$237)/$F$237))","v":{"$error":"#DIV/0!"}}]
["Pump Power Correction",null,null,null,"kW",{"$f":"($F$18/(60*60))*($F$23)/$F$237","v":{"$error":"#DIV/0!"}}]
[]
["Test Result",null,null,null,"Units","Evaporator"]
["Corrected Net Refrigerating Capacity (Qev)",null,null,null,{"$f":"'Test Plan'!$B$125","v":"kW"},{"$f":"$F$228*$G$232","v":{"$error":"#DIV/0!"}}]
["Corrected Cooling Energy Efficiency",null,null,null,{"$f":"'Test Plan'!$B$126","v":"kW/kW"},{"$f":"IF('Test Plan'!$B$19=\"I-P\",$F$229/$G$233,$F$229*$G$233)","v":{"$error":"#DIV/0!"}}]
["Water Pressure Drop",null,null,null,{"$f":"'Test Plan'!$B$127","v":"kPa"},{"$f":"$F$23","v":{"$error":"#DIV/0!"}}]
[]
[null,null,null,"Evaporator Water",null,null,null,null,null,null,null,null,null,"Condenser Air",null,"Electrical"]
[null,null,null,"Lvg. Temp.",null,null,"Ent. Temp.",null,null,"Flow Rate",null,null,null,null,null,"Power",null,null,"Total Voltage","Voltage 1",null,null,null,"Voltage 2",null,null,null,"Frequency"]
["Laboratory Data","Start Time","Stop Time",null,null,{"$f":"'Test Conditions'!$B$18","v":"°C"},null,null,{"$f":"'Test Conditions'!$B$18","v":"°C"},null,null,null,"Press. Drop","Ent. Temp.","Atm Press.",null,null,"kW"]
["Unit",{"$f":"$C$9","v":"h:mm:ss:ms"},{"$f":"$C$9","v":"h:mm:ss:ms"},null,null,null,null,null,null,null,null,null,{"$f":"IF('Test Plan'!$B$19=\"I-P\",'Unit Conversion'!$B$9,'Unit Conversion'!$C$9)","v":"kPa"},{"$f":"'Test Conditions'!$B$19","v":"°C"},{"$f":"IF('Test Plan'!$B$19=\"I-P\",'Unit Conversion'!$B$7,'Unit Conversion'!$C$7)","v":"kPa"}]
["Mean"]
["Data Comparison",{"$f":"ABS(B250-Zero)*24*60*60","v":0},{"$f":"ABS(C250-INDEX(Zero:C10202,$B$10))*24*60*60","v":{"$error":"#VALUE!"}},null,null,{"$f":"ABS(F250-F256)","v":{"$error":"#DIV/0!"}},null,null,{"$f":"ABS(I250-I256)","v":{"$error":"#DIV/0!"}},null,null,null,{"$f":"ABS(M250-M256)","v":{"$error":"#DIV/0!"}},{"$f":"ABS(N250-N256)","v":{"$error":"#DIV/0!"}},{"$f":"ABS(O250-O256)/O256","v":{"$error":"#DIV/0!"}},null,null,{"$f":"ABS(R250-R256)/R256","v":{"$error":"#DIV/0!"}}]
["Use Lab Data?"]
["Test Stand Data","Time Interval","Time Stamp",1,2,"Avg.",1,2,"Avg.",1,2,"Avg.","Press. Drop","Ent. Temp.","Atm Press.",1,2,"Avg.","Avg","Avg."," A-B"," B-C"," C-A","Avg."," A-B"," B-C"," C-A","Avg.",1,2]
["Unit",{"$f":"$C$9","v":"h:mm:ss:ms"},{"$f":"$C$9","v":"h:mm:ss:ms"},{"$f":"'Test Conditions'!$B$18","v":"°C"},{"$f":"'Test Conditions'!$B$18","v":"°C"},{"$f":"'Test Conditions'!$B$18","v":"°C"},{"$f":"'Test Conditions'!$B$19","v":"°C"},{"$f":"'Test Conditions'!$B$19","v":"°C"},{"$f":"'Test Conditions'!$B$19","v":"°C"},{"$f":"'Test Conditions'!$B$20","v":"m³/h"},{"$f":"'Test Conditions'!$B$20","v":"m³/h"},{"$f":"'Test Conditions'!$B$20","v":"m³/h"},{"$f":"IF('Test Plan'!$B$19=\"I-P\",'Unit Conversion'!$B$9,'Unit Conversion'!$C$9)","v":"kPa"},{"$f":"'Test Conditions'!$B$19","v":"°C"},{"$f":"IF('Test Plan'!$B$19=\"I-P\",'Unit Conversion'!$B$7,'Unit Conversion'!$C$7)","v":"kPa"},"kW","kW","kW","V","V","V","V","V","V","V","V","V","Hz","Hz","Hz"]
["Rating","-","-",{"$f":"'Test Conditions'!$C$38","v":{"$error":"#VALUE!"}},{"$f":"'Test Conditions'!$C$38","v":{"$error":"#VALUE!"}},{"$f":"'Test Conditions'!$C$38","v":{"$error":"#VALUE!"}},{"$f":"'Test Plan'!$C$60","v":0},{"$f":"'Test Plan'!$C$60","v":0},{"$f":"'Test Plan'!$C$60","v":0},{"$f":"'Test Plan'!$C$62","v":0},{"$f":"'Test Plan'!$C$62","v":0},{"$f":"'Test Plan'!$C$62","v":0},{"$f":"IF('Test Plan'!$B$19=\"I-P\",'Test Plan'!$C$127*0.4331,'Test Plan'!$C$127)","v":0},{"$f":"'Test Conditions'!$D$39","v":0},{"$f":"'Test Plan'!$C$41","v":101.33},{"$f":"'Test Plan'!$C$64","v":""},{"$f":"'Test Plan'!$C$64","v":""},{"$f":"'Test Plan'!$C$64","v":""},{"$f":"'Test Plan'!$B$14","v":0},{"$f":"'Test Plan'!$B$14","v":0},{"$f":"'Test Plan'!$B$14","v":0},{"$f":"'Test Plan'!$B$14","v":0},{"$f":"'Test Plan'!$B$14","v":0},{"$f":"'Test Plan'!$B$14","v":0},{"$f":"'Test Plan'!$B$14","v":0},{"$f":"'Test Plan'!$B$14","v":0},{"$f":"'Test Plan'!$B$14","v":0},{"$f":"'Test Plan'!$D$14","v":0},{"$f":"'Test Plan'!$D$14","v":0},{"$f":"'Test Plan'!$D$14","v":0}]
["Mean","-","-",{"$f":"AVERAGE(D258:INDEX(D258:D10089,$B$9))","v":{"$error":"#DIV/0!"}},{"$f":"AVERAGE(E258:INDEX(E258:E10089,$B$9))","v":{"$error":"#DIV/0!"}},{"$f":"AVERAGE(D256:E256)","v":{"$error":"#DIV/0!"}},{"$f":"AVERAGE(G258:INDEX(G258:G10089,$B$9))","v":{"$error":"#DIV/0!"}},{"$f":"AVERAGE(H258:INDEX(H258:H10089,$B$9))","v":{"$error":"#DIV/0!"}},{"$f":"AVERAGE(G256:H256)","v":{"$error":"#DIV/0!"}},{"$f":"AVERAGE(J258:INDEX(J258:J10089,$B$9))","v":{"$error":"#DIV/0!"}},{"$f":"AVERAGE(K258:INDEX(K258:K10089,$B$9))","v":{"$error":"#DIV/0!"}},{"$f":"AVERAGE(J256:K256)","v":{"$error":"#DIV/0!"}},{"$f":"AVERAGE(M258:INDEX(M258:M10089,$B$9))","v":{"$error":"#DIV/0!"}},{"$f":"AVERAGE(N258:INDEX(N258:N10089,$B$9))","v":{"$error":"#DIV/0!"}},{"$f":"AVERAGE(O258:INDEX(O258:O10089,$B$9))","v":{"$error":"#DIV/0!"}},{"$f":"AVERAGE(P258:INDEX(P258:P10089,$B$9))","v":{"$error":"#DIV/0!"}},{"$f":"AVERAGE(Q258:INDEX(Q258:Q10089,$B$9))","v":{"$error":"#DIV/0!"}},{"$f":"AVERAGE(P256:Q256)","v":{"$error":"#DIV/0!"}},{"$f":"AVERAGE(T256,X256)","v":{"$error":"#DIV/0!"}},{"$f":"AVERAGE(T258:INDEX(T258:T10089,$B$9))","v":{"$error":"#DIV/0!"}},{"$f":"AVERAGE(U258:INDEX(U258:U10089,$B$9))","v":{"$error":"#DIV/0!"}},{"$f":"AVERAGE(V258:INDEX(V258:V10089,$B$9))","v":{"$error":"#DIV/0!"}},{"$f":"AVERAGE(W258:INDEX(W258:W10089,$B$9))","v":{"$error":"#DIV/0!"}},{"$f":"AVERAGE(X258:INDEX(X258:X10089,$B$9))","v":{"$error":"#DIV/0!"}},{"$f":"AVERAGE(Y258:INDEX(Y258:Y10089,$B$9))","v":{"$error":"#DIV/0!"}},{"$f":"AVERAGE(Z258:INDEX(Z258:Z10089,$B$9))","v":{"$error":"#DIV/0!"}},{"$f":"AVERAGE(AA258:INDEX(AA258:AA10089,$B$9))","v":{"$error":"#DIV/0!"}},{"$f":"AVERAGE(AC256:AD256)","v":{"$error":"#DIV/0!"}},{"$f":"AVERAGE(AC258:INDEX(AC258:AC10089,$B$9))","v":{"$error":"#DIV/0!"}},{"$f":"AVERAGE(AD258:INDEX(AD258:AD10089,$B$9))","v":{"$error":"#DIV/0!"}}]
["St. Dev.","-","-",{"$f":"_xlfn.STDEV.S(D258:INDEX(D258:D10089,$B$9))","v":{"$error":"#DIV/0!"}},{"$f":"_xlfn.STDEV.S(E258:INDEX(E258:E10089,$B$9))","v":{"$error":"#DIV/0!"}},{"$f":"SQRT((D257^2+E257^2)/2)","v":{"$error":"#DIV/0!"}},{"$f":"_xlfn.STDEV.S(G258:INDEX(G258:G10089,$B$9))","v":{"$error":"#DIV/0!"}},{"$f":"_xlfn.STDEV.S(H258:INDEX(H258:H10089,$B$9))","v":{"$error":"#DIV/0!"}},{"$f":"SQRT((G257^2+H257^2)/2)","v":{"$error":"#DIV/0!"}},{"$f":"_xlfn.STDEV.S(J258:INDEX(J258:J10089,$B$9))","v":{"$error":"#DIV/0!"}},{"$f":"_xlfn.STDEV.S(K258:INDEX(K258:K10089,$B$9))","v":{"$error":"#DIV/0!"}},{"$f":"SQRT((J257^2+K257^2)/2)","v":{"$error":"#DIV/0!"}},{"$f":"_xlfn.STDEV.S(M258:INDEX(M258:M10089,$B$9))","v":{"$error":"#DIV/0!"}},{"$f":"_xlfn.STDEV.S(N258:INDEX(N258:N10089,$B$9))","v":{"$error":"#DIV/0!"}},{"$f":"_xlfn.STDEV.S(O258:INDEX(O258:O10089,$B$9))","v":{"$error":"#DIV/0!"}},{"$f":"_xlfn.STDEV.S(P258:INDEX(P258:P10089,$B$9))","v":{"$error":"#DIV/0!"}},{"$f":"_xlfn.STDEV.S(Q258:INDEX(Q258:Q10089,$B$9))","v":{"$error":"#DIV/0!"}},{"$f":"SQRT((P257^2+Q257^2)/2)","v":{"$error":"#DIV/0!"}},{"$f":"SQRT((T257^2+X257^2)/2)","v":{"$error":"#DIV/0!"}},{"$f":"_xlfn.STDEV.S(T258:INDEX(T258:T10089,$B$9))","v":{"$error":"#DIV/0!"}},{"$f":"_xlfn.STDEV.S(U258:INDEX(U258:U10089,$B$9))","v":{"$error":"#DIV/0!"}},{"$f":"_xlfn.STDEV.S(V258:INDEX(V258:V10089,$B$9))","v":{"$error":"#DIV/0!"}},{"$f":"_xlfn.STDEV.S(W258:INDEX(W258:W10089,$B$9))","v":{"$error":"#DIV/0!"}},{"$f":"_xlfn.STDEV.S(X258:INDEX(X258:X10089,$B$9))","v":{"$error":"#DIV/0!"}},{"$f":"_xlfn.STDEV.S(Y258:INDEX(Y258:Y10089,$B$9))","v":{"$error":"#DIV/0!"}},{"$f":"_xlfn.STDEV.S(Z258:INDEX(Z258:Z10089,$B$9))","v":{"$error":"#DIV/0!"}},{"$f":"_xlfn.STDEV.S(AA258:INDEX(AA258:AA10089,$B$9))","v":{"$error":"#DIV/0!"}},{"$f":"SQRT((AC257^2+AD257^2)/2)","v":{"$error":"#DIV/0!"}},{"$f":"_xlfn.STDEV.S(AC258:INDEX(AC258:AC10089,$B$9))","v":{"$error":"#DIV/0!"}},{"$f":"_xlfn.STDEV.S(AD258:INDEX(AD258:AD10089,$B$9))","v":{"$error":"#DIV/0!"}}]
[null,{"$f":"C259-C258","v":"00:00:00"}]
[null,{"$f":"C260-C259","v":"00:00:00"}]
[null,{"$f":"C261-C260","v":"00:00:00"}]
[null,"00:00:00"]
[null,"00:00:00"]
[null,"00:00:00"]
[null,"00:00:00"]
[null,"00:00:00"]
[null,"00:00:00"]
[null,"00:00:00"]
[null,"00:00:00"]
[null,"00:00:00"]
[null,"00:00:00"]
[null,"00:00:00"]
[null,"00:00:00"]
[null,"00:00:00"]
[null,"00:00:00"]
[null,"00:00:00"]
[null,"00:00:00"]
[null,"00:00:00"]
[null,"00:00:00"]
[null,"00:00:00"]
[null,"00:00:00"]
[null,"00:00:00"]
[null,"00:00:00"]
[null,"00:00:00"]
[null,"00:00:00"]
[null,{"$f":"C286-C285","v":"00:00:00"}]
[null,{"$f":"C287-C286","v":"00:00:00"}]
[null,{"$f":"IF(C288=0,\"\",C288-C287)","v":""}]
[null,{"$f":"IF(C289=0,\"\",C289-C288)","v":""}]
[null,{"$f":"IF(C290=0,\"\",C290-C289)","v":""}]
[null,{"$f":"IF(C291=0,\"\",C291-C290)","v":""}]
[null,""]
[null,""]
[null,""]
[null,""]
[null,""]
[null,""]
[null,""]
[null,""]
[null,""]
[null,""]
[null,""]
[null,""]
[null,""]
[null,""]
[null,""]
[null,""]
[null,""]
[null,""]
[null,""]
[null,""]
[null,""]
[null,""]
[null,""]
[null,""]
[null,""]
[null,""]
[null,""]
[null,""]
[null,""]
[null,""]
[null,""]
[null,""]
[null,""]
[null,""]
[null,""]
[null,""]
[null,""]
[null,""]
[null,""]
[null,""]
[null,""]
[null,""]
[null,""]
[null,""]
[null,""]
[null,""]
[null,""]
[null,""]
[null,""]
[null,""]
[null,""]
[null,""]
[null,""]
[null,""]
[null,""]
[null,""]
[null,""]
[null,""]
[null,""]
[null,""]
[null,""]
[null,""]
[null,""]
[null,{"$f":"IF(C355=0,\"\",C355-C354)","v":""}]
[null,""]
[null,""]
[null,""]
[null,""]
[null,""]
[null,""]
[null,""]
[null,""]
[null,""]
[null,""]
[null,""]
[null,""]
[null,""]
[null,""]
[null,""]
[null,""]
[null,""]
[null,""]
[null,""]
[null,""]
[null,""]
[null,""]
[null,""]
[null,""]
[null,""]
[null,""]
[null,""]
[null,""]
[null,""]
[null,""]
[null,""]
[null,""]
[null,""]
[null,""]
[null,""]
[null,""]
[null,""]
[null,""]
[null,""]
[null,""]
[null,""]
[null,""]
[null,""]
[null,""]
[null,""]
[null,""]
[null,""]
[null,""]
[null,""]
[null,""]
[null,""]
[null,""]
[null,""]
[null,""]
[null,""]
[null,""]
[null,""]
[null,""]
[null,""]
[null,""]
[null,""]
[null,""]
[null,""]
[null,{"$f":"IF(C419=0,\"\",C419-C418)","v":""}]
[null,""]
[null,""]
[null,""]
[null,""]
[null,""]
[null,""]
[null,""]
[null,""]
[null,""]
[null,""]
[null,""]
[null,""]
[null,""]
[null,""]
[null,""]
[null,""]
[null,""]
[null,""]
[null,""]
[null,""]
[null,""]
[null,""]
[null,""]
[null,""]
[null,""]
[null,""]
[null,""]
[null,""]
[null,""]
[null,""]
[null,""]
[null,""]
[null,""]
[null,""]
[null,""]
[null,""]
[null,""]
[null,""]
[null,""]
[null,""]
[null,""]
[null,""]
[null,""]
[null,""]
[null,""]
[null,""]
[null,""]
[null,""]
[null,""]
[null,""]
[null,""]
[null,""]
[null,""]
[null,""]
[null,""]
[null,""]
[null,""]
[null,""]
[null,""]
[null,""]
[null,""]
[null,""]
[null,""]
[null,{"$f":"IF(C483=0,\"\",C483-C482)","v":""}]
[null,""]
[null,""]
[null,""]
[null,""]
[null,""]
[null,""]
[null,""]
[null,""]
[null,""]
[null,""]
[null,""]
[null,""]
[null,""]
[null,""]
[null,""]
[null,""]
[null,""]
[null,""]
[null,""]
[null,""]
[null,""]
[null,""]
[null,""]
[null,""]
[null,""]
[null,""]
[null,""]
[null,""]
[null,""]
[null,""]
[null,""]
[null,""]
[null,""]
[null,""]
[null,""]
[null,""]
[null,""]
[null,""]
[null,""]
[null,""]
[null,""]
[null,""]
[null,""]
[null,""]
[null,""]
[null,""]
[null,""]
[null,""]
[null,""]
[null,""]
[null,""]
[null,""]
[null,""]
[null,""]
[null,""]
[null,""]
[null,""]
[null,""]
[null,""]
[null,""]
[null,""]
[null,""]
[null,""]
[null,{"$f":"IF(C547=0,\"\",C547-C546)","v":""}]
[null,""]
[null,""]
[null,""]
[null,""]
[null,""]
[null,""]
[null,""]
[null,""]
[null,""]
[null,""]
[null,""]
[null,""]
[null,""]
[null,""]
[null,""]
[null,""]
[null,""]
[null,""]
[null,""]
[null,""]
[null,""]
[null,""]
[null,""]
[null,""]
[null,""]
[null,""]
[null,""]
[null,""]
[null,""]
[null,""]
[null,""]
[null,""]
[null,""]
[null,""]
[null,""]
[null,""]
[null,""]
[null,""]
[null,""]
[null,""]
[null,""]
[null,""]
[null,""]
[null,""]
[null,""]
[null,""]
[null,""]
[null,""]
[null,""]
[null,""]
[null,""]
[null,""]
[null,""]
[null,""]
[null,""]
[null,""]
[null,""]
[null,""]
[null,""]
[null,""]
[null,""]
[null,""]
[null,""]
[null,{"$f":"IF(C611=0,\"\",C611-C610)","v":""}]
[null,""]
[null,""]
[null,""]
[null,""]
[null,""]
[null,""]
[null,""]
[null,""]
[null,""]
[null,""]
[null,""]
[null,""]
[null,""]
[null,""]
[null,""]
[null,""]
[null,""]
[null,""]
[null,""]
[null,""]
[null,""]
[null,""]
[null,""]
[null,""]
[null,""]
[null,""]
[null,""]
[null,""]
[null,""]
[null,""]
[null,""]
[null,""]
[null,""]
[null,""]
[null,""]
[null,""]
[null,""]
[null,""]
[null,""]
[null,""]
[null,""]
[null,""]
[null,""]
[null,""]
[null,""]
[null,""]
[null,""]
[null,""]
[null,""]
[null,""]
[null,""]
[null,""]
[null,""]
[null,""]
[null,""]
[null,""]
[null,""]
[null,""]
[null,""]
[null,""]
[null,""]
[null,""]
[null,""]
[null,{"$f":"IF(C675=0,\"\",C675-C674)","v":""}]
[null,""]
[null,""]
[null,""]
[null,""]
[null,""]
[null,""]
[null,""]
[null,""]
[null,""]
[null,""]
[null,""]
[null,""]
[null,""]
[null,""]
[null,""]
[null,""]
[null,""]
[null,""]
[null,""]
[null,""]
[null,""]
[null,""]
[null,""]
[null,""]
[null,""]
[null,""]
[null,""]
[null,""]
[null,""]
[null,""]
[null,""]
[null,""]
[null,""]
[null,""]
[null,""]
[null,""]
[null,""]
[null,""]
[null,""]
[null,""]
[null,""]
[null,""]
[null,""]
[null,""]
[null,""]
[null,""]
[null,""]
[null,""]
[null,""]
[null,""]
[null,""]
[null,""]
[null,""]
[null,""]
[null,""]
[null,""]
[null,""]
[null,""]
[null,""]
[null,""]
[null,""]
[null,""]
[null,""]
[null,{"$f":"IF(C739=0,\"\",C739-C738)","v":""}]
[null,""]
[null,""]
[null,""]
[null,""]
[null,""]
[null,""]
[null,""]
[null,""]
[null,""]
[null,""]
[null,""]
[null,""]
[null,""]
[null,""]
[null,""]
[null,""]
[null,""]
[null,""]
[null,""]
[null,""]
[null,""]
[null,""]
[null,""]
[null,""]
[null,""]
[null,""]
[null,""]
[null,""]
[null,""]
[null,""]
[null,""]
[null,""]
[null,""]
[null,""]
[null,""]
[null,""]
[null,""]
[null,""]
[null,""]
[null,""]
[null,""]
[null,""]
[null,""]
[null,""]
[null,""]
[null,""]
[null,""]
[null,""]
[null,""]
[null,""]
[null,""]
[null,""]
[null,""]
[null,""]
[null,""]
[null,""]
[null,""]
[null,""]
[null,""]
[null,""]
[null,""]
[null,""]
[null,""]
[null,{"$f":"IF(C803=0,\"\",C803-C802)","v":""}]
[null,""]
[null,""]
[null,""]
[null,""]
[null,""]
[null,""]
[null,""]
[null,""]
[null,""]
[null,""]
[null,""]
[null,""]
[null,""]
[null,""]
[null,""]
[null,""]
[null,""]
[null,""]
[null,""]
[null,""]
[null,""]
[null,""]
[null,""]
[null,""]
[null,""]
[null,""]
[null,""]
[null,""]
[null,""]
[null,""]
[null,""]
[null,""]
[null,""]
[null,""]
[null,""]
[null,""]
[null,""]
[null,""]
[null,""]
[null,""]
[null,""]
[null,""]
[null,""]
[null,""]
[null,""]
[null,""]
[null,""]
[null,""]
[null,""]
[null,""]
[null,""]
[null,""]
[null,""]
[null,""]
[null,""]
[null,""]
[null,""]
[null,""]
[null,""]
[null,""]
[null,""]
[null,""]
[null,""]
[null,{"$f":"IF(C867=0,\"\",C867-C866)","v":""}]
[null,""]
[null,""]
[null,""]
[null,""]
[null,""]
[null,""]
[null,""]
[null,""]
[null,""]
[null,""]
[null,""]
[null,""]
[null,""]
[null,""]
[null,""]
[null,""]
[null,""]
[null,""]
[null,""]
[null,""]
[null,""]
[null,""]
[null,""]
[null,""]
[null,""]
[null,""]
[null,""]
[null,""]
[null,""]
[null,""]
[null,""]
[null,""]
[null,""]
[null,""]
[null,""]
[null,""]
[null,""]
[null,""]
[null,""]
[null,""]
[null,""]
[null,""]
[null,""]
[null,""]
[null,""]
[null,""]
[null,""]
[null,""]
[null,""]
[null,""]
[null,""]
[null,""]
[null,""]
[null,""]
[null,""]
[null,""]
[null,""]
[null,""]
[null,""]
[null,""]
[null,""]
[null,""]
[null,""]
[null,{"$f":"IF(C931=0,\"\",C931-C930)","v":""}]
[null,""]
[null,""]
[null,""]
[null,""]
[null,""]
[null,""]
[null,""]
[null,""]
[null,""]
[null,""]
[null,""]
[null,""]
[null,""]
[null,""]
[null,""]
[null,""]
[null,""]
[null,""]
[null,""]
[null,""]
[null,""]
[null,""]
[null,""]
[null,""]
[null,""]
[null,""]
[null,""]
[null,""]
[null,""]
[null,""]
[null,""]
[null,""]
[null,""]
[null,""]
[null,""]
[null,""]
[null,""]
[null,""]
[null,""]
[null,""]
[null,""]
[null,""]
[null,""]
[null,""]
[null,""]
[null,""]
[null,""]
[null,""]
[null,""]
[null,""]
[null,""]
[null,""]
[null,""]
[null,""]
[null,""]
[null,""]
[null,""]
[null,""]
[null,""]
[null,""]
[null,""]
[null,""]
[null,""]
[null,{"$f":"IF(C995=0,\"\",C995-C994)","v":""}]
[null,""]
[null,""]
[null,""]
[null,""]
[null,""]
[null,""]
[null,""]
[null,""]
[null,""]
[null,""]
[null,""]
[null,""]
[null,""]
[null,""]
[null,""]
[null,""]
[null,""]
[null,""]
[null,""]
[null,""]
[null,""]
[null,""]
[null,""]
[null,""]
[null,""]
[null,""]
[null,""]
[null,""]
[null,""]
[null,""]
[null,""]
[null,""]
[null,""]
[null,""]
[null,""]
[null,""]
[null,""]
[null,""]
[null,""]
[null,""]
[null,""]
[null,""]
[null,""]
[null,""]
[null,""]
[null,""]
[null,""]
[null,""]
[null,""]
[null,""]
[null,""]
[null,""]
[null,""]
[null,""]
[null,""]
[null,""]
[null,""]
[null,""]
[null,""]
[null,""]
[null,""]
[null,""]
[null,""]
[null,{"$f":"IF(C1059=0,\"\",C1059-C1058)","v":""}]
[null,""]
[null,""]
[null,""]
[null,""]
[null,""]
[null,""]
[null,""]
[null,""]
[null,""]
[null,""]
[null,""]
[null,""]
[null,""]
[null,""]
[null,""]
[null,""]
[null,""]
[null,""]
[null,""]
[null,""]
[null,""]
[null,""]
[null,""]
[null,""]
[null,""]
[null,""]
[null,""]
[null,""]
[null,""]
[null,""]
[null,""]
[null,""]
[null,""]
[null,""]
[null,""]
[null,""]
[null,""]
[null,""]
[null,""]
[null,""]
[null,""]
[null,""]
[null,""]
[null,""]
[null,""]
[null,""]
[null,""]
[null,""]
[null,""]
[null,""]
[null,""]
[null,""]
[null,""]
[null,""]
[null,""]
[null,""]
[null,""]
[null,""]
[null,""]
[null,""]
[null,""]
[null,""]
[null,""]
[null,{"$f":"IF(C1123=0,\"\",C1123-C1122)","v":""}]
[null,""]
[null,""]
[null,""]
[null,""]
[null,""]
[null,""]
[null,""]
[null,""]
[null,""]
[null,""]
[null,""]
[null,""]
[null,""]
[null,""]
[null,""]
[null,""]
[null,""]
[null,""]
[null,""]
[null,""]
[null,""]
[null,""]
[null,""]
[null,""]
[null,""]
[null,""]
[null,""]
[null,""]
[null,""]
[null,""]
[null,""]
[null,""]
[null,""]
[null,""]
[null,""]
[null,""]
[null,""]
[null,""]
[null,""]
[null,""]
[null,""]
[null,""]
[null,""]
[null,""]
[null,""]
[null,""]
[null,""]
[null,""]
[null,""]
[null,""]
[null,""]
[null,""]
[null,""]
[null,""]
[null,""]
[null,""]
[null,""]
[null,""]
[null,""]
[null,""]
[null,""]
[null,""]
[null,""]
[null,{"$f":"IF(C1187=0,\"\",C1187-C1186)","v":""}]
[null,""]
[null,""]
[null,""]
[null,""]
[null,""]
[null,""]
[null,""]
[null,""]
[null,""]
[null,""]
[null,""]
[null,""]
[null,""]
[null,""]
[null,""]
[null,""]
[null,""]
[null,""]
[null,""]
[null,""]
[null,""]
[null,""]
[null,""]
[null,""]
[null,""]
[null,""]
[null,""]
[null,""]
[null,""]
[null,""]
[null,""]
[null,""]
[null,""]
[null,""]
[null,""]
[null,""]
[null,""]
[null,""]
[null,""]
[null,""]
[null,""]
[null,""]
[null,""]
[null,""]
[null,""]
[null,""]
[null,""]
[null,""]
[null,""]
[null,""]
[null,""]
[null,""]
[null,""]
[null,""]
[null,""]
[null,""]
[null,""]
[null,""]
[null,""]
[null,""]
[null,""]
[null,""]
[null,""]
[null,{"$f":"IF(C1251=0,\"\",C1251-C1250)","v":""}]
[null,""]
[null,""]
[null,""]
[null,""]
[null,""]
[null,""]
[null,""]
[null,""]
[null,""]
[null,""]
[null,""]
[null,""]
[null,""]
[null,""]
[null,""]
[null,""]
[null,""]
[null,""]
[null,""]
[null,""]
[null,""]
[null,""]
[null,""]
[null,""]
[null,""]
[null,""]
[null,""]
[null,""]
[null,""]
[null,""]
[null,""]
[null,""]
[null,""]
[null,""]
[null,""]
[null,""]
[null,""]
[null,""]
[null,""]
[null,""]
[null,""]
[null,""]
[null,""]
[null,""]
[null,""]
[null,""]
[null,""]
[null,""]
[null,""]
[null,""]
[null,""]
[null,""]
[null,""]
[null,""]
[null,""]
[null,""]
[null,""]
[null,""]
[null,""]
[null,""]
[null,""]
[null,""]
[null,""]
[null,{"$f":"IF(C1315=0,\"\",C1315-C1314)","v":""}]
[null,""]
[null,""]
[null,""]
[null,""]
[null,""]
[null,""]
[null,""]
[null,""]
[null,""]
[null,""]
[null,""]
[null,""]
[null,""]
[null,""]
[null,""]
[null,""]
[null,""]
[null,""]
[null,""]
[null,""]
[null,""]
[null,""]
[null,""]
[null,""]
[null,""]
[null,""]
[null,""]
[null,""]
[null,""]
[null,""]
[null,""]
[null,""]
[null,""]
[null,""]
[null,""]
[null,""]
[null,""]
[null,""]
[null,""]
[null,""]
[null,""]
[null,""]
[null,""]
[null,""]
[null,""]
[null,""]
[null,""]
[null,""]
[null,""]
[null,""]
[null,""]
[null,""]
[null,""]
[null,""]
[null,""]
[null,""]
[null,""]
[null,""]
[null,""]
[null,""]
[null,""]
[null,""]
[null,""]
[null,{"$f":"IF(C1379=0,\"\",C1379-C1378)","v":""}]
[null,""]
[null,""]
[null,""]
[null,""]
[null,""]
[null,""]
[null,""]
[null,""]
[null,""]
[null,""]
[null,""]
[null,""]
[null,""]
[null,""]
[null,""]
[null,""]
[null,""]
[null,""]
[null,""]
[null,""]
[null,""]
[null,""]
[null,""]
[null,""]
[null,""]
[null,""]
[null,""]
[null,""]
[null,""]
[null,""]
[null,""]
[null,""]
[null,""]
[null,""]
[null,""]
[null,""]
[null,""]
[null,""]
[null,""]
[null,""]
[null,""]
[null,""]
[null,""]
[null,""]
[null,""]
[null,""]
[null,""]
[null,""]
[null,""]
[null,""]
[null,""]
[null,""]
[null,""]
[null,""]
[null,""]
[null,""]
[null,""]
[null,""]
[null,""]
[null,""]
[null,""]
[null,""]
[null,""]
[null,{"$f":"IF(C1443=0,\"\",C1443-C1442)","v":""}]
[null,""]
[null,""]
[null,""]
[null,""]
[null,""]
[null,""]
[null,""]
[null,""]
[null,""]
[null,""]
[null,""]
[null,""]
[null,""]
[null,""]
[null,""]
[null,""]
[null,""]
[null,""]
[null,""]
[null,""]
[null,""]
[null,""]
[null,""]
[null,""]
[null,""]
[null,""]
[null,""]
[null,""]
[null,""]
[null,""]
[null,""]
[null,""]
[null,""]
[null,""]
[null,""]
[null,""]
[null,""]
[null,""]
[null,""]
[null,""]
[null,""]
[null,""]
[null,""]
[null,""]
[null,""]
[null,""]
[null,""]
[null,""]
[null,""]
[null,""]
[null,""]
[null,""]
[null,""]
[null,""]
[null,""]
[null,""]
[null,""]
[null,""]
[null,""]
[null,""]
[null,""]
[null,""]
[null,""]
[null,{"$f":"IF(C1507=0,\"\",C1507-C1506)","v":""}]
[null,""]
[null,""]
[null,""]
[null,""]
[null,""]
[null,""]
[null,""]
[null,""]
[null,""]
[null,""]
[null,""]
[null,""]
[null,""]
[null,""]
[null,""]
[null,""]
[null,""]
[null,""]
[null,""]
[null,""]
[null,""]
[null,""]
[null,""]
[null,""]
[null,""]
[null,""]
[null,""]
[null,""]
[null,""]
[null,""]
[null,""]
[null,""]
[null,""]
[null,""]
[null,""]
[null,""]
[null,""]
[null,""]
[null,""]
[null,""]
[null,""]
[null,""]
[null,""]
[null,""]
[null,""]
[null,""]
[null,""]
[null,""]
[null,""]
[null,""]
[null,""]
[null,""]
[null,""]
[null,""]
[null,""]
[null,""]
[null,""]
[null,""]
[null,""]
[null,""]
[null,""]
[null,""]
[null,""]
[null,{"$f":"IF(C1571=0,\"\",C1571-C1570)","v":""}]
[null,""]
[null,""]
[null,""]
[null,""]
[null,""]
[null,""]
[null,""]
[null,""]
[null,""]
[null,""]
[null,""]
[null,""]
[null,""]
[null,""]
[null,""]
[null,""]
[null,""]
[null,""]
[null,""]
[null,""]
[null,""]
[null,""]
[null,""]
[null,""]
[null,""]
[null,""]
[null,""]
[null,""]
[null,""]
[null,""]
[null,""]
[null,""]
[null,""]
[null,""]
[null,""]
[null,""]
[null,""]
[null,""]
[null,""]
[null,""]
[null,""]
[null,""]
[null,""]
[null,""]
[null,""]
[null,""]
[null,""]
[null,""]
[null,""]
[null,""]
[null,""]
[null,""]
[null,""]
[null,""]
[null,""]
[null,""]
[null,""]
[null,""]
[null,""]
[null,""]
[null,""]
[null,""]
[null,""]
[null,{"$f":"IF(C1635=0,\"\",C1635-C1634)","v":""}]
[null,""]
[null,""]
[null,""]
[null,""]
[null,""]
[null,""]
[null,""]
[null,""]
[null,""]
[null,""]
[null,""]
[null,""]
[null,""]
[null,""]
[null,""]
[null,""]
[null,""]
[null,""]
[null,""]
[null,""]
[null,""]
[null,""]
[null,""]
[null,""]
[null,""]
[null,""]
[null,""]
[null,""]
[null,""]
[null,""]
[null,""]
[null,""]
[null,""]
[null,""]
[null,""]
[null,""]
[null,""]
[null,""]
[null,""]
[null,""]
[null,""]
[null,""]
[null,""]
[null,""]
[null,""]
[null,""]
[null,""]
[null,""]
[null,""]
[null,""]
[null,""]
[null,""]
[null,""]
[null,""]
[null,""]
[null,""]
[null,""]
[null,""]
[null,""]
[null,""]
[null,""]
[null,""]
[null,""]
[null,{"$f":"IF(C1699=0,\"\",C1699-C1698)","v":""}]
[null,""]
[null,""]
[null,""]
[null,""]
[null,""]
[null,""]
[null,""]
[null,""]
[null,""]
[null,""]
[null,""]
[null,""]
[null,""]
[null,""]
[null,""]
[null,""]
[null,""]
[null,""]
[null,""]
[null,""]
[null,""]
[null,""]
[null,""]
[null,""]
[null,""]
[null,""]
[null,""]
[null,""]
[null,""]
[null,""]
[null,""]
[null,""]
[null,""]
[null,""]
[null,""]
[null,""]
[null,""]
[null,""]
[null,""]
[null,""]
[null,""]
[null,""]
[null,""]
[null,""]
[null,""]
[null,""]
[null,""]
[null,""]
[null,""]
[null,""]
[null,""]
[null,""]
[null,""]
[null,""]
[null,""]
[null,""]
[null,""]
[null,""]
[null,""]
[null,""]
[null,""]
[null,""]
[null,""]
[null,{"$f":"IF(C1763=0,\"\",C1763-C1762)","v":""}]
[null,""]
[null,""]
[null,""]
[null,""]
[null,""]
[null,""]
[null,""]
[null,""]
[null,""]
[null,""]
[null,""]
[null,""]
[null,""]
[null,""]
[null,""]
[null,""]
[null,""]
[null,""]
[null,""]
[null,""]
[null,""]
[null,""]
[null,""]
[null,""]
[null,""]
[null,""]
[null,""]
[null,""]
[null,""]
[null,""]
[null,""]
[null,""]
[null,""]
[null,""]
[null,""]
[null,""]
[null,""]
[null,""]
[null,""]
[null,""]
[null,""]
[null,""]
[null,""]
[null,""]
[null,""]
[null,""]
[null,""]
[null,""]
[null,""]
[null,""]
[null,""]
[null,""]
[null,""]
[null,""]
[null,""]
[null,""]
[null,""]
[null,""]
[null,""]
[null,""]
[null,""]
[null,""]
[null,""]
[null,{"$f":"IF(C1827=0,\"\",C1827-C1826)","v":""}]
[null,""]
[null,""]
[null,""]
[null,""]
[null,""]
[null,""]
[null,""]
[null,""]
[null,""]
[null,""]
[null,""]
[null,""]
[null,""]
[null,""]
[null,""]
[null,""]
[null,""]
[null,""]
[null,""]
[null,""]
[null,""]
[null,""]
[null,""]
[null,""]
[null,""]
[null,""]
[null,""]
[null,""]
[null,""]
[null,""]
[null,""]
[null,""]
[null,""]
[null,""]
[null,""]
[null,""]
[null,""]
[null,""]
[null,""]
[null,""]
[null,""]
[null,""]
[null,""]
[null,""]
[null,""]
[null,""]
[null,""]
[null,""]
[null,""]
[null,""]
[null,""]
[null,""]
[null,""]
[null,""]
[null,""]
[null,""]
[null,""]
[null,""]
[null,""]
[null,""]
[null,""]
[null,""]
[null,""]
[null,{"$f":"IF(C1891=0,\"\",C1891-C1890)","v":""}]
[null,""]
[null,""]
[null,""]
[null,""]
[null,""]
[null,""]
[null,""]
[null,""]
[null,""]
[null,""]
[null,""]
[null,""]
[null,""]
[null,""]
[null,""]
[null,""]
[null,""]
[null,""]
[null,""]
[null,""]
[null,""]
[null,""]
[null,""]
[null,""]
[null,""]
[null,""]
[null,""]
[null,""]
[null,""]
[null,""]
[null,""]
[null,""]
[null,""]
[null,""]
[null,""]
[null,""]
[null,""]
[null,""]
[null,""]
[null,""]
[null,""]
[null,""]
[null,""]
[null,""]
[null,""]
[null,""]
[null,""]
[null,""]
[null,""]
[null,""]
[null,""]
[null,""]
[null,""]
[null,""]
[null,""]
[null,""]
[null,""]
[null,""]
[null,""]
[null,""]
[null,""]
[null,""]
[null,""]
[null,{"$f":"IF(C1955=0,\"\",C1955-C1954)","v":""}]
[null,""]
[null,""]
[null,""]
[null,""]
[null,""]
[null,""]
[null,""]
[null,""]
[null,""]
[null,""]
[null,""]
[null,""]
[null,""]
[null,""]
[null,""]
[null,""]
[null,""]
[null,""]
[null,""]
[null,""]
[null,""]
[null,""]
[null,""]
[null,""]
[null,""]
[null,""]
[null,""]
[null,""]
[null,""]
[null,""]
[null,""]
[null,""]
[null,""]
[null,""]
[null,""]
[null,""]
[null,""]
[null,""]
[null,""]
[null,""]
[null,""]
[null,""]
[null,""]
[null,""]
[null,""]
[null,""]
[null,""]
[null,""]
[null,""]
[null,""]
[null,""]
[null,""]
[null,""]
[null,""]
[null,""]
[null,""]
[null,""]
[null,""]
[null,""]
[null,""]
[null,""]
[null,""]
[null,""]
[null,{"$f":"IF(C2019=0,\"\",C2019-C2018)","v":""}]
[null,""]
[null,""]
[null,""]
[null,""]
[null,""]
[null,""]
[null,""]
[null,""]
[null,""]
[null,""]
[null,""]
[null,""]
[null,""]
[null,""]
[null,""]
[null,""]
[null,""]
[null,""]
[null,""]
[null,""]
[null,""]
[null,""]
[null,""]
[null,""]
[null,""]
[null,""]
[null,""]
[null,""]
[null,""]
[null,""]
[null,""]
[null,""]
[null,""]
[null,""]
[null,""]
[null,""]
[null,""]
[null,""]
[null,""]
[null,""]
[null,""]
[null,""]
[null,""]
[null,""]
[null,""]
[null,""]
[null,""]
[null,""]
[null,""]
[null,""]
[null,""]
[null,""]
[null,""]
[null,""]
[null,""]
[null,""]
[null,""]
[null,""]
[null,""]
[null,""]
[null,""]
[null,""]
[null,""]
[null,{"$f":"IF(C2083=0,\"\",C2083-C2082)","v":""}]
[null,""]
[null,""]
[null,""]
[null,""]
[null,""]
[null,""]
[null,""]
[null,""]
[null,""]
[null,""]
[null,""]
[null,""]
[null,""]
[null,""]
[null,""]
[null,""]
[null,""]
[null,""]
[null,""]
[null,""]
[null,""]
[null,""]
[null,""]
[null,""]
[null,""]
[null,""]
[null,""]
[null,""]
[null,""]
[null,""]
[null,""]
[null,""]
[null,""]
[null,""]
[null,""]
[null,""]
[null,""]
[null,""]
[null,""]
[null,""]
[null,""]
[null,""]
[null,""]
[null,""]
[null,""]
[null,""]
[null,""]
[null,""]
[null,""]
[null,""]
[null,""]
[null,""]
[null,""]
[null,""]
[null,""]
[null,""]
[null,""]
[null,""]
[null,""]
[null,""]
[null,""]
[null,""]
[null,""]
[null,{"$f":"IF(C2147=0,\"\",C2147-C2146)","v":""}]
[null,""]
[null,""]
[null,""]
[null,""]
[null,""]
[null,""]
[null,""]
[null,""]
[null,""]
[null,""]
[null,""]
[null,""]
[null,""]
[null,""]
[null,""]
[null,""]
[null,""]
[null,""]
[null,""]
[null,""]
[null,""]
[null,""]
[null,""]
[null,""]
[null,""]
[null,""]
[null,""]
[null,""]
[null,""]
[null,""]
[null,""]
[null,""]
[null,""]
[null,""]
[null,""]
[null,""]
[null,""]
[null,""]
[null,""]
[null,""]
[null,""]
[null,""]
[null,""]
[null,""]
[null,""]
[null,""]
[null,""]
[null,""]
[null,""]
[null,""]
[null,""]
[null,""]
[null,""]
[null,""]
[null,""]
[null,""]
[null,""]
[null,""]
[null,""]
[null,""]
[null,""]
[null,""]
[null,""]
[null,{"$f":"IF(C2211=0,\"\",C2211-C2210)","v":""}]
[null,""]
[null,""]
[null,""]
[null,""]
[null,""]
[null,""]
[null,""]
[null,""]
[null,""]
[null,""]
[null,""]
[null,""]
[null,""]
[null,""]
[null,""]
[null,""]
[null,""]
[null,""]
[null,""]
[null,""]
[null,""]
[null,""]
[null,""]
[null,""]
[null,""]
[null,""]
[null,""]
[null,""]
[null,""]
[null,""]
[null,""]
[null,""]
[null,""]
[null,""]
[null,""]
[null,""]
[null,""]
[null,""]
[null,""]
[null,""]
[null,""]
[null,""]
[null,""]
[null,""]
[null,""]
[null,""]
[null,""]
[null,""]
[null,""]
[null,""]
[null,""]
[null,""]
[null,""]
[null,""]
[null,""]
[null,""]
[null,""]
[null,""]
[null,""]
[null,""]
[null,""]
[null,""]
[null,""]
[null,{"$f":"IF(C2275=0,\"\",C2275-C2274)","v":""}]
[null,""]
[null,""]
[null,""]
[null,""]
[null,""]
[null,""]
[null,""]
[null,""]
[null,""]
[null,""]
[null,""]
[null,""]
[null,""]
[null,""]
[null,""]
[null,""]
[null,""]
[null,""]
[null,""]
[null,""]
[null,""]
[null,""]
[null,""]
[null,""]
[null,""]
[null,""]
[null,""]
[null,""]
[null,""]
[null,""]
[null,""]
[null,""]
[null,""]
[null,""]
[null,""]
[null,""]
[null,""]
[null,""]
[null,""]
[null,""]
[null,""]
[null,""]
[null,""]
[null,""]
[null,""]
[null,""]
[null,""]
[null,""]
[null,""]
[null,""]
[null,""]
[null,""]
[null,""]
[null,""]
[null,""]
[null,""]
[null,""]
[null,""]
[null,""]
[null,""]
[null,""]
[null,""]
[null,""]
[null,{"$f":"IF(C2339=0,\"\",C2339-C2338)","v":""}]
[null,""]
[null,""]
[null,""]
[null,""]
[null,""]
[null,""]
[null,""]
[null,""]
[null,""]
[null,""]
[null,""]
[null,""]
[null,""]
[null,""]
[null,""]
[null,""]
[null,""]
[null,""]
[null,""]
[null,""]
[null,""]
[null,""]
[null,""]
[null,""]
[null,""]
[null,""]
[null,""]
[null,""]
[null,""]
[null,""]
[null,""]
[null,""]
[null,""]
[null,""]
[null,""]
[null,""]
[null,""]
[null,""]
[null,""]
[null,""]
[null,""]
[null,""]
[null,""]
[null,""]
[null,""]
[null,""]
[null,""]
[null,""]
[null,""]
[null,""]
[null,""]
[null,""]
[null,""]
[null,""]
[null,""]
[null,""]
[null,""]
[null,""]
[null,""]
[null,""]
[null,""]
[null,""]
[null,""]
[null,{"$f":"IF(C2403=0,\"\",C2403-C2402)","v":""}]
[null,""]
[null,""]
[null,""]
[null,""]
[null,""]
[null,""]
[null,""]
[null,""]
[null,""]
[null,""]
[null,""]
[null,""]
[null,""]
[null,""]
[null,""]
[null,""]
[null,""]
[null,""]
[null,""]
[null,""]
[null,""]
[null,""]
[null,""]
[null,""]
[null,""]
[null,""]
[null,""]
[null,""]
[null,""]
[null,""]
[null,""]
[null,""]
[null,""]
[null,""]
[null,""]
[null,""]
[null,""]
[null,""]
[null,""]
[null,""]
[null,""]
[null,""]
[null,""]
[null,""]
[null,""]
[null,""]
[null,""]
[null,""]
[null,""]
[null,""]
[null,""]
[null,""]
[null,""]
[null,""]
[null,""]
[null,""]
[null,""]
[null,""]
[null,""]
[null,""]
[null,""]
[null,""]
[null,""]
[null,{"$f":"IF(C2467=0,\"\",C2467-C2466)","v":""}]
[null,""]
[null,""]
[null,""]
[null,""]
[null,""]
[null,""]
[null,""]
[null,""]
[null,""]
[null,""]
[null,""]
[null,""]
[null,""]
[null,""]
[null,""]
[null,""]
[null,""]
[null,""]
[null,""]
[null,""]
[null,""]
[null,""]
[null,""]
[null,""]
[null,""]
[null,""]
[null,""]
[null,""]
[null,""]
[null,""]
[null,""]
[null,""]
[null,""]
[null,""]
[null,""]
[null,""]
[null,""]
[null,""]
[null,""]
[null,""]
[null,""]
[null,""]
[null,""]
[null,""]
[null,""]
[null,""]
[null,""]
[null,""]
[null,""]
[null,""]
[null,""]
[null,""]
[null,""]
[null,""]
[null,""]
[null,""]
[null,""]
[null,""]
[null,""]
[null,""]
[null,""]
[null,""]
[null,""]
[null,{"$f":"IF(C2531=0,\"\",C2531-C2530)","v":""}]
[null,""]
[null,""]
[null,""]
[null,""]
[null,""]
[null,""]
[null,""]
[null,""]
[null,""]
[null,""]
[null,""]
[null,""]
[null,""]
[null,""]
[null,""]
[null,""]
[null,""]
[null,""]
[null,""]
[null,""]
[null,""]
[null,""]
[null,""]
[null,""]
[null,""]
[null,""]
[null,""]
[null,""]
[null,""]
[null,""]
[null,""]
[null,""]
[null,""]
[null,""]
[null,""]
[null,""]
[null,""]
[null,""]
[null,""]
[null,""]
[null,""]
[null,""]
[null,""]
[null,""]
[null,""]
[null,""]
[null,""]
[null,""]
[null,""]
[null,""]
[null,""]
[null,""]
[null,""]
[null,""]
[null,""]
[null,""]
[null,""]
[null,""]
[null,""]
[null,""]
[null,""]
[null,""]
[null,""]
[null,{"$f":"IF(C2595=0,\"\",C2595-C2594)","v":""}]
[null,""]
[null,""]
[null,""]
[null,""]
[null,""]
[null,""]
[null,""]
[null,""]
[null,""]
[null,""]
[null,""]
[null,""]
[null,""]
[null,""]
[null,""]
[null,""]
[null,""]
[null,""]
[null,""]
[null,""]
[null,""]
[null,""]
[null,""]
[null,""]
[null,""]
[null,""]
[null,""]
[null,""]
[null,""]
[null,""]
[null,""]
[null,""]
[null,""]
[null,""]
[null,""]
[null,""]
[null,""]
[null,""]
[null,""]
[null,""]
[null,""]
[null,""]
[null,""]
[null,""]
[null,""]
[null,""]
[null,""]
[null,""]
[null,""]
[null,""]
[null,""]
[null,""]
[null,""]
[null,""]
[null,""]
[null,""]
[null,""]
[null,""]
[null,""]
[null,""]
[null,""]
[null,""]
[null,""]
[null,{"$f":"IF(C2659=0,\"\",C2659-C2658)","v":""}]
[null,""]
[null,""]
[null,""]
[null,""]
[null,""]
[null,""]
[null,""]
[null,""]
[null,""]
[null,""]
[null,""]
[null,""]
[null,""]
[null,""]
[null,""]
[null,""]
[null,""]
[null,""]
[null,""]
[null,""]
[null,""]
[null,""]
[null,""]
[null,""]
[null,""]
[null,""]
[null,""]
[null,""]
[null,""]
[null,""]
[null,""]
[null,""]
[null,""]
[null,""]
[null,""]
[null,""]
[null,""]
[null,""]
[null,""]
[null,""]
[null,""]
[null,""]
[null,""]
[null,""]
[null,""]
[null,""]
[null,""]
[null,""]
[null,""]
[null,""]
[null,""]
[null,""]
[null,""]
[null,""]
[null,""]
[null,""]
[null,""]
[null,""]
[null,""]
[null,""]
[null,""]
[null,""]
[null,""]
[null,{"$f":"IF(C2723=0,\"\",C2723-C2722)","v":""}]
[null,""]
[null,""]
[null,""]
[null,""]
[null,""]
[null,""]
[null,""]
[null,""]
[null,""]
[null,""]
[null,""]
[null,""]
[null,""]
[null,""]
[null,""]
[null,""]
[null,""]
[null,""]
[null,""]
[null,""]
[null,""]
[null,""]
[null,""]
[null,""]
[null,""]
[null,""]
[null,""]
[null,""]
[null,""]
[null,""]
[null,""]
[null,""]
[null,""]
[null,""]
[null,""]
[null,""]
[null,""]
[null,""]
[null,""]
[null,""]
[null,""]
[null,""]
[null,""]
[null,""]
[null,""]
[null,""]
[null,""]
[null,""]
[null,""]
[null,""]
[null,""]
[null,""]
[null,""]
[null,""]
[null,""]
[null,""]
[null,""]
[null,""]
[null,""]
[null,""]
[null,""]
[null,""]
[null,""]
[null,{"$f":"IF(C2787=0,\"\",C2787-C2786)","v":""}]
[null,""]
[null,""]
[null,""]
[null,""]
[null,""]
[null,""]
[null,""]
[null,""]
[null,""]
[null,""]
[null,""]
[null,""]
[null,""]
[null,""]
[null,""]
[null,""]
[null,""]
[null,""]
[null,""]
[null,""]
[null,""]
[null,""]
[null,""]
[null,""]
[null,""]
[null,""]
[null,""]
[null,""]
[null,""]
[null,""]
[null,""]
[null,""]
[null,""]
[null,""]
[null,""]
[null,""]
[null,""]
[null,""]
[null,""]
[null,""]
[null,""]
[null,""]
[null,""]
[null,""]
[null,""]
[null,""]
[null,""]
[null,""]
[null,""]
[null,""]
[null,""]
[null,""]
[null,""]
[null,""]
[null,""]
[null,""]
[null,""]
[null,""]
[null,""]
[null,""]
[null,""]
[null,""]
[null,""]
[null,{"$f":"IF(C2851=0,\"\",C2851-C2850)","v":""}]
[null,""]
[null,""]
[null,""]
[null,""]
[null,""]
[null,""]
[null,""]
[null,""]
[null,""]
[null,""]
[null,""]
[null,""]
[null,""]
[null,""]
[null,""]
[null,""]
[null,""]
[null,""]
[null,""]
[null,""]
[null,""]
[null,""]
[null,""]
[null,""]
[null,""]
[null,""]
[null,""]
[null,""]
[null,""]
[null,""]
[null,""]
[null,""]
[null,""]
[null,""]
[null,""]
[null,""]
[null,""]
[null,""]
[null,""]
[null,""]
[null,""]
[null,""]
[null,""]
[null,""]
[null,""]
[null,""]
[null,""]
[null,""]
[null,""]
[null,""]
[null,""]
[null,""]
[null,""]
[null,""]
[null,""]
[null,""]
[null,""]
[null,""]
[null,""]
[null,""]
[null,""]
[null,""]
[null,""]
[null,{"$f":"IF(C2915=0,\"\",C2915-C2914)","v":""}]
[null,""]
[null,""]
[null,""]
[null,""]
[null,""]
[null,""]
[null,""]
[null,""]
[null,""]
[null,""]
[null,""]
[null,""]
[null,""]
[null,""]
[null,""]
[null,""]
[null,""]
[null,""]
[null,""]
[null,""]
[null,""]
[null,""]
[null,""]
[null,""]
[null,""]
[null,""]
[null,""]
[null,""]
[null,""]
[null,""]
[null,""]
[null,""]
[null,""]
[null,""]
[null,""]
[null,""]
[null,""]
[null,""]
[null,""]
[null,""]
[null,""]
[null,""]
[null,""]
[null,""]
[null,""]
[null,""]
[null,""]
[null,""]
[null,""]
[null,""]
[null,""]
[null,""]
[null,""]
[null,""]
[null,""]
[null,""]
[null,""]
[null,""]
[null,""]
[null,""]
[null,""]
[null,""]
[null,""]
[null,{"$f":"IF(C2979=0,\"\",C2979-C2978)","v":""}]
[null,""]
[null,""]
[null,""]
[null,""]
[null,""]
[null,""]
[null,""]
[null,""]
[null,""]
[null,""]
[null,""]
[null,""]
[null,""]
[null,""]
[null,""]
[null,""]
[null,""]
[null,""]
[null,""]
[null,""]
[null,""]
[null,""]
[null,""]
[null,""]
[null,""]
[null,""]
[null,""]
[null,""]
[null,""]
[null,""]
[null,""]
[null,""]
[null,""]
[null,""]
[null,""]
[null,""]
[null,""]
[null,""]
[null,""]
[null,""]
[null,""]
[null,""]
[null,""]
[null,""]
[null,""]
[null,""]
[null,""]
[null,""]
[null,""]
[null,""]
[null,""]
[null,""]
[null,""]
[null,""]
[null,""]
[null,""]
[null,""]
[null,""]
[null,""]
[null,""]
[null,""]
[null,""]
[null,""]
[null,{"$f":"IF(C3043=0,\"\",C3043-C3042)","v":""}]
[null,""]
[null,""]
[null,""]
[null,""]
[null,""]
[null,""]
[null,""]
[null,""]
[null,""]
[null,""]
[null,""]
[null,""]
[null,""]
[null,""]
[null,""]
[null,""]
[null,""]
[null,""]
[null,""]
[null,""]
[null,""]
[null,""]
[null,""]
[null,""]
[null,""]
[null,""]
[null,""]
[null,""]
[null,""]
[null,""]
[null,""]
[null,""]
[null,""]
[null,""]
[null,""]
[null,""]
[null,""]
[null,""]
[null,""]
[null,""]
[null,""]
[null,""]
[null,""]
[null,""]
[null,""]
[null,""]
[null,""]
[null,""]
[null,""]
[null,""]
[null,""]
[null,""]
[null,""]
[null,""]
[null,""]
[null,""]
[null,""]
[null,""]
[null,""]
[null,""]
[null,""]
[null,""]
[null,""]
[null,{"$f":"IF(C3107=0,\"\",C3107-C3106)","v":""}]
[null,""]
[null,""]
[null,""]
[null,""]
[null,""]
[null,""]
[null,""]
[null,""]
[null,""]
[null,""]
[null,""]
[null,""]
[null,""]
[null,""]
[null,""]
[null,""]
[null,""]
[null,""]
[null,""]
[null,""]
[null,""]
[null,""]
[null,""]
[null,""]
[null,""]
[null,""]
[null,""]
[null,""]
[null,""]
[null,""]
[null,""]
[null,""]
[null,""]
[null,""]
[null,""]
[null,""]
[null,""]
[null,""]
[null,""]
[null,""]
[null,""]
[null,""]
[null,""]
[null,""]
[null,""]
[null,""]
[null,""]
[null,""]
[null,""]
[null,""]
[null,""]
[null,""]
[null,""]
[null,""]
[null,""]
[null,""]
[null,""]
[null,""]
[null,""]
[null,""]
[null,""]
[null,""]
[null,""]
[null,{"$f":"IF(C3171=0,\"\",C3171-C3170)","v":""}]
[null,""]
[null,""]
[null,""]
[null,""]
[null,""]
[null,""]
[null,""]
[null,""]
[null,""]
[null,""]
[null,""]
[null,""]
[null,""]
[null,""]
[null,""]
[null,""]
[null,""]
[null,""]
[null,""]
[null,""]
[null,""]
[null,""]
[null,""]
[null,""]
[null,""]
[null,""]
[null,""]
[null,""]
[null,""]
[null,""]
[null,""]
[null,""]
[null,""]
[null,""]
[null,""]
[null,""]
[null,""]
[null,""]
[null,""]
[null,""]
[null,""]
[null,""]
[null,""]
[null,""]
[null,""]
[null,""]
[null,""]
[null,""]
[null,""]
[null,""]
[null,""]
[null,""]
[null,""]
[null,""]
[null,""]
[null,""]
[null,""]
[null,""]
[null,""]
[null,""]
[null,""]
[null,""]
[null,""]
[null,{"$f":"IF(C3235=0,\"\",C3235-C3234)","v":""}]
[null,""]
[null,""]
[null,""]
[null,""]
[null,""]
[null,""]
[null,""]
[null,""]
[null,""]
[null,""]
[null,""]
[null,""]
[null,""]
[null,""]
[null,""]
[null,""]
[null,""]
[null,""]
[null,""]
[null,""]
[null,""]
[null,""]
[null,""]
[null,""]
[null,""]
[null,""]
[null,""]
[null,""]
[null,""]
[null,""]
[null,""]
[null,""]
[null,""]
[null,""]
[null,""]
[null,""]
[null,""]
[null,""]
[null,""]
[null,""]
[null,""]
[null,""]
[null,""]
[null,""]
[null,""]
[null,""]
[null,""]
[null,""]
[null,""]
[null,""]
[null,""]
[null,""]
[null,""]
[null,""]
[null,""]
[null,""]
[null,""]
[null,""]
[null,""]
[null,""]
[null,""]
[null,""]
[null,""]
[null,{"$f":"IF(C3299=0,\"\",C3299-C3298)","v":""}]
[null,""]
[null,""]
[null,""]
[null,""]
[null,""]
[null,""]
[null,""]
[null,""]
[null,""]
[null,""]
[null,""]
[null,""]
[null,""]
[null,""]
[null,""]
[null,""]
[null,""]
[null,""]
[null,""]
[null,""]
[null,""]
[null,""]
[null,""]
[null,""]
[null,""]
[null,""]
[null,""]
[null,""]
[null,""]
[null,""]
[null,""]
[null,""]
[null,""]
[null,""]
[null,""]
[null,""]
[null,""]
[null,""]
[null,""]
[null,""]
[null,""]
[null,""]
[null,""]
[null,""]
[null,""]
[null,""]
[null,""]
[null,""]
[null,""]
[null,""]
[null,""]
[null,""]
[null,""]
[null,""]
[null,""]
[null,""]
[null,""]
[null,""]
[null,""]
[null,""]
[null,""]
[null,""]
[null,""]
[null,{"$f":"IF(C3363=0,\"\",C3363-C3362)","v":""}]
[null,""]
[null,""]
[null,""]
[null,""]
[null,""]
[null,""]
[null,""]
[null,""]
[null,""]
[null,""]
[null,""]
[null,""]
[null,""]
[null,""]
[null,""]
[null,""]
[null,""]
[null,""]
[null,""]
[null,""]
[null,""]
[null,""]
[null,""]
[null,""]
[null,""]
[null,""]
[null,""]
[null,""]
[null,""]
[null,""]
[null,""]
[null,""]
[null,""]
[null,""]
[null,""]
[null,""]
[null,""]
[null,""]
[null,""]
[null,""]
[null,""]
[null,""]
[null,""]
[null,""]
[null,""]
[null,""]
[null,""]
[null,""]
[null,""]
[null,""]
[null,""]
[null,""]
[null,""]
[null,""]
[null,""]
[null,""]
[null,""]
[null,""]
[null,""]
[null,""]
[null,""]
[null,""]
[null,""]
[null,{"$f":"IF(C3427=0,\"\",C3427-C3426)","v":""}]
[null,""]
[null,""]
[null,""]
[null,""]
[null,""]
[null,""]
[null,""]
[null,""]
[null,""]
[null,""]
[null,""]
[null,""]
[null,""]
[null,""]
[null,""]
[null,""]
[null,""]
[null,""]
[null,""]
[null,""]
[null,""]
[null,""]
[null,""]
[null,""]
[null,""]
[null,""]
[null,""]
[null,""]
[null,""]
[null,""]
[null,""]
[null,""]
[null,""]
[null,""]
[null,""]
[null,""]
[null,""]
[null,""]
[null,""]
[null,""]
[null,""]
[null,""]
[null,""]
[null,""]
[null,""]
[null,""]
[null,""]
[null,""]
[null,""]
[null,""]
[null,""]
[null,""]
[null,""]
[null,""]
[null,""]
[null,""]
[null,""]
[null,""]
[null,""]
[null,""]
[null,""]
[null,""]
[null,""]
[null,{"$f":"IF(C3491=0,\"\",C3491-C3490)","v":""}]
[null,""]
[null,""]
[null,""]
[null,""]
[null,""]
[null,""]
[null,""]
[null,""]
[null,""]
[null,""]
[null,""]
[null,""]
[null,""]
[null,""]
[null,""]
[null,""]
[null,""]
[null,""]
[null,""]
[null,""]
[null,""]
[null,""]
[null,""]
[null,""]
[null,""]
[null,""]
[null,""]
[null,""]
[null,""]
[null,""]
[null,""]
[null,""]
[null,""]
[null,""]
[null,""]
[null,""]
[null,""]
[null,""]
[null,""]
[null,""]
[null,""]
[null,""]
[null,""]
[null,""]
[null,""]
[null,""]
[null,""]
[null,""]
[null,""]
[null,""]
[null,""]
[null,""]
[null,""]
[null,""]
[null,""]
[null,""]
[null,""]
[null,""]
[null,""]
[null,""]
[null,""]
[null,""]
[null,""]
[null,{"$f":"IF(C3555=0,\"\",C3555-C3554)","v":""}]
[null,""]
[null,""]
[null,""]
[null,""]
[null,""]
[null,""]
[null,""]
[null,""]
[null,""]
[null,""]
[null,""]
[null,""]
[null,""]
[null,""]
[null,""]
[null,""]
[null,""]
[null,""]
[null,""]
[null,""]
[null,""]
[null,""]
[null,""]
[null,""]
[null,""]
[null,""]
[null,""]
[null,""]
[null,""]
[null,""]
[null,""]
[null,""]
[null,""]
[null,""]
[null,""]
[null,""]
[null,""]
[null,""]
[null,""]
[null,""]
[null,""]
[null,""]
[null,""]
[null,""]
[null,""]
[null,""]
[null,""]
[null,""]
[null,""]
[null,""]
[null,""]
[null,""]
[null,""]
[null,""]
[null,""]
[null,""]
[null,""]
[null,""]
[null,""]
[null,""]
[null,""]
[null,""]
[null,""]
[null,{"$f":"IF(C3619=0,\"\",C3619-C3618)","v":""}]
[null,""]
[null,""]
[null,""]
[null,""]
[null,""]
[null,""]
[null,""]
[null,""]
[null,""]
[null,""]
[null,""]
[null,""]
[null,""]
[null,""]
[null,""]
[null,""]
[null,""]
[null,""]
[null,""]
[null,""]
[null,""]
[null,""]
[null,""]
[null,""]
[null,""]
[null,""]
[null,""]
[null,""]
[null,""]
[null,""]
[null,""]
[null,""]
[null,""]
[null,""]
[null,""]
[null,""]
[null,""]
[null,""]
[null,""]
[null,""]
[null,""]
[null,""]
[null,""]
[null,""]
[null,""]
[null,""]
[null,""]
[null,""]
[null,""]
[null,""]
[null,""]
[null,""]
[null,""]
[null,""]
[null,""]
[null,""]
[null,""]
[null,""]
[null,""]
[null,""]
[null,""]
[null,""]
[null,""]
[null,{"$f":"IF(C3683=0,\"\",C3683-C3682)","v":""}]
[null,""]
[null,""]
[null,""]
[null,""]
[null,""]
[null,""]
[null,""]
[null,""]
[null,""]
[null,""]
[null,""]
[null,""]
[null,""]
[null,""]
[null,""]
[null,""]
[null,""]
[null,""]
[null,""]
[null,""]
[null,""]
[null,""]
[null,""]
[null,""]
[null,""]
[null,""]
[null,""]
[null,""]
[null,""]
[null,""]
[null,""]
[null,""]
[null,""]
[null,""]
[null,""]
[null,""]
[null,""]
[null,""]
[null,""]
[null,""]
[null,""]
[null,""]
[null,""]
[null,""]
[null,""]
[null,""]
[null,""]
[null,""]
[null,""]
[null,""]
[null,""]
[null,""]
[null,""]
[null,""]
[null,""]
[null,""]
[null,""]
[null,""]
[null,""]
[null,""]
[null,""]
[null,""]
[null,""]
[null,{"$f":"IF(C3747=0,\"\",C3747-C3746)","v":""}]
[null,""]
[null,""]
[null,""]
[null,""]
[null,""]
[null,""]
[null,""]
[null,""]
[null,""]
[null,""]
[null,""]
[null,""]
[null,""]
[null,""]
[null,""]
[null,""]
[null,""]
[null,""]
[null,""]
[null,""]
[null,""]
[null,""]
[null,""]
[null,""]
[null,""]
[null,""]
[null,""]
[null,""]
[null,""]
[null,""]
[null,""]
[null,""]
[null,""]
[null,""]
[null,""]
[null,""]
[null,""]
[null,""]
[null,""]
[null,""]
[null,""]
[null,""]
[null,""]
[null,""]
[null,""]
[null,""]
[null,""]
[null,""]
[null,""]
[null,""]
[null,""]
[null,""]
[null,""]
[null,""]
[null,""]
[null,""]
[null,""]
[null,""]
[null,""]
[null,""]
[null,""]
[null,""]
[null,""]
[null,{"$f":"IF(C3811=0,\"\",C3811-C3810)","v":""}]
[null,""]
[null,""]
[null,""]
[null,""]
[null,""]
[null,""]
[null,""]
[null,""]
[null,""]
[null,""]
[null,""]
[null,""]
[null,""]
[null,""]
[null,""]
[null,""]
[null,""]
[null,""]
[null,""]
[null,""]
[null,""]
[null,""]
[null,""]
[null,""]
[null,""]
[null,""]
[null,""]
[null,""]
[null,""]
[null,""]
[null,""]
[null,""]
[null,""]
[null,""]
[null,""]
[null,""]
[null,""]
[null,""]
[null,""]
[null,""]
[null,""]
[null,""]
[null,""]
[null,""]
[null,""]
[null,""]
[null,""]
[null,""]
[null,""]
[null,""]
[null,""]
[null,""]
[null,""]
[null,""]
[null,""]
[null,""]
[null,""]
[null,""]
[null,""]
[null,""]
[null,""]
[null,""]
[null,""]
[null,{"$f":"IF(C3875=0,\"\",C3875-C3874)","v":""}]
[null,""]
[null,""]
[null,""]
[null,""]
[null,""]
[null,""]
[null,""]
[null,""]
[null,""]
[null,""]
[null,""]
[null,""]
[null,""]
[null,""]
[null,""]
[null,""]
[null,""]
[null,""]
[null,""]
[null,""]
[null,""]
[null,""]
[null,""]
[null,""]
[null,""]
[null,""]
[null,""]
[null,""]
[null,""]
[null,""]
[null,""]
[null,""]
[null,""]
[null,""]
[null,""]
[null,""]
[null,""]
[null,""]
[null,""]
[null,""]
[null,""]
[null,""]
[null,""]
[null,""]
[null,""]
[null,""]
[null,""]
[null,""]
[null,""]
[null,""]
[null,""]
[null,""]
[null,""]
[null,""]
[null,""]
[null,""]
[null,""]
[null,""]
[null,""]
[null,""]
[null,""]
[null,""]
[null,""]
[null,{"$f":"IF(C3939=0,\"\",C3939-C3938)","v":""}]
[null,""]
[null,""]
[null,""]
[null,""]
[null,""]
[null,""]
[null,""]
[null,""]
[null,""]
[null,""]
[null,""]
[null,""]
[null,""]
[null,""]
[null,""]
[null,""]
[null,""]
[null,""]
[null,""]
[null,""]
[null,""]
[null,""]
[null,""]
[null,""]
[null,""]
[null,""]
[null,""]
[null,""]
[null,""]
[null,""]
[null,""]
[null,""]
[null,""]
[null,""]
[null,""]
[null,""]
[null,""]
[null,""]
[null,""]
[null,""]
[null,""]
[null,""]
[null,""]
[null,""]
[null,""]
[null,""]
[null,""]
[null,""]
[null,""]
[null,""]
[null,""]
[null,""]
[null,""]
[null,""]
[null,""]
[null,""]
[null,""]
[null,""]
[null,""]
[null,""]
[null,""]
[null,""]
[null,""]
[null,{"$f":"IF(C4003=0,\"\",C4003-C4002)","v":""}]
[null,""]
[null,""]
[null,""]
[null,""]
[null,""]
[null,""]
[null,""]
[null,""]
[null,""]
[null,""]
[null,""]
[null,""]
[null,""]
[null,""]
[null,""]
[null,""]
[null,""]
[null,""]
[null,""]
[null,""]
[null,""]
[null,""]
[null,""]
[null,""]
[null,""]
[null,""]
[null,""]
[null,""]
[null,""]
[null,""]
[null,""]
[null,""]
[null,""]
[null,""]
[null,""]
[null,""]
[null,""]
[null,""]
[null,""]
[null,""]
[null,""]
[null,""]
[null,""]
[null,""]
[null,""]
[null,""]
[null,""]
[null,""]
[null,""]
[null,""]
[null,""]
[null,""]
[null,""]
[null,""]
[null,""]
[null,""]
[null,""]
[null,""]
[null,""]
[null,""]
[null,""]
[null,""]
[null,""]
[null,{"$f":"IF(C4067=0,\"\",C4067-C4066)","v":""}]
[null,""]
[null,""]
[null,""]
[null,""]
[null,""]
[null,""]
[null,""]
[null,""]
[null,""]
[null,""]
[null,""]
[null,""]
[null,""]
[null,""]
[null,""]
[null,""]
[null,""]
[null,""]
[null,""]
[null,""]
[null,""]
[null,""]
[null,""]
[null,""]
[null,""]
[null,""]
[null,""]
[null,""]
[null,""]
[null,""]
[null,""]
[null,""]
[null,""]
[null,""]
[null,""]
[null,""]
[null,""]
[null,""]
[null,""]
[null,""]
[null,""]
[null,""]
[null,""]
[null,""]
[null,""]
[null,""]
[null,""]
[null,""]
[null,""]
[null,""]
[null,""]
[null,""]
[null,""]
[null,""]
[null,""]
[null,""]
[null,""]
[null,""]
[null,""]
[null,""]
[null,""]
[null,""]
[null,""]
[null,{"$f":"IF(C4131=0,\"\",C4131-C4130)","v":""}]
[null,""]
[null,""]
[null,""]
[null,""]
[null,""]
[null,""]
[null,""]
[null,""]
[null,""]
[null,""]
[null,""]
[null,""]
[null,""]
[null,""]
[null,""]
[null,""]
[null,""]
[null,""]
[null,""]
[null,""]
[null,""]
[null,""]
[null,""]
[null,""]
[null,""]
[null,""]
[null,""]
[null,""]
[null,""]
[null,""]
[null,""]
[null,""]
[null,""]
[null,""]
[null,""]
[null,""]
[null,""]
[null,""]
[null,""]
[null,""]
[null,""]
[null,""]
[null,""]
[null,""]
[null,""]
[null,""]
[null,""]
[null,""]
[null,""]
[null,""]
[null,""]
[null,""]
[null,""]
[null,""]
[null,""]
[null,""]
[null,""]
[null,""]
[null,""]
[null,""]
[null,""]
[null,""]
[null,""]
[null,{"$f":"IF(C4195=0,\"\",C4195-C4194)","v":""}]
[null,""]
[null,""]
[null,""]
[null,""]
[null,""]
[null,""]
[null,""]
[null,""]
[null,""]
[null,""]
[null,""]
[null,""]
[null,""]
[null,""]
[null,""]
[null,""]
[null,""]
[null,""]
[null,""]
[null,""]
[null,""]
[null,""]
[null,""]
[null,""]
[null,""]
[null,""]
[null,""]
[null,""]
[null,""]
[null,""]
[null,""]
[null,""]
[null,""]
[null,""]
[null,""]
[null,""]
[null,""]
[null,""]
[null,""]
[null,""]
[null,""]
[null,""]
[null,""]
[null,""]
[null,""]
[null,""]
[null,""]
[null,""]
[null,""]
[null,""]
[null,""]
[null,""]
[null,""]
[null,""]
[null,""]
[null,""]
[null,""]
[null,""]
[null,""]
[null,""]
[null,""]
[null,""]
[null,""]
[null,{"$f":"IF(C4259=0,\"\",C4259-C4258)","v":""}]
[null,""]
[null,""]
[null,""]
[null,""]
[null,""]
[null,""]
[null,""]
[null,""]
[null,""]
[null,""]
[null,""]
[null,""]
[null,""]
[null,""]
[null,""]
[null,""]
[null,""]
[null,""]
[null,""]
[null,""]
[null,""]
[null,""]
[null,""]
[null,""]
[null,""]
[null,""]
[null,""]
[null,""]
[null,""]
[null,""]
[null,""]
[null,""]
[null,""]
[null,""]
[null,""]
[null,""]
[null,""]
[null,""]
[null,""]
[null,""]
[null,""]
[null,""]
[null,""]
[null,""]
[null,""]
[null,""]
[null,""]
[null,""]
[null,""]
[null,""]
[null,""]
[null,""]
[null,""]
[null,""]
[null,""]
[null,""]
[null,""]
[null,""]
[null,""]
[null,""]
[null,""]
[null,""]
[null,""]
[null,{"$f":"IF(C4323=0,\"\",C4323-C4322)","v":""}]
[null,""]
[null,""]
[null,""]
[null,""]
[null,""]
[null,""]
[null,""]
[null,""]
[null,""]
[null,""]
[null,""]
[null,""]
[null,""]
[null,""]
[null,""]
[null,""]
[null,""]
[null,""]
[null,""]
[null,""]
[null,""]
[null,""]
[null,""]
[null,""]
[null,""]
[null,""]
[null,""]
[null,""]
[null,""]
[null,""]
[null,""]
[null,""]
[null,""]
[null,""]
[null,""]
[null,""]
[null,""]
[null,""]
[null,""]
[null,""]
[null,""]
[null,""]
[null,""]
[null,""]
[null,""]
[null,""]
[null,""]
[null,""]
[null,""]
[null,""]
[null,""]
[null,""]
[null,""]
[null,""]
[null,""]
[null,""]
[null,""]
[null,""]
[null,""]
[null,""]
[null,""]
[null,""]
[null,""]
[null,{"$f":"IF(C4387=0,\"\",C4387-C4386)","v":""}]
[null,""]
[null,""]
[null,""]
[null,""]
[null,""]
[null,""]
[null,""]
[null,""]
[null,""]
[null,""]
[null,""]
[null,""]
[null,""]
[null,""]
[null,""]
[null,""]
[null,""]
[null,""]
[null,""]
[null,""]
[null,""]
[null,""]
[null,""]
[null,""]
[null,""]
[null,""]
[null,""]
[null,""]
[null,""]
[null,""]
[null,""]
[null,""]
[null,""]
[null,""]
[null,""]
[null,""]
[null,""]
[null,""]
[null,""]
[null,""]
[null,""]
[null,""]
[null,""]
[null,""]
[null,""]
[null,""]
[null,""]
[null,""]
[null,""]
[null,""]
[null,""]
[null,""]
[null,""]
[null,""]
[null,""]
[null,""]
[null,""]
[null,""]
[null,""]
[null,""]
[null,""]
[null,""]
[null,""]
[null,{"$f":"IF(C4451=0,\"\",C4451-C4450)","v":""}]
[null,""]
[null,""]
[null,""]
[null,""]
[null,""]
[null,""]
[null,""]
[null,""]
[null,""]
[null,""]
[null,""]
[null,""]
[null,""]
[null,""]
[null,""]
[null,""]
[null,""]
[null,""]
[null,""]
[null,""]
[null,""]
[null,""]
[null,""]
[null,""]
[null,""]
[null,""]
[null,""]
[null,""]
[null,""]
[null,""]
[null,""]
[null,""]
[null,""]
[null,""]
[null,""]
[null,""]
[null,""]
[null,""]
[null,""]
[null,""]
[null,""]
[null,""]
[null,""]
[null,""]
[null,""]
[null,""]
[null,""]
[null,""]
[null,""]
[null,""]
[null,""]
[null,""]
[null,""]
[null,""]
[null,""]
[null,""]
[null,""]
[null,""]
[null,""]
[null,""]
[null,""]
[null,""]
[null,""]
[null,{"$f":"IF(C4515=0,\"\",C4515-C4514)","v":""}]
[null,""]
[null,""]
[null,""]
[null,""]
[null,""]
[null,""]
[null,""]
[null,""]
[null,""]
[null,""]
[null,""]
[null,""]
[null,""]
[null,""]
[null,""]
[null,""]
[null,""]
[null,""]
[null,""]
[null,""]
[null,""]
[null,""]
[null,""]
[null,""]
[null,""]
[null,""]
[null,""]
[null,""]
[null,""]
[null,""]
[null,""]
[null,""]
[null,""]
[null,""]
[null,""]
[null,""]
[null,""]
[null,""]
[null,""]
[null,""]
[null,""]
[null,""]
[null,""]
[null,""]
[null,""]
[null,""]
[null,""]
[null,""]
[null,""]
[null,""]
[null,""]
[null,""]
[null,""]
[null,""]
[null,""]
[null,""]
[null,""]
[null,""]
[null,""]
[null,""]
[null,""]
[null,""]
[null,""]
[null,{"$f":"IF(C4579=0,\"\",C4579-C4578)","v":""}]
[null,""]
[null,""]
[null,""]
[null,""]
[null,""]
[null,""]
[null,""]
[null,""]
[null,""]
[null,""]
[null,""]
[null,""]
[null,""]
[null,""]
[null,""]
[null,""]
[null,""]
[null,""]
[null,""]
[null,""]
[null,""]
[null,""]
[null,""]
[null,""]
[null,""]
[null,""]
[null,""]
[null,""]
[null,""]
[null,""]
[null,""]
[null,""]
[null,""]
[null,""]
[null,""]
[null,""]
[null,""]
[null,""]
[null,""]
[null,""]
[null,""]
[null,""]
[null,""]
[null,""]
[null,""]
[null,""]
[null,""]
[null,""]
[null,""]
[null,""]
[null,""]
[null,""]
[null,""]
[null,""]
[null,""]
[null,""]
[null,""]
[null,""]
[null,""]
[null,""]
[null,""]
[null,""]
[null,""]
[null,{"$f":"IF(C4643=0,\"\",C4643-C4642)","v":""}]
[null,""]
[null,""]
[null,""]
[null,""]
[null,""]
[null,""]
[null,""]
[null,""]
[null,""]
[null,""]
[null,""]
[null,""]
[null,""]
[null,""]
[null,""]
[null,""]
[null,""]
[null,""]
[null,""]
[null,""]
[null,""]
[null,""]
[null,""]
[null,""]
[null,""]
[null,""]
[null,""]
[null,""]
[null,""]
[null,""]
[null,""]
[null,""]
[null,""]
[null,""]
[null,""]
[null,""]
[null,""]
[null,""]
[null,""]
[null,""]
[null,""]
[null,""]
[null,""]
[null,""]
[null,""]
[null,""]
[null,""]
[null,""]
[null,""]
[null,""]
[null,""]
[null,""]
[null,""]
[null,""]
[null,""]
[null,""]
[null,""]
[null,""]
[null,""]
[null,""]
[null,""]
[null,""]
[null,""]
[null,{"$f":"IF(C4707=0,\"\",C4707-C4706)","v":""}]
[null,""]
[null,""]
[null,""]
[null,""]
[null,""]
[null,""]
[null,""]
[null,""]
[null,""]
[null,""]
[null,""]
[null,""]
[null,""]
[null,""]
[null,""]
[null,""]
[null,""]
[null,""]
[null,""]
[null,""]
[null,""]
[null,""]
[null,""]
[null,""]
[null,""]
[null,""]
[null,""]
[null,""]
[null,""]
[null,""]
[null,""]
[null,""]
[null,""]
[null,""]
[null,""]
[null,""]
[null,""]
[null,""]
[null,""]
[null,""]
[null,""]
[null,""]
[null,""]
[null,""]
[null,""]
[null,""]
[null,""]
[null,""]
[null,""]
[null,""]
[null,""]
[null,""]
[null,""]
[null,""]
[null,""]
[null,""]
[null,""]
[null,""]
[null,""]
[null,""]
[null,""]
[null,""]
[null,""]
[null,{"$f":"IF(C4771=0,\"\",C4771-C4770)","v":""}]
[null,""]
[null,""]
[null,""]
[null,""]
[null,""]
[null,""]
[null,""]
[null,""]
[null,""]
[null,""]
[null,""]
[null,""]
[null,""]
[null,""]
[null,""]
[null,""]
[null,""]
[null,""]
[null,""]
[null,""]
[null,""]
[null,""]
[null,""]
[null,""]
[null,""]
[null,""]
[null,""]
[null,""]
[null,""]
[null,""]
[null,""]
[null,""]
[null,""]
[null,""]
[null,""]
[null,""]
[null,""]
[null,""]
[null,""]
[null,""]
[null,""]
[null,""]
[null,""]
[null,""]
[null,""]
[null,""]
[null,""]
[null,""]
[null,""]
[null,""]
[null,""]
[null,""]
[null,""]
[null,""]
[null,""]
[null,""]
[null,""]
[null,""]
[null,""]
[null,""]
[null,""]
[null,""]
[null,""]
[null,{"$f":"IF(C4835=0,\"\",C4835-C4834)","v":""}]
[null,""]
[null,""]
[null,""]
[null,""]
[null,""]
[null,""]
[null,""]
[null,""]
[null,""]
[null,""]
[null,""]
[null,""]
[null,""]
[null,""]
[null,""]
[null,""]
[null,""]
[null,""]
[null,""]
[null,""]
[null,""]
[null,""]
[null,""]
[null,""]
[null,""]
[null,""]
[null,""]
[null,""]
[null,""]
[null,""]
[null,""]
[null,""]
[null,""]
[null,""]
[null,""]
[null,""]
[null,""]
[null,""]
[null,""]
[null,""]
[null,""]
[null,""]
[null,""]
[null,""]
[null,""]
[null,""]
[null,""]
[null,""]
[null,""]
[null,""]
[null,""]
[null,""]
[null,""]
[null,""]
[null,""]
[null,""]
[null,""]
[null,""]
[null,""]
[null,""]
[null,""]
[null,""]
[null,""]
[null,{"$f":"IF(C4899=0,\"\",C4899-C4898)","v":""}]
[null,""]
[null,""]
[null,""]
[null,""]
[null,""]
[null,""]
[null,""]
[null,""]
[null,""]
[null,""]
[null,""]
[null,""]
[null,""]
[null,""]
[null,""]
[null,""]
[null,""]
[null,""]
[null,""]
[null,""]
[null,""]
[null,""]
[null,""]
[null,""]
[null,""]
[null,""]
[null,""]
[null,""]
[null,""]
[null,""]
[null,""]
[null,""]
[null,""]
[null,""]
[null,""]
[null,""]
[null,""]
[null,""]
[null,""]
[null,""]
[null,""]
[null,""]
[null,""]
[null,""]
[null,""]
[null,""]
[null,""]
[null,""]
[null,""]
[null,""]
[null,""]
[null,""]
[null,""]
[null,""]
[null,""]
[null,""]
[null,""]
[null,""]
[null,""]
[null,""]
[null,""]
[null,""]
[null,""]
[null,{"$f":"IF(C4963=0,\"\",C4963-C4962)","v":""}]
[null,""]
[null,""]
[null,""]
[null,""]
[null,""]
[null,""]
[null,""]
[null,""]
[null,""]
[null,""]
[null,""]
[null,""]
[null,""]
[null,""]
[null,""]
[null,""]
[null,""]
[null,""]
[null,""]
[null,""]
[null,""]
[null,""]
[null,""]
[null,""]
[null,""]
[null,""]
[null,""]
[null,""]
[null,""]
[null,""]
[null,""]
[null,""]
[null,""]
[null,""]
[null,""]
[null,""]
[null,""]
[null,""]
[null,""]
[null,""]
[null,""]
[null,""]
[null,""]
[null,""]
[null,""]
[null,""]
[null,""]
[null,""]
[null,""]
[null,""]
[null,""]
[null,""]
[null,""]
[null,""]
[null,""]
[null,""]
[null,""]
[null,""]
[null,""]
[null,""]
[null,""]
[null,""]
[null,""]
[null,{"$f":"IF(C5027=0,\"\",C5027-C5026)","v":""}]
[null,""]
[null,""]
[null,""]
[null,""]
[null,""]
[null,""]
[null,""]
[null,""]
[null,""]
[null,""]
[null,""]
[null,""]
[null,""]
[null,""]
[null,""]
[null,""]
[null,""]
[null,""]
[null,""]
[null,""]
[null,""]
[null,""]
[null,""]
[null,""]
[null,""]
[null,""]
[null,""]
[null,""]
[null,""]
[null,""]
[null,""]
[null,""]
[null,""]
[null,""]
[null,""]
[null,""]
[null,""]
[null,""]
[null,""]
[null,""]
[null,""]
[null,""]
[null,""]
[null,""]
[null,""]
[null,""]
[null,""]
[null,""]
[null,""]
[null,""]
[null,""]
[null,""]
[null,""]
[null,""]
[null,""]
[null,""]
[null,""]
[null,""]
[null,""]
[null,""]
[null,""]
[null,""]
[null,""]
[null,{"$f":"IF(C5091=0,\"\",C5091-C5090)","v":""}]
[null,""]
[null,""]
[null,""]
[null,""]
[null,""]
[null,""]
[null,""]
[null,""]
[null,""]
[null,""]
[null,""]
[null,""]
[null,""]
[null,""]
[null,""]
[null,""]
[null,""]
[null,""]
[null,""]
[null,""]
[null,""]
[null,""]
[null,""]
[null,""]
[null,""]
[null,""]
[null,""]
[null,""]
[null,""]
[null,""]
[null,""]
[null,""]
[null,""]
[null,""]
[null,""]
[null,""]
[null,""]
[null,""]
[null,""]
[null,""]
[null,""]
[null,""]
[null,""]
[null,""]
[null,""]
[null,""]
[null,""]
[null,""]
[null,""]
[null,""]
[null,""]
[null,""]
[null,""]
[null,""]
[null,""]
[null,""]
[null,""]
[null,""]
[null,""]
[null,""]
[null,""]
[null,""]
[null,""]
[null,{"$f":"IF(C5155=0,\"\",C5155-C5154)","v":""}]
[null,""]
[null,""]
[null,""]
[null,""]
[null,""]
[null,""]
[null,""]
[null,""]
[null,""]
[null,""]
[null,""]
[null,""]
[null,""]
[null,""]
[null,""]
[null,""]
[null,""]
[null,""]
[null,""]
[null,""]
[null,""]
[null,""]
[null,""]
[null,""]
[null,""]
[null,""]
[null,""]
[null,""]
[null,""]
[null,""]
[null,""]
[null,""]
[null,""]
[null,""]
[null,""]
[null,""]
[null,""]
[null,""]
[null,""]
[null,""]
[null,""]
[null,""]
[null,""]
[null,""]
[null,""]
[null,""]
[null,""]
[null,""]
[null,""]
[null,""]
[null,""]
[null,""]
[null,""]
[null,""]
[null,""]
[null,""]
[null,""]
[null,""]
[null,""]
[null,""]
[null,""]
[null,""]
[null,""]
[null,{"$f":"IF(C5219=0,\"\",C5219-C5218)","v":""}]
[null,""]
[null,""]
[null,""]
[null,""]
[null,""]
[null,""]
[null,""]
[null,""]
[null,""]
[null,""]
[null,""]
[null,""]
[null,""]
[null,""]
[null,""]
[null,""]
[null,""]
[null,""]
[null,""]
[null,""]
[null,""]
[null,""]
[null,""]
[null,""]
[null,""]
[null,""]
[null,""]
[null,""]
[null,""]
[null,""]
[null,""]
[null,""]
[null,""]
[null,""]
[null,""]
[null,""]
[null,""]
[null,""]
[null,""]
[null,""]
[null,""]
[null,""]
[null,""]
[null,""]
[null,""]
[null,""]
[null,""]
[null,""]
[null,""]
[null,""]
[null,""]
[null,""]
[null,""]
[null,""]
[null,""]
[null,""]
[null,""]
[null,""]
[null,""]
[null,""]
[null,""]
[null,""]
[null,""]
[null,{"$f":"IF(C5283=0,\"\",C5283-C5282)","v":""}]
[null,""]
[null,""]
[null,""]
[null,""]
[null,""]
[null,""]
[null,""]
[null,""]
[null,""]
[null,""]
[null,""]
[null,""]
[null,""]
[null,""]
[null,""]
[null,""]
[null,""]
[null,""]
[null,""]
[null,""]
[null,""]
[null,""]
[null,""]
[null,""]
[null,""]
[null,""]
[null,""]
[null,""]
[null,""]
[null,""]
[null,""]
[null,""]
[null,""]
[null,""]
[null,""]
[null,""]
[null,""]
[null,""]
[null,""]
[null,""]
[null,""]
[null,""]
[null,""]
[null,""]
[null,""]
[null,""]
[null,""]
[null,""]
[null,""]
[null,""]
[null,""]
[null,""]
[null,""]
[null,""]
[null,""]
[null,""]
[null,""]
[null,""]
[null,""]
[null,""]
[null,""]
[null,""]
[null,""]
[null,{"$f":"IF(C5347=0,\"\",C5347-C5346)","v":""}]
[null,""]
[null,""]
[null,""]
[null,""]
[null,""]
[null,""]
[null,""]
[null,""]
[null,""]
[null,""]
[null,""]
[null,""]
[null,""]
[null,""]
[null,""]
[null,""]
[null,""]
[null,""]
[null,""]
[null,""]
[null,""]
[null,""]
[null,""]
[null,""]
[null,""]
[null,""]
[null,""]
[null,""]
[null,""]
[null,""]
[null,""]
[null,""]
[null,""]
[null,""]
[null,""]
[null,""]
[null,""]
[null,""]
[null,""]
[null,""]
[null,""]
[null,""]
[null,""]
[null,""]
[null,""]
[null,""]
[null,""]
[null,""]
[null,""]
[null,""]
[null,""]
[null,""]
[null,""]
[null,""]
[null,""]
[null,""]
[null,""]
[null,""]
[null,""]
[null,""]
[null,""]
[null,""]
[null,""]
[null,{"$f":"IF(C5411=0,\"\",C5411-C5410)","v":""}]
[null,""]
[null,""]
[null,""]
[null,""]
[null,""]
[null,""]
[null,""]
[null,""]
[null,""]
[null,""]
[null,""]
[null,""]
[null,""]
[null,""]
[null,""]
[null,""]
[null,""]
[null,""]
[null,""]
[null,""]
[null,""]
[null,""]
[null,""]
[null,""]
[null,""]
[null,""]
[null,""]
[null,""]
[null,""]
[null,""]
[null,""]
[null,""]
[null,""]
[null,""]
[null,""]
[null,""]
[null,""]
[null,""]
[null,""]
[null,""]
[null,""]
[null,""]
[null,""]
[null,""]
[null,""]
[null,""]
[null,""]
[null,""]
[null,""]
[null,""]
[null,""]
[null,""]
[null,""]
[null,""]
[null,""]
[null,""]
[null,""]
[null,""]
[null,""]
[null,""]
[null,""]
[null,""]
[null,""]
[null,{"$f":"IF(C5475=0,\"\",C5475-C5474)","v":""}]
[null,""]
[null,""]
[null,""]
[null,""]
[null,""]
[null,""]
[null,""]
[null,""]
[null,""]
[null,""]
[null,""]
[null,""]
[null,""]
[null,""]
[null,""]
[null,""]
[null,""]
[null,""]
[null,""]
[null,""]
[null,""]
[null,""]
[null,""]
[null,""]
[null,""]
[null,""]
[null,""]
[null,""]
[null,""]
[null,""]
[null,""]
[null,""]
[null,""]
[null,""]
[null,""]
[null,""]
[null,""]
[null,""]
[null,""]
[null,""]
[null,""]
[null,""]
[null,""]
[null,""]
[null,""]
[null,""]
[null,""]
[null,""]
[null,""]
[null,""]
[null,""]
[null,""]
[null,""]
[null,""]
[null,""]
[null,""]
[null,""]
[null,""]
[null,""]
[null,""]
[null,""]
[null,""]
[null,""]
[null,{"$f":"IF(C5539=0,\"\",C5539-C5538)","v":""}]
[null,""]
[null,""]
[null,""]
[null,""]
[null,""]
[null,""]
[null,""]
[null,""]
[null,""]
[null,""]
[null,""]
[null,""]
[null,""]
[null,""]
[null,""]
[null,""]
[null,""]
[null,""]
[null,""]
[null,""]
[null,""]
[null,""]
[null,""]
[null,""]
[null,""]
[null,""]
[null,""]
[null,""]
[null,""]
[null,""]
[null,""]
[null,""]
[null,""]
[null,""]
[null,""]
[null,""]
[null,""]
[null,""]
[null,""]
[null,""]
[null,""]
[null,""]
[null,""]
[null,""]
[null,""]
[null,""]
[null,""]
[null,""]
[null,""]
[null,""]
[null,""]
[null,""]
[null,""]
[null,""]
[null,""]
[null,""]
[null,""]
[null,""]
[null,""]
[null,""]
[null,""]
[null,""]
[null,""]
[null,{"$f":"IF(C5603=0,\"\",C5603-C5602)","v":""}]
[null,""]
[null,""]
[null,""]
[null,""]
[null,""]
[null,""]
[null,""]
[null,""]
[null,""]
[null,""]
[null,""]
[null,""]
[null,""]
[null,""]
[null,""]
[null,""]
[null,""]
[null,""]
[null,""]
[null,""]
[null,""]
[null,""]
[null,""]
[null,""]
[null,""]
[null,""]
[null,""]
[null,""]
[null,""]
[null,""]
[null,""]
[null,""]
[null,""]
[null,""]
[null,""]
[null,""]
[null,""]
[null,""]
[null,""]
[null,""]
[null,""]
[null,""]
[null,""]
[null,""]
[null,""]
[null,""]
[null,""]
[null,""]
[null,""]
[null,""]
[null,""]
[null,""]
[null,""]
[null,""]
[null,""]
[null,""]
[null,""]
[null,""]
[null,""]
[null,""]
[null,""]
[null,""]
[null,""]
[null,{"$f":"IF(C5667=0,\"\",C5667-C5666)","v":""}]
[null,""]
[null,""]
[null,""]
[null,""]
[null,""]
[null,""]
[null,""]
[null,""]
[null,""]
[null,""]
[null,""]
[null,""]
[null,""]
[null,""]
[null,""]
[null,""]
[null,""]
[null,""]
[null,""]
[null,""]
[null,""]
[null,""]
[null,""]
[null,""]
[null,""]
[null,""]
[null,""]
[null,""]
[null,""]
[null,""]
[null,""]
[null,""]
[null,""]
[null,""]
[null,""]
[null,""]
[null,""]
[null,""]
[null,""]
[null,""]
[null,""]
[null,""]
[null,""]
[null,""]
[null,""]
[null,""]
[null,""]
[null,""]
[null,""]
[null,""]
[null,""]
[null,""]
[null,""]
[null,""]
[null,""]
[null,""]
[null,""]
[null,""]
[null,""]
[null,""]
[null,""]
[null,""]
[null,""]
[null,{"$f":"IF(C5731=0,\"\",C5731-C5730)","v":""}]
[null,""]
[null,""]
[null,""]
[null,""]
[null,""]
[null,""]
[null,""]
[null,""]
[null,""]
[null,""]
[null,""]
[null,""]
[null,""]
[null,""]
[null,""]
[null,""]
[null,""]
[null,""]
[null,""]
[null,""]
[null,""]
[null,""]
[null,""]
[null,""]
[null,""]
[null,""]
[null,""]
[null,""]
[null,""]
[null,""]
[null,""]
[null,""]
[null,""]
[null,""]
[null,""]
[null,""]
[null,""]
[null,""]
[null,""]
[null,""]
[null,""]
[null,""]
[null,""]
[null,""]
[null,""]
[null,""]
[null,""]
[null,""]
[null,""]
[null,""]
[null,""]
[null,""]
[null,""]
[null,""]
[null,""]
[null,""]
[null,""]
[null,""]
[null,""]
[null,""]
[null,""]
[null,""]
[null,""]
[null,{"$f":"IF(C5795=0,\"\",C5795-C5794)","v":""}]
[null,""]
[null,""]
[null,""]
[null,""]
[null,""]
[null,""]
[null,""]
[null,""]
[null,""]
[null,""]
[null,""]
[null,""]
[null,""]
[null,""]
[null,""]
[null,""]
[null,""]
[null,""]
[null,""]
[null,""]
[null,""]
[null,""]
[null,""]
[null,""]
[null,""]
[null,""]
[null,""]
[null,""]
[null,""]
[null,""]
[null,""]
[null,""]
[null,""]
[null,""]
[null,""]
[null,""]
[null,""]
[null,""]
[null,""]
[null,""]
[null,""]
[null,""]
[null,""]
[null,""]
[null,""]
[null,""]
[null,""]
[null,""]
[null,""]
[null,""]
[null,""]
[null,""]
[null,""]
[null,""]
[null,""]
[null,""]
[null,""]
[null,""]
[null,""]
[null,""]
[null,""]
[null,""]
[null,""]
[null,{"$f":"IF(C5859=0,\"\",C5859-C5858)","v":""}]
[null,""]
[null,""]
[null,""]
[null,""]
[null,""]
[null,""]
[null,""]
[null,""]
[null,""]
[null,""]
[null,""]
[null,""]
[null,""]
[null,""]
[null,""]
[null,""]
[null,""]
[null,""]
[null,""]
[null,""]
[null,""]
[null,""]
[null,""]
[null,""]
[null,""]
[null,""]
[null,""]
[null,""]
[null,""]
[null,""]
[null,""]
[null,""]
[null,""]
[null,""]
[null,""]
[null,""]
[null,""]
[null,""]
[null,""]
[null,""]
[null,""]
[null,""]
[null,""]
[null,""]
[null,""]
[null,""]
[null,""]
[null,""]
[null,""]
[null,""]
[null,""]
[null,""]
[null,""]
[null,""]
[null,""]
[null,""]
[null,""]
[null,""]
[null,""]
[null,""]
[null,""]
[null,""]
[null,""]
[null,{"$f":"IF(C5923=0,\"\",C5923-C5922)","v":""}]
[null,""]
[null,""]
[null,""]
[null,""]
[null,""]
[null,""]
[null,""]
[null,""]
[null,""]
[null,""]
[null,""]
[null,""]
[null,""]
[null,""]
[null,""]
[null,""]
[null,""]
[null,""]
[null,""]
[null,""]
[null,""]
[null,""]
[null,""]
[null,""]
[null,""]
[null,""]
[null,""]
[null,""]
[null,""]
[null,""]
[null,""]
[null,""]
[null,""]
[null,""]
[null,""]
[null,""]
[null,""]
[null,""]
[null,""]
[null,""]
[null,""]
[null,""]
[null,""]
[null,""]
[null,""]
[null,""]
[null,""]
[null,""]
[null,""]
[null,""]
[null,""]
[null,""]
[null,""]
[null,""]
[null,""]
[null,""]
[null,""]
[null,""]
[null,""]
[null,""]
[null,""]
[null,""]
[null,""]
[null,{"$f":"IF(C5987=0,\"\",C5987-C5986)","v":""}]
[null,""]
[null,""]
[null,""]
[null,""]
[null,""]
[null,""]
[null,""]
[null,""]
[null,""]
[null,""]
[null,""]
[null,""]
[null,""]
[null,""]
[null,""]
[null,""]
[null,""]
[null,""]
[null,""]
[null,""]
[null,""]
[null,""]
[null,""]
[null,""]
[null,""]
[null,""]
[null,""]
[null,""]
[null,""]
[null,""]
[null,""]
[null,""]
[null,""]
[null,""]
[null,""]
[null,""]
[null,""]
[null,""]
[null,""]
[null,""]
[null,""]
[null,""]
[null,""]
[null,""]
[null,""]
[null,""]
[null,""]
[null,""]
[null,""]
[null,""]
[null,""]
[null,""]
[null,""]
[null,""]
[null,""]
[null,""]
[null,""]
[null,""]
[null,""]
[null,""]
[null,""]
[null,""]
[null,""]
[null,{"$f":"IF(C6051=0,\"\",C6051-C6050)","v":""}]
[null,""]
[null,""]
[null,""]
[null,""]
[null,""]
[null,""]
[null,""]
[null,""]
[null,""]
[null,""]
[null,""]
[null,""]
[null,""]
[null,""]
[null,""]
[null,""]
[null,""]
[null,""]
[null,""]
[null,""]
[null,""]
[null,""]
[null,""]
[null,""]
[null,""]
[null,""]
[null,""]
[null,""]
[null,""]
[null,""]
[null,""]
[null,""]
[null,""]
[null,""]
[null,""]
[null,""]
[null,""]
[null,""]
[null,""]
[null,""]
[null,""]
[null,""]
[null,""]
[null,""]
[null,""]
[null,""]
[null,""]
[null,""]
[null,""]
[null,""]
[null,""]
[null,""]
[null,""]
[null,""]
[null,""]
[null,""]
[null,""]
[null,""]
[null,""]
[null,""]
[null,""]
[null,""]
[null,""]
[null,{"$f":"IF(C6115=0,\"\",C6115-C6114)","v":""}]
[null,""]
[null,""]
[null,""]
[null,""]
[null,""]
[null,""]
[null,""]
[null,""]
[null,""]
[null,""]
[null,""]
[null,""]
[null,""]
[null,""]
[null,""]
[null,""]
[null,""]
[null,""]
[null,""]
[null,""]
[null,""]
[null,""]
[null,""]
[null,""]
[null,""]
[null,""]
[null,""]
[null,""]
[null,""]
[null,""]
[null,""]
[null,""]
[null,""]
[null,""]
[null,""]
[null,""]
[null,""]
[null,""]
[null,""]
[null,""]
[null,""]
[null,""]
[null,""]
[null,""]
[null,""]
[null,""]
[null,""]
[null,""]
[null,""]
[null,""]
[null,""]
[null,""]
[null,""]
[null,""]
[null,""]
[null,""]
[null,""]
[null,""]
[null,""]
[null,""]
[null,""]
[null,""]
[null,""]
[null,{"$f":"IF(C6179=0,\"\",C6179-C6178)","v":""}]
[null,""]
[null,""]
[null,""]
[null,""]
[null,""]
[null,""]
[null,""]
[null,""]
[null,""]
[null,""]
[null,""]
[null,""]
[null,""]
[null,""]
[null,""]
[null,""]
[null,""]
[null,""]
[null,""]
[null,""]
[null,""]
[null,""]
[null,""]
[null,""]
[null,""]
[null,""]
[null,""]
[null,""]
[null,""]
[null,""]
[null,""]
[null,""]
[null,""]
[null,""]
[null,""]
[null,""]
[null,""]
[null,""]
[null,""]
[null,""]
[null,""]
[null,""]
[null,""]
[null,""]
[null,""]
[null,""]
[null,""]
[null,""]
[null,""]
[null,""]
[null,""]
[null,""]
[null,""]
[null,""]
[null,""]
[null,""]
[null,""]
[null,""]
[null,""]
[null,""]
[null,""]
[null,""]
[null,""]
[null,{"$f":"IF(C6243=0,\"\",C6243-C6242)","v":""}]
[null,""]
[null,""]
[null,""]
[null,""]
[null,""]
[null,""]
[null,""]
[null,""]
[null,""]
[null,""]
[null,""]
[null,""]
[null,""]
[null,""]
[null,""]
[null,""]
[null,""]
[null,""]
[null,""]
[null,""]
[null,""]
[null,""]
[null,""]
[null,""]
[null,""]
[null,""]
[null,""]
[null,""]
[null,""]
[null,""]
[null,""]
[null,""]
[null,""]
[null,""]
[null,""]
[null,""]
[null,""]
[null,""]
[null,""]
[null,""]
[null,""]
[null,""]
[null,""]
[null,""]
[null,""]
[null,""]
[null,""]
[null,""]
[null,""]
[null,""]
[null,""]
[null,""]
[null,""]
[null,""]
[null,""]
[null,""]
[null,""]
[null,""]
[null,""]
[null,""]
[null,""]
[null,""]
[null,""]
[null,{"$f":"IF(C6307=0,\"\",C6307-C6306)","v":""}]
[null,""]
[null,""]
[null,""]
[null,""]
[null,""]
[null,""]
[null,""]
[null,""]
[null,""]
[null,""]
[null,""]
[null,""]
[null,""]
[null,""]
[null,""]
[null,""]
[null,""]
[null,""]
[null,""]
[null,""]
[null,""]
[null,""]
[null,""]
[null,""]
[null,""]
[null,""]
[null,""]
[null,""]
[null,""]
[null,""]
[null,""]
[null,""]
[null,""]
[null,""]
[null,""]
[null,""]
[null,""]
[null,""]
[null,""]
[null,""]
[null,""]
[null,""]
[null,""]
[null,""]
[null,""]
[null,""]
[null,""]
[null,""]
[null,""]
[null,""]
[null,""]
[null,""]
[null,""]
[null,""]
[null,""]
[null,""]
[null,""]
[null,""]
[null,""]
[null,""]
[null,""]
[null,""]
[null,""]
[null,{"$f":"IF(C6371=0,\"\",C6371-C6370)","v":""}]
[null,""]
[null,""]
[null,""]
[null,""]
[null,""]
[null,""]
[null,""]
[null,""]
[null,""]
[null,""]
[null,""]
[null,""]
[null,""]
[null,""]
[null,""]
[null,""]
[null,""]
[null,""]
[null,""]
[null,""]
[null,""]
[null,""]
[null,""]
[null,""]
[null,""]
[null,""]
[null,""]
[null,""]
[null,""]
[null,""]
[null,""]
[null,""]
[null,""]
[null,""]
[null,""]
[null,""]
[null,""]
[null,""]
[null,""]
[null,""]
[null,""]
[null,""]
[null,""]
[null,""]
[null,""]
[null,""]
[null,""]
[null,""]
[null,""]
[null,""]
[null,""]
[null,""]
[null,""]
[null,""]
[null,""]
[null,""]
[null,""]
[null,""]
[null,""]
[null,""]
[null,""]
[null,""]
[null,""]
[null,{"$f":"IF(C6435=0,\"\",C6435-C6434)","v":""}]
[null,""]
[null,""]
[null,""]
[null,""]
[null,""]
[null,""]
[null,""]
[null,""]
[null,""]
[null,""]
[null,""]
[null,""]
[null,""]
[null,""]
[null,""]
[null,""]
[null,""]
[null,""]
[null,""]
[null,""]
[null,""]
[null,""]
[null,""]
[null,""]
[null,""]
[null,""]
[null,""]
[null,""]
[null,""]
[null,""]
[null,""]
[null,""]
[null,""]
[null,""]
[null,""]
[null,""]
[null,""]
[null,""]
[null,""]
[null,""]
[null,""]
[null,""]
[null,""]
[null,""]
[null,""]
[null,""]
[null,""]
[null,""]
[null,""]
[null,""]
[null,""]
[null,""]
[null,""]
[null,""]
[null,""]
[null,""]
[null,""]
[null,""]
[null,""]
[null,""]
[null,""]
[null,""]
[null,""]
[null,{"$f":"IF(C6499=0,\"\",C6499-C6498)","v":""}]
[null,""]
[null,""]
[null,""]
[null,""]
[null,""]
[null,""]
[null,""]
[null,""]
[null,""]
[null,""]
[null,""]
[null,""]
[null,""]
[null,""]
[null,""]
[null,""]
[null,""]
[null,""]
[null,""]
[null,""]
[null,""]
[null,""]
[null,""]
[null,""]
[null,""]
[null,""]
[null,""]
[null,""]
[null,""]
[null,""]
[null,""]
[null,""]
[null,""]
[null,""]
[null,""]
[null,""]
[null,""]
[null,""]
[null,""]
[null,""]
[null,""]
[null,""]
[null,""]
[null,""]
[null,""]
[null,""]
[null,""]
[null,""]
[null,""]
[null,""]
[null,""]
[null,""]
[null,""]
[null,""]
[null,""]
[null,""]
[null,""]
[null,""]
[null,""]
[null,""]
[null,""]
[null,""]
[null,""]
[null,{"$f":"IF(C6563=0,\"\",C6563-C6562)","v":""}]
[null,""]
[null,""]
[null,""]
[null,""]
[null,""]
[null,""]
[null,""]
[null,""]
[null,""]
[null,""]
[null,""]
[null,""]
[null,""]
[null,""]
[null,""]
[null,""]
[null,""]
[null,""]
[null,""]
[null,""]
[null,""]
[null,""]
[null,""]
[null,""]
[null,""]
[null,""]
[null,""]
[null,""]
[null,""]
[null,""]
[null,""]
[null,""]
[null,""]
[null,""]
[null,""]
[null,""]
[null,""]
[null,""]
[null,""]
[null,""]
[null,""]
[null,""]
[null,""]
[null,""]
[null,""]
[null,""]
[null,""]
[null,""]
[null,""]
[null,""]
[null,""]
[null,""]
[null,""]
[null,""]
[null,""]
[null,""]
[null,""]
[null,""]
[null,""]
[null,""]
[null,""]
[null,""]
[null,""]
[null,{"$f":"IF(C6627=0,\"\",C6627-C6626)","v":""}]
[null,""]
[null,""]
[null,""]
[null,""]
[null,""]
[null,""]
[null,""]
[null,""]
[null,""]
[null,""]
[null,""]
[null,""]
[null,""]
[null,""]
[null,""]
[null,""]
[null,""]
[null,""]
[null,""]
[null,""]
[null,""]
[null,""]
[null,""]
[null,""]
[null,""]
[null,""]
[null,""]
[null,""]
[null,""]
[null,""]
[null,""]
[null,""]
[null,""]
[null,""]
[null,""]
[null,""]
[null,""]
[null,""]
[null,""]
[null,""]
[null,""]
[null,""]
[null,""]
[null,""]
[null,""]
[null,""]
[null,""]
[null,""]
[null,""]
[null,""]
[null,""]
[null,""]
[null,""]
[null,""]
[null,""]
[null,""]
[null,""]
[null,""]
[null,""]
[null,""]
[null,""]
[null,""]
[null,""]
[null,{"$f":"IF(C6691=0,\"\",C6691-C6690)","v":""}]
[null,""]
[null,""]
[null,""]
[null,""]
[null,""]
[null,""]
[null,""]
[null,""]
[null,""]
[null,""]
[null,""]
[null,""]
[null,""]
[null,""]
[null,""]
[null,""]
[null,""]
[null,""]
[null,""]
[null,""]
[null,""]
[null,""]
[null,""]
[null,""]
[null,""]
[null,""]
[null,""]
[null,""]
[null,""]
[null,""]
[null,""]
[null,""]
[null,""]
[null,""]
[null,""]
[null,""]
[null,""]
[null,""]
[null,""]
[null,""]
[null,""]
[null,""]
[null,""]
[null,""]
[null,""]
[null,""]
[null,""]
[null,""]
[null,""]
[null,""]
[null,""]
[null,""]
[null,""]
[null,""]
[null,""]
[null,""]
[null,""]
[null,""]
[null,""]
[null,""]
[null,""]
[null,""]
[null,""]
[null,{"$f":"IF(C6755=0,\"\",C6755-C6754)","v":""}]
[null,""]
[null,""]
[null,""]
[null,""]
[null,""]
[null,""]
[null,""]
[null,""]
[null,""]
[null,""]
[null,""]
[null,""]
[null,""]
[null,""]
[null,""]
[null,""]
[null,""]
[null,""]
[null,""]
[null,""]
[null,""]
[null,""]
[null,""]
[null,""]
[null,""]
[null,""]
[null,""]
[null,""]
[null,""]
[null,""]
[null,""]
[null,""]
[null,""]
[null,""]
[null,""]
[null,""]
[null,""]
[null,""]
[null,""]
[null,""]
[null,""]
[null,""]
[null,""]
[null,""]
[null,""]
[null,""]
[null,""]
[null,""]
[null,""]
[null,""]
[null,""]
[null,""]
[null,""]
[null,""]
[null,""]
[null,""]
[null,""]
[null,""]
[null,""]
[null,""]
[null,""]
[null,""]
[null,""]
[null,{"$f":"IF(C6819=0,\"\",C6819-C6818)","v":""}]
[null,""]
[null,""]
[null,""]
[null,""]
[null,""]
[null,""]
[null,""]
[null,""]
[null,""]
[null,""]
[null,""]
[null,""]
[null,""]
[null,""]
[null,""]
[null,""]
[null,""]
[null,""]
[null,""]
[null,""]
[null,""]
[null,""]
[null,""]
[null,""]
[null,""]
[null,""]
[null,""]
[null,""]
[null,""]
[null,""]
[null,""]
[null,""]
[null,""]
[null,""]
[null,""]
[null,""]
[null,""]
[null,""]
[null,""]
[null,""]
[null,""]
[null,""]
[null,""]
[null,""]
[null,""]
[null,""]
[null,""]
[null,""]
[null,""]
[null,""]
[null,""]
[null,""]
[null,""]
[null,""]
[null,""]
[null,""]
[null,""]
[null,""]
[null,""]
[null,""]
[null,""]
[null,""]
[null,""]
[null,{"$f":"IF(C6883=0,\"\",C6883-C6882)","v":""}]
[null,""]
[null,""]
[null,""]
[null,""]
[null,""]
[null,""]
[null,""]
[null,""]
[null,""]
[null,""]
[null,""]
[null,""]
[null,""]
[null,""]
[null,""]
[null,""]
[null,""]
[null,""]
[null,""]
[null,""]
[null,""]
[null,""]
[null,""]
[null,""]
[null,""]
[null,""]
[null,""]
[null,""]
[null,""]
[null,""]
[null,""]
[null,""]
[null,""]
[null,""]
[null,""]
[null,""]
[null,""]
[null,""]
[null,""]
[null,""]
[null,""]
[null,""]
[null,""]
[null,""]
[null,""]
[null,""]
[null,""]
[null,""]
[null,""]
[null,""]
[null,""]
[null,""]
[null,""]
[null,""]
[null,""]
[null,""]
[null,""]
[null,""]
[null,""]
[null,""]
[null,""]
[null,""]
[null,""]
[null,{"$f":"IF(C6947=0,\"\",C6947-C6946)","v":""}]
[null,""]
[null,""]
[null,""]
[null,""]
[null,""]
[null,""]
[null,""]
[null,""]
[null,""]
[null,""]
[null,""]
[null,""]
[null,""]
[null,""]
[null,""]
[null,""]
[null,""]
[null,""]
[null,""]
[null,""]
[null,""]
[null,""]
[null,""]
[null,""]
[null,""]
[null,""]
[null,""]
[null,""]
[null,""]
[null,""]
[null,""]
[null,""]
[null,""]
[null,""]
[null,""]
[null,""]
[null,""]
[null,""]
[null,""]
[null,""]
[null,""]
[null,""]
[null,""]
[null,""]
[null,""]
[null,""]
[null,""]
[null,""]
[null,""]
[null,""]
[null,""]
[null,""]
[null,""]
[null,""]
[null,""]
[null,""]
[null,""]
[null,""]
[null,""]
[null,""]
[null,""]
[null,""]
[null,""]
[null,{"$f":"IF(C7011=0,\"\",C7011-C7010)","v":""}]
[null,""]
[null,""]
[null,""]
[null,""]
[null,""]
[null,""]
[null,""]
[null,""]
[null,""]
[null,""]
[null,""]
[null,""]
[null,""]
[null,""]
[null,""]
[null,""]
[null,""]
[null,""]
[null,""]
[null,""]
[null,""]
[null,""]
[null,""]
[null,""]
[null,""]
[null,""]
[null,""]
[null,""]
[null,""]
[null,""]
[null,""]
[null,""]
[null,""]
[null,""]
[null,""]
[null,""]
[null,""]
[null,""]
[null,""]
[null,""]
[null,""]
[null,""]
[null,""]
[null,""]
[null,""]
[null,""]
[null,""]
[null,""]
[null,""]
[null,""]
[null,""]
[null,""]
[null,""]
[null,""]
[null,""]
[null,""]
[null,""]
[null,""]
[null,""]
[null,""]
[null,""]
[null,""]
[null,""]
[null,{"$f":"IF(C7075=0,\"\",C7075-C7074)","v":""}]
[null,""]
[null,""]
[null,""]
[null,""]
[null,""]
[null,""]
[null,""]
[null,""]
[null,""]
[null,""]
[null,""]
[null,""]
[null,""]
[null,""]
[null,""]
[null,""]
[null,""]
[null,""]
[null,""]
[null,""]
[null,""]
[null,""]
[null,""]
[null,""]
[null,""]
[null,""]
[null,""]
[null,""]
[null,""]
[null,""]
[null,""]
[null,""]
[null,""]
[null,""]
[null,""]
[null,""]
[null,""]
[null,""]
[null,""]
[null,""]
[null,""]
[null,""]
[null,""]
[null,""]
[null,""]
[null,""]
[null,""]
[null,""]
[null,""]
[null,""]
[null,""]
[null,""]
[null,""]
[null,""]
[null,""]
[null,""]
[null,""]
[null,""]
[null,""]
[null,""]
[null,""]
[null,""]
[null,""]
[null,{"$f":"IF(C7139=0,\"\",C7139-C7138)","v":""}]
[null,""]
[null,""]
[null,""]
[null,""]
[null,""]
[null,""]
[null,""]
[null,""]
[null,""]
[null,""]
[null,""]
[null,""]
[null,""]
[null,""]
[null,""]
[null,""]
[null,""]
[null,""]
[null,""]
[null,""]
[null,""]
[null,""]
[null,""]
[null,""]
[null,""]
[null,""]
[null,""]
[null,""]
[null,""]
[null,""]
[null,""]
[null,""]
[null,""]
[null,""]
[null,""]
[null,""]
[null,""]
[null,""]
[null,""]
[null,""]
[null,""]
[null,""]
[null,""]
[null,""]
[null,""]
[null,""]
[null,""]
[null,""]
[null,""]
[null,""]
[null,""]
[null,""]
[null,""]
[null,""]
[null,""]
[null,""]
[null,""]
[null,""]
[null,""]
[null,""]
[null,""]
[null,""]
[null,""]
[null,{"$f":"IF(C7203=0,\"\",C7203-C7202)","v":""}]
[null,""]
[null,""]
[null,""]
[null,""]
[null,""]
[null,""]
[null,""]
[null,""]
[null,""]
[null,""]
[null,""]
[null,""]
[null,""]
[null,""]
[null,""]
[null,""]
[null,""]
[null,""]
[null,""]
[null,""]
[null,""]
[null,""]
[null,""]
[null,""]
[null,""]
[null,""]
[null,""]
[null,""]
[null,""]
[null,""]
[null,""]
[null,""]
[null,""]
[null,""]
[null,""]
[null,""]
[null,""]
[null,""]
[null,""]
[null,""]
[null,""]
[null,""]
[null,""]
[null,""]
[null,""]
[null,""]
[null,""]
[null,""]
[null,""]
[null,""]
[null,""]
[null,""]
[null,""]
[null,""]
[null,""]
[null,""]
[null,""]
[null,""]
[null,""]
[null,""]
[null,""]
[null,""]
[null,""]
[null,{"$f":"IF(C7267=0,\"\",C7267-C7266)","v":""}]
[null,""]
[null,""]
[null,""]
[null,""]
[null,""]
[null,""]
[null,""]
[null,""]
[null,""]
[null,""]
[null,""]
[null,""]
[null,""]
[null,""]
[null,""]
[null,""]
[null,""]
[null,""]
[null,""]
[null,""]
[null,""]
[null,""]
[null,""]
[null,""]
[null,""]
[null,""]
[null,""]
[null,""]
[null,""]
[null,""]
[null,""]
[null,""]
[null,""]
[null,""]
[null,""]
[null,""]
[null,""]
[null,""]
[null,""]
[null,""]
[null,""]
[null,""]
[null,""]
[null,""]
[null,""]
[null,""]
[null,""]
[null,""]
[null,""]
[null,""]
[null,""]
[null,""]
[null,""]
[null,""]
[null,""]
[null,""]
[null,""]
[null,""]
[null,""]
[null,""]
[null,""]
[null,""]
[null,""]
[null,{"$f":"IF(C7331=0,\"\",C7331-C7330)","v":""}]
[null,""]
[null,""]
[null,""]
[null,""]
[null,""]
[null,""]
[null,""]
[null,""]
[null,""]
[null,""]
[null,""]
[null,""]
[null,""]
[null,""]
[null,""]
[null,""]
[null,""]
[null,""]
[null,""]
[null,""]
[null,""]
[null,""]
[null,""]
[null,""]
[null,""]
[null,""]
[null,""]
[null,""]
[null,""]
[null,""]
[null,""]
[null,""]
[null,""]
[null,""]
[null,""]
[null,""]
[null,""]
[null,""]
[null,""]
[null,""]
[null,""]
[null,""]
[null,""]
[null,""]
[null,""]
[null,""]
[null,""]
[null,""]
[null,""]
[null,""]
[null,""]
[null,""]
[null,""]
[null,""]
[null,""]
[null,""]
[null,""]
[null,""]
[null,""]
[null,""]
[null,""]
[null,""]
[null,""]
[null,{"$f":"IF(C7395=0,\"\",C7395-C7394)","v":""}]
[null,""]
[null,""]
[null,""]
[null,""]
[null,""]
[null,""]
[null,""]
[null,""]
[null,""]
[null,""]
[null,""]
[null,""]
[null,""]
[null,""]
[null,""]
[null,""]
[null,""]
[null,""]
[null,""]
[null,""]
[null,""]
[null,""]
[null,""]
[null,""]
[null,""]
[null,""]
[null,""]
[null,""]
[null,""]
[null,""]
[null,""]
[null,""]
[null,""]
[null,""]
[null,""]
[null,""]
[null,""]
[null,""]
[null,""]
[null,""]
[null,""]
[null,""]
[null,""]
[null,""]
[null,""]
[null,""]
[null,""]
[null,""]
[null,""]
[null,""]
[null,""]
[null,""]
[null,""]
[null,""]
[null,""]
[null,""]
[null,""]
[null,""]
[null,""]
[null,""]
[null,""]
[null,""]
[null,""]
[null,{"$f":"IF(C7459=0,\"\",C7459-C7458)","v":""}]
[null,""]
[null,""]
[null,""]
[null,""]
[null,""]
[null,""]
[null,""]
[null,""]
[null,""]
[null,""]
[null,""]
[null,""]
[null,""]
[null,""]
[null,""]
[null,""]
[null,""]
[null,""]
[null,""]
[null,""]
[null,""]
[null,""]
[null,""]
[null,""]
[null,""]
[null,""]
[null,""]
[null,""]
[null,""]
[null,""]
[null,""]
[null,""]
[null,""]
[null,""]
[null,""]
[null,""]
[null,""]
[null,""]
[null,""]
[null,""]
[null,""]
[null,""]
[null,""]
[null,""]
[null,""]
[null,""]
[null,""]
[null,""]
[null,""]
[null,""]
[null,""]
[null,""]
[null,""]
[null,""]
[null,""]
[null,""]
[null,""]
[null,""]
[null,""]
[null,""]
[null,""]
[null,""]
[null,""]
[null,{"$f":"IF(C7523=0,\"\",C7523-C7522)","v":""}]
[null,""]
[null,""]
[null,""]
[null,""]
[null,""]
[null,""]
[null,""]
[null,""]
[null,""]
[null,""]
[null,""]
[null,""]
[null,""]
[null,""]
[null,""]
[null,""]
[null,""]
[null,""]
[null,""]
[null,""]
[null,""]
[null,""]
[null,""]
[null,""]
[null,""]
[null,""]
[null,""]
[null,""]
[null,""]
[null,""]
[null,""]
[null,""]
[null,""]
[null,""]
[null,""]
[null,""]
[null,""]
[null,""]
[null,""]
[null,""]
[null,""]
[null,""]
[null,""]
[null,""]
[null,""]
[null,""]
[null,""]
[null,""]
[null,""]
[null,""]
[null,""]
[null,""]
[null,""]
[null,""]
[null,""]
[null,""]
[null,""]
[null,""]
[null,""]
[null,""]
[null,""]
[null,""]
[null,""]
[null,{"$f":"IF(C7587=0,\"\",C7587-C7586)","v":""}]
[null,""]
[null,""]
[null,""]
[null,""]
[null,""]
[null,""]
[null,""]
[null,""]
[null,""]
[null,""]
[null,""]
[null,""]
[null,""]
[null,""]
[null,""]
[null,""]
[null,""]
[null,""]
[null,""]
[null,""]
[null,""]
[null,""]
[null,""]
[null,""]
[null,""]
[null,""]
[null,""]
[null,""]
[null,""]
[null,""]
[null,""]
[null,""]
[null,""]
[null,""]
[null,""]
[null,""]
[null,""]
[null,""]
[null,""]
[null,""]
[null,""]
[null,""]
[null,""]
[null,""]
[null,""]
[null,""]
[null,""]
[null,""]
[null,""]
[null,""]
[null,""]
[null,""]
[null,""]
[null,""]
[null,""]
[null,""]
[null,""]
[null,""]
[null,""]
[null,""]
[null,""]
[null,""]
[null,""]
[null,{"$f":"IF(C7651=0,\"\",C7651-C7650)","v":""}]
[null,""]
[null,""]
[null,""]
[null,""]
[null,""]
[null,""]
[null,""]
[null,""]
[null,""]
[null,""]
[null,""]
[null,""]
[null,""]
[null,""]
[null,""]
[null,""]
[null,""]
[null,""]
[null,""]
[null,""]
[null,""]
[null,""]
[null,""]
[null,""]
[null,""]
[null,""]
[null,""]
[null,""]
[null,""]
[null,""]
[null,""]
[null,""]
[null,""]
[null,""]
[null,""]
[null,""]
[null,""]
[null,""]
[null,""]
[null,""]
[null,""]
[null,""]
[null,""]
[null,""]
[null,""]
[null,""]
[null,""]
[null,""]
[null,""]
[null,""]
[null,""]
[null,""]
[null,""]
[null,""]
[null,""]
[null,""]
[null,""]
[null,""]
[null,""]
[null,""]
[null,""]
[null,""]
[null,""]
[null,{"$f":"IF(C7715=0,\"\",C7715-C7714)","v":""}]
[null,""]
[null,""]
[null,""]
[null,""]
[null,""]
[null,""]
[null,""]
[null,""]
[null,""]
[null,""]
[null,""]
[null,""]
[null,""]
[null,""]
[null,""]
[null,""]
[null,""]
[null,""]
[null,""]
[null,""]
[null,""]
[null,""]
[null,""]
[null,""]
[null,""]
[null,""]
[null,""]
[null,""]
[null,""]
[null,""]
[null,""]
[null,""]
[null,""]
[null,""]
[null,""]
[null,""]
[null,""]
[null,""]
[null,""]
[null,""]
[null,""]
[null,""]
[null,""]
[null,""]
[null,""]
[null,""]
[null,""]
[null,""]
[null,""]
[null,""]
[null,""]
[null,""]
[null,""]
[null,""]
[null,""]
[null,""]
[null,""]
[null,""]
[null,""]
[null,""]
[null,""]
[null,""]
[null,""]
[null,{"$f":"IF(C7779=0,\"\",C7779-C7778)","v":""}]
[null,""]
[null,""]
[null,""]
[null,""]
[null,""]
[null,""]
[null,""]
[null,""]
[null,""]
[null,""]
[null,""]
[null,""]
[null,""]
[null,""]
[null,""]
[null,""]
[null,""]
[null,""]
[null,""]
[null,""]
[null,""]
[null,""]
[null,""]
[null,""]
[null,""]
[null,""]
[null,""]
[null,""]
[null,""]
[null,""]
[null,""]
[null,""]
[null,""]
[null,""]
[null,""]
[null,""]
[null,""]
[null,""]
[null,""]
[null,""]
[null,""]
[null,""]
[null,""]
[null,""]
[null,""]
[null,""]
[null,""]
[null,""]
[null,""]
[null,""]
[null,""]
[null,""]
[null,""]
[null,""]
[null,""]
[null,""]
[null,""]
[null,""]
[null,""]
[null,""]
[null,""]
[null,""]
[null,""]
[null,{"$f":"IF(C7843=0,\"\",C7843-C7842)","v":""}]
[null,""]
[null,""]
[null,""]
[null,""]
[null,""]
[null,""]
[null,""]
[null,""]
[null,""]
[null,""]
[null,""]
[null,""]
[null,""]
[null,""]
[null,""]
[null,""]
[null,""]
[null,""]
[null,""]
[null,""]
[null,""]
[null,""]
[null,""]
[null,""]
[null,""]
[null,""]
[null,""]
[null,""]
[null,""]
[null,""]
[null,""]
[null,""]
[null,""]
[null,""]
[null,""]
[null,""]
[null,""]
[null,""]
[null,""]
[null,""]
[null,""]
[null,""]
[null,""]
[null,""]
[null,""]
[null,""]
[null,""]
[null,""]
[null,""]
[null,""]
[null,""]
[null,""]
[null,""]
[null,""]
[null,""]
[null,""]
[null,""]
[null,""]
[null,""]
[null,""]
[null,""]
[null,""]
[null,""]
[null,{"$f":"IF(C7907=0,\"\",C7907-C7906)","v":""}]
[null,""]
[null,""]
[null,""]
[null,""]
[null,""]
[null,""]
[null,""]
[null,""]
[null,""]
[null,""]
[null,""]
[null,""]
[null,""]
[null,""]
[null,""]
[null,""]
[null,""]
[null,""]
[null,""]
[null,""]
[null,""]
[null,""]
[null,""]
[null,""]
[null,""]
[null,""]
[null,""]
[null,""]
[null,""]
[null,""]
[null,""]
[null,""]
[null,""]
[null,""]
[null,""]
[null,""]
[null,""]
[null,""]
[null,""]
[null,""]
[null,""]
[null,""]
[null,""]
[null,""]
[null,""]
[null,""]
[null,""]
[null,""]
[null,""]
[null,""]
[null,""]
[null,""]
[null,""]
[null,""]
[null,""]
[null,""]
[null,""]
[null,""]
[null,""]
[null,""]
[null,""]
[null,""]
[null,""]
[null,{"$f":"IF(C7971=0,\"\",C7971-C7970)","v":""}]
[null,""]
[null,""]
[null,""]
[null,""]
[null,""]
[null,""]
[null,""]
[null,""]
[null,""]
[null,""]
[null,""]
[null,""]
[null,""]
[null,""]
[null,""]
[null,""]
[null,""]
[null,""]
[null,""]
[null,""]
[null,""]
[null,""]
[null,""]
[null,""]
[null,""]
[null,""]
[null,""]
[null,""]
[null,""]
[null,""]
[null,""]
[null,""]
[null,""]
[null,""]
[null,""]
[null,""]
[null,""]
[null,""]
[null,""]
[null,""]
[null,""]
[null,""]
[null,""]
[null,""]
[null,""]
[null,""]
[null,""]
[null,""]
[null,""]
[null,""]
[null,""]
[null,""]
[null,""]
[null,""]
[null,""]
[null,""]
[null,""]
[null,""]
[null,""]
[null,""]
[null,""]
[null,""]
[null,""]
[null,{"$f":"IF(C8035=0,\"\",C8035-C8034)","v":""}]
[null,""]
[null,""]
[null,""]
[null,""]
[null,""]
[null,""]
[null,""]
[null,""]
[null,""]
[null,""]
[null,""]
[null,""]
[null,""]
[null,""]
[null,""]
[null,""]
[null,""]
[null,""]
[null,""]
[null,""]
[null,""]
[null,""]
[null,""]
[null,""]
[null,""]
[null,""]
[null,""]
[null,""]
[null,""]
[null,""]
[null,""]
[null,""]
[null,""]
[null,""]
[null,""]
[null,""]
[null,""]
[null,""]
[null,""]
[null,""]
[null,""]
[null,""]
[null,""]
[null,""]
[null,""]
[null,""]
[null,""]
[null,""]
[null,""]
[null,""]
[null,""]
[null,""]
[null,""]
[null,""]
[null,""]
[null,""]
[null,""]
[null,""]
[null,""]
[null,""]
[null,""]
[null,""]
[null,""]
[null,{"$f":"IF(C8099=0,\"\",C8099-C8098)","v":""}]
[null,""]
[null,""]
[null,""]
[null,""]
[null,""]
[null,""]
[null,""]
[null,""]
[null,""]
[null,""]
[null,""]
[null,""]
[null,""]
[null,""]
[null,""]
[null,""]
[null,""]
[null,""]
[null,""]
[null,""]
[null,""]
[null,""]
[null,""]
[null,""]
[null,""]
[null,""]
[null,""]
[null,""]
[null,""]
[null,""]
[null,""]
[null,""]
[null,""]
[null,""]
[null,""]
[null,""]
[null,""]
[null,""]
[null,""]
[null,""]
[null,""]
[null,""]
[null,""]
[null,""]
[null,""]
[null,""]
[null,""]
[null,""]
[null,""]
[null,""]
[null,""]
[null,""]
[null,""]
[null,""]
[null,""]
[null,""]
[null,""]
[null,""]
[null,""]
[null,""]
[null,""]
[null,""]
[null,""]
[null,{"$f":"IF(C8163=0,\"\",C8163-C8162)","v":""}]
[null,""]
[null,""]
[null,""]
[null,""]
[null,""]
[null,""]
[null,""]
[null,""]
[null,""]
[null,""]
[null,""]
[null,""]
[null,""]
[null,""]
[null,""]
[null,""]
[null,""]
[null,""]
[null,""]
[null,""]
[null,""]
[null,""]
[null,""]
[null,""]
[null,""]
[null,""]
[null,""]
[null,""]
[null,""]
[null,""]
[null,""]
[null,""]
[null,""]
[null,""]
[null,""]
[null,""]
[null,""]
[null,""]
[null,""]
[null,""]
[null,""]
[null,""]
[null,""]
[null,""]
[null,""]
[null,""]
[null,""]
[null,""]
[null,""]
[null,""]
[null,""]
[null,""]
[null,""]
[null,""]
[null,""]
[null,""]
[null,""]
[null,""]
[null,""]
[null,""]
[null,""]
[null,""]
[null,""]
[null,{"$f":"IF(C8227=0,\"\",C8227-C8226)","v":""}]
[null,""]
[null,""]
[null,""]
[null,""]
[null,""]
[null,""]
[null,""]
[null,""]
[null,""]
[null,""]
[null,""]
[null,""]
[null,""]
[null,""]
[null,""]
[null,""]
[null,""]
[null,""]
[null,""]
[null,""]
[null,""]
[null,""]
[null,""]
[null,""]
[null,""]
[null,""]
[null,""]
[null,""]
[null,""]
[null,""]
[null,""]
[null,""]
[null,""]
[null,""]
[null,""]
[null,""]
[null,""]
[null,""]
[null,""]
[null,""]
[null,""]
[null,""]
[null,""]
[null,""]
[null,""]
[null,""]
[null,""]
[null,""]
[null,""]
[null,""]
[null,""]
[null,""]
[null,""]
[null,""]
[null,""]
[null,""]
[null,""]
[null,""]
[null,""]
[null,""]
[null,""]
[null,""]
[null,""]
[null,{"$f":"IF(C8291=0,\"\",C8291-C8290)","v":""}]
[null,""]
[null,""]
[null,""]
[null,""]
[null,""]
[null,""]
[null,""]
[null,""]
[null,""]
[null,""]
[null,""]
[null,""]
[null,""]
[null,""]
[null,""]
[null,""]
[null,""]
[null,""]
[null,""]
[null,""]
[null,""]
[null,""]
[null,""]
[null,""]
[null,""]
[null,""]
[null,""]
[null,""]
[null,""]
[null,""]
[null,""]
[null,""]
[null,""]
[null,""]
[null,""]
[null,""]
[null,""]
[null,""]
[null,""]
[null,""]
[null,""]
[null,""]
[null,""]
[null,""]
[null,""]
[null,""]
[null,""]
[null,""]
[null,""]
[null,""]
[null,""]
[null,""]
[null,""]
[null,""]
[null,""]
[null,""]
[null,""]
[null,""]
[null,""]
[null,""]
[null,""]
[null,""]
[null,""]
[null,{"$f":"IF(C8355=0,\"\",C8355-C8354)","v":""}]
[null,""]
[null,""]
[null,""]
[null,""]
[null,""]
[null,""]
[null,""]
[null,""]
[null,""]
[null,""]
[null,""]
[null,""]
[null,""]
[null,""]
[null,""]
[null,""]
[null,""]
[null,""]
[null,""]
[null,""]
[null,""]
[null,""]
[null,""]
[null,""]
[null,""]
[null,""]
[null,""]
[null,""]
[null,""]
[null,""]
[null,""]
[null,""]
[null,""]
[null,""]
[null,""]
[null,""]
[null,""]
[null,""]
[null,""]
[null,""]
[null,""]
[null,""]
[null,""]
[null,""]
[null,""]
[null,""]
[null,""]
[null,""]
[null,""]
[null,""]
[null,""]
[null,""]
[null,""]
[null,""]
[null,""]
[null,""]
[null,""]
[null,""]
[null,""]
[null,""]
[null,""]
[null,""]
[null,""]
[null,{"$f":"IF(C8419=0,\"\",C8419-C8418)","v":""}]
[null,""]
[null,""]
[null,""]
[null,""]
[null,""]
[null,""]
[null,""]
[null,""]
[null,""]
[null,""]
[null,""]
[null,""]
[null,""]
[null,""]
[null,""]
[null,""]
[null,""]
[null,""]
[null,""]
[null,""]
[null,""]
[null,""]
[null,""]
[null,""]
[null,""]
[null,""]
[null,""]
[null,""]
[null,""]
[null,""]
[null,""]
[null,""]
[null,""]
[null,""]
[null,""]
[null,""]
[null,""]
[null,""]
[null,""]
[null,""]
[null,""]
[null,""]
[null,""]
[null,""]
[null,""]
[null,""]
[null,""]
[null,""]
[null,""]
[null,""]
[null,""]
[null,""]
[null,""]
[null,""]
[null,""]
[null,""]
[null,""]
[null,""]
[null,""]
[null,""]
[null,""]
[null,""]
[null,""]
[null,{"$f":"IF(C8483=0,\"\",C8483-C8482)","v":""}]
[null,""]
[null,""]
[null,""]
[null,""]
[null,""]
[null,""]
[null,""]
[null,""]
[null,""]
[null,""]
[null,""]
[null,""]
[null,""]
[null,""]
[null,""]
[null,""]
[null,""]
[null,""]
[null,""]
[null,""]
[null,""]
[null,""]
[null,""]
[null,""]
[null,""]
[null,""]
[null,""]
[null,""]
[null,""]
[null,""]
[null,""]
[null,""]
[null,""]
[null,""]
[null,""]
[null,""]
[null,""]
[null,""]
[null,""]
[null,""]
[null,""]
[null,""]
[null,""]
[null,""]
[null,""]
[null,""]
[null,""]
[null,""]
[null,""]
[null,""]
[null,""]
[null,""]
[null,""]
[null,""]
[null,""]
[null,""]
[null,""]
[null,""]
[null,""]
[null,""]
[null,""]
[null,""]
[null,""]
[null,{"$f":"IF(C8547=0,\"\",C8547-C8546)","v":""}]
[null,""]
[null,""]
[null,""]
[null,""]
[null,""]
[null,""]
[null,""]
[null,""]
[null,""]
[null,""]
[null,""]
[null,""]
[null,""]
[null,""]
[null,""]
[null,""]
[null,""]
[null,""]
[null,""]
[null,""]
[null,""]
[null,""]
[null,""]
[null,""]
[null,""]
[null,""]
[null,""]
[null,""]
[null,""]
[null,""]
[null,""]
[null,""]
[null,""]
[null,""]
[null,""]
[null,""]
[null,""]
[null,""]
[null,""]
[null,""]
[null,""]
[null,""]
[null,""]
[null,""]
[null,""]
[null,""]
[null,""]
[null,""]
[null,""]
[null,""]
[null,""]
[null,""]
[null,""]
[null,""]
[null,""]
[null,""]
[null,""]
[null,""]
[null,""]
[null,""]
[null,""]
[null,""]
[null,""]
[null,{"$f":"IF(C8611=0,\"\",C8611-C8610)","v":""}]
[null,""]
[null,""]
[null,""]
[null,""]
[null,""]
[null,""]
[null,""]
[null,""]
[null,""]
[null,""]
[null,""]
[null,""]
[null,""]
[null,""]
[null,""]
[null,""]
[null,""]
[null,""]
[null,""]
[null,""]
[null,""]
[null,""]
[null,""]
[null,""]
[null,""]
[null,""]
[null,""]
[null,""]
[null,""]
[null,""]
[null,""]
[null,""]
[null,""]
[null,""]
[null,""]
[null,""]
[null,""]
[null,""]
[null,""]
[null,""]
[null,""]
[null,""]
[null,""]
[null,""]
[null,""]
[null,""]
[null,""]
[null,""]
[null,""]
[null,""]
[null,""]
[null,""]
[null,""]
[null,""]
[null,""]
[null,""]
[null,""]
[null,""]
[null,""]
[null,""]
[null,""]
[null,""]
[null,""]
[null,{"$f":"IF(C8675=0,\"\",C8675-C8674)","v":""}]
[null,""]
[null,""]
[null,""]
[null,""]
[null,""]
[null,""]
[null,""]
[null,""]
[null,""]
[null,""]
[null,""]
[null,""]
[null,""]
[null,""]
[null,""]
[null,""]
[null,""]
[null,""]
[null,""]
[null,""]
[null,""]
[null,""]
[null,""]
[null,""]
[null,""]
[null,""]
[null,""]
[null,""]
[null,""]
[null,""]
[null,""]
[null,""]
[null,""]
[null,""]
[null,""]
[null,""]
[null,""]
[null,""]
[null,""]
[null,""]
[null,""]
[null,""]
[null,""]
[null,""]
[null,""]
[null,""]
[null,""]
[null,""]
[null,""]
[null,""]
[null,""]
[null,""]
[null,""]
[null,""]
[null,""]
[null,""]
[null,""]
[null,""]
[null,""]
[null,""]
[null,""]
[null,""]
[null,""]
[null,{"$f":"IF(C8739=0,\"\",C8739-C8738)","v":""}]
[null,""]
[null,""]
[null,""]
[null,""]
[null,""]
[null,""]
[null,""]
[null,""]
[null,""]
[null,""]
[null,""]
[null,""]
[null,""]
[null,""]
[null,""]
[null,""]
[null,""]
[null,""]
[null,""]
[null,""]
[null,""]
[null,""]
[null,""]
[null,""]
[null,""]
[null,""]
[null,""]
[null,""]
[null,""]
[null,""]
[null,""]
[null,""]
[null,""]
[null,""]
[null,""]
[null,""]
[null,""]
[null,""]
[null,""]
[null,""]
[null,""]
[null,""]
[null,""]
[null,""]
[null,""]
[null,""]
[null,""]
[null,""]
[null,""]
[null,""]
[null,""]
[null,""]
[null,""]
[null,""]
[null,""]
[null,""]
[null,""]
[null,""]
[null,""]
[null,""]
[null,""]
[null,""]
[null,""]
[null,{"$f":"IF(C8803=0,\"\",C8803-C8802)","v":""}]
[null,""]
[null,""]
[null,""]
[null,""]
[null,""]
[null,""]
[null,""]
[null,""]
[null,""]
[null,""]
[null,""]
[null,""]
[null,""]
[null,""]
[null,""]
[null,""]
[null,""]
[null,""]
[null,""]
[null,""]
[null,""]
[null,""]
[null,""]
[null,""]
[null,""]
[null,""]
[null,""]
[null,""]
[null,""]
[null,""]
[null,""]
[null,""]
[null,""]
[null,""]
[null,""]
[null,""]
[null,""]
[null,""]
[null,""]
[null,""]
[null,""]
[null,""]
[null,""]
[null,""]
[null,""]
[null,""]
[null,""]
[null,""]
[null,""]
[null,""]
[null,""]
[null,""]
[null,""]
[null,""]
[null,""]
[null,""]
[null,""]
[null,""]
[null,""]
[null,""]
[null,""]
[null,""]
[null,""]
[null,{"$f":"IF(C8867=0,\"\",C8867-C8866)","v":""}]
[null,""]
[null,""]
[null,""]
[null,""]
[null,""]
[null,""]
[null,""]
[null,""]
[null,""]
[null,""]
[null,""]
[null,""]
[null,""]
[null,""]
[null,""]
[null,""]
[null,""]
[null,""]
[null,""]
[null,""]
[null,""]
[null,""]
[null,""]
[null,""]
[null,""]
[null,""]
[null,""]
[null,""]
[null,""]
[null,""]
[null,""]
[null,""]
[null,""]
[null,""]
[null,""]
[null,""]
[null,""]
[null,""]
[null,""]
[null,""]
[null,""]
[null,""]
[null,""]
[null,""]
[null,""]
[null,""]
[null,""]
[null,""]
[null,""]
[null,""]
[null,""]
[null,""]
[null,""]
[null,""]
[null,""]
[null,""]
[null,""]
[null,""]
[null,""]
[null,""]
[null,""]
[null,""]
[null,""]
[null,{"$f":"IF(C8931=0,\"\",C8931-C8930)","v":""}]
[null,""]
[null,""]
[null,""]
[null,""]
[null,""]
[null,""]
[null,""]
[null,""]
[null,""]
[null,""]
[null,""]
[null,""]
[null,""]
[null,""]
[null,""]
[null,""]
[null,""]
[null,""]
[null,""]
[null,""]
[null,""]
[null,""]
[null,""]
[null,""]
[null,""]
[null,""]
[null,""]
[null,""]
[null,""]
[null,""]
[null,""]
[null,""]
[null,""]
[null,""]
[null,""]
[null,""]
[null,""]
[null,""]
[null,""]
[null,""]
[null,""]
[null,""]
[null,""]
[null,""]
[null,""]
[null,""]
[null,""]
[null,""]
[null,""]
[null,""]
[null,""]
[null,""]
[null,""]
[null,""]
[null,""]
[null,""]
[null,""]
[null,""]
[null,""]
[null,""]
[null,""]
[null,""]
[null,""]
[null,{"$f":"IF(C8995=0,\"\",C8995-C8994)","v":""}]
[null,""]
[null,""]
[null,""]
[null,""]
[null,""]
[null,""]
[null,""]
[null,""]
[null,""]
[null,""]
[null,""]
[null,""]
[null,""]
[null,""]
[null,""]
[null,""]
[null,""]
[null,""]
[null,""]
[null,""]
[null,""]
[null,""]
[null,""]
[null,""]
[null,""]
[null,""]
[null,""]
[null,""]
[null,""]
[null,""]
[null,""]
[null,""]
[null,""]
[null,""]
[null,""]
[null,""]
[null,""]
[null,""]
[null,""]
[null,""]
[null,""]
[null,""]
[null,""]
[null,""]
[null,""]
[null,""]
[null,""]
[null,""]
[null,""]
[null,""]
[null,""]
[null,""]
[null,""]
[null,""]
[null,""]
[null,""]
[null,""]
[null,""]
[null,""]
[null,""]
[null,""]
[null,""]
[null,""]
[null,{"$f":"IF(C9059=0,\"\",C9059-C9058)","v":""}]
[null,""]
[null,""]
[null,""]
[null,""]
[null,""]
[null,""]
[null,""]
[null,""]
[null,""]
[null,""]
[null,""]
[null,""]
[null,""]
[null,""]
[null,""]
[null,""]
[null,""]
[null,""]
[null,""]
[null,""]
[null,""]
[null,""]
[null,""]
[null,""]
[null,""]
[null,""]
[null,""]
[null,""]
[null,""]
[null,""]
[null,""]
[null,""]
[null,""]
[null,""]
[null,""]
[null,""]
[null,""]
[null,""]
[null,""]
[null,""]
[null,""]
[null,""]
[null,""]
[null,""]
[null,""]
[null,""]
[null,""]
[null,""]
[null,""]
[null,""]
[null,""]
[null,""]
[null,""]
[null,""]
[null,""]
[null,""]
[null,""]
[null,""]
[null,""]
[null,""]
[null,""]
[null,""]
[null,""]
[null,{"$f":"IF(C9123=0,\"\",C9123-C9122)","v":""}]
[null,""]
[null,""]
[null,""]
[null,""]
[null,""]
[null,""]
[null,""]
[null,""]
[null,""]
[null,""]
[null,""]
[null,""]
[null,""]
[null,""]
[null,""]
[null,""]
[null,""]
[null,""]
[null,""]
[null,""]
[null,""]
[null,""]
[null,""]
[null,""]
[null,""]
[null,""]
[null,""]
[null,""]
[null,""]
[null,""]
[null,""]
[null,""]
[null,""]
[null,""]
[null,""]
[null,""]
[null,""]
[null,""]
[null,""]
[null,""]
[null,""]
[null,""]
[null,""]
[null,""]
[null,""]
[null,""]
[null,""]
[null,""]
[null,""]
[null,""]
[null,""]
[null,""]
[null,""]
[null,""]
[null,""]
[null,""]
[null,""]
[null,""]
[null,""]
[null,""]
[null,""]
[null,""]
[null,""]
[null,{"$f":"IF(C9187=0,\"\",C9187-C9186)","v":""}]
[null,""]
[null,""]
[null,""]
[null,""]
[null,""]
[null,""]
[null,""]
[null,""]
[null,""]
[null,""]
[null,""]
[null,""]
[null,""]
[null,""]
[null,""]
[null,""]
[null,""]
[null,""]
[null,""]
[null,""]
[null,""]
[null,""]
[null,""]
[null,""]
[null,""]
[null,""]
[null,""]
[null,""]
[null,""]
[null,""]
[null,""]
[null,""]
[null,""]
[null,""]
[null,""]
[null,""]
[null,""]
[null,""]
[null,""]
[null,""]
[null,""]
[null,""]
[null,""]
[null,""]
[null,""]
[null,""]
[null,""]
[null,""]
[null,""]
[null,""]
[null,""]
[null,""]
[null,""]
[null,""]
[null,""]
[null,""]
[null,""]
[null,""]
[null,""]
[null,""]
[null,""]
[null,""]
[null,""]
[null,{"$f":"IF(C9251=0,\"\",C9251-C9250)","v":""}]
[null,""]
[null,""]
[null,""]
[null,""]
[null,""]
[null,""]
[null,""]
[null,""]
[null,""]
[null,""]
[null,""]
[null,""]
[null,""]
[null,""]
[null,""]
[null,""]
[null,""]
[null,""]
[null,""]
[null,""]
[null,""]
[null,""]
[null,""]
[null,""]
[null,""]
[null,""]
[null,""]
[null,""]
[null,""]
[null,""]
[null,""]
[null,""]
[null,""]
[null,""]
[null,""]
[null,""]
[null,""]
[null,""]
[null,""]
[null,""]
[null,""]
[null,""]
[null,""]
[null,""]
[null,""]
[null,""]
[null,""]
[null,""]
[null,""]
[null,""]
[null,""]
[null,""]
[null,""]
[null,""]
[null,""]
[null,""]
[null,""]
[null,""]
[null,""]
[null,""]
[null,""]
[null,""]
[null,""]
[null,{"$f":"IF(C9315=0,\"\",C9315-C9314)","v":""}]
[null,""]
[null,""]
[null,""]
[null,""]
[null,""]
[null,""]
[null,""]
[null,""]
[null,""]
[null,""]
[null,""]
[null,""]
[null,""]
[null,""]
[null,""]
[null,""]
[null,""]
[null,""]
[null,""]
[null,""]
[null,""]
[null,""]
[null,""]
[null,""]
[null,""]
[null,""]
[null,""]
[null,""]
[null,""]
[null,""]
[null,""]
[null,""]
[null,""]
[null,""]
[null,""]
[null,""]
[null,""]
[null,""]
[null,""]
[null,""]
[null,""]
[null,""]
[null,""]
[null,""]
[null,""]
[null,""]
[null,""]
[null,""]
[null,""]
[null,""]
[null,""]
[null,""]
[null,""]
[null,""]
[null,""]
[null,""]
[null,""]
[null,""]
[null,""]
[null,""]
[null,""]
[null,""]
[null,""]
[null,{"$f":"IF(C9379=0,\"\",C9379-C9378)","v":""}]
[null,""]
[null,""]
[null,""]
[null,""]
[null,""]
[null,""]
[null,""]
[null,""]
[null,""]
[null,""]
[null,""]
[null,""]
[null,""]
[null,""]
[null,""]
[null,""]
[null,""]
[null,""]
[null,""]
[null,""]
[null,""]
[null,""]
[null,""]
[null,""]
[null,""]
[null,""]
[null,""]
[null,""]
[null,""]
[null,""]
[null,""]
[null,""]
[null,""]
[null,""]
[null,""]
[null,""]
[null,""]
[null,""]
[null,""]
[null,""]
[null,""]
[null,""]
[null,""]
[null,""]
[null,""]
[null,""]
[null,""]
[null,""]
[null,""]
[null,""]
[null,""]
[null,""]
[null,""]
[null,""]
[null,""]
[null,""]
[null,""]
[null,""]
[null,""]
[null,""]
[null,""]
[null,""]
[null,""]
[null,{"$f":"IF(C9443=0,\"\",C9443-C9442)","v":""}]
[null,""]
[null,""]
[null,""]
[null,""]
[null,""]
[null,""]
[null,""]
[null,""]
[null,""]
[null,""]
[null,""]
[null,""]
[null,""]
[null,""]
[null,""]
[null,""]
[null,""]
[null,""]
[null,""]
[null,""]
[null,""]
[null,""]
[null,""]
[null,""]
[null,""]
[null,""]
[null,""]
[null,""]
[null,""]
[null,""]
[null,""]
[null,""]
[null,""]
[null,""]
[null,""]
[null,""]
[null,""]
[null,""]
[null,""]
[null,""]
[null,""]
[null,""]
[null,""]
[null,""]
[null,""]
[null,""]
[null,""]
[null,""]
[null,""]
[null,""]
[null,""]
[null,""]
[null,""]
[null,""]
[null,""]
[null,""]
[null,""]
[null,""]
[null,""]
[null,""]
[null,""]
[null,""]
[null,""]
[null,{"$f":"IF(C9507=0,\"\",C9507-C9506)","v":""}]
[null,""]
[null,""]
[null,""]
[null,""]
[null,""]
[null,""]
[null,""]
[null,""]
[null,""]
[null,""]
[null,""]
[null,""]
[null,""]
[null,""]
[null,""]
[null,""]
[null,""]
[null,""]
[null,""]
[null,""]
[null,""]
[null,""]
[null,""]
[null,""]
[null,""]
[null,""]
[null,""]
[null,""]
[null,""]
[null,""]
[null,""]
[null,""]
[null,""]
[null,""]
[null,""]
[null,""]
[null,""]
[null,""]
[null,""]
[null,""]
[null,""]
[null,""]
[null,""]
[null,""]
[null,""]
[null,""]
[null,""]
[null,""]
[null,""]
[null,""]
[null,""]
[null,""]
[null,""]
[null,""]
[null,""]
[null,""]
[null,""]
[null,""]
[null,""]
[null,""]
[null,""]
[null,""]
[null,""]
[null,{"$f":"IF(C9571=0,\"\",C9571-C9570)","v":""}]
[null,""]
[null,""]
[null,""]
[null,""]
[null,""]
[null,""]
[null,""]
[null,""]
[null,""]
[null,""]
[null,""]
[null,""]
[null,""]
[null,""]
[null,""]
[null,""]
[null,""]
[null,""]
[null,""]
[null,""]
[null,""]
[null,""]
[null,""]
[null,""]
[null,""]
[null,""]
[null,""]
[null,""]
[null,""]
[null,""]
[null,""]
[null,""]
[null,""]
[null,""]
[null,""]
[null,""]
[null,""]
[null,""]
[null,""]
[null,""]
[null,""]
[null,""]
[null,""]
[null,""]
[null,""]
[null,""]
[null,""]
[null,""]
[null,""]
[null,""]
[null,""]
[null,""]
[null,""]
[null,""]
[null,""]
[null,""]
[null,""]
[null,""]
[null,""]
[null,""]
[null,""]
[null,""]
[null,""]
[null,{"$f":"IF(C9635=0,\"\",C9635-C9634)","v":""}]
[null,""]
[null,""]
[null,""]
[null,""]
[null,""]
[null,""]
[null,""]
[null,""]
[null,""]
[null,""]
[null,""]
[null,""]
[null,""]
[null,""]
[null,""]
[null,""]
[null,""]
[null,""]
[null,""]
[null,""]
[null,""]
[null,""]
[null,""]
[null,""]
[null,""]
[null,""]
[null,""]
[null,""]
[null,""]
[null,""]
[null,""]
[null,""]
[null,""]
[null,""]
[null,""]
[null,""]
[null,""]
[null,""]
[null,""]
[null,""]
[null,""]
[null,""]
[null,""]
[null,""]
[null,""]
[null,""]
[null,""]
[null,""]
[null,""]
[null,""]
[null,""]
[null,""]
[null,""]
[null,""]
[null,""]
[null,""]
[null,""]
[null,""]
[null,""]
[null,""]
[null,""]
[null,""]
[null,""]
[null,{"$f":"IF(C9699=0,\"\",C9699-C9698)","v":""}]
[null,""]
[null,""]
[null,""]
[null,""]
[null,""]
[null,""]
[null,""]
[null,""]
[null,""]
[null,""]
[null,""]
[null,""]
[null,""]
[null,""]
[null,""]
[null,""]
[null,""]
[null,""]
[null,""]
[null,""]
[null,""]
[null,""]
[null,""]
[null,""]
[null,""]
[null,""]
[null,""]
[null,""]
[null,""]
[null,""]
[null,""]
[null,""]
[null,""]
[null,""]
[null,""]
[null,""]
[null,""]
[null,""]
[null,""]
[null,""]
[null,""]
[null,""]
[null,""]
[null,""]
[null,""]
[null,""]
[null,""]
[null,""]
[null,""]
[null,""]
[null,""]
[null,""]
[null,""]
[null,""]
[null,""]
[null,""]
[null,""]
[null,""]
[null,""]
[null,""]
[null,""]
[null,""]
[null,""]
[null,{"$f":"IF(C9763=0,\"\",C9763-C9762)","v":""}]
[null,""]
[null,""]
[null,""]
[null,""]
[null,""]
[null,""]
[null,""]
[null,""]
[null,""]
[null,""]
[null,""]
[null,""]
[null,""]
[null,""]
[null,""]
[null,""]
[null,""]
[null,""]
[null,""]
[null,""]
[null,""]
[null,""]
[null,""]
[null,""]
[null,""]
[null,""]
[null,""]
[null,""]
[null,""]
[null,""]
[null,""]
[null,""]
[null,""]
[null,""]
[null,""]
[null,""]
[null,""]
[null,""]
[null,""]
[null,""]
[null,""]
[null,""]
[null,""]
[null,""]
[null,""]
[null,""]
[null,""]
[null,""]
[null,""]
[null,""]
[null,""]
[null,""]
[null,""]
[null,""]
[null,""]
[null,""]
[null,""]
[null,""]
[null,""]
[null,""]
[null,""]
[null,""]
[null,""]
[null,{"$f":"IF(C9827=0,\"\",C9827-C9826)","v":""}]
[null,""]
[null,""]
[null,""]
[null,""]
[null,""]
[null,""]
[null,""]
[null,""]
[null,""]
[null,""]
[null,""]
[null,""]
[null,""]
[null,""]
[null,""]
[null,""]
[null,""]
[null,""]
[null,""]
[null,""]
[null,""]
[null,""]
[null,""]
[null,""]
[null,""]
[null,""]
[null,""]
[null,""]
[null,""]
[null,""]
[null,""]
[null,""]
[null,""]
[null,""]
[null,""]
[null,""]
[null,""]
[null,""]
[null,""]
[null,""]
[null,""]
[null,""]
[null,""]
[null,""]
[null,""]
[null,""]
[null,""]
[null,""]
[null,""]
[null,""]
[null,""]
[null,""]
[null,""]
[null,""]
[null,""]
[null,""]
[null,""]
[null,""]
[null,""]
[null,""]
[null,""]
[null,""]
[null,""]
[null,{"$f":"IF(C9891=0,\"\",C9891-C9890)","v":""}]
[null,""]
[null,""]
[null,""]
[null,""]
[null,""]
[null,""]
[null,""]
[null,""]
[null,""]
[null,""]
[null,""]
[null,""]
[null,""]
[null,""]
[null,""]
[null,""]
[null,""]
[null,""]
[null,""]
[null,""]
[null,""]
[null,""]
[null,""]
[null,""]
[null,""]
[null,""]
[null,""]
[null,""]
[null,""]
[null,""]
[null,""]
[null,""]
[null,""]
[null,""]
[null,""]
[null,""]
[null,""]
[null,""]
[null,""]
[null,""]
[null,""]
[null,""]
[null,""]
[null,""]
[null,""]
[null,""]
[null,""]
[null,""]
[null,""]
[null,""]
[null,""]
[null,""]
[null,""]
[null,""]
[null,""]
[null,""]
[null,""]
[null,""]
[null,""]
[null,""]
[null,""]
[null,""]
[null,""]
[null,{"$f":"IF(C9955=0,\"\",C9955-C9954)","v":""}]
[null,""]
[null,""]
[null,""]
[null,""]
[null,""]
[null,""]
[null,""]
[null,""]
[null,""]
[null,""]
[null,""]
[null,""]
[null,""]
[null,""]
[null,""]
[null,""]
[null,""]
[null,""]
[null,""]
[null,""]
[null,""]
[null,""]
[null,""]
[null,""]
[null,""]
[null,""]
[null,""]
[null,""]
[null,""]
[null,""]
[null,""]
[null,""]
[null,""]
[null,""]
[null,""]
[null,""]
[null,""]
[null,""]
[null,""]
[null,""]
[null,""]
[null,""]
[null,""]
[null,""]
[null,""]
[null,""]
[null,""]
[null,""]
[null,""]
[null,""]
[null,""]
[null,""]
[null,""]
[null,""]
[null,""]
[null,""]
[null,""]
[null,""]
[null,""]
[null,""]
[null,""]
[null,""]
[null,""]
[null,{"$f":"IF(C10019=0,\"\",C10019-C10018)","v":""}]
[null,""]
[null,""]
[null,""]
[null,""]
[null,""]
[null,""]
[null,""]
[null,""]
[null,""]
[null,""]
[null,""]
[null,""]
[null,""]
[null,""]
[null,""]
[null,""]
[null,""]
[null,""]
[null,""]
[null,""]
[null,""]
[null,""]
[null,""]
[null,""]
[null,""]
[null,""]
[null,""]
[null,""]
[null,""]
[null,""]
[null,""]
[null,""]
[null,""]
[null,""]
[null,""]
[null,""]
[null,""]
[null,""]
[null,""]
[null,""]
[null,""]
[null,""]
[null,""]
[null,""]
[null,""]
[null,""]
[null,""]
[null,""]
[null,""]
[null,""]
[null,""]
[null,""]
[null,""]
[null,""]
[null,""]
[null,""]
[null,""]
[null,""]
[null,""]
[null,""]
[null,""]
[null,""]
[null,""]
[null,{"$f":"IF(C10083=0,\"\",C10083-C10082)","v":""}]
[null,""]
[null,""]
[null,""]
[null,""]
[null,""]
[null,""]
[null,{"$f":"IF(C10090=0,\"\",C10090-C10089)","v":""}]

{"sheet":"Condition 4","index":8,"n_rows":10089,"n_cols":30,"rows_kept":10089,"cut":false,"hidden":false,"merged":[[205,0,205,3],[206,0,210,1],[206,2,206,3],[207,2,207,3],[208,2,208,3],[209,2,209,3],[210,2,210,3],[211,0,211,3],[212,0,216,1],[212,2,212,3],[213,2,213,3],[214,2,214,3],[215,2,215,3],[216,2,216,3],[193,0,193,3],[194,0,198,1],[194,2,194,3],[195,2,195,3],[196,2,196,3],[197,2,197,3],[198,2,198,3],[199,0,199,3],[200,0,204,1],[200,2,200,3],[201,2,201,3],[202,2,202,3],[203,2,203,3],[204,2,204,3],[181,0,181,3],[182,0,186,1],[182,2,182,3],[183,2,183,3],[184,2,184,3],[185,2,185,3],[186,2,186,3],[187,0,187,3],[188,0,192,1],[188,2,188,3],[189,2,189,3],[190,2,190,3],[191,2,191,3],[192,2,192,3],[169,0,169,3],[170,0,174,1],[170,2,170,3],[171,2,171,3],[172,2,172,3],[173,2,173,3],[174,2,174,3],[175,0,175,3],[176,0,180,1],[176,2,176,3],[177,2,177,3],[178,2,178,3],[179,2,179,3],[180,2,180,3],[158,2,158,3],[159,2,159,3],[160,2,160,3],[161,2,161,3],[162,2,162,3],[163,0,163,3],[164,0,168,1],[164,2,164,3],[165,2,165,3],[166,2,166,3],[167,2,167,3],[168,2,168,3],[247,5,248,5],[247,8,248,8],[247,17,248,17],[139,0,139,3],[140,0,144,1],[140,2,140,3],[141,2,141,3],[142,2,142,3],[143,2,143,3],[144,2,144,3],[145,0,145,3],[146,0,150,1],[146,2,146,3],[147,2,147,3],[148,2,148,3],[149,2,149,3],[150,2,150,3],[220,0,220,3],[221,0,221,3],[222,0,222,3],[223,0,223,3],[224,0,224,3],[225,0,225,3],[217,0,217,6],[218,0,218,3],[219,0,219,3],[128,0,132,1],[128,2,128,3],[129,2,129,3],[130,2,130,3],[131,2,131,3],[132,2,132,3],[133,0,133,3],[134,0,138,1],[134,2,134,3],[135,2,135,3],[136,2,136,3],[137,2,137,3],[138,2,138,3],[151,0,151,3],[152,0,156,1],[152,2,152,3],[153,2,153,3],[154,2,154,3],[155,2,155,3],[156,2,156,3],[157,0,157,3],[158,0,162,1],[98,0,102,1],[98,2,98,3],[99,2,99,3],[100,2,100,3],[101,2,101,3],[102,2,102,3],[103,0,103,3],[104,0,108,1],[104,2,104,3],[105,2,105,3],[106,2,106,3],[107,2,107,3],[108,2,108,3],[28,5,28,6],[29,5,29,6],[26,0,29,2],[5,0,5,2],[5,3,5,6],[6,0,6,6],[7,0,8,0],[10,0,10,3],[25,0,25,3],[25,5,25,6],[26,5,26,6],[27,5,27,6],[0,0,0,6],[2,0,2,2],[2,3,2,6],[3,0,3,2],[3,3,3,6],[4,0,4,2],[4,3,4,6],[23,0,23,6],[24,0,24,3],[24,5,24,6],[11,0,12,2],[13,0,14,2],[15,0,16,2],[17,0,18,2],[19,0,20,2],[21,0,22,1],[21,2,21,3],[22,2,22,3],[1,0,1,2],[1,3,1,6],[96,0,96,3],[97,0,97,3],[35,0,35,3],[30,0,31,2],[30,5,30,6],[31,5,31,6],[32,0,32,6],[33,0,33,3],[34,0,34,3],[34,4,34,6],[37,0,37,3],[38,0,39,0],[38,1,38,3],[39,1,39,3],[40,0,41,0],[40,1,40,3],[41,1,41,3],[42,0,43,0],[42,1,42,3],[43,1,43,3],[44,0,45,0],[44,1,44,3],[45,1,45,3],[46,0,46,3],[127,0,127,3],[109,0,109,3],[110,0,114,1],[110,2,110,3],[111,2,111,3],[112,2,112,3],[113,2,113,3],[114,2,114,3],[115,0,115,3],[116,0,120,1],[116,2,116,3],[117,2,117,3],[118,2,118,3],[119,2,119,3],[120,2,120,3],[121,0,121,3],[122,0,126,1],[122,2,122,3],[123,2,123,3],[124,2,124,3],[125,2,125,3],[126,2,126,3],[232,0,232,3],[239,0,239,6],[240,0,240,3],[241,0,241,3],[242,0,242,3],[243,0,243,3],[226,0,226,3],[227,0,227,3],[228,0,228,3],[229,0,229,3],[230,0,230,3],[231,0,231,3],[233,0,233,6],[234,0,234,3],[235,0,235,3],[236,0,236,3],[237,0,237,3],[238,0,238,3],[246,27,246,29],[244,0,244,6],[245,3,245,12],[245,13,245,14],[245,15,245,29],[246,3,246,5],[246,6,246,8],[246,9,246,11],[246,15,246,17],[246,19,246,22],[246,23,246,26],[49,1,49,3],[50,0,51,0],[50,1,50,3],[51,1,51,3],[64,0,65,0],[64,1,64,3],[65,1,65,3],[52,0,53,0],[52,1,52,3],[53,1,53,3],[54,0,55,0],[54,1,54,3],[55,1,55,3],[56,0,56,3],[57,0,57,3],[58,0,59,0],[58,1,58,3],[59,1,59,3],[74,0,75,0],[74,1,74,3],[75,1,75,3],[36,0,36,3],[66,0,66,3],[67,0,67,3],[68,0,69,0],[68,1,68,3],[69,1,69,3],[70,0,71,0],[70,1,70,3],[71,1,71,3],[72,0,73,0],[72,1,72,3],[73,1,73,3],[60,0,61,0],[60,1,60,3],[61,1,61,3],[62,0,63,0],[62,1,62,3],[63,1,63,3],[47,0,47,3],[48,0,49,0],[48,1,48,3],[76,0,76,3],[77,0,77,3],[78,0,79,0],[78,1,78,3],[79,1,79,3],[80,0,81,0],[80,1,80,3],[81,1,81,3],[82,0,83,0],[82,1,82,3],[83,1,83,3],[92,0,93,0],[92,1,92,3],[93,1,93,3],[94,0,95,0],[94,1,94,3],[95,1,95,3],[84,0,85,0],[84,1,84,3],[85,1,85,3],[86,0,86,3],[87,0,87,3],[88,0,89,0],[88,1,88,3],[89,1,89,3],[90,0,91,0],[90,1,90,3],[91,1,91,3],[8,7,8,18],[10,7,10,9],[11,7,22,9],[10,10,10,12],[10,13,10,15],[10,16,10,18],[11,10,22,12],[11,13,22,15],[11,16,22,18]]}
[{"$f":"'Test Plan'!$A$65","v":"Condition 4"}]
["AHRI Test Stand Inspection Number",null,null,{"$f":"IF('Test Plan'!$B$3=0,\" \",'Test Plan'!$B$2)","v":"FIACCL-230##-1"}]
["AHRI Test Number",null,null,{"$f":"IF('Test Plan'!$B$3=0,\" \",'Test Plan'!$B$3)","v":"ACCL-230##-1-A"}]
["Model Designation",{"$f":"IF('[2]WCCL-DS2'!B4:D4=0,\" \",'[2]WCCL-DS2'!B4:D4)","v":"DEF"},null,{"$f":"IF('Test Plan'!$B$4=0,\" \",'Test Plan'!$B$4)","v":" "}]
["Manufacturer",{"$f":"IF('[2]WCCL-DS2'!B5:D5=0,\" \",'[2]WCCL-DS2'!B5:D5)","v":43101},null,{"$f":"IF('Test Plan'!$B$5=0,\" \",'Test Plan'!$B$5)","v":" "}]
["Test Date",{"$f":"IF('[2]WCCL-DS2'!B6:D6=0,\" \",'[2]WCCL-DS2'!B6:D6)","v":{"$error":"#REF!"}}]
[]
["Measurement Time","Data Points","Units","Period (min)","Mean Intvl. (s)","Max. Intvl. (s)","Max. Intvl. for Avg. of Data (s)"]
[null,{"$f":"COUNTA(C258:C10089)","v":0},"h:mm:ss:ms",{"$f":"(INDEX(C258:C10089,$B$9)-C258)*24*60","v":{"$error":"#VALUE!"}},{"$f":"D9*60/(B9-1)","v":{"$error":"#VALUE!"}},{"$f":"MAX(B258:B10089)*60*60*24","v":0},{"$f":"D9*60/60","v":{"$error":"#VALUE!"}},"Photographs to confirm compliance with Appendix E of AHRI Standards 550/590 and 551/591"]
[]
["Air and Water Measurements",null,null,null,"Units","Evaporator","Condenser","Chiller Condenser Side 1",null,null,"Chiller Condenser Side 2",null,null,"Chiller Condenser Side 3",null,null,"Chiller Condenser Side 4"]
["Atmospheric Pressure",null,null,"Mean",{"$f":"'Test Plan'!$B$41","v":"kPa"},null,{"$f":"IF(O252=\"Yes\",$O$250,$O$256)","v":{"$error":"#DIV/0!"}},"Photo",null,null,"Photo",null,null,"Photo",null,null,"Photo"]
[null,null,null,"St. Dev.",{"$f":"'Test Plan'!$B$41","v":"kPa"},null,{"$f":"IF(O252=\"Yes\",\"Lab Data\",$O$257)","v":{"$error":"#DIV/0!"}}]
["Leaving Water Temperature",null,null,"Mean",{"$f":"'Test Conditions'!$B$18","v":"°C"},{"$f":"IF(F252=\"Yes\",$F$250,$F$256)","v":{"$error":"#DIV/0!"}}]
[null,null,null,"St. Dev.",{"$f":"'Test Conditions'!$B$18","v":"°C"},{"$f":"IF(F252=\"Yes\",\"Lab Data\",$F$257)","v":{"$error":"#DIV/0!"}}]
["Entering Db Air and Water Temperatures",null,null,"Mean",{"$f":"'Test Conditions'!$B$19","v":"°C"},{"$f":"IF(I252=\"Yes\",$I$250,$I$256)","v":{"$error":"#DIV/0!"}},{"$f":"IF(N252=\"Yes\",$N$250,$N$256)","v":{"$error":"#DIV/0!"}}]
[null,null,null,"St. Dev.",{"$f":"'Test Conditions'!$B$19","v":"°C"},{"$f":"IF(I252=\"Yes\",\"Lab Data\",$I$257)","v":{"$error":"#DIV/0!"}},{"$f":"IF(N252=\"Yes\",\"Lab Data\",$N$257)","v":{"$error":"#DIV/0!"}}]
["Water Flow Rate",null,null,"Mean",{"$f":"'Test Conditions'!$B$20","v":"m³/h"},{"$f":"$L$256","v":{"$error":"#DIV/0!"}}]
[null,null,null,"St. Dev.",{"$f":"'Test Conditions'!$B$20","v":"m³/h"},{"$f":"$L$257","v":{"$error":"#DIV/0!"}}]
["Water Pressure Drop",null,null,"Mean",{"$f":"'Test Plan'!$B$127","v":"kPa"},{"$f":"IF('Test Plan'!$B$19=\"I-P\",IF(M252=\"Yes\",$M$250/0.4331,$M$256/0.4331),IF(M252=\"Yes\",$M$250,$M$256))","v":{"$error":"#DIV/0!"}}]
[null,null,null,"St. Dev.",{"$f":"'Test Plan'!$B$127","v":"kPa"},{"$f":"IF(M252=\"Yes\",\"Lab Data\",IF('Test Plan'!$B$19=\"I-P\",$M$257/0.4331,$M$257))","v":{"$error":"#DIV/0!"}}]
[null,null,"Correction (∆padj)",null,{"$f":"'Test Plan'!$B$127","v":"kPa"}]
[null,null,"Corrected (∆pcorrected)",null,{"$f":"'Test Plan'!$B$127","v":"kPa"},{"$f":"F20-F22","v":{"$error":"#DIV/0!"}}]
[]
["Electrical Measurements",null,null,null,"Units","Total"]
["Power",null,null,null,"kW",{"$f":"IF(R252=\"Yes\",$R$250,$R$256)","v":{"$error":"#DIV/0!"}}]
["Voltage",null,null,"Mean","V",{"$f":"IF(R252=\"Yes\",\"Lab Data\",$S$256)","v":{"$error":"#DIV/0!"}}]
[null,null,null,"St. Dev.",{"$f":"E27","v":"V"},{"$f":"IF(R252=\"Yes\",\"Lab Data\",$S$257)","v":{"$error":"#DIV/0!"}}]
[null,null,null,"V1 Balance","%",{"$f":"IF(R252=\"Yes\",\"Lab Data\",ROUND(MAX(ABS($U$256-$T$256),ABS($V$256-$T$256),ABS($W$256-$T$256))/$T$256,4-(1+INT(LOG10(ABS(MAX(ABS($U$256-$T$256),ABS($V$256-$T$256),ABS($W$256-$T$256))/$T$256))))))","v":{"$error":"#DIV/0!"}}]
[null,null,null,"V2 Balance","%",{"$f":"IF(R252=\"Yes\",\"Lab Data\",ROUND(MAX(ABS($Y$256-$X$256),ABS($Z$256-$X$256),ABS($AA$256-$X$256))/$X$256,4-(1+INT(LOG10(ABS(MAX(ABS($Y$256-$X$256),ABS($Z$256-$X$256),ABS($AA$256-$X$256))/$X$256))))))","v":{"$error":"#DIV/0!"}}]
["Frequency",null,null,"Mean","Hz",{"$f":"IF(R252=\"Yes\",\"Lab Data\",$AB$256)","v":{"$error":"#DIV/0!"}}]
[null,null,null,"St. Dev.",{"$f":"E31","v":"Hz"},{"$f":"IF(R252=\"Yes\",\"Lab Data\",$AB$257)","v":{"$error":"#DIV/0!"}}]
[]
["Air Temperature Measurement",null,null,null,"Units",null,"Condenser"]
["Measurement Method"]
["# of Aspirating Psychrometers",null,null,null,"#"]
["Aspirating Psychrometer #1, Mean Air Temperature",null,null,null,{"$f":"'Test Conditions'!$B$19","v":"°C"}]
["# of Air Sampling Trees on Aspirating Psychrometer #1",null,null,null,"#",null,4]
["#1-A\nTemperatures","Air Sampling Tree Thermopile Grid",null,null,{"$f":"'Test Conditions'!$B$19","v":"°C"}]
[null,"Recirculation Thermocouple",null,null,{"$f":"'Test Conditions'!$B$19","v":"°C"}]
["#1-B\nTemperatures","Air Sampling Tree Thermopile Grid",null,null,{"$f":"'Test Conditions'!$B$19","v":"°C"}]
[null,"Recirculation Thermocouple",null,null,{"$f":"'Test Conditions'!$B$19","v":"°C"}]
["#1-C\nTemperatures","Air Sampling Tree Thermopile Grid",null,null,{"$f":"'Test Conditions'!$B$19","v":"°C"}]
[null,"Recirculation Thermocouple",null,null,{"$f":"'Test Conditions'!$B$19","v":"°C"}]
["#1-D\nTemperatures","Air Sampling Tree Thermopile Grid",null,null,{"$f":"'Test Conditions'!$B$19","v":"°C"}]
[null,"Recirculation Thermocouple",null,null,{"$f":"'Test Conditions'!$B$19","v":"°C"}]
["Aspirating Psychrometer #2, Mean Air Temperature",null,null,null,{"$f":"'Test Conditions'!$B$19","v":"°C"}]
["# of Air Sampling Trees on Aspirating Psychrometer #2",null,null,null,"#",null,4]
["#2-A\nTemperatures","Air Sampling Tree Thermopile Grid",null,null,{"$f":"'Test Conditions'!$B$19","v":"°C"}]
[null,"Recirculation Thermocouple",null,null,{"$f":"'Test Conditions'!$B$19","v":"°C"}]
["#2-B\nTemperatures","Air Sampling Tree Thermopile Grid",null,null,{"$f":"'Test Conditions'!$B$19","v":"°C"}]
[null,"Recirculation Thermocouple",null,null,{"$f":"'Test Conditions'!$B$19","v":"°C"}]
["#2-C\nTemperatures","Air Sampling Tree Thermopile Grid",null,null,{"$f":"'Test Conditions'!$B$19","v":"°C"}]
[null,"Recirculation Thermocouple",null,null,{"$f":"'Test Conditions'!$B$19","v":"°C"}]
["#2-D\nTemperatures","Air Sampling Tree Thermopile Grid",null,null,{"$f":"'Test Conditions'!$B$19","v":"°C"}]
[null,"Recirculation Thermocouple",null,null,{"$f":"'Test Conditions'!$B$19","v":"°C"}]
["Aspirating Psychrometer #3, Mean Air Temperature",null,null,null,{"$f":"'Test Conditions'!$B$19","v":"°C"}]
["# of Air Sampling Trees on Aspirating Psychrometer #3",null,null,null,"#",null,4]
["#3-A\nTemperatures","Air Sampling Tree Thermopile Grid",null,null,{"$f":"'Test Conditions'!$B$19","v":"°C"}]
[null,"Recirculation Thermocouple",null,null,{"$f":"'Test Conditions'!$B$19","v":"°C"}]
["#3-B\nTemperatures","Air Sampling Tree Thermopile Grid",null,null,{"$f":"'Test Conditions'!$B$19","v":"°C"}]
[null,"Recirculation Thermocouple",null,null,{"$f":"'Test Conditions'!$B$19","v":"°C"}]
["#3-C\nTemperatures","Air Sampling Tree Thermopile Grid",null,null,{"$f":"'Test Conditions'!$B$19","v":"°C"}]
[null,"Recirculation Thermocouple",null,null,{"$f":"'Test Conditions'!$B$19","v":"°C"}]
["#3-D\nTemperatures","Air Sampling Tree Thermopile Grid",null,null,{"$f":"'Test Conditions'!$B$19","v":"°C"}]
[null,"Recirculation Thermocouple",null,null,{"$f":"'Test Conditions'!$B$19","v":"°C"}]
["Aspirating Psychrometer #4, Mean Air Temperature",null,null,null,{"$f":"'Test Conditions'!$B$19","v":"°C"}]
["# of Air Sampling Trees on Aspirating Psychrometer #4",null,null,null,"#",null,4]
["#4-A\nTemperatures","Air Sampling Tree Thermopile Grid",null,null,{"$f":"'Test Conditions'!$B$19","v":"°C"}]
[null,"Recirculation Thermocouple",null,null,{"$f":"'Test Conditions'!$B$19","v":"°C"}]
["#4-B\nTemperatures","Air Sampling Tree Thermopile Grid",null,null,{"$f":"'Test Conditions'!$B$19","v":"°C"}]
[null,"Recirculation Thermocouple",null,null,{"$f":"'Test Conditions'!$B$19","v":"°C"}]
["#4-C\nTemperatures","Air Sampling Tree Thermopile Grid",null,null,{"$f":"'Test Conditions'!$B$19","v":"°C"}]
[null,"Recirculation Thermocouple",null,null,{"$f":"'Test Conditions'!$B$19","v":"°C"}]
["#4-D\nTemperatures","Air Sampling Tree Thermopile Grid",null,null,{"$f":"'Test Conditions'!$B$19","v":"°C"}]
[null,"Recirculation Thermocouple",null,null,{"$f":"'Test Conditions'!$B$19","v":"°C"}]
["Aspirating Psychrometer #5, Mean Air Temperature",null,null,null,{"$f":"'Test Conditions'!$B$19","v":"°C"}]
["# of Air Sampling Trees on Aspirating Psychrometer #5",null,null,null,"#",null,4]
["#5-A\nTemperatures","Air Sampling Tree Thermopile Grid",null,null,{"$f":"'Test Conditions'!$B$19","v":"°C"}]
[null,"Recirculation Thermocouple",null,null,{"$f":"'Test Conditions'!$B$19","v":"°C"}]
["#5-B\nTemperatures","Air Sampling Tree Thermopile Grid",null,null,{"$f":"'Test Conditions'!$B$19","v":"°C"}]
[null,"Recirculation Thermocouple",null,null,{"$f":"'Test Conditions'!$B$19","v":"°C"}]
["#5-C\nTemperatures","Air Sampling Tree Thermopile Grid",null,null,{"$f":"'Test Conditions'!$B$19","v":"°C"}]
[null,"Recirculation Thermocouple",null,null,{"$f":"'Test Conditions'!$B$19","v":"°C"}]
["#5-D\nTemperatures","Air Sampling Tree Thermopile Grid",null,null,{"$f":"'Test Conditions'!$B$19","v":"°C"}]
[null,"Recirculation Thermocouple",null,null,{"$f":"'Test Conditions'!$B$19","v":"°C"}]
["Aspirating Psychrometer #6, Mean Air Temperature",null,null,null,{"$f":"'Test Conditions'!$B$19","v":"°C"}]
["# of Air Sampling Trees on Aspirating Psychrometer #6",null,null,null,"#",null,4]
["#6-A\nTemperatures","Air Sampling Tree Thermopile Grid",null,null,{"$f":"'Test Conditions'!$B$19","v":"°C"}]
[null,"Recirculation Thermocouple",null,null,{"$f":"'Test Conditions'!$B$19","v":"°C"}]
["#6-B\nTemperatures","Air Sampling Tree Thermopile Grid",null,null,{"$f":"'Test Conditions'!$B$19","v":"°C"}]
[null,"Recirculation Thermocouple",null,null,{"$f":"'Test Conditions'!$B$19","v":"°C"}]
["#6-C\nTemperatures","Air Sampling Tree Thermopile Grid",null,null,{"$f":"'Test Conditions'!$B$19","v":"°C"}]
[null,"Recirculation Thermocouple",null,null,{"$f":"'Test Conditions'!$B$19","v":"°C"}]
["#6-D\nTemperatures","Air Sampling Tree Thermopile Grid",null,null,{"$f":"'Test Conditions'!$B$19","v":"°C"}]
[null,"Recirculation Thermocouple",null,null,{"$f":"'Test Conditions'!$B$19","v":"°C"}]
["# of Air Sampling Arrays",null,null,null,"#"]
["Air Sampling Array #1, Mean Air Temperature",null,null,null,{"$f":"'Test Conditions'!$B$19","v":"°C"},null,{"$f":"AVERAGE(G99:G102)","v":{"$error":"#DIV/0!"}}]
["Air Sampling Array Individual \nMeasurement Temperatures",null,"#1-A",null,{"$f":"'Test Conditions'!$B$19","v":"°C"}]
[null,null,"#1-B",null,{"$f":"'Test Conditions'!$B$19","v":"°C"}]
[null,null,"#1-C",null,{"$f":"'Test Conditions'!$B$19","v":"°C"}]
[null,null,"#1-D",null,{"$f":"'Test Conditions'!$B$19","v":"°C"}]
[null,null,"Recirculation Thermocouple",null,{"$f":"'Test Conditions'!$B$19","v":"°C"}]
["Air Sampling Array #2, Mean Air Temperature",null,null,null,{"$f":"'Test Conditions'!$B$19","v":"°C"},null,{"$f":"AVERAGE(G105:G108)","v":{"$error":"#DIV/0!"}}]
["Air Sampling Array Individual \nMeasurement Temperatures",null,"#2-A",null,{"$f":"'Test Conditions'!$B$19","v":"°C"}]
[null,null,"#2-B",null,{"$f":"'Test Conditions'!$B$19","v":"°C"}]
[null,null,"#2-C",null,{"$f":"'Test Conditions'!$B$19","v":"°C"}]
[null,null,"#2-D",null,{"$f":"'Test Conditions'!$B$19","v":"°C"}]
[null,null,"Recirculation Thermocouple",null,{"$f":"'Test Conditions'!$B$19","v":"°C"}]
["Air Sampling Array #3, Mean Air Temperature",null,null,null,{"$f":"'Test Conditions'!$B$19","v":"°C"},null,{"$f":"AVERAGE(G111:G114)","v":{"$error":"#DIV/0!"}}]
["Air Sampling Array Individual \nMeasurement Temperatures",null,"#3-A",null,{"$f":"'Test Conditions'!$B$19","v":"°C"}]
[null,null,"#3-B",null,{"$f":"'Test Conditions'!$B$19","v":"°C"}]
[null,null,"#3-C",null,{"$f":"'Test Conditions'!$B$19","v":"°C"}]
[null,null,"#3-D",null,{"$f":"'Test Conditions'!$B$19","v":"°C"}]
[null,null,"Recirculation Thermocouple",null,{"$f":"'Test Conditions'!$B$19","v":"°C"}]
["Air Sampling Array #4, Mean Air Temperature",null,null,null,{"$f":"'Test Conditions'!$B$19","v":"°C"},null,{"$f":"AVERAGE(G117:G120)","v":{"$error":"#DIV/0!"}}]
["Air Sampling Array Individual \nMeasurement Temperatures",null,"#4-A",null,{"$f":"'Test Conditions'!$B$19","v":"°C"}]
[null,null,"#4-B",null,{"$f":"'Test Conditions'!$B$19","v":"°C"}]
[null,null,"#4-C",null,{"$f":"'Test Conditions'!$B$19","v":"°C"}]
[null,null,"#4-D",null,{"$f":"'Test Conditions'!$B$19","v":"°C"}]
[null,null,"Recirculation Thermocouple",null,{"$f":"'Test Conditions'!$B$19","v":"°C"}]
["Air Sampling Array #5, Mean Air Temperature",null,null,null,{"$f":"'Test Conditions'!$B$19","v":"°C"},null,{"$f":"AVERAGE(G123:G126)","v":{"$error":"#DIV/0!"}}]
["Air Sampling Array Individual \nMeasurement Temperatures",null,"#5-A",null,{"$f":"'Test Conditions'!$B$19","v":"°C"}]
[null,null,"#5-B",null,{"$f":"'Test Conditions'!$B$19","v":"°C"}]
[null,null,"#5-C",null,{"$f":"'Test Conditions'!$B$19","v":"°C"}]
[null,null,"#5-D",null,{"$f":"'Test Conditions'!$B$19","v":"°C"}]
[null,null,"Recirculation Thermocouple",null,{"$f":"'Test Conditions'!$B$19","v":"°C"}]
["Air Sampling Array #6, Mean Air Temperature",null,null,null,{"$f":"'Test Conditions'!$B$19","v":"°C"},null,{"$f":"AVERAGE(G129:G132)","v":{"$error":"#DIV/0!"}}]
["Air Sampling Array Individual \nMeasurement Temperatures",null,"#6-A",null,{"$f":"'Test Conditions'!$B$19","v":"°C"}]
[null,null,"#6-B",null,{"$f":"'Test Conditions'!$B$19","v":"°C"}]
[null,null,"#6-C",null,{"$f":"'Test Conditions'!$B$19","v":"°C"}]
[null,null,"#6-D",null,{"$f":"'Test Conditions'!$B$19","v":"°C"}]
[null,null,"Recirculation Thermocouple",null,{"$f":"'Test Conditions'!$B$19","v":"°C"}]
["Air Sampling Array #7, Mean Air Temperature",null,null,null,{"$f":"'Test Conditions'!$B$19","v":"°C"},null,{"$f":"AVERAGE(G135:G138)","v":{"$error":"#DIV/0!"}}]
["Air Sampling Array Individual \nMeasurement Temperatures",null,"#7-A",null,{"$f":"'Test Conditions'!$B$19","v":"°C"}]
[null,null,"#7-B",null,{"$f":"'Test Conditions'!$B$19","v":"°C"}]
[null,null,"#7-C",null,{"$f":"'Test Conditions'!$B$19","v":"°C"}]
[null,null,"#7-D",null,{"$f":"'Test Conditions'!$B$19","v":"°C"}]
[null,null,"Recirculation Thermocouple",null,{"$f":"'Test Conditions'!$B$19","v":"°C"}]
["Air Sampling Array #8, Mean Air Temperature",null,null,null,{"$f":"'Test Conditions'!$B$19","v":"°C"},null,{"$f":"AVERAGE(G141:G144)","v":{"$error":"#DIV/0!"}}]
["Air Sampling Array Individual \nMeasurement Temperatures",null,"#8-A",null,{"$f":"'Test Conditions'!$B$19","v":"°C"}]
[null,null,"#8-B",null,{"$f":"'Test Conditions'!$B$19","v":"°C"}]
[null,null,"#8-C",null,{"$f":"'Test Conditions'!$B$19","v":"°C"}]
[null,null,"#8-D",null,{"$f":"'Test Conditions'!$B$19","v":"°C"}]
[null,null,"Recirculation Thermocouple",null,{"$f":"'Test Conditions'!$B$19","v":"°C"}]
["Air Sampling Array #9, Mean Air Temperature",null,null,null,{"$f":"'Test Conditions'!$B$19","v":"°C"},null,{"$f":"AVERAGE(G147:G150)","v":{"$error":"#DIV/0!"}}]
["Air Sampling Array Individual \nMeasurement Temperatures",null,"#9-A",null,{"$f":"'Test Conditions'!$B$19","v":"°C"}]
[null,null,"#9-B",null,{"$f":"'Test Conditions'!$B$19","v":"°C"}]
[null,null,"#9-C",null,{"$f":"'Test Conditions'!$B$19","v":"°C"}]
[null,null,"#9-D",null,{"$f":"'Test Conditions'!$B$19","v":"°C"}]
[null,null,"Recirculation Thermocouple",null,{"$f":"'Test Conditions'!$B$19","v":"°C"}]
["Air Sampling Array #10, Mean Air Temperature",null,null,null,{"$f":"'Test Conditions'!$B$19","v":"°C"},null,{"$f":"AVERAGE(G153:G156)","v":{"$error":"#DIV/0!"}}]
["Air Sampling Array Individual \nMeasurement Temperatures",null,"#10-A",null,{"$f":"'Test Conditions'!$B$19","v":"°C"}]
[null,null,"#10-B",null,{"$f":"'Test Conditions'!$B$19","v":"°C"}]
[null,null,"#10-C",null,{"$f":"'Test Conditions'!$B$19","v":"°C"}]
[null,null,"#10-D",null,{"$f":"'Test Conditions'!$B$19","v":"°C"}]
[null,null,"Recirculation Thermocouple",null,{"$f":"'Test Conditions'!$B$19","v":"°C"}]
["Air Sampling Array #11, Mean Air Temperature",null,null,null,{"$f":"'Test Conditions'!$B$19","v":"°C"},null,{"$f":"AVERAGE(G159:G162)","v":{"$error":"#DIV/0!"}}]
["Air Sampling Array Individual \nMeasurement Temperatures",null,"#11-A",null,{"$f":"'Test Conditions'!$B$19","v":"°C"}]
[null,null,"#11-B",null,{"$f":"'Test Conditions'!$B$19","v":"°C"}]
[null,null,"#11-C",null,{"$f":"'Test Conditions'!$B$19","v":"°C"}]
[null,null,"#11-D",null,{"$f":"'Test Conditions'!$B$19","v":"°C"}]
[null,null,"Recirculation Thermocouple",null,{"$f":"'Test Conditions'!$B$19","v":"°C"}]
["Air Sampling Array #12, Mean Air Temperature",null,null,null,{"$f":"'Test Conditions'!$B$19","v":"°C"},null,{"$f":"AVERAGE(G165:G168)","v":{"$error":"#DIV/0!"}}]
["Air Sampling Array Individual \nMeasurement Temperatures",null,"#12-A",null,{"$f":"'Test Conditions'!$B$19","v":"°C"}]
[null,null,"#12-B",null,{"$f":"'Test Conditions'!$B$19","v":"°C"}]
[null,null,"#12-C",null,{"$f":"'Test Conditions'!$B$19","v":"°C"}]
[null,null,"#12-D",null,{"$f":"'Test Conditions'!$B$19","v":"°C"}]
[null,null,"Recirculation Thermocouple",null,{"$f":"'Test Conditions'!$B$19","v":"°C"}]
["Air Sampling Array #13, Mean Air Temperature",null,null,null,{"$f":"'Test Conditions'!$B$19","v":"°C"},null,{"$f":"AVERAGE(G171:G174)","v":{"$error":"#DIV/0!"}}]
["Air Sampling Array Individual \nMeasurement Temperatures",null,"#13-A",null,{"$f":"'Test Conditions'!$B$19","v":"°C"}]
[null,null,"#13-B",null,{"$f":"'Test Conditions'!$B$19","v":"°C"}]
[null,null,"#13-C",null,{"$f":"'Test Conditions'!$B$19","v":"°C"}]
[null,null,"#13-D",null,{"$f":"'Test Conditions'!$B$19","v":"°C"}]
[null,null,"Recirculation Thermocouple",null,{"$f":"'Test Conditions'!$B$19","v":"°C"}]
["Air Sampling Array #14, Mean Air Temperature",null,null,null,{"$f":"'Test Conditions'!$B$19","v":"°C"},null,{"$f":"AVERAGE(G177:G180)","v":{"$error":"#DIV/0!"}}]
["Air Sampling Array Individual \nMeasurement Temperatures",null,"#14-A",null,{"$f":"'Test Conditions'!$B$19","v":"°C"}]
[null,null,"#14-B",null,{"$f":"'Test Conditions'!$B$19","v":"°C"}]
[null,null,"#14-C",null,{"$f":"'Test Conditions'!$B$19","v":"°C"}]
[null,null,"#14-D",null,{"$f":"'Test Conditions'!$B$19","v":"°C"}]
[null,null,"Recirculation Thermocouple",null,{"$f":"'Test Conditions'!$B$19","v":"°C"}]
["Air Sampling Array #15, Mean Air Temperature",null,null,null,{"$f":"'Test Conditions'!$B$19","v":"°C"},null,{"$f":"AVERAGE(G183:G186)","v":{"$error":"#DIV/0!"}}]
["Air Sampling Array Individual \nMeasurement Temperatures",null,"#15-A",null,{"$f":"'Test Conditions'!$B$19","v":"°C"}]
[null,null,"#15-B",null,{"$f":"'Test Conditions'!$B$19","v":"°C"}]
[null,null,"#15-C",null,{"$f":"'Test Conditions'!$B$19","v":"°C"}]
[null,null,"#15-D",null,{"$f":"'Test Conditions'!$B$19","v":"°C"}]
[null,null,"Recirculation Thermocouple",null,{"$f":"'Test Conditions'!$B$19","v":"°C"}]
["Air Sampling Array #16, Mean Air Temperature",null,null,null,{"$f":"'Test Conditions'!$B$19","v":"°C"},null,{"$f":"AVERAGE(G189:G192)","v":{"$error":"#DIV/0!"}}]
["Air Sampling Array Individual \nMeasurement Temperatures",null,"#16-A",null,{"$f":"'Test Conditions'!$B$19","v":"°C"}]
[null,null,"#16-B",null,{"$f":"'Test Conditions'!$B$19","v":"°C"}]
[null,null,"#16-C",null,{"$f":"'Test Conditions'!$B$19","v":"°C"}]
[null,null,"#16-D",null,{"$f":"'Test Conditions'!$B$19","v":"°C"}]
[null,null,"Recirculation Thermocouple",null,{"$f":"'Test Conditions'!$B$19","v":"°C"}]
["Air Sampling Array #17, Mean Air Temperature",null,null,null,{"$f":"'Test Conditions'!$B$19","v":"°C"},null,{"$f":"AVERAGE(G195:G198)","v":{"$error":"#DIV/0!"}}]
["Air Sampling Array Individual \nMeasurement Temperatures",null,"#17-A",null,{"$f":"'Test Conditions'!$B$19","v":"°C"}]
[null,null,"#17-B",null,{"$f":"'Test Conditions'!$B$19","v":"°C"}]
[null,null,"#17-C",null,{"$f":"'Test Conditions'!$B$19","v":"°C"}]
[null,null,"#17-D",null,{"$f":"'Test Conditions'!$B$19","v":"°C"}]
[null,null,"Recirculation Thermocouple",null,{"$f":"'Test Conditions'!$B$19","v":"°C"}]
["Air Sampling Array #18, Mean Air Temperature",null,null,null,{"$f":"'Test Conditions'!$B$19","v":"°C"},null,{"$f":"AVERAGE(G201:G204)","v":{"$error":"#DIV/0!"}}]
["Air Sampling Array Individual \nMeasurement Temperatures",null,"#18-A",null,{"$f":"'Test Conditions'!$B$19","v":"°C"}]
[null,null,"#18-B",null,{"$f":"'Test Conditions'!$B$19","v":"°C"}]
[null,null,"#18-C",null,{"$f":"'Test Conditions'!$B$19","v":"°C"}]
[null,null,"#18-D",null,{"$f":"'Test Conditions'!$B$19","v":"°C"}]
[null,null,"Recirculation Thermocouple",null,{"$f":"'Test Conditions'!$B$19","v":"°C"}]
["Air Sampling Array #19, Mean Air Temperature",null,null,null,{"$f":"'Test Conditions'!$B$19","v":"°C"},null,{"$f":"AVERAGE(G207:G210)","v":{"$error":"#DIV/0!"}}]
["Air Sampling Array Individual \nMeasurement Temperatures",null,"#19-A",null,{"$f":"'Test Conditions'!$B$19","v":"°C"}]
[null,null,"#19-B",null,{"$f":"'Test Conditions'!$B$19","v":"°C"}]
[null,null,"#19-C",null,{"$f":"'Test Conditions'!$B$19","v":"°C"}]
[null,null,"#19-D",null,{"$f":"'Test Conditions'!$B$19","v":"°C"}]
[null,null,"Recirculation Thermocouple",null,{"$f":"'Test Conditions'!$B$19","v":"°C"}]
["Air Sampling Array #20, Mean Air Temperature",null,null,null,{"$f":"'Test Conditions'!$B$19","v":"°C"},null,{"$f":"AVERAGE(G213:G216)","v":{"$error":"#DIV/0!"}}]
["Air Sampling Array Individual \nMeasurement Temperatures",null,"#20-A",null,{"$f":"'Test Conditions'!$B$19","v":"°C"}]
[null,null,"#20-B",null,{"$f":"'Test Conditions'!$B$19","v":"°C"}]
[null,null,"#20-C",null,{"$f":"'Test Conditions'!$B$19","v":"°C"}]
[null,null,"#20-D",null,{"$f":"'Test Conditions'!$B$19","v":"°C"}]
[null,null,"Recirculation Thermocouple",null,{"$f":"'Test Conditions'!$B$19","v":"°C"}]
[]
["Atmospheric Pressure Correction",null,null,null,"Units","Evaporator","Condenser"]
["Location of Water Flow Meter Relative to Chiller",null,null,null,"-"]
["Water Temperature (T) for Density",null,null,null,{"$f":"'Test Conditions'!$B$18","v":"°C"},{"$f":"IF($F$220=\"Entering\",$F$16,$F$14)","v":{"$error":"#DIV/0!"}}]
["Water Density (ρ)",null,null,null,{"$f":"IF('Test Plan'!$B$19=\"I-P\",'Unit Conversion'!$B$10,'Unit Conversion'!$C$10)","v":"kg/m³"},{"$f":"IF('Test Plan'!$B$19=\"I-P\",(-0.00000000074704*$F$221^4)+(0.00000052643*$F$221^3)+(-0.00018846*$F$221^2)+(0.012164*$F$221)+62.227,((-0.00000012556*$F$221^4)+(0.000040229*$F$221^3)+(-0.0073948*$F$221^2)+(0.046734*$F$221)+1000.2))","v":{"$error":"#DIV/0!"}}]
["Average Water Temperature (T) for Specific Heat & ∆pcorrected Density",null,null,null,{"$f":"'Test Conditions'!$B$18","v":"°C"},{"$f":"AVERAGE($F$14,$F$16)","v":{"$error":"#DIV/0!"}}]
["Water Specific Heat (cp)",null,null,null,{"$f":"IF('Test Plan'!$B$19=\"I-P\",'Unit Conversion'!$B$13,'Unit Conversion'!$C$13)","v":"kJ/kg·K"},{"$f":"IF('Test Plan'!$B$19=\"I-P\",(-0.00000000000040739*$F$223^5)+(0.00000000031031*$F$223^4)+(-0.000000092501*$F$223^3)+(0.000014071*$F$223^2)+(-0.0010677*$F$223)+1.0295,((-0.00000000003222*$F$223^5)+(0.00000001077*$F$223^4)+(-0.0000013901*$F$223^3)+(0.000094433*$F$223^2)+(-0.0031103*$F$223)+4.216))","v":{"$error":"#DIV/0!"}}]
["Water Density (ρ) for ∆pcorrected",null,null,null,{"$f":"IF('Test Plan'!$B$19=\"I-P\",'Unit Conversion'!$B$10,'Unit Conversion'!$C$10)","v":"kg/m³"},{"$f":"IF('Test Plan'!$B$19=\"I-P\",(-0.00000000074704*$F$223^4)+(0.00000052643*$F$223^3)+(-0.00018846*$F$223^2)+(0.012164*$F$223)+62.227,((-0.00000012556*$F$223^4)+(0.000040229*$F$223^3)+(-0.0073948*$F$223^2)+(0.046734*$F$223)+1000.2))","v":{"$error":"#DIV/0!"}}]
["Water Mass Flow Rate (mw)",null,null,null,{"$f":"IF('Test Plan'!$B$19=\"I-P\",'Unit Conversion'!$B$11,'Unit Conversion'!$C$11)","v":"kg/h"},{"$f":"IF('Test Plan'!$B$19=\"I-P\",$F$18*$F$222/0.124675,$F$18*$F$222)","v":{"$error":"#DIV/0!"}}]
["Gross Refrigeranting Capacity (Q'ev)",null,null,null,{"$f":"'Test Plan'!$B$125","v":"kW"},{"$f":"IF('Test Plan'!$B$19=\"I-P\",$F$226*($F$224*ABS($F$16-$F$14)+(0.18505*$F$23/$F$225*0.4331))/12000,$F$226*($F$224*ABS($F$16-$F$14)+($F$23/$F$225))/3600)","v":{"$error":"#DIV/0!"}}]
["Net Refrigerating Capacity (Qev)",null,null,null,{"$f":"'Test Plan'!$B$125","v":"kW"},{"$f":"IF('Test Plan'!$B$19=\"I-P\",$F$226*($F$224*ABS($F$16-$F$14))/12000,IF('Test Plan'!$B$17=\"EN 14511 and 14825\",$F$226*($F$224*ABS($F$16-$F$14))/3600-$F$238,$F$226*($F$224*ABS($F$16-$F$14))/3600))","v":{"$error":"#DIV/0!"}}]
["Cooling Energy Efficiency",null,null,null,{"$f":"'Test Plan'!$B$126","v":"kW/kW"},{"$f":"IF('Test Plan'!$B$19=\"I-P\",$F$26/$F$228,IF('Test Plan'!$B$17=\"EN 14511 and 14825\",$F$228/($F$26+$F$239),$F$228/$F$26))","v":{"$error":"#DIV/0!"}}]
["Coefficient Correction Factor (Capacity), DQ",null,null,null,"-",null,{"$f":"IF('Test Plan'!$B$19=\"I-P\",0.0011273*$G$12^2-0.041272*$G$12+1.36304,0.000023713*$G$12^2-0.005986*$G$12+1.36304)","v":{"$error":"#DIV/0!"}}]
["Coefficient Correction Factor (Efficiency), Dƞ",null,null,null,"-",null,{"$f":"IF('Test Plan'!$B$19=\"I-P\",0.0024308*$G$12^2-0.090075*$G$12+1.79872,0.000051135*$G$12^2-0.013064*$G$12+1.79872)","v":{"$error":"#DIV/0!"}}]
["Correction Factor (Capacity), CFQ",null,null,null,"-",null,{"$f":"IF('Test Plan'!$B$19=\"I-P\",1+($F$228/'100% Load Condition '!$F$228)*($G$230-1)*EXP(-0.35*(($G$231*(12/'100% Load Condition '!$F$229))-9.6)),1+($F$228/'100% Load Condition '!$F$228)*($G$230-1)*EXP(-0.35*((3.41214*$G$231*'100% Load Condition '!$F$229)-9.6)))","v":{"$error":"#DIV/0!"}}]
["Correction Factor (Efficiency), CFƞ",null,null,null,"-",null,{"$f":"IF('Test Plan'!$B$19=\"I-P\",1+($F$228/'100% Load Condition '!$F$228)*($G$231-1)*EXP(-0.35*(($G$231*(12/'100% Load Condition '!$F$229))-9.6)),1+($F$228/'100% Load Condition '!$F$228)*($G$231-1)*EXP(-0.35*((3.41214*$G$231*'100% Load Condition '!$F$229)-9.6)))","v":{"$error":"#DIV/0!"}}]
[]
["Pump Power Correction",null,null,null,"Units","Evaporator"]
["Hydraulic Pump Power (Phyd)",null,null,null,"W",{"$f":"($F$18/(60*60))*$F$23*1000","v":{"$error":"#DIV/0!"}}]
["Pump Efficiency (η)",null,null,null,"kW/kW",{"$f":"IF($F$236<=300,((0.35844*$F$236)/(1.7*$F$236+17*(1-EXP(-0.3*$F$236))))*(0.49/0.23),IF($F$236<=500,0.0721*$F$236^0.3183,0.092*LN($F$236)-0.0403))","v":{"$error":"#DIV/0!"}}]
["Pump Capacity Correction",null,null,null,"kW",{"$f":"IF($F$236<=0.3,($F$18/(60*60))*($F$23)*((1-$F$237)/$F$237),($F$18/(60*60))*($F$23)*((0.88-$F$237)/$F$237))","v":{"$error":"#DIV/0!"}}]
["Pump Power Correction",null,null,null,"kW",{"$f":"($F$18/(60*60))*($F$23)/$F$237","v":{"$error":"#DIV/0!"}}]
[]
["Test Result",null,null,null,"Units","Evaporator"]
["Corrected Net Refrigerating Capacity (Qev)",null,null,null,{"$f":"'Test Plan'!$B$125","v":"kW"},{"$f":"$F$228*$G$232","v":{"$error":"#DIV/0!"}}]
["Corrected Cooling Energy Efficiency",null,null,null,{"$f":"'Test Plan'!$B$126","v":"kW/kW"},{"$f":"IF('Test Plan'!$B$19=\"I-P\",$F$229/$G$233,$F$229*$G$233)","v":{"$error":"#DIV/0!"}}]
["Water Pressure Drop",null,null,null,{"$f":"'Test Plan'!$B$127","v":"kPa"},{"$f":"$F$23","v":{"$error":"#DIV/0!"}}]
[]
[null,null,null,"Evaporator Water",null,null,null,null,null,null,null,null,null,"Condenser Air",null,"Electrical"]
[null,null,null,"Lvg. Temp.",null,null,"Ent. Temp.",null,null,"Flow Rate",null,null,null,null,null,"Power",null,null,"Total Voltage","Voltage 1",null,null,null,"Voltage 2",null,null,null,"Frequency"]
["Laboratory Data","Start Time","Stop Time",null,null,{"$f":"'Test Conditions'!$B$18","v":"°C"},null,null,{"$f":"'Test Conditions'!$B$18","v":"°C"},null,null,null,"Press. Drop","Ent. Temp.","Atm Press.",null,null,"kW"]
["Unit",{"$f":"$C$9","v":"h:mm:ss:ms"},{"$f":"$C$9","v":"h:mm:ss:ms"},null,null,null,null,null,null,null,null,null,{"$f":"IF('Test Plan'!$B$19=\"I-P\",'Unit Conversion'!$B$9,'Unit Conversion'!$C$9)","v":"kPa"},{"$f":"'Test Conditions'!$B$19","v":"°C"},{"$f":"IF('Test Plan'!$B$19=\"I-P\",'Unit Conversion'!$B$7,'Unit Conversion'!$C$7)","v":"kPa"}]
["Mean"]
["Data Comparison",{"$f":"ABS(B250-Zero)*24*60*60","v":0},{"$f":"ABS(C250-INDEX(Zero:C10202,$B$10))*24*60*60","v":{"$error":"#VALUE!"}},null,null,{"$f":"ABS(F250-F256)","v":{"$error":"#DIV/0!"}},null,null,{"$f":"ABS(I250-I256)","v":{"$error":"#DIV/0!"}},null,null,null,{"$f":"ABS(M250-M256)","v":{"$error":"#DIV/0!"}},{"$f":"ABS(N250-N256)","v":{"$error":"#DIV/0!"}},{"$f":"ABS(O250-O256)/O256","v":{"$error":"#DIV/0!"}},null,null,{"$f":"ABS(R250-R256)/R256","v":{"$error":"#DIV/0!"}}]
["Use Lab Data?"]
["Test Stand Data","Time Interval","Time Stamp",1,2,"Avg.",1,2,"Avg.",1,2,"Avg.","Press. Drop","Ent. Temp.","Atm Press.",1,2,"Avg.","Avg","Avg."," A-B"," B-C"," C-A","Avg."," A-B"," B-C"," C-A","Avg.",1,2]
["Unit",{"$f":"$C$9","v":"h:mm:ss:ms"},{"$f":"$C$9","v":"h:mm:ss:ms"},{"$f":"'Test Conditions'!$B$18","v":"°C"},{"$f":"'Test Conditions'!$B$18","v":"°C"},{"$f":"'Test Conditions'!$B$18","v":"°C"},{"$f":"'Test Conditions'!$B$19","v":"°C"},{"$f":"'Test Conditions'!$B$19","v":"°C"},{"$f":"'Test Conditions'!$B$19","v":"°C"},{"$f":"'Test Conditions'!$B$20","v":"m³/h"},{"$f":"'Test Conditions'!$B$20","v":"m³/h"},{"$f":"'Test Conditions'!$B$20","v":"m³/h"},{"$f":"IF('Test Plan'!$B$19=\"I-P\",'Unit Conversion'!$B$9,'Unit Conversion'!$C$9)","v":"kPa"},{"$f":"'Test Conditions'!$B$19","v":"°C"},{"$f":"IF('Test Plan'!$B$19=\"I-P\",'Unit Conversion'!$B$7,'Unit Conversion'!$C$7)","v":"kPa"},"kW","kW","kW","V","V","V","V","V","V","V","V","V","Hz","Hz","Hz"]
["Rating","-","-",{"$f":"'Test Conditions'!$C$48","v":{"$error":"#VALUE!"}},{"$f":"'Test Conditions'!$C$48","v":{"$error":"#VALUE!"}},{"$f":"'Test Conditions'!$C$48","v":{"$error":"#VALUE!"}},{"$f":"'Test Plan'!$C$67","v":0},{"$f":"'Test Plan'!$C$67","v":0},{"$f":"'Test Plan'!$C$67","v":0},{"$f":"'Test Plan'!$C$69","v":0},{"$f":"'Test Plan'!$C$69","v":0},{"$f":"'Test Plan'!$C$69","v":0},{"$f":"IF('Test Plan'!$B$19=\"I-P\",'Test Plan'!$C$127*0.4331,'Test Plan'!$C$127)","v":0},{"$f":"'Test Conditions'!$D$49","v":0},{"$f":"'Test Plan'!$C$41","v":101.33},{"$f":"'Test Plan'!$C$71","v":""},{"$f":"'Test Plan'!$C$71","v":""},{"$f":"'Test Plan'!$C$71","v":""},{"$f":"'Test Plan'!$B$14","v":0},{"$f":"'Test Plan'!$B$14","v":0},{"$f":"'Test Plan'!$B$14","v":0},{"$f":"'Test Plan'!$B$14","v":0},{"$f":"'Test Plan'!$B$14","v":0},{"$f":"'Test Plan'!$B$14","v":0},{"$f":"'Test Plan'!$B$14","v":0},{"$f":"'Test Plan'!$B$14","v":0},{"$f":"'Test Plan'!$B$14","v":0},{"$f":"'Test Plan'!$D$14","v":0},{"$f":"'Test Plan'!$D$14","v":0},{"$f":"'Test Plan'!$D$14","v":0}]
["Mean","-","-",{"$f":"AVERAGE(D258:INDEX(D258:D10089,$B$9))","v":{"$error":"#DIV/0!"}},{"$f":"AVERAGE(E258:INDEX(E258:E10089,$B$9))","v":{"$error":"#DIV/0!"}},{"$f":"AVERAGE(D256:E256)","v":{"$error":"#DIV/0!"}},{"$f":"AVERAGE(G258:INDEX(G258:G10089,$B$9))","v":{"$error":"#DIV/0!"}},{"$f":"AVERAGE(H258:INDEX(H258:H10089,$B$9))","v":{"$error":"#DIV/0!"}},{"$f":"AVERAGE(G256:H256)","v":{"$error":"#DIV/0!"}},{"$f":"AVERAGE(J258:INDEX(J258:J10089,$B$9))","v":{"$error":"#DIV/0!"}},{"$f":"AVERAGE(K258:INDEX(K258:K10089,$B$9))","v":{"$error":"#DIV/0!"}},{"$f":"AVERAGE(J256:K256)","v":{"$error":"#DIV/0!"}},{"$f":"AVERAGE(M258:INDEX(M258:M10089,$B$9))","v":{"$error":"#DIV/0!"}},{"$f":"AVERAGE(N258:INDEX(N258:N10089,$B$9))","v":{"$error":"#DIV/0!"}},{"$f":"AVERAGE(O258:INDEX(O258:O10089,$B$9))","v":{"$error":"#DIV/0!"}},{"$f":"AVERAGE(P258:INDEX(P258:P10089,$B$9))","v":{"$error":"#DIV/0!"}},{"$f":"AVERAGE(Q258:INDEX(Q258:Q10089,$B$9))","v":{"$error":"#DIV/0!"}},{"$f":"AVERAGE(P256:Q256)","v":{"$error":"#DIV/0!"}},{"$f":"AVERAGE(T256,X256)","v":{"$error":"#DIV/0!"}},{"$f":"AVERAGE(T258:INDEX(T258:T10089,$B$9))","v":{"$error":"#DIV/0!"}},{"$f":"AVERAGE(U258:INDEX(U258:U10089,$B$9))","v":{"$error":"#DIV/0!"}},{"$f":"AVERAGE(V258:INDEX(V258:V10089,$B$9))","v":{"$error":"#DIV/0!"}},{"$f":"AVERAGE(W258:INDEX(W258:W10089,$B$9))","v":{"$error":"#DIV/0!"}},{"$f":"AVERAGE(X258:INDEX(X258:X10089,$B$9))","v":{"$error":"#DIV/0!"}},{"$f":"AVERAGE(Y258:INDEX(Y258:Y10089,$B$9))","v":{"$error":"#DIV/0!"}},{"$f":"AVERAGE(Z258:INDEX(Z258:Z10089,$B$9))","v":{"$error":"#DIV/0!"}},{"$f":"AVERAGE(AA258:INDEX(AA258:AA10089,$B$9))","v":{"$error":"#DIV/0!"}},{"$f":"AVERAGE(AC256:AD256)","v":{"$error":"#DIV/0!"}},{"$f":"AVERAGE(AC258:INDEX(AC258:AC10089,$B$9))","v":{"$error":"#DIV/0!"}},{"$f":"AVERAGE(AD258:INDEX(AD258:AD10089,$B$9))","v":{"$error":"#DIV/0!"}}]
["St. Dev.","-","-",{"$f":"_xlfn.STDEV.S(D258:INDEX(D258:D10089,$B$9))","v":{"$error":"#DIV/0!"}},{"$f":"_xlfn.STDEV.S(E258:INDEX(E258:E10089,$B$9))","v":{"$error":"#DIV/0!"}},{"$f":"SQRT((D257^2+E257^2)/2)","v":{"$error":"#DIV/0!"}},{"$f":"_xlfn.STDEV.S(G258:INDEX(G258:G10089,$B$9))","v":{"$error":"#DIV/0!"}},{"$f":"_xlfn.STDEV.S(H258:INDEX(H258:H10089,$B$9))","v":{"$error":"#DIV/0!"}},{"$f":"SQRT((G257^2+H257^2)/2)","v":{"$error":"#DIV/0!"}},{"$f":"_xlfn.STDEV.S(J258:INDEX(J258:J10089,$B$9))","v":{"$error":"#DIV/0!"}},{"$f":"_xlfn.STDEV.S(K258:INDEX(K258:K10089,$B$9))","v":{"$error":"#DIV/0!"}},{"$f":"SQRT((J257^2+K257^2)/2)","v":{"$error":"#DIV/0!"}},{"$f":"_xlfn.STDEV.S(M258:INDEX(M258:M10089,$B$9))","v":{"$error":"#DIV/0!"}},{"$f":"_xlfn.STDEV.S(N258:INDEX(N258:N10089,$B$9))","v":{"$error":"#DIV/0!"}},{"$f":"_xlfn.STDEV.S(O258:INDEX(O258:O10089,$B$9))","v":{"$error":"#DIV/0!"}},{"$f":"_xlfn.STDEV.S(P258:INDEX(P258:P10089,$B$9))","v":{"$error":"#DIV/0!"}},{"$f":"_xlfn.STDEV.S(Q258:INDEX(Q258:Q10089,$B$9))","v":{"$error":"#DIV/0!"}},{"$f":"SQRT((P257^2+Q257^2)/2)","v":{"$error":"#DIV/0!"}},{"$f":"SQRT((T257^2+X257^2)/2)","v":{"$error":"#DIV/0!"}},{"$f":"_xlfn.STDEV.S(T258:INDEX(T258:T10089,$B$9))","v":{"$error":"#DIV/0!"}},{"$f":"_xlfn.STDEV.S(U258:INDEX(U258:U10089,$B$9))","v":{"$error":"#DIV/0!"}},{"$f":"_xlfn.STDEV.S(V258:INDEX(V258:V10089,$B$9))","v":{"$error":"#DIV/0!"}},{"$f":"_xlfn.STDEV.S(W258:INDEX(W258:W10089,$B$9))","v":{"$error":"#DIV/0!"}},{"$f":"_xlfn.STDEV.S(X258:INDEX(X258:X10089,$B$9))","v":{"$error":"#DIV/0!"}},{"$f":"_xlfn.STDEV.S(Y258:INDEX(Y258:Y10089,$B$9))","v":{"$error":"#DIV/0!"}},{"$f":"_xlfn.STDEV.S(Z258:INDEX(Z258:Z10089,$B$9))","v":{"$error":"#DIV/0!"}},{"$f":"_xlfn.STDEV.S(AA258:INDEX(AA258:AA10089,$B$9))","v":{"$error":"#DIV/0!"}},{"$f":"SQRT((AC257^2+AD257^2)/2)","v":{"$error":"#DIV/0!"}},{"$f":"_xlfn.STDEV.S(AC258:INDEX(AC258:AC10089,$B$9))","v":{"$error":"#DIV/0!"}},{"$f":"_xlfn.STDEV.S(AD258:INDEX(AD258:AD10089,$B$9))","v":{"$error":"#DIV/0!"}}]
[null,{"$f":"C259-C258","v":"00:00:00"}]
[null,{"$f":"C260-C259","v":"00:00:00"}]
[null,{"$f":"C261-C260","v":"00:00:00"}]
[null,"00:00:00"]
[null,"00:00:00"]
[null,"00:00:00"]
[null,"00:00:00"]
[null,"00:00:00"]
[null,"00:00:00"]
[null,"00:00:00"]
[null,"00:00:00"]
[null,"00:00:00"]
[null,"00:00:00"]
[null,"00:00:00"]
[null,"00:00:00"]
[null,"00:00:00"]
[null,"00:00:00"]
[null,"00:00:00"]
[null,"00:00:00"]
[null,"00:00:00"]
[null,"00:00:00"]
[null,"00:00:00"]
[null,"00:00:00"]
[null,"00:00:00"]
[null,"00:00:00"]
[null,"00:00:00"]
[null,"00:00:00"]
[null,{"$f":"C286-C285","v":"00:00:00"}]
[null,{"$f":"C287-C286","v":"00:00:00"}]
[null,{"$f":"IF(C288=0,\"\",C288-C287)","v":""}]
[null,{"$f":"IF(C289=0,\"\",C289-C288)","v":""}]
[null,{"$f":"IF(C290=0,\"\",C290-C289)","v":""}]
[null,{"$f":"IF(C291=0,\"\",C291-C290)","v":""}]
[null,""]
[null,""]
[null,""]
[null,""]
[null,""]
[null,""]
[null,""]
[null,""]
[null,""]
[null,""]
[null,""]
[null,""]
[null,""]
[null,""]
[null,""]
[null,""]
[null,""]
[null,""]
[null,""]
[null,""]
[null,""]
[null,""]
[null,""]
[null,""]
[null,""]
[null,""]
[null,""]
[null,""]
[null,""]
[null,""]
[null,""]
[null,""]
[null,""]
[null,""]
[null,""]
[null,""]
[null,""]
[null,""]
[null,""]
[null,""]
[null,""]
[null,""]
[null,""]
[null,""]
[null,""]
[null,""]
[null,""]
[null,""]
[null,""]
[null,""]
[null,""]
[null,""]
[null,""]
[null,""]
[null,""]
[null,""]
[null,""]
[null,""]
[null,""]
[null,""]
[null,""]
[null,""]
[null,""]
[null,{"$f":"IF(C355=0,\"\",C355-C354)","v":""}]
[null,""]
[null,""]
[null,""]
[null,""]
[null,""]
[null,""]
[null,""]
[null,""]
[null,""]
[null,""]
[null,""]
[null,""]
[null,""]
[null,""]
[null,""]
[null,""]
[null,""]
[null,""]
[null,""]
[null,""]
[null,""]
[null,""]
[null,""]
[null,""]
[null,""]
[null,""]
[null,""]
[null,""]
[null,""]
[null,""]
[null,""]
[null,""]
[null,""]
[null,""]
[null,""]
[null,""]
[null,""]
[null,""]
[null,""]
[null,""]
[null,""]
[null,""]
[null,""]
[null,""]
[null,""]
[null,""]
[null,""]
[null,""]
[null,""]
[null,""]
[null,""]
[null,""]
[null,""]
[null,""]
[null,""]
[null,""]
[null,""]
[null,""]
[null,""]
[null,""]
[null,""]
[null,""]
[null,""]
[null,{"$f":"IF(C419=0,\"\",C419-C418)","v":""}]
[null,""]
[null,""]
[null,""]
[null,""]
[null,""]
[null,""]
[null,""]
[null,""]
[null,""]
[null,""]
[null,""]
[null,""]
[null,""]
[null,""]
[null,""]
[null,""]
[null,""]
[null,""]
[null,""]
[null,""]
[null,""]
[null,""]
[null,""]
[null,""]
[null,""]
[null,""]
[null,""]
[null,""]
[null,""]
[null,""]
[null,""]
[null,""]
[null,""]
[null,""]
[null,""]
[null,""]
[null,""]
[null,""]
[null,""]
[null,""]
[null,""]
[null,""]
[null,""]
[null,""]
[null,""]
[null,""]
[null,""]
[null,""]
[null,""]
[null,""]
[null,""]
[null,""]
[null,""]
[null,""]
[null,""]
[null,""]
[null,""]
[null,""]
[null,""]
[null,""]
[null,""]
[null,""]
[null,""]
[null,{"$f":"IF(C483=0,\"\",C483-C482)","v":""}]
[null,""]
[null,""]
[null,""]
[null,""]
[null,""]
[null,""]
[null,""]
[null,""]
[null,""]
[null,""]
[null,""]
[null,""]
[null,""]
[null,""]
[null,""]
[null,""]
[null,""]
[null,""]
[null,""]
[null,""]
[null,""]
[null,""]
[null,""]
[null,""]
[null,""]
[null,""]
[null,""]
[null,""]
[null,""]
[null,""]
[null,""]
[null,""]
[null,""]
[null,""]
[null,""]
[null,""]
[null,""]
[null,""]
[null,""]
[null,""]
[null,""]
[null,""]
[null,""]
[null,""]
[null,""]
[null,""]
[null,""]
[null,""]
[null,""]
[null,""]
[null,""]
[null,""]
[null,""]
[null,""]
[null,""]
[null,""]
[null,""]
[null,""]
[null,""]
[null,""]
[null,""]
[null,""]
[null,""]
[null,{"$f":"IF(C547=0,\"\",C547-C546)","v":""}]
[null,""]
[null,""]
[null,""]
[null,""]
[null,""]
[null,""]
[null,""]
[null,""]
[null,""]
[null,""]
[null,""]
[null,""]
[null,""]
[null,""]
[null,""]
[null,""]
[null,""]
[null,""]
[null,""]
[null,""]
[null,""]
[null,""]
[null,""]
[null,""]
[null,""]
[null,""]
[null,""]
[null,""]
[null,""]
[null,""]
[null,""]
[null,""]
[null,""]
[null,""]
[null,""]
[null,""]
[null,""]
[null,""]
[null,""]
[null,""]
[null,""]
[null,""]
[null,""]
[null,""]
[null,""]
[null,""]
[null,""]
[null,""]
[null,""]
[null,""]
[null,""]
[null,""]
[null,""]
[null,""]
[null,""]
[null,""]
[null,""]
[null,""]
[null,""]
[null,""]
[null,""]
[null,""]
[null,""]
[null,{"$f":"IF(C611=0,\"\",C611-C610)","v":""}]
[null,""]
[null,""]
[null,""]
[null,""]
[null,""]
[null,""]
[null,""]
[null,""]
[null,""]
[null,""]
[null,""]
[null,""]
[null,""]
[null,""]
[null,""]
[null,""]
[null,""]
[null,""]
[null,""]
[null,""]
[null,""]
[null,""]
[null,""]
[null,""]
[null,""]
[null,""]
[null,""]
[null,""]
[null,""]
[null,""]
[null,""]
[null,""]
[null,""]
[null,""]
[null,""]
[null,""]
[null,""]
[null,""]
[null,""]
[null,""]
[null,""]
[null,""]
[null,""]
[null,""]
[null,""]
[null,""]
[null,""]
[null,""]
[null,""]
[null,""]
[null,""]
[null,""]
[null,""]
[null,""]
[null,""]
[null,""]
[null,""]
[null,""]
[null,""]
[null,""]
[null,""]
[null,""]
[null,""]
[null,{"$f":"IF(C675=0,\"\",C675-C674)","v":""}]
[null,""]
[null,""]
[null,""]
[null,""]
[null,""]
[null,""]
[null,""]
[null,""]
[null,""]
[null,""]
[null,""]
[null,""]
[null,""]
[null,""]
[null,""]
[null,""]
[null,""]
[null,""]
[null,""]
[null,""]
[null,""]
[null,""]
[null,""]
[null,""]
[null,""]
[null,""]
[null,""]
[null,""]
[null,""]
[null,""]
[null,""]
[null,""]
[null,""]
[null,""]
[null,""]
[null,""]
[null,""]
[null,""]
[null,""]
[null,""]
[null,""]
[null,""]
[null,""]
[null,""]
[null,""]
[null,""]
[null,""]
[null,""]
[null,""]
[null,""]
[null,""]
[null,""]
[null,""]
[null,""]
[null,""]
[null,""]
[null,""]
[null,""]
[null,""]
[null,""]
[null,""]
[null,""]
[null,""]
[null,{"$f":"IF(C739=0,\"\",C739-C738)","v":""}]
[null,""]
[null,""]
[null,""]
[null,""]
[null,""]
[null,""]
[null,""]
[null,""]
[null,""]
[null,""]
[null,""]
[null,""]
[null,""]
[null,""]
[null,""]
[null,""]
[null,""]
[null,""]
[null,""]
[null,""]
[null,""]
[null,""]
[null,""]
[null,""]
[null,""]
[null,""]
[null,""]
[null,""]
[null,""]
[null,""]
[null,""]
[null,""]
[null,""]
[null,""]
[null,""]
[null,""]
[null,""]
[null,""]
[null,""]
[null,""]
[null,""]
[null,""]
[null,""]
[null,""]
[null,""]
[null,""]
[null,""]
[null,""]
[null,""]
[null,""]
[null,""]
[null,""]
[null,""]
[null,""]
[null,""]
[null,""]
[null,""]
[null,""]
[null,""]
[null,""]
[null,""]
[null,""]
[null,""]
[null,{"$f":"IF(C803=0,\"\",C803-C802)","v":""}]
[null,""]
[null,""]
[null,""]
[null,""]
[null,""]
[null,""]
[null,""]
[null,""]
[null,""]
[null,""]
[null,""]
[null,""]
[null,""]
[null,""]
[null,""]
[null,""]
[null,""]
[null,""]
[null,""]
[null,""]
[null,""]
[null,""]
[null,""]
[null,""]
[null,""]
[null,""]
[null,""]
[null,""]
[null,""]
[null,""]
[null,""]
[null,""]
[null,""]
[null,""]
[null,""]
[null,""]
[null,""]
[null,""]
[null,""]
[null,""]
[null,""]
[null,""]
[null,""]
[null,""]
[null,""]
[null,""]
[null,""]
[null,""]
[null,""]
[null,""]
[null,""]
[null,""]
[null,""]
[null,""]
[null,""]
[null,""]
[null,""]
[null,""]
[null,""]
[null,""]
[null,""]
[null,""]
[null,""]
[null,{"$f":"IF(C867=0,\"\",C867-C866)","v":""}]
[null,""]
[null,""]
[null,""]
[null,""]
[null,""]
[null,""]
[null,""]
[null,""]
[null,""]
[null,""]
[null,""]
[null,""]
[null,""]
[null,""]
[null,""]
[null,""]
[null,""]
[null,""]
[null,""]
[null,""]
[null,""]
[null,""]
[null,""]
[null,""]
[null,""]
[null,""]
[null,""]
[null,""]
[null,""]
[null,""]
[null,""]
[null,""]
[null,""]
[null,""]
[null,""]
[null,""]
[null,""]
[null,""]
[null,""]
[null,""]
[null,""]
[null,""]
[null,""]
[null,""]
[null,""]
[null,""]
[null,""]
[null,""]
[null,""]
[null,""]
[null,""]
[null,""]
[null,""]
[null,""]
[null,""]
[null,""]
[null,""]
[null,""]
[null,""]
[null,""]
[null,""]
[null,""]
[null,""]
[null,{"$f":"IF(C931=0,\"\",C931-C930)","v":""}]
[null,""]
[null,""]
[null,""]
[null,""]
[null,""]
[null,""]
[null,""]
[null,""]
[null,""]
[null,""]
[null,""]
[null,""]
[null,""]
[null,""]
[null,""]
[null,""]
[null,""]
[null,""]
[null,""]
[null,""]
[null,""]
[null,""]
[null,""]
[null,""]
[null,""]
[null,""]
[null,""]
[null,""]
[null,""]
[null,""]
[null,""]
[null,""]
[null,""]
[null,""]
[null,""]
[null,""]
[null,""]
[null,""]
[null,""]
[null,""]
[null,""]
[null,""]
[null,""]
[null,""]
[null,""]
[null,""]
[null,""]
[null,""]
[null,""]
[null,""]
[null,""]
[null,""]
[null,""]
[null,""]
[null,""]
[null,""]
[null,""]
[null,""]
[null,""]
[null,""]
[null,""]
[null,""]
[null,""]
[null,{"$f":"IF(C995=0,\"\",C995-C994)","v":""}]
[null,""]
[null,""]
[null,""]
[null,""]
[null,""]
[null,""]
[null,""]
[null,""]
[null,""]
[null,""]
[null,""]
[null,""]
[null,""]
[null,""]
[null,""]
[null,""]
[null,""]
[null,""]
[null,""]
[null,""]
[null,""]
[null,""]
[null,""]
[null,""]
[null,""]
[null,""]
[null,""]
[null,""]
[null,""]
[null,""]
[null,""]
[null,""]
[null,""]
[null,""]
[null,""]
[null,""]
[null,""]
[null,""]
[null,""]
[null,""]
[null,""]
[null,""]
[null,""]
[null,""]
[null,""]
[null,""]
[null,""]
[null,""]
[null,""]
[null,""]
[null,""]
[null,""]
[null,""]
[null,""]
[null,""]
[null,""]
[null,""]
[null,""]
[null,""]
[null,""]
[null,""]
[null,""]
[null,""]
[null,{"$f":"IF(C1059=0,\"\",C1059-C1058)","v":""}]
[null,""]
[null,""]
[null,""]
[null,""]
[null,""]
[null,""]
[null,""]
[null,""]
[null,""]
[null,""]
[null,""]
[null,""]
[null,""]
[null,""]
[null,""]
[null,""]
[null,""]
[null,""]
[null,""]
[null,""]
[null,""]
[null,""]
[null,""]
[null,""]
[null,""]
[null,""]
[null,""]
[null,""]
[null,""]
[null,""]
[null,""]
[null,""]
[null,""]
[null,""]
[null,""]
[null,""]
[null,""]
[null,""]
[null,""]
[null,""]
[null,""]
[null,""]
[null,""]
[null,""]
[null,""]
[null,""]
[null,""]
[null,""]
[null,""]
[null,""]
[null,""]
[null,""]
[null,""]
[null,""]
[null,""]
[null,""]
[null,""]
[null,""]
[null,""]
[null,""]
[null,""]
[null,""]
[null,""]
[null,{"$f":"IF(C1123=0,\"\",C1123-C1122)","v":""}]
[null,""]
[null,""]
[null,""]
[null,""]
[null,""]
[null,""]
[null,""]
[null,""]
[null,""]
[null,""]
[null,""]
[null,""]
[null,""]
[null,""]
[null,""]
[null,""]
[null,""]
[null,""]
[null,""]
[null,""]
[null,""]
[null,""]
[null,""]
[null,""]
[null,""]
[null,""]
[null,""]
[null,""]
[null,""]
[null,""]
[null,""]
[null,""]
[null,""]
[null,""]
[null,""]
[null,""]
[null,""]
[null,""]
[null,""]
[null,""]
[null,""]
[null,""]
[null,""]
[null,""]
[null,""]
[null,""]
[null,""]
[null,""]
[null,""]
[null,""]
[null,""]
[null,""]
[null,""]
[null,""]
[null,""]
[null,""]
[null,""]
[null,""]
[null,""]
[null,""]
[null,""]
[null,""]
[null,""]
[null,{"$f":"IF(C1187=0,\"\",C1187-C1186)","v":""}]
[null,""]
[null,""]
[null,""]
[null,""]
[null,""]
[null,""]
[null,""]
[null,""]
[null,""]
[null,""]
[null,""]
[null,""]
[null,""]
[null,""]
[null,""]
[null,""]
[null,""]
[null,""]
[null,""]
[null,""]
[null,""]
[null,""]
[null,""]
[null,""]
[null,""]
[null,""]
[null,""]
[null,""]
[null,""]
[null,""]
[null,""]
[null,""]
[null,""]
[null,""]
[null,""]
[null,""]
[null,""]
[null,""]
[null,""]
[null,""]
[null,""]
[null,""]
[null,""]
[null,""]
[null,""]
[null,""]
[null,""]
[null,""]
[null,""]
[null,""]
[null,""]
[null,""]
[null,""]
[null,""]
[null,""]
[null,""]
[null,""]
[null,""]
[null,""]
[null,""]
[null,""]
[null,""]
[null,""]
[null,{"$f":"IF(C1251=0,\"\",C1251-C1250)","v":""}]
[null,""]
[null,""]
[null,""]
[null,""]
[null,""]
[null,""]
[null,""]
[null,""]
[null,""]
[null,""]
[null,""]
[null,""]
[null,""]
[null,""]
[null,""]
[null,""]
[null,""]
[null,""]
[null,""]
[null,""]
[null,""]
[null,""]
[null,""]
[null,""]
[null,""]
[null,""]
[null,""]
[null,""]
[null,""]
[null,""]
[null,""]
[null,""]
[null,""]
[null,""]
[null,""]
[null,""]
[null,""]
[null,""]
[null,""]
[null,""]
[null,""]
[null,""]
[null,""]
[null,""]
[null,""]
[null,""]
[null,""]
[null,""]
[null,""]
[null,""]
[null,""]
[null,""]
[null,""]
[null,""]
[null,""]
[null,""]
[null,""]
[null,""]
[null,""]
[null,""]
[null,""]
[null,""]
[null,""]
[null,{"$f":"IF(C1315=0,\"\",C1315-C1314)","v":""}]
[null,""]
[null,""]
[null,""]
[null,""]
[null,""]
[null,""]
[null,""]
[null,""]
[null,""]
[null,""]
[null,""]
[null,""]
[null,""]
[null,""]
[null,""]
[null,""]
[null,""]
[null,""]
[null,""]
[null,""]
[null,""]
[null,""]
[null,""]
[null,""]
[null,""]
[null,""]
[null,""]
[null,""]
[null,""]
[null,""]
[null,""]
[null,""]
[null,""]
[null,""]
[null,""]
[null,""]
[null,""]
[null,""]
[null,""]
[null,""]
[null,""]
[null,""]
[null,""]
[null,""]
[null,""]
[null,""]
[null,""]
[null,""]
[null,""]
[null,""]
[null,""]
[null,""]
[null,""]
[null,""]
[null,""]
[null,""]
[null,""]
[null,""]
[null,""]
[null,""]
[null,""]
[null,""]
[null,""]
[null,{"$f":"IF(C1379=0,\"\",C1379-C1378)","v":""}]
[null,""]
[null,""]
[null,""]
[null,""]
[null,""]
[null,""]
[null,""]
[null,""]
[null,""]
[null,""]
[null,""]
[null,""]
[null,""]
[null,""]
[null,""]
[null,""]
[null,""]
[null,""]
[null,""]
[null,""]
[null,""]
[null,""]
[null,""]
[null,""]
[null,""]
[null,""]
[null,""]
[null,""]
[null,""]
[null,""]
[null,""]
[null,""]
[null,""]
[null,""]
[null,""]
[null,""]
[null,""]
[null,""]
[null,""]
[null,""]
[null,""]
[null,""]
[null,""]
[null,""]
[null,""]
[null,""]
[null,""]
[null,""]
[null,""]
[null,""]
[null,""]
[null,""]
[null,""]
[null,""]
[null,""]
[null,""]
[null,""]
[null,""]
[null,""]
[null,""]
[null,""]
[null,""]
[null,""]
[null,{"$f":"IF(C1443=0,\"\",C1443-C1442)","v":""}]
[null,""]
[null,""]
[null,""]
[null,""]
[null,""]
[null,""]
[null,""]
[null,""]
[null,""]
[null,""]
[null,""]
[null,""]
[null,""]
[null,""]
[null,""]
[null,""]
[null,""]
[null,""]
[null,""]
[null,""]
[null,""]
[null,""]
[null,""]
[null,""]
[null,""]
[null,""]
[null,""]
[null,""]
[null,""]
[null,""]
[null,""]
[null,""]
[null,""]
[null,""]
[null,""]
[null,""]
[null,""]
[null,""]
[null,""]
[null,""]
[null,""]
[null,""]
[null,""]
[null,""]
[null,""]
[null,""]
[null,""]
[null,""]
[null,""]
[null,""]
[null,""]
[null,""]
[null,""]
[null,""]
[null,""]
[null,""]
[null,""]
[null,""]
[null,""]
[null,""]
[null,""]
[null,""]
[null,""]
[null,{"$f":"IF(C1507=0,\"\",C1507-C1506)","v":""}]
[null,""]
[null,""]
[null,""]
[null,""]
[null,""]
[null,""]
[null,""]
[null,""]
[null,""]
[null,""]
[null,""]
[null,""]
[null,""]
[null,""]
[null,""]
[null,""]
[null,""]
[null,""]
[null,""]
[null,""]
[null,""]
[null,""]
[null,""]
[null,""]
[null,""]
[null,""]
[null,""]
[null,""]
[null,""]
[null,""]
[null,""]
[null,""]
[null,""]
[null,""]
[null,""]
[null,""]
[null,""]
[null,""]
[null,""]
[null,""]
[null,""]
[null,""]
[null,""]
[null,""]
[null,""]
[null,""]
[null,""]
[null,""]
[null,""]
[null,""]
[null,""]
[null,""]
[null,""]
[null,""]
[null,""]
[null,""]
[null,""]
[null,""]
[null,""]
[null,""]
[null,""]
[null,""]
[null,""]
[null,{"$f":"IF(C1571=0,\"\",C1571-C1570)","v":""}]
[null,""]
[null,""]
[null,""]
[null,""]
[null,""]
[null,""]
[null,""]
[null,""]
[null,""]
[null,""]
[null,""]
[null,""]
[null,""]
[null,""]
[null,""]
[null,""]
[null,""]
[null,""]
[null,""]
[null,""]
[null,""]
[null,""]
[null,""]
[null,""]
[null,""]
[null,""]
[null,""]
[null,""]
[null,""]
[null,""]
[null,""]
[null,""]
[null,""]
[null,""]
[null,""]
[null,""]
[null,""]
[null,""]
[null,""]
[null,""]
[null,""]
[null,""]
[null,""]
[null,""]
[null,""]
[null,""]
[null,""]
[null,""]
[null,""]
[null,""]
[null,""]
[null,""]
[null,""]
[null,""]
[null,""]
[null,""]
[null,""]
[null,""]
[null,""]
[null,""]
[null,""]
[null,""]
[null,""]
[null,{"$f":"IF(C1635=0,\"\",C1635-C1634)","v":""}]
[null,""]
[null,""]
[null,""]
[null,""]
[null,""]
[null,""]
[null,""]
[null,""]
[null,""]
[null,""]
[null,""]
[null,""]
[null,""]
[null,""]
[null,""]
[null,""]
[null,""]
[null,""]
[null,""]
[null,""]
[null,""]
[null,""]
[null,""]
[null,""]
[null,""]
[null,""]
[null,""]
[null,""]
[null,""]
[null,""]
[null,""]
[null,""]
[null,""]
[null,""]
[null,""]
[null,""]
[null,""]
[null,""]
[null,""]
[null,""]
[null,""]
[null,""]
[null,""]
[null,""]
[null,""]
[null,""]
[null,""]
[null,""]
[null,""]
[null,""]
[null,""]
[null,""]
[null,""]
[null,""]
[null,""]
[null,""]
[null,""]
[null,""]
[null,""]
[null,""]
[null,""]
[null,""]
[null,""]
[null,{"$f":"IF(C1699=0,\"\",C1699-C1698)","v":""}]
[null,""]
[null,""]
[null,""]
[null,""]
[null,""]
[null,""]
[null,""]
[null,""]
[null,""]
[null,""]
[null,""]
[null,""]
[null,""]
[null,""]
[null,""]
[null,""]
[null,""]
[null,""]
[null,""]
[null,""]
[null,""]
[null,""]
[null,""]
[null,""]
[null,""]
[null,""]
[null,""]
[null,""]
[null,""]
[null,""]
[null,""]
[null,""]
[null,""]
[null,""]
[null,""]
[null,""]
[null,""]
[null,""]
[null,""]
[null,""]
[null,""]
[null,""]
[null,""]
[null,""]
[null,""]
[null,""]
[null,""]
[null,""]
[null,""]
[null,""]
[null,""]
[null,""]
[null,""]
[null,""]
[null,""]
[null,""]
[null,""]
[null,""]
[null,""]
[null,""]
[null,""]
[null,""]
[null,""]
[null,{"$f":"IF(C1763=0,\"\",C1763-C1762)","v":""}]
[null,""]
[null,""]
[null,""]
[null,""]
[null,""]
[null,""]
[null,""]
[null,""]
[null,""]
[null,""]
[null,""]
[null,""]
[null,""]
[null,""]
[null,""]
[null,""]
[null,""]
[null,""]
[null,""]
[null,""]
[null,""]
[null,""]
[null,""]
[null,""]
[null,""]
[null,""]
[null,""]
[null,""]
[null,""]
[null,""]
[null,""]
[null,""]
[null,""]
[null,""]
[null,""]
[null,""]
[null,""]
[null,""]
[null,""]
[null,""]
[null,""]
[null,""]
[null,""]
[null,""]
[null,""]
[null,""]
[null,""]
[null,""]
[null,""]
[null,""]
[null,""]
[null,""]
[null,""]
[null,""]
[null,""]
[null,""]
[null,""]
[null,""]
[null,""]
[null,""]
[null,""]
[null,""]
[null,""]
[null,{"$f":"IF(C1827=0,\"\",C1827-C1826)","v":""}]
[null,""]
[null,""]
[null,""]
[null,""]
[null,""]
[null,""]
[null,""]
[null,""]
[null,""]
[null,""]
[null,""]
[null,""]
[null,""]
[null,""]
[null,""]
[null,""]
[null,""]
[null,""]
[null,""]
[null,""]
[null,""]
[null,""]
[null,""]
[null,""]
[null,""]
[null,""]
[null,""]
[null,""]
[null,""]
[null,""]
[null,""]
[null,""]
[null,""]
[null,""]
[null,""]
[null,""]
[null,""]
[null,""]
[null,""]
[null,""]
[null,""]
[null,""]
[null,""]
[null,""]
[null,""]
[null,""]
[null,""]
[null,""]
[null,""]
[null,""]
[null,""]
[null,""]
[null,""]
[null,""]
[null,""]
[null,""]
[null,""]
[null,""]
[null,""]
[null,""]
[null,""]
[null,""]
[null,""]
[null,{"$f":"IF(C1891=0,\"\",C1891-C1890)","v":""}]
[null,""]
[null,""]
[null,""]
[null,""]
[null,""]
[null,""]
[null,""]
[null,""]
[null,""]
[null,""]
[null,""]
[null,""]
[null,""]
[null,""]
[null,""]
[null,""]
[null,""]
[null,""]
[null,""]
[null,""]
[null,""]
[null,""]
[null,""]
[null,""]
[null,""]
[null,""]
[null,""]
[null,""]
[null,""]
[null,""]
[null,""]
[null,""]
[null,""]
[null,""]
[null,""]
[null,""]
[null,""]
[null,""]
[null,""]
[null,""]
[null,""]
[null,""]
[null,""]
[null,""]
[null,""]
[null,""]
[null,""]
[null,""]
[null,""]
[null,""]
[null,""]
[null,""]
[null,""]
[null,""]
[null,""]
[null,""]
[null,""]
[null,""]
[null,""]
[null,""]
[null,""]
[null,""]
[null,""]
[null,{"$f":"IF(C1955=0,\"\",C1955-C1954)","v":""}]
[null,""]
[null,""]
[null,""]
[null,""]
[null,""]
[null,""]
[null,""]
[null,""]
[null,""]
[null,""]
[null,""]
[null,""]
[null,""]
[null,""]
[null,""]
[null,""]
[null,""]
[null,""]
[null,""]
[null,""]
[null,""]
[null,""]
[null,""]
[null,""]
[null,""]
[null,""]
[null,""]
[null,""]
[null,""]
[null,""]
[null,""]
[null,""]
[null,""]
[null,""]
[null,""]
[null,""]
[null,""]
[null,""]
[null,""]
[null,""]
[null,""]
[null,""]
[null,""]
[null,""]
[null,""]
[null,""]
[null,""]
[null,""]
[null,""]
[null,""]
[null,""]
[null,""]
[null,""]
[null,""]
[null,""]
[null,""]
[null,""]
[null,""]
[null,""]
[null,""]
[null,""]
[null,""]
[null,""]
[null,{"$f":"IF(C2019=0,\"\",C2019-C2018)","v":""}]
[null,""]
[null,""]
[null,""]
[null,""]
[null,""]
[null,""]
[null,""]
[null,""]
[null,""]
[null,""]
[null,""]
[null,""]
[null,""]
[null,""]
[null,""]
[null,""]
[null,""]
[null,""]
[null,""]
[null,""]
[null,""]
[null,""]
[null,""]
[null,""]
[null,""]
[null,""]
[null,""]
[null,""]
[null,""]
[null,""]
[null,""]
[null,""]
[null,""]
[null,""]
[null,""]
[null,""]
[null,""]
[null,""]
[null,""]
[null,""]
[null,""]
[null,""]
[null,""]
[null,""]
[null,""]
[null,""]
[null,""]
[null,""]
[null,""]
[null,""]
[null,""]
[null,""]
[null,""]
[null,""]
[null,""]
[null,""]
[null,""]
[null,""]
[null,""]
[null,""]
[null,""]
[null,""]
[null,""]
[null,{"$f":"IF(C2083=0,\"\",C2083-C2082)","v":""}]
[null,""]
[null,""]
[null,""]
[null,""]
[null,""]
[null,""]
[null,""]
[null,""]
[null,""]
[null,""]
[null,""]
[null,""]
[null,""]
[null,""]
[null,""]
[null,""]
[null,""]
[null,""]
[null,""]
[null,""]
[null,""]
[null,""]
[null,""]
[null,""]
[null,""]
[null,""]
[null,""]
[null,""]
[null,""]
[null,""]
[null,""]
[null,""]
[null,""]
[null,""]
[null,""]
[null,""]
[null,""]
[null,""]
[null,""]
[null,""]
[null,""]
[null,""]
[null,""]
[null,""]
[null,""]
[null,""]
[null,""]
[null,""]
[null,""]
[null,""]
[null,""]
[null,""]
[null,""]
[null,""]
[null,""]
[null,""]
[null,""]
[null,""]
[null,""]
[null,""]
[null,""]
[null,""]
[null,""]
[null,{"$f":"IF(C2147=0,\"\",C2147-C2146)","v":""}]
[null,""]
[null,""]
[null,""]
[null,""]
[null,""]
[null,""]
[null,""]
[null,""]
[null,""]
[null,""]
[null,""]
[null,""]
[null,""]
[null,""]
[null,""]
[null,""]
[null,""]
[null,""]
[null,""]
[null,""]
[null,""]
[null,""]
[null,""]
[null,""]
[null,""]
[null,""]
[null,""]
[null,""]
[null,""]
[null,""]
[null,""]
[null,""]
[null,""]
[null,""]
[null,""]
[null,""]
[null,""]
[null,""]
[null,""]
[null,""]
[null,""]
[null,""]
[null,""]
[null,""]
[null,""]
[null,""]
[null,""]
[null,""]
[null,""]
[null,""]
[null,""]
[null,""]
[null,""]
[null,""]
[null,""]
[null,""]
[null,""]
[null,""]
[null,""]
[null,""]
[null,""]
[null,""]
[null,""]
[null,{"$f":"IF(C2211=0,\"\",C2211-C2210)","v":""}]
[null,""]
[null,""]
[null,""]
[null,""]
[null,""]
[null,""]
[null,""]
[null,""]
[null,""]
[null,""]
[null,""]
[null,""]
[null,""]
[null,""]
[null,""]
[null,""]
[null,""]
[null,""]
[null,""]
[null,""]
[null,""]
[null,""]
[null,""]
[null,""]
[null,""]
[null,""]
[null,""]
[null,""]
[null,""]
[null,""]
[null,""]
[null,""]
[null,""]
[null,""]
[null,""]
[null,""]
[null,""]
[null,""]
[null,""]
[null,""]
[null,""]
[null,""]
[null,""]
[null,""]
[null,""]
[null,""]
[null,""]
[null,""]
[null,""]
[null,""]
[null,""]
[null,""]
[null,""]
[null,""]
[null,""]
[null,""]
[null,""]
[null,""]
[null,""]
[null,""]
[null,""]
[null,""]
[null,""]
[null,{"$f":"IF(C2275=0,\"\",C2275-C2274)","v":""}]
[null,""]
[null,""]
[null,""]
[null,""]
[null,""]
[null,""]
[null,""]
[null,""]
[null,""]
[null,""]
[null,""]
[null,""]
[null,""]
[null,""]
[null,""]
[null,""]
[null,""]
[null,""]
[null,""]
[null,""]
[null,""]
[null,""]
[null,""]
[null,""]
[null,""]
[null,""]
[null,""]
[null,""]
[null,""]
[null,""]
[null,""]
[null,""]
[null,""]
[null,""]
[null,""]
[null,""]
[null,""]
[null,""]
[null,""]
[null,""]
[null,""]
[null,""]
[null,""]
[null,""]
[null,""]
[null,""]
[null,""]
[null,""]
[null,""]
[null,""]
[null,""]
[null,""]
[null,""]
[null,""]
[null,""]
[null,""]
[null,""]
[null,""]
[null,""]
[null,""]
[null,""]
[null,""]
[null,""]
[null,{"$f":"IF(C2339=0,\"\",C2339-C2338)","v":""}]
[null,""]
[null,""]
[null,""]
[null,""]
[null,""]
[null,""]
[null,""]
[null,""]
[null,""]
[null,""]
[null,""]
[null,""]
[null,""]
[null,""]
[null,""]
[null,""]
[null,""]
[null,""]
[null,""]
[null,""]
[null,""]
[null,""]
[null,""]
[null,""]
[null,""]
[null,""]
[null,""]
[null,""]
[null,""]
[null,""]
[null,""]
[null,""]
[null,""]
[null,""]
[null,""]
[null,""]
[null,""]
[null,""]
[null,""]
[null,""]
[null,""]
[null,""]
[null,""]
[null,""]
[null,""]
[null,""]
[null,""]
[null,""]
[null,""]
[null,""]
[null,""]
[null,""]
[null,""]
[null,""]
[null,""]
[null,""]
[null,""]
[null,""]
[null,""]
[null,""]
[null,""]
[null,""]
[null,""]
[null,{"$f":"IF(C2403=0,\"\",C2403-C2402)","v":""}]
[null,""]
[null,""]
[null,""]
[null,""]
[null,""]
[null,""]
[null,""]
[null,""]
[null,""]
[null,""]
[null,""]
[null,""]
[null,""]
[null,""]
[null,""]
[null,""]
[null,""]
[null,""]
[null,""]
[null,""]
[null,""]
[null,""]
[null,""]
[null,""]
[null,""]
[null,""]
[null,""]
[null,""]
[null,""]
[null,""]
[null,""]
[null,""]
[null,""]
[null,""]
[null,""]
[null,""]
[null,""]
[null,""]
[null,""]
[null,""]
[null,""]
[null,""]
[null,""]
[null,""]
[null,""]
[null,""]
[null,""]
[null,""]
[null,""]
[null,""]
[null,""]
[null,""]
[null,""]
[null,""]
[null,""]
[null,""]
[null,""]
[null,""]
[null,""]
[null,""]
[null,""]
[null,""]
[null,""]
[null,{"$f":"IF(C2467=0,\"\",C2467-C2466)","v":""}]
[null,""]
[null,""]
[null,""]
[null,""]
[null,""]
[null,""]
[null,""]
[null,""]
[null,""]
[null,""]
[null,""]
[null,""]
[null,""]
[null,""]
[null,""]
[null,""]
[null,""]
[null,""]
[null,""]
[null,""]
[null,""]
[null,""]
[null,""]
[null,""]
[null,""]
[null,""]
[null,""]
[null,""]
[null,""]
[null,""]
[null,""]
[null,""]
[null,""]
[null,""]
[null,""]
[null,""]
[null,""]
[null,""]
[null,""]
[null,""]
[null,""]
[null,""]
[null,""]
[null,""]
[null,""]
[null,""]
[null,""]
[null,""]
[null,""]
[null,""]
[null,""]
[null,""]
[null,""]
[null,""]
[null,""]
[null,""]
[null,""]
[null,""]
[null,""]
[null,""]
[null,""]
[null,""]
[null,""]
[null,{"$f":"IF(C2531=0,\"\",C2531-C2530)","v":""}]
[null,""]
[null,""]
[null,""]
[null,""]
[null,""]
[null,""]
[null,""]
[null,""]
[null,""]
[null,""]
[null,""]
[null,""]
[null,""]
[null,""]
[null,""]
[null,""]
[null,""]
[null,""]
[null,""]
[null,""]
[null,""]
[null,""]
[null,""]
[null,""]
[null,""]
[null,""]
[null,""]
[null,""]
[null,""]
[null,""]
[null,""]
[null,""]
[null,""]
[null,""]
[null,""]
[null,""]
[null,""]
[null,""]
[null,""]
[null,""]
[null,""]
[null,""]
[null,""]
[null,""]
[null,""]
[null,""]
[null,""]
[null,""]
[null,""]
[null,""]
[null,""]
[null,""]
[null,""]
[null,""]
[null,""]
[null,""]
[null,""]
[null,""]
[null,""]
[null,""]
[null,""]
[null,""]
[null,""]
[null,{"$f":"IF(C2595=0,\"\",C2595-C2594)","v":""}]
[null,""]
[null,""]
[null,""]
[null,""]
[null,""]
[null,""]
[null,""]
[null,""]
[null,""]
[null,""]
[null,""]
[null,""]
[null,""]
[null,""]
[null,""]
[null,""]
[null,""]
[null,""]
[null,""]
[null,""]
[null,""]
[null,""]
[null,""]
[null,""]
[null,""]
[null,""]
[null,""]
[null,""]
[null,""]
[null,""]
[null,""]
[null,""]
[null,""]
[null,""]
[null,""]
[null,""]
[null,""]
[null,""]
[null,""]
[null,""]
[null,""]
[null,""]
[null,""]
[null,""]
[null,""]
[null,""]
[null,""]
[null,""]
[null,""]
[null,""]
[null,""]
[null,""]
[null,""]
[null,""]
[null,""]
[null,""]
[null,""]
[null,""]
[null,""]
[null,""]
[null,""]
[null,""]
[null,""]
[null,{"$f":"IF(C2659=0,\"\",C2659-C2658)","v":""}]
[null,""]
[null,""]
[null,""]
[null,""]
[null,""]
[null,""]
[null,""]
[null,""]
[null,""]
[null,""]
[null,""]
[null,""]
[null,""]
[null,""]
[null,""]
[null,""]
[null,""]
[null,""]
[null,""]
[null,""]
[null,""]
[null,""]
[null,""]
[null,""]
[null,""]
[null,""]
[null,""]
[null,""]
[null,""]
[null,""]
[null,""]
[null,""]
[null,""]
[null,""]
[null,""]
[null,""]
[null,""]
[null,""]
[null,""]
[null,""]
[null,""]
[null,""]
[null,""]
[null,""]
[null,""]
[null,""]
[null,""]
[null,""]
[null,""]
[null,""]
[null,""]
[null,""]
[null,""]
[null,""]
[null,""]
[null,""]
[null,""]
[null,""]
[null,""]
[null,""]
[null,""]
[null,""]
[null,""]
[null,{"$f":"IF(C2723=0,\"\",C2723-C2722)","v":""}]
[null,""]
[null,""]
[null,""]
[null,""]
[null,""]
[null,""]
[null,""]
[null,""]
[null,""]
[null,""]
[null,""]
[null,""]
[null,""]
[null,""]
[null,""]
[null,""]
[null,""]
[null,""]
[null,""]
[null,""]
[null,""]
[null,""]
[null,""]
[null,""]
[null,""]
[null,""]
[null,""]
[null,""]
[null,""]
[null,""]
[null,""]
[null,""]
[null,""]
[null,""]
[null,""]
[null,""]
[null,""]
[null,""]
[null,""]
[null,""]
[null,""]
[null,""]
[null,""]
[null,""]
[null,""]
[null,""]
[null,""]
[null,""]
[null,""]
[null,""]
[null,""]
[null,""]
[null,""]
[null,""]
[null,""]
[null,""]
[null,""]
[null,""]
[null,""]
[null,""]
[null,""]
[null,""]
[null,""]
[null,{"$f":"IF(C2787=0,\"\",C2787-C2786)","v":""}]
[null,""]
[null,""]
[null,""]
[null,""]
[null,""]
[null,""]
[null,""]
[null,""]
[null,""]
[null,""]
[null,""]
[null,""]
[null,""]
[null,""]
[null,""]
[null,""]
[null,""]
[null,""]
[null,""]
[null,""]
[null,""]
[null,""]
[null,""]
[null,""]
[null,""]
[null,""]
[null,""]
[null,""]
[null,""]
[null,""]
[null,""]
[null,""]
[null,""]
[null,""]
[null,""]
[null,""]
[null,""]
[null,""]
[null,""]
[null,""]
[null,""]
[null,""]
[null,""]
[null,""]
[null,""]
[null,""]
[null,""]
[null,""]
[null,""]
[null,""]
[null,""]
[null,""]
[null,""]
[null,""]
[null,""]
[null,""]
[null,""]
[null,""]
[null,""]
[null,""]
[null,""]
[null,""]
[null,""]
[null,{"$f":"IF(C2851=0,\"\",C2851-C2850)","v":""}]
[null,""]
[null,""]
[null,""]
[null,""]
[null,""]
[null,""]
[null,""]
[null,""]
[null,""]
[null,""]
[null,""]
[null,""]
[null,""]
[null,""]
[null,""]
[null,""]
[null,""]
[null,""]
[null,""]
[null,""]
[null,""]
[null,""]
[null,""]
[null,""]
[null,""]
[null,""]
[null,""]
[null,""]
[null,""]
[null,""]
[null,""]
[null,""]
[null,""]
[null,""]
[null,""]
[null,""]
[null,""]
[null,""]
[null,""]
[null,""]
[null,""]
[null,""]
[null,""]
[null,""]
[null,""]
[null,""]
[null,""]
[null,""]
[null,""]
[null,""]
[null,""]
[null,""]
[null,""]
[null,""]
[null,""]
[null,""]
[null,""]
[null,""]
[null,""]
[null,""]
[null,""]
[null,""]
[null,""]
[null,{"$f":"IF(C2915=0,\"\",C2915-C2914)","v":""}]
[null,""]
[null,""]
[null,""]
[null,""]
[null,""]
[null,""]
[null,""]
[null,""]
[null,""]
[null,""]
[null,""]
[null,""]
[null,""]
[null,""]
[null,""]
[null,""]
[null,""]
[null,""]
[null,""]
[null,""]
[null,""]
[null,""]
[null,""]
[null,""]
[null,""]
[null,""]
[null,""]
[null,""]
[null,""]
[null,""]
[null,""]
[null,""]
[null,""]
[null,""]
[null,""]
[null,""]
[null,""]
[null,""]
[null,""]
[null,""]
[null,""]
[null,""]
[null,""]
[null,""]
[null,""]
[null,""]
[null,""]
[null,""]
[null,""]
[null,""]
[null,""]
[null,""]
[null,""]
[null,""]
[null,""]
[null,""]
[null,""]
[null,""]
[null,""]
[null,""]
[null,""]
[null,""]
[null,""]
[null,{"$f":"IF(C2979=0,\"\",C2979-C2978)","v":""}]
[null,""]
[null,""]
[null,""]
[null,""]
[null,""]
[null,""]
[null,""]
[null,""]
[null,""]
[null,""]
[null,""]
[null,""]
[null,""]
[null,""]
[null,""]
[null,""]
[null,""]
[null,""]
[null,""]
[null,""]
[null,""]
[null,""]
[null,""]
[null,""]
[null,""]
[null,""]
[null,""]
[null,""]
[null,""]
[null,""]
[null,""]
[null,""]
[null,""]
[null,""]
[null,""]
[null,""]
[null,""]
[null,""]
[null,""]
[null,""]
[null,""]
[null,""]
[null,""]
[null,""]
[null,""]
[null,""]
[null,""]
[null,""]
[null,""]
[null,""]
[null,""]
[null,""]
[null,""]
[null,""]
[null,""]
[null,""]
[null,""]
[null,""]
[null,""]
[null,""]
[null,""]
[null,""]
[null,""]
[null,{"$f":"IF(C3043=0,\"\",C3043-C3042)","v":""}]
[null,""]
[null,""]
[null,""]
[null,""]
[null,""]
[null,""]
[null,""]
[null,""]
[null,""]
[null,""]
[null,""]
[null,""]
[null,""]
[null,""]
[null,""]
[null,""]
[null,""]
[null,""]
[null,""]
[null,""]
[null,""]
[null,""]
[null,""]
[null,""]
[null,""]
[null,""]
[null,""]
[null,""]
[null,""]
[null,""]
[null,""]
[null,""]
[null,""]
[null,""]
[null,""]
[null,""]
[null,""]
[null,""]
[null,""]
[null,""]
[null,""]
[null,""]
[null,""]
[null,""]
[null,""]
[null,""]
[null,""]
[null,""]
[null,""]
[null,""]
[null,""]
[null,""]
[null,""]
[null,""]
[null,""]
[null,""]
[null,""]
[null,""]
[null,""]
[null,""]
[null,""]
[null,""]
[null,""]
[null,{"$f":"IF(C3107=0,\"\",C3107-C3106)","v":""}]
[null,""]
[null,""]
[null,""]
[null,""]
[null,""]
[null,""]
[null,""]
[null,""]
[null,""]
[null,""]
[null,""]
[null,""]
[null,""]
[null,""]
[null,""]
[null,""]
[null,""]
[null,""]
[null,""]
[null,""]
[null,""]
[null,""]
[null,""]
[null,""]
[null,""]
[null,""]
[null,""]
[null,""]
[null,""]
[null,""]
[null,""]
[null,""]
[null,""]
[null,""]
[null,""]
[null,""]
[null,""]
[null,""]
[null,""]
[null,""]
[null,""]
[null,""]
[null,""]
[null,""]
[null,""]
[null,""]
[null,""]
[null,""]
[null,""]
[null,""]
[null,""]
[null,""]
[null,""]
[null,""]
[null,""]
[null,""]
[null,""]
[null,""]
[null,""]
[null,""]
[null,""]
[null,""]
[null,""]
[null,{"$f":"IF(C3171=0,\"\",C3171-C3170)","v":""}]
[null,""]
[null,""]
[null,""]
[null,""]
[null,""]
[null,""]
[null,""]
[null,""]
[null,""]
[null,""]
[null,""]
[null,""]
[null,""]
[null,""]
[null,""]
[null,""]
[null,""]
[null,""]
[null,""]
[null,""]
[null,""]
[null,""]
[null,""]
[null,""]
[null,""]
[null,""]
[null,""]
[null,""]
[null,""]
[null,""]
[null,""]
[null,""]
[null,""]
[null,""]
[null,""]
[null,""]
[null,""]
[null,""]
[null,""]
[null,""]
[null,""]
[null,""]
[null,""]
[null,""]
[null,""]
[null,""]
[null,""]
[null,""]
[null,""]
[null,""]
[null,""]
[null,""]
[null,""]
[null,""]
[null,""]
[null,""]
[null,""]
[null,""]
[null,""]
[null,""]
[null,""]
[null,""]
[null,""]
[null,{"$f":"IF(C3235=0,\"\",C3235-C3234)","v":""}]
[null,""]
[null,""]
[null,""]
[null,""]
[null,""]
[null,""]
[null,""]
[null,""]
[null,""]
[null,""]
[null,""]
[null,""]
[null,""]
[null,""]
[null,""]
[null,""]
[null,""]
[null,""]
[null,""]
[null,""]
[null,""]
[null,""]
[null,""]
[null,""]
[null,""]
[null,""]
[null,""]
[null,""]
[null,""]
[null,""]
[null,""]
[null,""]
[null,""]
[null,""]
[null,""]
[null,""]
[null,""]
[null,""]
[null,""]
[null,""]
[null,""]
[null,""]
[null,""]
[null,""]
[null,""]
[null,""]
[null,""]
[null,""]
[null,""]
[null,""]
[null,""]
[null,""]
[null,""]
[null,""]
[null,""]
[null,""]
[null,""]
[null,""]
[null,""]
[null,""]
[null,""]
[null,""]
[null,""]
[null,{"$f":"IF(C3299=0,\"\",C3299-C3298)","v":""}]
[null,""]
[null,""]
[null,""]
[null,""]
[null,""]
[null,""]
[null,""]
[null,""]
[null,""]
[null,""]
[null,""]
[null,""]
[null,""]
[null,""]
[null,""]
[null,""]
[null,""]
[null,""]
[null,""]
[null,""]
[null,""]
[null,""]
[null,""]
[null,""]
[null,""]
[null,""]
[null,""]
[null,""]
[null,""]
[null,""]
[null,""]
[null,""]
[null,""]
[null,""]
[null,""]
[null,""]
[null,""]
[null,""]
[null,""]
[null,""]
[null,""]
[null,""]
[null,""]
[null,""]
[null,""]
[null,""]
[null,""]
[null,""]
[null,""]
[null,""]
[null,""]
[null,""]
[null,""]
[null,""]
[null,""]
[null,""]
[null,""]
[null,""]
[null,""]
[null,""]
[null,""]
[null,""]
[null,""]
[null,{"$f":"IF(C3363=0,\"\",C3363-C3362)","v":""}]
[null,""]
[null,""]
[null,""]
[null,""]
[null,""]
[null,""]
[null,""]
[null,""]
[null,""]
[null,""]
[null,""]
[null,""]
[null,""]
[null,""]
[null,""]
[null,""]
[null,""]
[null,""]
[null,""]
[null,""]
[null,""]
[null,""]
[null,""]
[null,""]
[null,""]
[null,""]
[null,""]
[null,""]
[null,""]
[null,""]
[null,""]
[null,""]
[null,""]
[null,""]
[null,""]
[null,""]
[null,""]
[null,""]
[null,""]
[null,""]
[null,""]
[null,""]
[null,""]
[null,""]
[null,""]
[null,""]
[null,""]
[null,""]
[null,""]
[null,""]
[null,""]
[null,""]
[null,""]
[null,""]
[null,""]
[null,""]
[null,""]
[null,""]
[null,""]
[null,""]
[null,""]
[null,""]
[null,""]
[null,{"$f":"IF(C3427=0,\"\",C3427-C3426)","v":""}]
[null,""]
[null,""]
[null,""]
[null,""]
[null,""]
[null,""]
[null,""]
[null,""]
[null,""]
[null,""]
[null,""]
[null,""]
[null,""]
[null,""]
[null,""]
[null,""]
[null,""]
[null,""]
[null,""]
[null,""]
[null,""]
[null,""]
[null,""]
[null,""]
[null,""]
[null,""]
[null,""]
[null,""]
[null,""]
[null,""]
[null,""]
[null,""]
[null,""]
[null,""]
[null,""]
[null,""]
[null,""]
[null,""]
[null,""]
[null,""]
[null,""]
[null,""]
[null,""]
[null,""]
[null,""]
[null,""]
[null,""]
[null,""]
[null,""]
[null,""]
[null,""]
[null,""]
[null,""]
[null,""]
[null,""]
[null,""]
[null,""]
[null,""]
[null,""]
[null,""]
[null,""]
[null,""]
[null,""]
[null,{"$f":"IF(C3491=0,\"\",C3491-C3490)","v":""}]
[null,""]
[null,""]
[null,""]
[null,""]
[null,""]
[null,""]
[null,""]
[null,""]
[null,""]
[null,""]
[null,""]
[null,""]
[null,""]
[null,""]
[null,""]
[null,""]
[null,""]
[null,""]
[null,""]
[null,""]
[null,""]
[null,""]
[null,""]
[null,""]
[null,""]
[null,""]
[null,""]
[null,""]
[null,""]
[null,""]
[null,""]
[null,""]
[null,""]
[null,""]
[null,""]
[null,""]
[null,""]
[null,""]
[null,""]
[null,""]
[null,""]
[null,""]
[null,""]
[null,""]
[null,""]
[null,""]
[null,""]
[null,""]
[null,""]
[null,""]
[null,""]
[null,""]
[null,""]
[null,""]
[null,""]
[null,""]
[null,""]
[null,""]
[null,""]
[null,""]
[null,""]
[null,""]
[null,""]
[null,{"$f":"IF(C3555=0,\"\",C3555-C3554)","v":""}]
[null,""]
[null,""]
[null,""]
[null,""]
[null,""]
[null,""]
[null,""]
[null,""]
[null,""]
[null,""]
[null,""]
[null,""]
[null,""]
[null,""]
[null,""]
[null,""]
[null,""]
[null,""]
[null,""]
[null,""]
[null,""]
[null,""]
[null,""]
[null,""]
[null,""]
[null,""]
[null,""]
[null,""]
[null,""]
[null,""]
[null,""]
[null,""]
[null,""]
[null,""]
[null,""]
[null,""]
[null,""]
[null,""]
[null,""]
[null,""]
[null,""]
[null,""]
[null,""]
[null,""]
[null,""]
[null,""]
[null,""]
[null,""]
[null,""]
[null,""]
[null,""]
[null,""]
[null,""]
[null,""]
[null,""]
[null,""]
[null,""]
[null,""]
[null,""]
[null,""]
[null,""]
[null,""]
[null,""]
[null,{"$f":"IF(C3619=0,\"\",C3619-C3618)","v":""}]
[null,""]
[null,""]
[null,""]
[null,""]
[null,""]
[null,""]
[null,""]
[null,""]
[null,""]
[null,""]
[null,""]
[null,""]
[null,""]
[null,""]
[null,""]
[null,""]
[null,""]
[null,""]
[null,""]
[null,""]
[null,""]
[null,""]
[null,""]
[null,""]
[null,""]
[null,""]
[null,""]
[null,""]
[null,""]
[null,""]
[null,""]
[null,""]
[null,""]
[null,""]
[null,""]
[null,""]
[null,""]
[null,""]
[null,""]
[null,""]
[null,""]
[null,""]
[null,""]
[null,""]
[null,""]
[null,""]
[null,""]
[null,""]
[null,""]
[null,""]
[null,""]
[null,""]
[null,""]
[null,""]
[null,""]
[null,""]
[null,""]
[null,""]
[null,""]
[null,""]
[null,""]
[null,""]
[null,""]
[null,{"$f":"IF(C3683=0,\"\",C3683-C3682)","v":""}]
[null,""]
[null,""]
[null,""]
[null,""]
[null,""]
[null,""]
[null,""]
[null,""]
[null,""]
[null,""]
[null,""]
[null,""]
[null,""]
[null,""]
[null,""]
[null,""]
[null,""]
[null,""]
[null,""]
[null,""]
[null,""]
[null,""]
[null,""]
[null,""]
[null,""]
[null,""]
[null,""]
[null,""]
[null,""]
[null,""]
[null,""]
[null,""]
[null,""]
[null,""]
[null,""]
[null,""]
[null,""]
[null,""]
[null,""]
[null,""]
[null,""]
[null,""]
[null,""]
[null,""]
[null,""]
[null,""]
[null,""]
[null,""]
[null,""]
[null,""]
[null,""]
[null,""]
[null,""]
[null,""]
[null,""]
[null,""]
[null,""]
[null,""]
[null,""]
[null,""]
[null,""]
[null,""]
[null,""]
[null,{"$f":"IF(C3747=0,\"\",C3747-C3746)","v":""}]
[null,""]
[null,""]
[null,""]
[null,""]
[null,""]
[null,""]
[null,""]
[null,""]
[null,""]
[null,""]
[null,""]
[null,""]
[null,""]
[null,""]
[null,""]
[null,""]
[null,""]
[null,""]
[null,""]
[null,""]
[null,""]
[null,""]
[null,""]
[null,""]
[null,""]
[null,""]
[null,""]
[null,""]
[null,""]
[null,""]
[null,""]
[null,""]
[null,""]
[null,""]
[null,""]
[null,""]
[null,""]
[null,""]
[null,""]
[null,""]
[null,""]
[null,""]
[null,""]
[null,""]
[null,""]
[null,""]
[null,""]
[null,""]
[null,""]
[null,""]
[null,""]
[null,""]
[null,""]
[null,""]
[null,""]
[null,""]
[null,""]
[null,""]
[null,""]
[null,""]
[null,""]
[null,""]
[null,""]
[null,{"$f":"IF(C3811=0,\"\",C3811-C3810)","v":""}]
[null,""]
[null,""]
[null,""]
[null,""]
[null,""]
[null,""]
[null,""]
[null,""]
[null,""]
[null,""]
[null,""]
[null,""]
[null,""]
[null,""]
[null,""]
[null,""]
[null,""]
[null,""]
[null,""]
[null,""]
[null,""]
[null,""]
[null,""]
[null,""]
[null,""]
[null,""]
[null,""]
[null,""]
[null,""]
[null,""]
[null,""]
[null,""]
[null,""]
[null,""]
[null,""]
[null,""]
[null,""]
[null,""]
[null,""]
[null,""]
[null,""]
[null,""]
[null,""]
[null,""]
[null,""]
[null,""]
[null,""]
[null,""]
[null,""]
[null,""]
[null,""]
[null,""]
[null,""]
[null,""]
[null,""]
[null,""]
[null,""]
[null,""]
[null,""]
[null,""]
[null,""]
[null,""]
[null,""]
[null,{"$f":"IF(C3875=0,\"\",C3875-C3874)","v":""}]
[null,""]
[null,""]
[null,""]
[null,""]
[null,""]
[null,""]
[null,""]
[null,""]
[null,""]
[null,""]
[null,""]
[null,""]
[null,""]
[null,""]
[null,""]
[null,""]
[null,""]
[null,""]
[null,""]
[null,""]
[null,""]
[null,""]
[null,""]
[null,""]
[null,""]
[null,""]
[null,""]
[null,""]
[null,""]
[null,""]
[null,""]
[null,""]
[null,""]
[null,""]
[null,""]
[null,""]
[null,""]
[null,""]
[null,""]
[null,""]
[null,""]
[null,""]
[null,""]
[null,""]
[null,""]
[null,""]
[null,""]
[null,""]
[null,""]
[null,""]
[null,""]
[null,""]
[null,""]
[null,""]
[null,""]
[null,""]
[null,""]
[null,""]
[null,""]
[null,""]
[null,""]
[null,""]
[null,""]
[null,{"$f":"IF(C3939=0,\"\",C3939-C3938)","v":""}]
[null,""]
[null,""]
[null,""]
[null,""]
[null,""]
[null,""]
[null,""]
[null,""]
[null,""]
[null,""]
[null,""]
[null,""]
[null,""]
[null,""]
[null,""]
[null,""]
[null,""]
[null,""]
[null,""]
[null,""]
[null,""]
[null,""]
[null,""]
[null,""]
[null,""]
[null,""]
[null,""]
[null,""]
[null,""]
[null,""]
[null,""]
[null,""]
[null,""]
[null,""]
[null,""]
[null,""]
[null,""]
[null,""]
[null,""]
[null,""]
[null,""]
[null,""]
[null,""]
[null,""]
[null,""]
[null,""]
[null,""]
[null,""]
[null,""]
[null,""]
[null,""]
[null,""]
[null,""]
[null,""]
[null,""]
[null,""]
[null,""]
[null,""]
[null,""]
[null,""]
[null,""]
[null,""]
[null,""]
[null,{"$f":"IF(C4003=0,\"\",C4003-C4002)","v":""}]
[null,""]
[null,""]
[null,""]
[null,""]
[null,""]
[null,""]
[null,""]
[null,""]
[null,""]
[null,""]
[null,""]
[null,""]
[null,""]
[null,""]
[null,""]
[null,""]
[null,""]
[null,""]
[null,""]
[null,""]
[null,""]
[null,""]
[null,""]
[null,""]
[null,""]
[null,""]
[null,""]
[null,""]
[null,""]
[null,""]
[null,""]
[null,""]
[null,""]
[null,""]
[null,""]
[null,""]
[null,""]
[null,""]
[null,""]
[null,""]
[null,""]
[null,""]
[null,""]
[null,""]
[null,""]
[null,""]
[null,""]
[null,""]
[null,""]
[null,""]
[null,""]
[null,""]
[null,""]
[null,""]
[null,""]
[null,""]
[null,""]
[null,""]
[null,""]
[null,""]
[null,""]
[null,""]
[null,""]
[null,{"$f":"IF(C4067=0,\"\",C4067-C4066)","v":""}]
[null,""]
[null,""]
[null,""]
[null,""]
[null,""]
[null,""]
[null,""]
[null,""]
[null,""]
[null,""]
[null,""]
[null,""]
[null,""]
[null,""]
[null,""]
[null,""]
[null,""]
[null,""]
[null,""]
[null,""]
[null,""]
[null,""]
[null,""]
[null,""]
[null,""]
[null,""]
[null,""]
[null,""]
[null,""]
[null,""]
[null,""]
[null,""]
[null,""]
[null,""]
[null,""]
[null,""]
[null,""]
[null,""]
[null,""]
[null,""]
[null,""]
[null,""]
[null,""]
[null,""]
[null,""]
[null,""]
[null,""]
[null,""]
[null,""]
[null,""]
[null,""]
[null,""]
[null,""]
[null,""]
[null,""]
[null,""]
[null,""]
[null,""]
[null,""]
[null,""]
[null,""]
[null,""]
[null,""]
[null,{"$f":"IF(C4131=0,\"\",C4131-C4130)","v":""}]
[null,""]
[null,""]
[null,""]
[null,""]
[null,""]
[null,""]
[null,""]
[null,""]
[null,""]
[null,""]
[null,""]
[null,""]
[null,""]
[null,""]
[null,""]
[null,""]
[null,""]
[null,""]
[null,""]
[null,""]
[null,""]
[null,""]
[null,""]
[null,""]
[null,""]
[null,""]
[null,""]
[null,""]
[null,""]
[null,""]
[null,""]
[null,""]
[null,""]
[null,""]
[null,""]
[null,""]
[null,""]
[null,""]
[null,""]
[null,""]
[null,""]
[null,""]
[null,""]
[null,""]
[null,""]
[null,""]
[null,""]
[null,""]
[null,""]
[null,""]
[null,""]
[null,""]
[null,""]
[null,""]
[null,""]
[null,""]
[null,""]
[null,""]
[null,""]
[null,""]
[null,""]
[null,""]
[null,""]
[null,{"$f":"IF(C4195=0,\"\",C4195-C4194)","v":""}]
[null,""]
[null,""]
[null,""]
[null,""]
[null,""]
[null,""]
[null,""]
[null,""]
[null,""]
[null,""]
[null,""]
[null,""]
[null,""]
[null,""]
[null,""]
[null,""]
[null,""]
[null,""]
[null,""]
[null,""]
[null,""]
[null,""]
[null,""]
[null,""]
[null,""]
[null,""]
[null,""]
[null,""]
[null,""]
[null,""]
[null,""]
[null,""]
[null,""]
[null,""]
[null,""]
[null,""]
[null,""]
[null,""]
[null,""]
[null,""]
[null,""]
[null,""]
[null,""]
[null,""]
[null,""]
[null,""]
[null,""]
[null,""]
[null,""]
[null,""]
[null,""]
[null,""]
[null,""]
[null,""]
[null,""]
[null,""]
[null,""]
[null,""]
[null,""]
[null,""]
[null,""]
[null,""]
[null,""]
[null,{"$f":"IF(C4259=0,\"\",C4259-C4258)","v":""}]
[null,""]
[null,""]
[null,""]
[null,""]
[null,""]
[null,""]
[null,""]
[null,""]
[null,""]
[null,""]
[null,""]
[null,""]
[null,""]
[null,""]
[null,""]
[null,""]
[null,""]
[null,""]
[null,""]
[null,""]
[null,""]
[null,""]
[null,""]
[null,""]
[null,""]
[null,""]
[null,""]
[null,""]
[null,""]
[null,""]
[null,""]
[null,""]
[null,""]
[null,""]
[null,""]
[null,""]
[null,""]
[null,""]
[null,""]
[null,""]
[null,""]
[null,""]
[null,""]
[null,""]
[null,""]
[null,""]
[null,""]
[null,""]
[null,""]
[null,""]
[null,""]
[null,""]
[null,""]
[null,""]
[null,""]
[null,""]
[null,""]
[null,""]
[null,""]
[null,""]
[null,""]
[null,""]
[null,""]
[null,{"$f":"IF(C4323=0,\"\",C4323-C4322)","v":""}]
[null,""]
[null,""]
[null,""]
[null,""]
[null,""]
[null,""]
[null,""]
[null,""]
[null,""]
[null,""]
[null,""]
[null,""]
[null,""]
[null,""]
[null,""]
[null,""]
[null,""]
[null,""]
[null,""]
[null,""]
[null,""]
[null,""]
[null,""]
[null,""]
[null,""]
[null,""]
[null,""]
[null,""]
[null,""]
[null,""]
[null,""]
[null,""]
[null,""]
[null,""]
[null,""]
[null,""]
[null,""]
[null,""]
[null,""]
[null,""]
[null,""]
[null,""]
[null,""]
[null,""]
[null,""]
[null,""]
[null,""]
[null,""]
[null,""]
[null,""]
[null,""]
[null,""]
[null,""]
[null,""]
[null,""]
[null,""]
[null,""]
[null,""]
[null,""]
[null,""]
[null,""]
[null,""]
[null,""]
[null,{"$f":"IF(C4387=0,\"\",C4387-C4386)","v":""}]
[null,""]
[null,""]
[null,""]
[null,""]
[null,""]
[null,""]
[null,""]
[null,""]
[null,""]
[null,""]
[null,""]
[null,""]
[null,""]
[null,""]
[null,""]
[null,""]
[null,""]
[null,""]
[null,""]
[null,""]
[null,""]
[null,""]
[null,""]
[null,""]
[null,""]
[null,""]
[null,""]
[null,""]
[null,""]
[null,""]
[null,""]
[null,""]
[null,""]
[null,""]
[null,""]
[null,""]
[null,""]
[null,""]
[null,""]
[null,""]
[null,""]
[null,""]
[null,""]
[null,""]
[null,""]
[null,""]
[null,""]
[null,""]
[null,""]
[null,""]
[null,""]
[null,""]
[null,""]
[null,""]
[null,""]
[null,""]
[null,""]
[null,""]
[null,""]
[null,""]
[null,""]
[null,""]
[null,""]
[null,{"$f":"IF(C4451=0,\"\",C4451-C4450)","v":""}]
[null,""]
[null,""]
[null,""]
[null,""]
[null,""]
[null,""]
[null,""]
[null,""]
[null,""]
[null,""]
[null,""]
[null,""]
[null,""]
[null,""]
[null,""]
[null,""]
[null,""]
[null,""]
[null,""]
[null,""]
[null,""]
[null,""]
[null,""]
[null,""]
[null,""]
[null,""]
[null,""]
[null,""]
[null,""]
[null,""]
[null,""]
[null,""]
[null,""]
[null,""]
[null,""]
[null,""]
[null,""]
[null,""]
[null,""]
[null,""]
[null,""]
[null,""]
[null,""]
[null,""]
[null,""]
[null,""]
[null,""]
[null,""]
[null,""]
[null,""]
[null,""]
[null,""]
[null,""]
[null,""]
[null,""]
[null,""]
[null,""]
[null,""]
[null,""]
[null,""]
[null,""]
[null,""]
[null,""]
[null,{"$f":"IF(C4515=0,\"\",C4515-C4514)","v":""}]
[null,""]
[null,""]
[null,""]
[null,""]
[null,""]
[null,""]
[null,""]
[null,""]
[null,""]
[null,""]
[null,""]
[null,""]
[null,""]
[null,""]
[null,""]
[null,""]
[null,""]
[null,""]
[null,""]
[null,""]
[null,""]
[null,""]
[null,""]
[null,""]
[null,""]
[null,""]
[null,""]
[null,""]
[null,""]
[null,""]
[null,""]
[null,""]
[null,""]
[null,""]
[null,""]
[null,""]
[null,""]
[null,""]
[null,""]
[null,""]
[null,""]
[null,""]
[null,""]
[null,""]
[null,""]
[null,""]
[null,""]
[null,""]
[null,""]
[null,""]
[null,""]
[null,""]
[null,""]
[null,""]
[null,""]
[null,""]
[null,""]
[null,""]
[null,""]
[null,""]
[null,""]
[null,""]
[null,""]
[null,{"$f":"IF(C4579=0,\"\",C4579-C4578)","v":""}]
[null,""]
[null,""]
[null,""]
[null,""]
[null,""]
[null,""]
[null,""]
[null,""]
[null,""]
[null,""]
[null,""]
[null,""]
[null,""]
[null,""]
[null,""]
[null,""]
[null,""]
[null,""]
[null,""]
[null,""]
[null,""]
[null,""]
[null,""]
[null,""]
[null,""]
[null,""]
[null,""]
[null,""]
[null,""]
[null,""]
[null,""]
[null,""]
[null,""]
[null,""]
[null,""]
[null,""]
[null,""]
[null,""]
[null,""]
[null,""]
[null,""]
[null,""]
[null,""]
[null,""]
[null,""]
[null,""]
[null,""]
[null,""]
[null,""]
[null,""]
[null,""]
[null,""]
[null,""]
[null,""]
[null,""]
[null,""]
[null,""]
[null,""]
[null,""]
[null,""]
[null,""]
[null,""]
[null,""]
[null,{"$f":"IF(C4643=0,\"\",C4643-C4642)","v":""}]
[null,""]
[null,""]
[null,""]
[null,""]
[null,""]
[null,""]
[null,""]
[null,""]
[null,""]
[null,""]
[null,""]
[null,""]
[null,""]
[null,""]
[null,""]
[null,""]
[null,""]
[null,""]
[null,""]
[null,""]
[null,""]
[null,""]
[null,""]
[null,""]
[null,""]
[null,""]
[null,""]
[null,""]
[null,""]
[null,""]
[null,""]
[null,""]
[null,""]
[null,""]
[null,""]
[null,""]
[null,""]
[null,""]
[null,""]
[null,""]
[null,""]
[null,""]
[null,""]
[null,""]
[null,""]
[null,""]
[null,""]
[null,""]
[null,""]
[null,""]
[null,""]
[null,""]
[null,""]
[null,""]
[null,""]
[null,""]
[null,""]
[null,""]
[null,""]
[null,""]
[null,""]
[null,""]
[null,""]
[null,{"$f":"IF(C4707=0,\"\",C4707-C4706)","v":""}]
[null,""]
[null,""]
[null,""]
[null,""]
[null,""]
[null,""]
[null,""]
[null,""]
[null,""]
[null,""]
[null,""]
[null,""]
[null,""]
[null,""]
[null,""]
[null,""]
[null,""]
[null,""]
[null,""]
[null,""]
[null,""]
[null,""]
[null,""]
[null,""]
[null,""]
[null,""]
[null,""]
[null,""]
[null,""]
[null,""]
[null,""]
[null,""]
[null,""]
[null,""]
[null,""]
[null,""]
[null,""]
[null,""]
[null,""]
[null,""]
[null,""]
[null,""]
[null,""]
[null,""]
[null,""]
[null,""]
[null,""]
[null,""]
[null,""]
[null,""]
[null,""]
[null,""]
[null,""]
[null,""]
[null,""]
[null,""]
[null,""]
[null,""]
[null,""]
[null,""]
[null,""]
[null,""]
[null,""]
[null,{"$f":"IF(C4771=0,\"\",C4771-C4770)","v":""}]
[null,""]
[null,""]
[null,""]
[null,""]
[null,""]
[null,""]
[null,""]
[null,""]
[null,""]
[null,""]
[null,""]
[null,""]
[null,""]
[null,""]
[null,""]
[null,""]
[null,""]
[null,""]
[null,""]
[null,""]
[null,""]
[null,""]
[null,""]
[null,""]
[null,""]
[null,""]
[null,""]
[null,""]
[null,""]
[null,""]
[null,""]
[null,""]
[null,""]
[null,""]
[null,""]
[null,""]
[null,""]
[null,""]
[null,""]
[null,""]
[null,""]
[null,""]
[null,""]
[null,""]
[null,""]
[null,""]
[null,""]
[null,""]
[null,""]
[null,""]
[null,""]
[null,""]
[null,""]
[null,""]
[null,""]
[null,""]
[null,""]
[null,""]
[null,""]
[null,""]
[null,""]
[null,""]
[null,""]
[null,{"$f":"IF(C4835=0,\"\",C4835-C4834)","v":""}]
[null,""]
[null,""]
[null,""]
[null,""]
[null,""]
[null,""]
[null,""]
[null,""]
[null,""]
[null,""]
[null,""]
[null,""]
[null,""]
[null,""]
[null,""]
[null,""]
[null,""]
[null,""]
[null,""]
[null,""]
[null,""]
[null,""]
[null,""]
[null,""]
[null,""]
[null,""]
[null,""]
[null,""]
[null,""]
[null,""]
[null,""]
[null,""]
[null,""]
[null,""]
[null,""]
[null,""]
[null,""]
[null,""]
[null,""]
[null,""]
[null,""]
[null,""]
[null,""]
[null,""]
[null,""]
[null,""]
[null,""]
[null,""]
[null,""]
[null,""]
[null,""]
[null,""]
[null,""]
[null,""]
[null,""]
[null,""]
[null,""]
[null,""]
[null,""]
[null,""]
[null,""]
[null,""]
[null,""]
[null,{"$f":"IF(C4899=0,\"\",C4899-C4898)","v":""}]
[null,""]
[null,""]
[null,""]
[null,""]
[null,""]
[null,""]
[null,""]
[null,""]
[null,""]
[null,""]
[null,""]
[null,""]
[null,""]
[null,""]
[null,""]
[null,""]
[null,""]
[null,""]
[null,""]
[null,""]
[null,""]
[null,""]
[null,""]
[null,""]
[null,""]
[null,""]
[null,""]
[null,""]
[null,""]
[null,""]
[null,""]
[null,""]
[null,""]
[null,""]
[null,""]
[null,""]
[null,""]
[null,""]
[null,""]
[null,""]
[null,""]
[null,""]
[null,""]
[null,""]
[null,""]
[null,""]
[null,""]
[null,""]
[null,""]
[null,""]
[null,""]
[null,""]
[null,""]
[null,""]
[null,""]
[null,""]
[null,""]
[null,""]
[null,""]
[null,""]
[null,""]
[null,""]
[null,""]
[null,{"$f":"IF(C4963=0,\"\",C4963-C4962)","v":""}]
[null,""]
[null,""]
[null,""]
[null,""]
[null,""]
[null,""]
[null,""]
[null,""]
[null,""]
[null,""]
[null,""]
[null,""]
[null,""]
[null,""]
[null,""]
[null,""]
[null,""]
[null,""]
[null,""]
[null,""]
[null,""]
[null,""]
[null,""]
[null,""]
[null,""]
[null,""]
[null,""]
[null,""]
[null,""]
[null,""]
[null,""]
[null,""]
[null,""]
[null,""]
[null,""]
[null,""]
[null,""]
[null,""]
[null,""]
[null,""]
[null,""]
[null,""]
[null,""]
[null,""]
[null,""]
[null,""]
[null,""]
[null,""]
[null,""]
[null,""]
[null,""]
[null,""]
[null,""]
[null,""]
[null,""]
[null,""]
[null,""]
[null,""]
[null,""]
[null,""]
[null,""]
[null,""]
[null,""]
[null,{"$f":"IF(C5027=0,\"\",C5027-C5026)","v":""}]
[null,""]
[null,""]
[null,""]
[null,""]
[null,""]
[null,""]
[null,""]
[null,""]
[null,""]
[null,""]
[null,""]
[null,""]
[null,""]
[null,""]
[null,""]
[null,""]
[null,""]
[null,""]
[null,""]
[null,""]
[null,""]
[null,""]
[null,""]
[null,""]
[null,""]
[null,""]
[null,""]
[null,""]
[null,""]
[null,""]
[null,""]
[null,""]
[null,""]
[null,""]
[null,""]
[null,""]
[null,""]
[null,""]
[null,""]
[null,""]
[null,""]
[null,""]
[null,""]
[null,""]
[null,""]
[null,""]
[null,""]
[null,""]
[null,""]
[null,""]
[null,""]
[null,""]
[null,""]
[null,""]
[null,""]
[null,""]
[null,""]
[null,""]
[null,""]
[null,""]
[null,""]
[null,""]
[null,""]
[null,{"$f":"IF(C5091=0,\"\",C5091-C5090)","v":""}]
[null,""]
[null,""]
[null,""]
[null,""]
[null,""]
[null,""]
[null,""]
[null,""]
[null,""]
[null,""]
[null,""]
[null,""]
[null,""]
[null,""]
[null,""]
[null,""]
[null,""]
[null,""]
[null,""]
[null,""]
[null,""]
[null,""]
[null,""]
[null,""]
[null,""]
[null,""]
[null,""]
[null,""]
[null,""]
[null,""]
[null,""]
[null,""]
[null,""]
[null,""]
[null,""]
[null,""]
[null,""]
[null,""]
[null,""]
[null,""]
[null,""]
[null,""]
[null,""]
[null,""]
[null,""]
[null,""]
[null,""]
[null,""]
[null,""]
[null,""]
[null,""]
[null,""]
[null,""]
[null,""]
[null,""]
[null,""]
[null,""]
[null,""]
[null,""]
[null,""]
[null,""]
[null,""]
[null,""]
[null,{"$f":"IF(C5155=0,\"\",C5155-C5154)","v":""}]
[null,""]
[null,""]
[null,""]
[null,""]
[null,""]
[null,""]
[null,""]
[null,""]
[null,""]
[null,""]
[null,""]
[null,""]
[null,""]
[null,""]
[null,""]
[null,""]
[null,""]
[null,""]
[null,""]
[null,""]
[null,""]
[null,""]
[null,""]
[null,""]
[null,""]
[null,""]
[null,""]
[null,""]
[null,""]
[null,""]
[null,""]
[null,""]
[null,""]
[null,""]
[null,""]
[null,""]
[null,""]
[null,""]
[null,""]
[null,""]
[null,""]
[null,""]
[null,""]
[null,""]
[null,""]
[null,""]
[null,""]
[null,""]
[null,""]
[null,""]
[null,""]
[null,""]
[null,""]
[null,""]
[null,""]
[null,""]
[null,""]
[null,""]
[null,""]
[null,""]
[null,""]
[null,""]
[null,""]
[null,{"$f":"IF(C5219=0,\"\",C5219-C5218)","v":""}]
[null,""]
[null,""]
[null,""]
[null,""]
[null,""]
[null,""]
[null,""]
[null,""]
[null,""]
[null,""]
[null,""]
[null,""]
[null,""]
[null,""]
[null,""]
[null,""]
[null,""]
[null,""]
[null,""]
[null,""]
[null,""]
[null,""]
[null,""]
[null,""]
[null,""]
[null,""]
[null,""]
[null,""]
[null,""]
[null,""]
[null,""]
[null,""]
[null,""]
[null,""]
[null,""]
[null,""]
[null,""]
[null,""]
[null,""]
[null,""]
[null,""]
[null,""]
[null,""]
[null,""]
[null,""]
[null,""]
[null,""]
[null,""]
[null,""]
[null,""]
[null,""]
[null,""]
[null,""]
[null,""]
[null,""]
[null,""]
[null,""]
[null,""]
[null,""]
[null,""]
[null,""]
[null,""]
[null,""]
[null,{"$f":"IF(C5283=0,\"\",C5283-C5282)","v":""}]
[null,""]
[null,""]
[null,""]
[null,""]
[null,""]
[null,""]
[null,""]
[null,""]
[null,""]
[null,""]
[null,""]
[null,""]
[null,""]
[null,""]
[null,""]
[null,""]
[null,""]
[null,""]
[null,""]
[null,""]
[null,""]
[null,""]
[null,""]
[null,""]
[null,""]
[null,""]
[null,""]
[null,""]
[null,""]
[null,""]
[null,""]
[null,""]
[null,""]
[null,""]
[null,""]
[null,""]
[null,""]
[null,""]
[null,""]
[null,""]
[null,""]
[null,""]
[null,""]
[null,""]
[null,""]
[null,""]
[null,""]
[null,""]
[null,""]
[null,""]
[null,""]
[null,""]
[null,""]
[null,""]
[null,""]
[null,""]
[null,""]
[null,""]
[null,""]
[null,""]
[null,""]
[null,""]
[null,""]
[null,{"$f":"IF(C5347=0,\"\",C5347-C5346)","v":""}]
[null,""]
[null,""]
[null,""]
[null,""]
[null,""]
[null,""]
[null,""]
[null,""]
[null,""]
[null,""]
[null,""]
[null,""]
[null,""]
[null,""]
[null,""]
[null,""]
[null,""]
[null,""]
[null,""]
[null,""]
[null,""]
[null,""]
[null,""]
[null,""]
[null,""]
[null,""]
[null,""]
[null,""]
[null,""]
[null,""]
[null,""]
[null,""]
[null,""]
[null,""]
[null,""]
[null,""]
[null,""]
[null,""]
[null,""]
[null,""]
[null,""]
[null,""]
[null,""]
[null,""]
[null,""]
[null,""]
[null,""]
[null,""]
[null,""]
[null,""]
[null,""]
[null,""]
[null,""]
[null,""]
[null,""]
[null,""]
[null,""]
[null,""]
[null,""]
[null,""]
[null,""]
[null,""]
[null,""]
[null,{"$f":"IF(C5411=0,\"\",C5411-C5410)","v":""}]
[null,""]
[null,""]
[null,""]
[null,""]
[null,""]
[null,""]
[null,""]
[null,""]
[null,""]
[null,""]
[null,""]
[null,""]
[null,""]
[null,""]
[null,""]
[null,""]
[null,""]
[null,""]
[null,""]
[null,""]
[null,""]
[null,""]
[null,""]
[null,""]
[null,""]
[null,""]
[null,""]
[null,""]
[null,""]
[null,""]
[null,""]
[null,""]
[null,""]
[null,""]
[null,""]
[null,""]
[null,""]
[null,""]
[null,""]
[null,""]
[null,""]
[null,""]
[null,""]
[null,""]
[null,""]
[null,""]
[null,""]
[null,""]
[null,""]
[null,""]
[null,""]
[null,""]
[null,""]
[null,""]
[null,""]
[null,""]
[null,""]
[null,""]
[null,""]
[null,""]
[null,""]
[null,""]
[null,""]
[null,{"$f":"IF(C5475=0,\"\",C5475-C5474)","v":""}]
[null,""]
[null,""]
[null,""]
[null,""]
[null,""]
[null,""]
[null,""]
[null,""]
[null,""]
[null,""]
[null,""]
[null,""]
[null,""]
[null,""]
[null,""]
[null,""]
[null,""]
[null,""]
[null,""]
[null,""]
[null,""]
[null,""]
[null,""]
[null,""]
[null,""]
[null,""]
[null,""]
[null,""]
[null,""]
[null,""]
[null,""]
[null,""]
[null,""]
[null,""]
[null,""]
[null,""]
[null,""]
[null,""]
[null,""]
[null,""]
[null,""]
[null,""]
[null,""]
[null,""]
[null,""]
[null,""]
[null,""]
[null,""]
[null,""]
[null,""]
[null,""]
[null,""]
[null,""]
[null,""]
[null,""]
[null,""]
[null,""]
[null,""]
[null,""]
[null,""]
[null,""]
[null,""]
[null,""]
[null,{"$f":"IF(C5539=0,\"\",C5539-C5538)","v":""}]
[null,""]
[null,""]
[null,""]
[null,""]
[null,""]
[null,""]
[null,""]
[null,""]
[null,""]
[null,""]
[null,""]
[null,""]
[null,""]
[null,""]
[null,""]
[null,""]
[null,""]
[null,""]
[null,""]
[null,""]
[null,""]
[null,""]
[null,""]
[null,""]
[null,""]
[null,""]
[null,""]
[null,""]
[null,""]
[null,""]
[null,""]
[null,""]
[null,""]
[null,""]
[null,""]
[null,""]
[null,""]
[null,""]
[null,""]
[null,""]
[null,""]
[null,""]
[null,""]
[null,""]
[null,""]
[null,""]
[null,""]
[null,""]
[null,""]
[null,""]
[null,""]
[null,""]
[null,""]
[null,""]
[null,""]
[null,""]
[null,""]
[null,""]
[null,""]
[null,""]
[null,""]
[null,""]
[null,""]
[null,{"$f":"IF(C5603=0,\"\",C5603-C5602)","v":""}]
[null,""]
[null,""]
[null,""]
[null,""]
[null,""]
[null,""]
[null,""]
[null,""]
[null,""]
[null,""]
[null,""]
[null,""]
[null,""]
[null,""]
[null,""]
[null,""]
[null,""]
[null,""]
[null,""]
[null,""]
[null,""]
[null,""]
[null,""]
[null,""]
[null,""]
[null,""]
[null,""]
[null,""]
[null,""]
[null,""]
[null,""]
[null,""]
[null,""]
[null,""]
[null,""]
[null,""]
[null,""]
[null,""]
[null,""]
[null,""]
[null,""]
[null,""]
[null,""]
[null,""]
[null,""]
[null,""]
[null,""]
[null,""]
[null,""]
[null,""]
[null,""]
[null,""]
[null,""]
[null,""]
[null,""]
[null,""]
[null,""]
[null,""]
[null,""]
[null,""]
[null,""]
[null,""]
[null,""]
[null,{"$f":"IF(C5667=0,\"\",C5667-C5666)","v":""}]
[null,""]
[null,""]
[null,""]
[null,""]
[null,""]
[null,""]
[null,""]
[null,""]
[null,""]
[null,""]
[null,""]
[null,""]
[null,""]
[null,""]
[null,""]
[null,""]
[null,""]
[null,""]
[null,""]
[null,""]
[null,""]
[null,""]
[null,""]
[null,""]
[null,""]
[null,""]
[null,""]
[null,""]
[null,""]
[null,""]
[null,""]
[null,""]
[null,""]
[null,""]
[null,""]
[null,""]
[null,""]
[null,""]
[null,""]
[null,""]
[null,""]
[null,""]
[null,""]
[null,""]
[null,""]
[null,""]
[null,""]
[null,""]
[null,""]
[null,""]
[null,""]
[null,""]
[null,""]
[null,""]
[null,""]
[null,""]
[null,""]
[null,""]
[null,""]
[null,""]
[null,""]
[null,""]
[null,""]
[null,{"$f":"IF(C5731=0,\"\",C5731-C5730)","v":""}]
[null,""]
[null,""]
[null,""]
[null,""]
[null,""]
[null,""]
[null,""]
[null,""]
[null,""]
[null,""]
[null,""]
[null,""]
[null,""]
[null,""]
[null,""]
[null,""]
[null,""]
[null,""]
[null,""]
[null,""]
[null,""]
[null,""]
[null,""]
[null,""]
[null,""]
[null,""]
[null,""]
[null,""]
[null,""]
[null,""]
[null,""]
[null,""]
[null,""]
[null,""]
[null,""]
[null,""]
[null,""]
[null,""]
[null,""]
[null,""]
[null,""]
[null,""]
[null,""]
[null,""]
[null,""]
[null,""]
[null,""]
[null,""]
[null,""]
[null,""]
[null,""]
[null,""]
[null,""]
[null,""]
[null,""]
[null,""]
[null,""]
[null,""]
[null,""]
[null,""]
[null,""]
[null,""]
[null,""]
[null,{"$f":"IF(C5795=0,\"\",C5795-C5794)","v":""}]
[null,""]
[null,""]
[null,""]
[null,""]
[null,""]
[null,""]
[null,""]
[null,""]
[null,""]
[null,""]
[null,""]
[null,""]
[null,""]
[null,""]
[null,""]
[null,""]
[null,""]
[null,""]
[null,""]
[null,""]
[null,""]
[null,""]
[null,""]
[null,""]
[null,""]
[null,""]
[null,""]
[null,""]
[null,""]
[null,""]
[null,""]
[null,""]
[null,""]
[null,""]
[null,""]
[null,""]
[null,""]
[null,""]
[null,""]
[null,""]
[null,""]
[null,""]
[null,""]
[null,""]
[null,""]
[null,""]
[null,""]
[null,""]
[null,""]
[null,""]
[null,""]
[null,""]
[null,""]
[null,""]
[null,""]
[null,""]
[null,""]
[null,""]
[null,""]
[null,""]
[null,""]
[null,""]
[null,""]
[null,{"$f":"IF(C5859=0,\"\",C5859-C5858)","v":""}]
[null,""]
[null,""]
[null,""]
[null,""]
[null,""]
[null,""]
[null,""]
[null,""]
[null,""]
[null,""]
[null,""]
[null,""]
[null,""]
[null,""]
[null,""]
[null,""]
[null,""]
[null,""]
[null,""]
[null,""]
[null,""]
[null,""]
[null,""]
[null,""]
[null,""]
[null,""]
[null,""]
[null,""]
[null,""]
[null,""]
[null,""]
[null,""]
[null,""]
[null,""]
[null,""]
[null,""]
[null,""]
[null,""]
[null,""]
[null,""]
[null,""]
[null,""]
[null,""]
[null,""]
[null,""]
[null,""]
[null,""]
[null,""]
[null,""]
[null,""]
[null,""]
[null,""]
[null,""]
[null,""]
[null,""]
[null,""]
[null,""]
[null,""]
[null,""]
[null,""]
[null,""]
[null,""]
[null,""]
[null,{"$f":"IF(C5923=0,\"\",C5923-C5922)","v":""}]
[null,""]
[null,""]
[null,""]
[null,""]
[null,""]
[null,""]
[null,""]
[null,""]
[null,""]
[null,""]
[null,""]
[null,""]
[null,""]
[null,""]
[null,""]
[null,""]
[null,""]
[null,""]
[null,""]
[null,""]
[null,""]
[null,""]
[null,""]
[null,""]
[null,""]
[null,""]
[null,""]
[null,""]
[null,""]
[null,""]
[null,""]
[null,""]
[null,""]
[null,""]
[null,""]
[null,""]
[null,""]
[null,""]
[null,""]
[null,""]
[null,""]
[null,""]
[null,""]
[null,""]
[null,""]
[null,""]
[null,""]
[null,""]
[null,""]
[null,""]
[null,""]
[null,""]
[null,""]
[null,""]
[null,""]
[null,""]
[null,""]
[null,""]
[null,""]
[null,""]
[null,""]
[null,""]
[null,""]
[null,{"$f":"IF(C5987=0,\"\",C5987-C5986)","v":""}]
[null,""]
[null,""]
[null,""]
[null,""]
[null,""]
[null,""]
[null,""]
[null,""]
[null,""]
[null,""]
[null,""]
[null,""]
[null,""]
[null,""]
[null,""]
[null,""]
[null,""]
[null,""]
[null,""]
[null,""]
[null,""]
[null,""]
[null,""]
[null,""]
[null,""]
[null,""]
[null,""]
[null,""]
[null,""]
[null,""]
[null,""]
[null,""]
[null,""]
[null,""]
[null,""]
[null,""]
[null,""]
[null,""]
[null,""]
[null,""]
[null,""]
[null,""]
[null,""]
[null,""]
[null,""]
[null,""]
[null,""]
[null,""]
[null,""]
[null,""]
[null,""]
[null,""]
[null,""]
[null,""]
[null,""]
[null,""]
[null,""]
[null,""]
[null,""]
[null,""]
[null,""]
[null,""]
[null,""]
[null,{"$f":"IF(C6051=0,\"\",C6051-C6050)","v":""}]
[null,""]
[null,""]
[null,""]
[null,""]
[null,""]
[null,""]
[null,""]
[null,""]
[null,""]
[null,""]
[null,""]
[null,""]
[null,""]
[null,""]
[null,""]
[null,""]
[null,""]
[null,""]
[null,""]
[null,""]
[null,""]
[null,""]
[null,""]
[null,""]
[null,""]
[null,""]
[null,""]
[null,""]
[null,""]
[null,""]
[null,""]
[null,""]
[null,""]
[null,""]
[null,""]
[null,""]
[null,""]
[null,""]
[null,""]
[null,""]
[null,""]
[null,""]
[null,""]
[null,""]
[null,""]
[null,""]
[null,""]
[null,""]
[null,""]
[null,""]
[null,""]
[null,""]
[null,""]
[null,""]
[null,""]
[null,""]
[null,""]
[null,""]
[null,""]
[null,""]
[null,""]
[null,""]
[null,""]
[null,{"$f":"IF(C6115=0,\"\",C6115-C6114)","v":""}]
[null,""]
[null,""]
[null,""]
[null,""]
[null,""]
[null,""]
[null,""]
[null,""]
[null,""]
[null,""]
[null,""]
[null,""]
[null,""]
[null,""]
[null,""]
[null,""]
[null,""]
[null,""]
[null,""]
[null,""]
[null,""]
[null,""]
[null,""]
[null,""]
[null,""]
[null,""]
[null,""]
[null,""]
[null,""]
[null,""]
[null,""]
[null,""]
[null,""]
[null,""]
[null,""]
[null,""]
[null,""]
[null,""]
[null,""]
[null,""]
[null,""]
[null,""]
[null,""]
[null,""]
[null,""]
[null,""]
[null,""]
[null,""]
[null,""]
[null,""]
[null,""]
[null,""]
[null,""]
[null,""]
[null,""]
[null,""]
[null,""]
[null,""]
[null,""]
[null,""]
[null,""]
[null,""]
[null,""]
[null,{"$f":"IF(C6179=0,\"\",C6179-C6178)","v":""}]
[null,""]
[null,""]
[null,""]
[null,""]
[null,""]
[null,""]
[null,""]
[null,""]
[null,""]
[null,""]
[null,""]
[null,""]
[null,""]
[null,""]
[null,""]
[null,""]
[null,""]
[null,""]
[null,""]
[null,""]
[null,""]
[null,""]
[null,""]
[null,""]
[null,""]
[null,""]
[null,""]
[null,""]
[null,""]
[null,""]
[null,""]
[null,""]
[null,""]
[null,""]
[null,""]
[null,""]
[null,""]
[null,""]
[null,""]
[null,""]
[null,""]
[null,""]
[null,""]
[null,""]
[null,""]
[null,""]
[null,""]
[null,""]
[null,""]
[null,""]
[null,""]
[null,""]
[null,""]
[null,""]
[null,""]
[null,""]
[null,""]
[null,""]
[null,""]
[null,""]
[null,""]
[null,""]
[null,""]
[null,{"$f":"IF(C6243=0,\"\",C6243-C6242)","v":""}]
[null,""]
[null,""]
[null,""]
[null,""]
[null,""]
[null,""]
[null,""]
[null,""]
[null,""]
[null,""]
[null,""]
[null,""]
[null,""]
[null,""]
[null,""]
[null,""]
[null,""]
[null,""]
[null,""]
[null,""]
[null,""]
[null,""]
[null,""]
[null,""]
[null,""]
[null,""]
[null,""]
[null,""]
[null,""]
[null,""]
[null,""]
[null,""]
[null,""]
[null,""]
[null,""]
[null,""]
[null,""]
[null,""]
[null,""]
[null,""]
[null,""]
[null,""]
[null,""]
[null,""]
[null,""]
[null,""]
[null,""]
[null,""]
[null,""]
[null,""]
[null,""]
[null,""]
[null,""]
[null,""]
[null,""]
[null,""]
[null,""]
[null,""]
[null,""]
[null,""]
[null,""]
[null,""]
[null,""]
[null,{"$f":"IF(C6307=0,\"\",C6307-C6306)","v":""}]
[null,""]
[null,""]
[null,""]
[null,""]
[null,""]
[null,""]
[null,""]
[null,""]
[null,""]
[null,""]
[null,""]
[null,""]
[null,""]
[null,""]
[null,""]
[null,""]
[null,""]
[null,""]
[null,""]
[null,""]
[null,""]
[null,""]
[null,""]
[null,""]
[null,""]
[null,""]
[null,""]
[null,""]
[null,""]
[null,""]
[null,""]
[null,""]
[null,""]
[null,""]
[null,""]
[null,""]
[null,""]
[null,""]
[null,""]
[null,""]
[null,""]
[null,""]
[null,""]
[null,""]
[null,""]
[null,""]
[null,""]
[null,""]
[null,""]
[null,""]
[null,""]
[null,""]
[null,""]
[null,""]
[null,""]
[null,""]
[null,""]
[null,""]
[null,""]
[null,""]
[null,""]
[null,""]
[null,""]
[null,{"$f":"IF(C6371=0,\"\",C6371-C6370)","v":""}]
[null,""]
[null,""]
[null,""]
[null,""]
[null,""]
[null,""]
[null,""]
[null,""]
[null,""]
[null,""]
[null,""]
[null,""]
[null,""]
[null,""]
[null,""]
[null,""]
[null,""]
[null,""]
[null,""]
[null,""]
[null,""]
[null,""]
[null,""]
[null,""]
[null,""]
[null,""]
[null,""]
[null,""]
[null,""]
[null,""]
[null,""]
[null,""]
[null,""]
[null,""]
[null,""]
[null,""]
[null,""]
[null,""]
[null,""]
[null,""]
[null,""]
[null,""]
[null,""]
[null,""]
[null,""]
[null,""]
[null,""]
[null,""]
[null,""]
[null,""]
[null,""]
[null,""]
[null,""]
[null,""]
[null,""]
[null,""]
[null,""]
[null,""]
[null,""]
[null,""]
[null,""]
[null,""]
[null,""]
[null,{"$f":"IF(C6435=0,\"\",C6435-C6434)","v":""}]
[null,""]
[null,""]
[null,""]
[null,""]
[null,""]
[null,""]
[null,""]
[null,""]
[null,""]
[null,""]
[null,""]
[null,""]
[null,""]
[null,""]
[null,""]
[null,""]
[null,""]
[null,""]
[null,""]
[null,""]
[null,""]
[null,""]
[null,""]
[null,""]
[null,""]
[null,""]
[null,""]
[null,""]
[null,""]
[null,""]
[null,""]
[null,""]
[null,""]
[null,""]
[null,""]
[null,""]
[null,""]
[null,""]
[null,""]
[null,""]
[null,""]
[null,""]
[null,""]
[null,""]
[null,""]
[null,""]
[null,""]
[null,""]
[null,""]
[null,""]
[null,""]
[null,""]
[null,""]
[null,""]
[null,""]
[null,""]
[null,""]
[null,""]
[null,""]
[null,""]
[null,""]
[null,""]
[null,""]
[null,{"$f":"IF(C6499=0,\"\",C6499-C6498)","v":""}]
[null,""]
[null,""]
[null,""]
[null,""]
[null,""]
[null,""]
[null,""]
[null,""]
[null,""]
[null,""]
[null,""]
[null,""]
[null,""]
[null,""]
[null,""]
[null,""]
[null,""]
[null,""]
[null,""]
[null,""]
[null,""]
[null,""]
[null,""]
[null,""]
[null,""]
[null,""]
[null,""]
[null,""]
[null,""]
[null,""]
[null,""]
[null,""]
[null,""]
[null,""]
[null,""]
[null,""]
[null,""]
[null,""]
[null,""]
[null,""]
[null,""]
[null,""]
[null,""]
[null,""]
[null,""]
[null,""]
[null,""]
[null,""]
[null,""]
[null,""]
[null,""]
[null,""]
[null,""]
[null,""]
[null,""]
[null,""]
[null,""]
[null,""]
[null,""]
[null,""]
[null,""]
[null,""]
[null,""]
[null,{"$f":"IF(C6563=0,\"\",C6563-C6562)","v":""}]
[null,""]
[null,""]
[null,""]
[null,""]
[null,""]
[null,""]
[null,""]
[null,""]
[null,""]
[null,""]
[null,""]
[null,""]
[null,""]
[null,""]
[null,""]
[null,""]
[null,""]
[null,""]
[null,""]
[null,""]
[null,""]
[null,""]
[null,""]
[null,""]
[null,""]
[null,""]
[null,""]
[null,""]
[null,""]
[null,""]
[null,""]
[null,""]
[null,""]
[null,""]
[null,""]
[null,""]
[null,""]
[null,""]
[null,""]
[null,""]
[null,""]
[null,""]
[null,""]
[null,""]
[null,""]
[null,""]
[null,""]
[null,""]
[null,""]
[null,""]
[null,""]
[null,""]
[null,""]
[null,""]
[null,""]
[null,""]
[null,""]
[null,""]
[null,""]
[null,""]
[null,""]
[null,""]
[null,""]
[null,{"$f":"IF(C6627=0,\"\",C6627-C6626)","v":""}]
[null,""]
[null,""]
[null,""]
[null,""]
[null,""]
[null,""]
[null,""]
[null,""]
[null,""]
[null,""]
[null,""]
[null,""]
[null,""]
[null,""]
[null,""]
[null,""]
[null,""]
[null,""]
[null,""]
[null,""]
[null,""]
[null,""]
[null,""]
[null,""]
[null,""]
[null,""]
[null,""]
[null,""]
[null,""]
[null,""]
[null,""]
[null,""]
[null,""]
[null,""]
[null,""]
[null,""]
[null,""]
[null,""]
[null,""]
[null,""]
[null,""]
[null,""]
[null,""]
[null,""]
[null,""]
[null,""]
[null,""]
[null,""]
[null,""]
[null,""]
[null,""]
[null,""]
[null,""]
[null,""]
[null,""]
[null,""]
[null,""]
[null,""]
[null,""]
[null,""]
[null,""]
[null,""]
[null,""]
[null,{"$f":"IF(C6691=0,\"\",C6691-C6690)","v":""}]
[null,""]
[null,""]
[null,""]
[null,""]
[null,""]
[null,""]
[null,""]
[null,""]
[null,""]
[null,""]
[null,""]
[null,""]
[null,""]
[null,""]
[null,""]
[null,""]
[null,""]
[null,""]
[null,""]
[null,""]
[null,""]
[null,""]
[null,""]
[null,""]
[null,""]
[null,""]
[null,""]
[null,""]
[null,""]
[null,""]
[null,""]
[null,""]
[null,""]
[null,""]
[null,""]
[null,""]
[null,""]
[null,""]
[null,""]
[null,""]
[null,""]
[null,""]
[null,""]
[null,""]
[null,""]
[null,""]
[null,""]
[null,""]
[null,""]
[null,""]
[null,""]
[null,""]
[null,""]
[null,""]
[null,""]
[null,""]
[null,""]
[null,""]
[null,""]
[null,""]
[null,""]
[null,""]
[null,""]
[null,{"$f":"IF(C6755=0,\"\",C6755-C6754)","v":""}]
[null,""]
[null,""]
[null,""]
[null,""]
[null,""]
[null,""]
[null,""]
[null,""]
[null,""]
[null,""]
[null,""]
[null,""]
[null,""]
[null,""]
[null,""]
[null,""]
[null,""]
[null,""]
[null,""]
[null,""]
[null,""]
[null,""]
[null,""]
[null,""]
[null,""]
[null,""]
[null,""]
[null,""]
[null,""]
[null,""]
[null,""]
[null,""]
[null,""]
[null,""]
[null,""]
[null,""]
[null,""]
[null,""]
[null,""]
[null,""]
[null,""]
[null,""]
[null,""]
[null,""]
[null,""]
[null,""]
[null,""]
[null,""]
[null,""]
[null,""]
[null,""]
[null,""]
[null,""]
[null,""]
[null,""]
[null,""]
[null,""]
[null,""]
[null,""]
[null,""]
[null,""]
[null,""]
[null,""]
[null,{"$f":"IF(C6819=0,\"\",C6819-C6818)","v":""}]
[null,""]
[null,""]
[null,""]
[null,""]
[null,""]
[null,""]
[null,""]
[null,""]
[null,""]
[null,""]
[null,""]
[null,""]
[null,""]
[null,""]
[null,""]
[null,""]
[null,""]
[null,""]
[null,""]
[null,""]
[null,""]
[null,""]
[null,""]
[null,""]
[null,""]
[null,""]
[null,""]
[null,""]
[null,""]
[null,""]
[null,""]
[null,""]
[null,""]
[null,""]
[null,""]
[null,""]
[null,""]
[null,""]
[null,""]
[null,""]
[null,""]
[null,""]
[null,""]
[null,""]
[null,""]
[null,""]
[null,""]
[null,""]
[null,""]
[null,""]
[null,""]
[null,""]
[null,""]
[null,""]
[null,""]
[null,""]
[null,""]
[null,""]
[null,""]
[null,""]
[null,""]
[null,""]
[null,""]
[null,{"$f":"IF(C6883=0,\"\",C6883-C6882)","v":""}]
[null,""]
[null,""]
[null,""]
[null,""]
[null,""]
[null,""]
[null,""]
[null,""]
[null,""]
[null,""]
[null,""]
[null,""]
[null,""]
[null,""]
[null,""]
[null,""]
[null,""]
[null,""]
[null,""]
[null,""]
[null,""]
[null,""]
[null,""]
[null,""]
[null,""]
[null,""]
[null,""]
[null,""]
[null,""]
[null,""]
[null,""]
[null,""]
[null,""]
[null,""]
[null,""]
[null,""]
[null,""]
[null,""]
[null,""]
[null,""]
[null,""]
[null,""]
[null,""]
[null,""]
[null,""]
[null,""]
[null,""]
[null,""]
[null,""]
[null,""]
[null,""]
[null,""]
[null,""]
[null,""]
[null,""]
[null,""]
[null,""]
[null,""]
[null,""]
[null,""]
[null,""]
[null,""]
[null,""]
[null,{"$f":"IF(C6947=0,\"\",C6947-C6946)","v":""}]
[null,""]
[null,""]
[null,""]
[null,""]
[null,""]
[null,""]
[null,""]
[null,""]
[null,""]
[null,""]
[null,""]
[null,""]
[null,""]
[null,""]
[null,""]
[null,""]
[null,""]
[null,""]
[null,""]
[null,""]
[null,""]
[null,""]
[null,""]
[null,""]
[null,""]
[null,""]
[null,""]
[null,""]
[null,""]
[null,""]
[null,""]
[null,""]
[null,""]
[null,""]
[null,""]
[null,""]
[null,""]
[null,""]
[null,""]
[null,""]
[null,""]
[null,""]
[null,""]
[null,""]
[null,""]
[null,""]
[null,""]
[null,""]
[null,""]
[null,""]
[null,""]
[null,""]
[null,""]
[null,""]
[null,""]
[null,""]
[null,""]
[null,""]
[null,""]
[null,""]
[null,""]
[null,""]
[null,""]
[null,{"$f":"IF(C7011=0,\"\",C7011-C7010)","v":""}]
[null,""]
[null,""]
[null,""]
[null,""]
[null,""]
[null,""]
[null,""]
[null,""]
[null,""]
[null,""]
[null,""]
[null,""]
[null,""]
[null,""]
[null,""]
[null,""]
[null,""]
[null,""]
[null,""]
[null,""]
[null,""]
[null,""]
[null,""]
[null,""]
[null,""]
[null,""]
[null,""]
[null,""]
[null,""]
[null,""]
[null,""]
[null,""]
[null,""]
[null,""]
[null,""]
[null,""]
[null,""]
[null,""]
[null,""]
[null,""]
[null,""]
[null,""]
[null,""]
[null,""]
[null,""]
[null,""]
[null,""]
[null,""]
[null,""]
[null,""]
[null,""]
[null,""]
[null,""]
[null,""]
[null,""]
[null,""]
[null,""]
[null,""]
[null,""]
[null,""]
[null,""]
[null,""]
[null,""]
[null,{"$f":"IF(C7075=0,\"\",C7075-C7074)","v":""}]
[null,""]
[null,""]
[null,""]
[null,""]
[null,""]
[null,""]
[null,""]
[null,""]
[null,""]
[null,""]
[null,""]
[null,""]
[null,""]
[null,""]
[null,""]
[null,""]
[null,""]
[null,""]
[null,""]
[null,""]
[null,""]
[null,""]
[null,""]
[null,""]
[null,""]
[null,""]
[null,""]
[null,""]
[null,""]
[null,""]
[null,""]
[null,""]
[null,""]
[null,""]
[null,""]
[null,""]
[null,""]
[null,""]
[null,""]
[null,""]
[null,""]
[null,""]
[null,""]
[null,""]
[null,""]
[null,""]
[null,""]
[null,""]
[null,""]
[null,""]
[null,""]
[null,""]
[null,""]
[null,""]
[null,""]
[null,""]
[null,""]
[null,""]
[null,""]
[null,""]
[null,""]
[null,""]
[null,""]
[null,{"$f":"IF(C7139=0,\"\",C7139-C7138)","v":""}]
[null,""]
[null,""]
[null,""]
[null,""]
[null,""]
[null,""]
[null,""]
[null,""]
[null,""]
[null,""]
[null,""]
[null,""]
[null,""]
[null,""]
[null,""]
[null,""]
[null,""]
[null,""]
[null,""]
[null,""]
[null,""]
[null,""]
[null,""]
[null,""]
[null,""]
[null,""]
[null,""]
[null,""]
[null,""]
[null,""]
[null,""]
[null,""]
[null,""]
[null,""]
[null,""]
[null,""]
[null,""]
[null,""]
[null,""]
[null,""]
[null,""]
[null,""]
[null,""]
[null,""]
[null,""]
[null,""]
[null,""]
[null,""]
[null,""]
[null,""]
[null,""]
[null,""]
[null,""]
[null,""]
[null,""]
[null,""]
[null,""]
[null,""]
[null,""]
[null,""]
[null,""]
[null,""]
[null,""]
[null,{"$f":"IF(C7203=0,\"\",C7203-C7202)","v":""}]
[null,""]
[null,""]
[null,""]
[null,""]
[null,""]
[null,""]
[null,""]
[null,""]
[null,""]
[null,""]
[null,""]
[null,""]
[null,""]
[null,""]
[null,""]
[null,""]
[null,""]
[null,""]
[null,""]
[null,""]
[null,""]
[null,""]
[null,""]
[null,""]
[null,""]
[null,""]
[null,""]
[null,""]
[null,""]
[null,""]
[null,""]
[null,""]
[null,""]
[null,""]
[null,""]
[null,""]
[null,""]
[null,""]
[null,""]
[null,""]
[null,""]
[null,""]
[null,""]
[null,""]
[null,""]
[null,""]
[null,""]
[null,""]
[null,""]
[null,""]
[null,""]
[null,""]
[null,""]
[null,""]
[null,""]
[null,""]
[null,""]
[null,""]
[null,""]
[null,""]
[null,""]
[null,""]
[null,""]
[null,{"$f":"IF(C7267=0,\"\",C7267-C7266)","v":""}]
[null,""]
[null,""]
[null,""]
[null,""]
[null,""]
[null,""]
[null,""]
[null,""]
[null,""]
[null,""]
[null,""]
[null,""]
[null,""]
[null,""]
[null,""]
[null,""]
[null,""]
[null,""]
[null,""]
[null,""]
[null,""]
[null,""]
[null,""]
[null,""]
[null,""]
[null,""]
[null,""]
[null,""]
[null,""]
[null,""]
[null,""]
[null,""]
[null,""]
[null,""]
[null,""]
[null,""]
[null,""]
[null,""]
[null,""]
[null,""]
[null,""]
[null,""]
[null,""]
[null,""]
[null,""]
[null,""]
[null,""]
[null,""]
[null,""]
[null,""]
[null,""]
[null,""]
[null,""]
[null,""]
[null,""]
[null,""]
[null,""]
[null,""]
[null,""]
[null,""]
[null,""]
[null,""]
[null,""]
[null,{"$f":"IF(C7331=0,\"\",C7331-C7330)","v":""}]
[null,""]
[null,""]
[null,""]
[null,""]
[null,""]
[null,""]
[null,""]
[null,""]
[null,""]
[null,""]
[null,""]
[null,""]
[null,""]
[null,""]
[null,""]
[null,""]
[null,""]
[null,""]
[null,""]
[null,""]
[null,""]
[null,""]
[null,""]
[null,""]
[null,""]
[null,""]
[null,""]
[null,""]
[null,""]
[null,""]
[null,""]
[null,""]
[null,""]
[null,""]
[null,""]
[null,""]
[null,""]
[null,""]
[null,""]
[null,""]
[null,""]
[null,""]
[null,""]
[null,""]
[null,""]
[null,""]
[null,""]
[null,""]
[null,""]
[null,""]
[null,""]
[null,""]
[null,""]
[null,""]
[null,""]
[null,""]
[null,""]
[null,""]
[null,""]
[null,""]
[null,""]
[null,""]
[null,""]
[null,{"$f":"IF(C7395=0,\"\",C7395-C7394)","v":""}]
[null,""]
[null,""]
[null,""]
[null,""]
[null,""]
[null,""]
[null,""]
[null,""]
[null,""]
[null,""]
[null,""]
[null,""]
[null,""]
[null,""]
[null,""]
[null,""]
[null,""]
[null,""]
[null,""]
[null,""]
[null,""]
[null,""]
[null,""]
[null,""]
[null,""]
[null,""]
[null,""]
[null,""]
[null,""]
[null,""]
[null,""]
[null,""]
[null,""]
[null,""]
[null,""]
[null,""]
[null,""]
[null,""]
[null,""]
[null,""]
[null,""]
[null,""]
[null,""]
[null,""]
[null,""]
[null,""]
[null,""]
[null,""]
[null,""]
[null,""]
[null,""]
[null,""]
[null,""]
[null,""]
[null,""]
[null,""]
[null,""]
[null,""]
[null,""]
[null,""]
[null,""]
[null,""]
[null,""]
[null,{"$f":"IF(C7459=0,\"\",C7459-C7458)","v":""}]
[null,""]
[null,""]
[null,""]
[null,""]
[null,""]
[null,""]
[null,""]
[null,""]
[null,""]
[null,""]
[null,""]
[null,""]
[null,""]
[null,""]
[null,""]
[null,""]
[null,""]
[null,""]
[null,""]
[null,""]
[null,""]
[null,""]
[null,""]
[null,""]
[null,""]
[null,""]
[null,""]
[null,""]
[null,""]
[null,""]
[null,""]
[null,""]
[null,""]
[null,""]
[null,""]
[null,""]
[null,""]
[null,""]
[null,""]
[null,""]
[null,""]
[null,""]
[null,""]
[null,""]
[null,""]
[null,""]
[null,""]
[null,""]
[null,""]
[null,""]
[null,""]
[null,""]
[null,""]
[null,""]
[null,""]
[null,""]
[null,""]
[null,""]
[null,""]
[null,""]
[null,""]
[null,""]
[null,""]
[null,{"$f":"IF(C7523=0,\"\",C7523-C7522)","v":""}]
[null,""]
[null,""]
[null,""]
[null,""]
[null,""]
[null,""]
[null,""]
[null,""]
[null,""]
[null,""]
[null,""]
[null,""]
[null,""]
[null,""]
[null,""]
[null,""]
[null,""]
[null,""]
[null,""]
[null,""]
[null,""]
[null,""]
[null,""]
[null,""]
[null,""]
[null,""]
[null,""]
[null,""]
[null,""]
[null,""]
[null,""]
[null,""]
[null,""]
[null,""]
[null,""]
[null,""]
[null,""]
[null,""]
[null,""]
[null,""]
[null,""]
[null,""]
[null,""]
[null,""]
[null,""]
[null,""]
[null,""]
[null,""]
[null,""]
[null,""]
[null,""]
[null,""]
[null,""]
[null,""]
[null,""]
[null,""]
[null,""]
[null,""]
[null,""]
[null,""]
[null,""]
[null,""]
[null,""]
[null,{"$f":"IF(C7587=0,\"\",C7587-C7586)","v":""}]
[null,""]
[null,""]
[null,""]
[null,""]
[null,""]
[null,""]
[null,""]
[null,""]
[null,""]
[null,""]
[null,""]
[null,""]
[null,""]
[null,""]
[null,""]
[null,""]
[null,""]
[null,""]
[null,""]
[null,""]
[null,""]
[null,""]
[null,""]
[null,""]
[null,""]
[null,""]
[null,""]
[null,""]
[null,""]
[null,""]
[null,""]
[null,""]
[null,""]
[null,""]
[null,""]
[null,""]
[null,""]
[null,""]
[null,""]
[null,""]
[null,""]
[null,""]
[null,""]
[null,""]
[null,""]
[null,""]
[null,""]
[null,""]
[null,""]
[null,""]
[null,""]
[null,""]
[null,""]
[null,""]
[null,""]
[null,""]
[null,""]
[null,""]
[null,""]
[null,""]
[null,""]
[null,""]
[null,""]
[null,{"$f":"IF(C7651=0,\"\",C7651-C7650)","v":""}]
[null,""]
[null,""]
[null,""]
[null,""]
[null,""]
[null,""]
[null,""]
[null,""]
[null,""]
[null,""]
[null,""]
[null,""]
[null,""]
[null,""]
[null,""]
[null,""]
[null,""]
[null,""]
[null,""]
[null,""]
[null,""]
[null,""]
[null,""]
[null,""]
[null,""]
[null,""]
[null,""]
[null,""]
[null,""]
[null,""]
[null,""]
[null,""]
[null,""]
[null,""]
[null,""]
[null,""]
[null,""]
[null,""]
[null,""]
[null,""]
[null,""]
[null,""]
[null,""]
[null,""]
[null,""]
[null,""]
[null,""]
[null,""]
[null,""]
[null,""]
[null,""]
[null,""]
[null,""]
[null,""]
[null,""]
[null,""]
[null,""]
[null,""]
[null,""]
[null,""]
[null,""]
[null,""]
[null,""]
[null,{"$f":"IF(C7715=0,\"\",C7715-C7714)","v":""}]
[null,""]
[null,""]
[null,""]
[null,""]
[null,""]
[null,""]
[null,""]
[null,""]
[null,""]
[null,""]
[null,""]
[null,""]
[null,""]
[null,""]
[null,""]
[null,""]
[null,""]
[null,""]
[null,""]
[null,""]
[null,""]
[null,""]
[null,""]
[null,""]
[null,""]
[null,""]
[null,""]
[null,""]
[null,""]
[null,""]
[null,""]
[null,""]
[null,""]
[null,""]
[null,""]
[null,""]
[null,""]
[null,""]
[null,""]
[null,""]
[null,""]
[null,""]
[null,""]
[null,""]
[null,""]
[null,""]
[null,""]
[null,""]
[null,""]
[null,""]
[null,""]
[null,""]
[null,""]
[null,""]
[null,""]
[null,""]
[null,""]
[null,""]
[null,""]
[null,""]
[null,""]
[null,""]
[null,""]
[null,{"$f":"IF(C7779=0,\"\",C7779-C7778)","v":""}]
[null,""]
[null,""]
[null,""]
[null,""]
[null,""]
[null,""]
[null,""]
[null,""]
[null,""]
[null,""]
[null,""]
[null,""]
[null,""]
[null,""]
[null,""]
[null,""]
[null,""]
[null,""]
[null,""]
[null,""]
[null,""]
[null,""]
[null,""]
[null,""]
[null,""]
[null,""]
[null,""]
[null,""]
[null,""]
[null,""]
[null,""]
[null,""]
[null,""]
[null,""]
[null,""]
[null,""]
[null,""]
[null,""]
[null,""]
[null,""]
[null,""]
[null,""]
[null,""]
[null,""]
[null,""]
[null,""]
[null,""]
[null,""]
[null,""]
[null,""]
[null,""]
[null,""]
[null,""]
[null,""]
[null,""]
[null,""]
[null,""]
[null,""]
[null,""]
[null,""]
[null,""]
[null,""]
[null,""]
[null,{"$f":"IF(C7843=0,\"\",C7843-C7842)","v":""}]
[null,""]
[null,""]
[null,""]
[null,""]
[null,""]
[null,""]
[null,""]
[null,""]
[null,""]
[null,""]
[null,""]
[null,""]
[null,""]
[null,""]
[null,""]
[null,""]
[null,""]
[null,""]
[null,""]
[null,""]
[null,""]
[null,""]
[null,""]
[null,""]
[null,""]
[null,""]
[null,""]
[null,""]
[null,""]
[null,""]
[null,""]
[null,""]
[null,""]
[null,""]
[null,""]
[null,""]
[null,""]
[null,""]
[null,""]
[null,""]
[null,""]
[null,""]
[null,""]
[null,""]
[null,""]
[null,""]
[null,""]
[null,""]
[null,""]
[null,""]
[null,""]
[null,""]
[null,""]
[null,""]
[null,""]
[null,""]
[null,""]
[null,""]
[null,""]
[null,""]
[null,""]
[null,""]
[null,""]
[null,{"$f":"IF(C7907=0,\"\",C7907-C7906)","v":""}]
[null,""]
[null,""]
[null,""]
[null,""]
[null,""]
[null,""]
[null,""]
[null,""]
[null,""]
[null,""]
[null,""]
[null,""]
[null,""]
[null,""]
[null,""]
[null,""]
[null,""]
[null,""]
[null,""]
[null,""]
[null,""]
[null,""]
[null,""]
[null,""]
[null,""]
[null,""]
[null,""]
[null,""]
[null,""]
[null,""]
[null,""]
[null,""]
[null,""]
[null,""]
[null,""]
[null,""]
[null,""]
[null,""]
[null,""]
[null,""]
[null,""]
[null,""]
[null,""]
[null,""]
[null,""]
[null,""]
[null,""]
[null,""]
[null,""]
[null,""]
[null,""]
[null,""]
[null,""]
[null,""]
[null,""]
[null,""]
[null,""]
[null,""]
[null,""]
[null,""]
[null,""]
[null,""]
[null,""]
[null,{"$f":"IF(C7971=0,\"\",C7971-C7970)","v":""}]
[null,""]
[null,""]
[null,""]
[null,""]
[null,""]
[null,""]
[null,""]
[null,""]
[null,""]
[null,""]
[null,""]
[null,""]
[null,""]
[null,""]
[null,""]
[null,""]
[null,""]
[null,""]
[null,""]
[null,""]
[null,""]
[null,""]
[null,""]
[null,""]
[null,""]
[null,""]
[null,""]
[null,""]
[null,""]
[null,""]
[null,""]
[null,""]
[null,""]
[null,""]
[null,""]
[null,""]
[null,""]
[null,""]
[null,""]
[null,""]
[null,""]
[null,""]
[null,""]
[null,""]
[null,""]
[null,""]
[null,""]
[null,""]
[null,""]
[null,""]
[null,""]
[null,""]
[null,""]
[null,""]
[null,""]
[null,""]
[null,""]
[null,""]
[null,""]
[null,""]
[null,""]
[null,""]
[null,""]
[null,{"$f":"IF(C8035=0,\"\",C8035-C8034)","v":""}]
[null,""]
[null,""]
[null,""]
[null,""]
[null,""]
[null,""]
[null,""]
[null,""]
[null,""]
[null,""]
[null,""]
[null,""]
[null,""]
[null,""]
[null,""]
[null,""]
[null,""]
[null,""]
[null,""]
[null,""]
[null,""]
[null,""]
[null,""]
[null,""]
[null,""]
[null,""]
[null,""]
[null,""]
[null,""]
[null,""]
[null,""]
[null,""]
[null,""]
[null,""]
[null,""]
[null,""]
[null,""]
[null,""]
[null,""]
[null,""]
[null,""]
[null,""]
[null,""]
[null,""]
[null,""]
[null,""]
[null,""]
[null,""]
[null,""]
[null,""]
[null,""]
[null,""]
[null,""]
[null,""]
[null,""]
[null,""]
[null,""]
[null,""]
[null,""]
[null,""]
[null,""]
[null,""]
[null,""]
[null,{"$f":"IF(C8099=0,\"\",C8099-C8098)","v":""}]
[null,""]
[null,""]
[null,""]
[null,""]
[null,""]
[null,""]
[null,""]
[null,""]
[null,""]
[null,""]
[null,""]
[null,""]
[null,""]
[null,""]
[null,""]
[null,""]
[null,""]
[null,""]
[null,""]
[null,""]
[null,""]
[null,""]
[null,""]
[null,""]
[null,""]
[null,""]
[null,""]
[null,""]
[null,""]
[null,""]
[null,""]
[null,""]
[null,""]
[null,""]
[null,""]
[null,""]
[null,""]
[null,""]
[null,""]
[null,""]
[null,""]
[null,""]
[null,""]
[null,""]
[null,""]
[null,""]
[null,""]
[null,""]
[null,""]
[null,""]
[null,""]
[null,""]
[null,""]
[null,""]
[null,""]
[null,""]
[null,""]
[null,""]
[null,""]
[null,""]
[null,""]
[null,""]
[null,""]
[null,{"$f":"IF(C8163=0,\"\",C8163-C8162)","v":""}]
[null,""]
[null,""]
[null,""]
[null,""]
[null,""]
[null,""]
[null,""]
[null,""]
[null,""]
[null,""]
[null,""]
[null,""]
[null,""]
[null,""]
[null,""]
[null,""]
[null,""]
[null,""]
[null,""]
[null,""]
[null,""]
[null,""]
[null,""]
[null,""]
[null,""]
[null,""]
[null,""]
[null,""]
[null,""]
[null,""]
[null,""]
[null,""]
[null,""]
[null,""]
[null,""]
[null,""]
[null,""]
[null,""]
[null,""]
[null,""]
[null,""]
[null,""]
[null,""]
[null,""]
[null,""]
[null,""]
[null,""]
[null,""]
[null,""]
[null,""]
[null,""]
[null,""]
[null,""]
[null,""]
[null,""]
[null,""]
[null,""]
[null,""]
[null,""]
[null,""]
[null,""]
[null,""]
[null,""]
[null,{"$f":"IF(C8227=0,\"\",C8227-C8226)","v":""}]
[null,""]
[null,""]
[null,""]
[null,""]
[null,""]
[null,""]
[null,""]
[null,""]
[null,""]
[null,""]
[null,""]
[null,""]
[null,""]
[null,""]
[null,""]
[null,""]
[null,""]
[null,""]
[null,""]
[null,""]
[null,""]
[null,""]
[null,""]
[null,""]
[null,""]
[null,""]
[null,""]
[null,""]
[null,""]
[null,""]
[null,""]
[null,""]
[null,""]
[null,""]
[null,""]
[null,""]
[null,""]
[null,""]
[null,""]
[null,""]
[null,""]
[null,""]
[null,""]
[null,""]
[null,""]
[null,""]
[null,""]
[null,""]
[null,""]
[null,""]
[null,""]
[null,""]
[null,""]
[null,""]
[null,""]
[null,""]
[null,""]
[null,""]
[null,""]
[null,""]
[null,""]
[null,""]
[null,""]
[null,{"$f":"IF(C8291=0,\"\",C8291-C8290)","v":""}]
[null,""]
[null,""]
[null,""]
[null,""]
[null,""]
[null,""]
[null,""]
[null,""]
[null,""]
[null,""]
[null,""]
[null,""]
[null,""]
[null,""]
[null,""]
[null,""]
[null,""]
[null,""]
[null,""]
[null,""]
[null,""]
[null,""]
[null,""]
[null,""]
[null,""]
[null,""]
[null,""]
[null,""]
[null,""]
[null,""]
[null,""]
[null,""]
[null,""]
[null,""]
[null,""]
[null,""]
[null,""]
[null,""]
[null,""]
[null,""]
[null,""]
[null,""]
[null,""]
[null,""]
[null,""]
[null,""]
[null,""]
[null,""]
[null,""]
[null,""]
[null,""]
[null,""]
[null,""]
[null,""]
[null,""]
[null,""]
[null,""]
[null,""]
[null,""]
[null,""]
[null,""]
[null,""]
[null,""]
[null,{"$f":"IF(C8355=0,\"\",C8355-C8354)","v":""}]
[null,""]
[null,""]
[null,""]
[null,""]
[null,""]
[null,""]
[null,""]
[null,""]
[null,""]
[null,""]
[null,""]
[null,""]
[null,""]
[null,""]
[null,""]
[null,""]
[null,""]
[null,""]
[null,""]
[null,""]
[null,""]
[null,""]
[null,""]
[null,""]
[null,""]
[null,""]
[null,""]
[null,""]
[null,""]
[null,""]
[null,""]
[null,""]
[null,""]
[null,""]
[null,""]
[null,""]
[null,""]
[null,""]
[null,""]
[null,""]
[null,""]
[null,""]
[null,""]
[null,""]
[null,""]
[null,""]
[null,""]
[null,""]
[null,""]
[null,""]
[null,""]
[null,""]
[null,""]
[null,""]
[null,""]
[null,""]
[null,""]
[null,""]
[null,""]
[null,""]
[null,""]
[null,""]
[null,""]
[null,{"$f":"IF(C8419=0,\"\",C8419-C8418)","v":""}]
[null,""]
[null,""]
[null,""]
[null,""]
[null,""]
[null,""]
[null,""]
[null,""]
[null,""]
[null,""]
[null,""]
[null,""]
[null,""]
[null,""]
[null,""]
[null,""]
[null,""]
[null,""]
[null,""]
[null,""]
[null,""]
[null,""]
[null,""]
[null,""]
[null,""]
[null,""]
[null,""]
[null,""]
[null,""]
[null,""]
[null,""]
[null,""]
[null,""]
[null,""]
[null,""]
[null,""]
[null,""]
[null,""]
[null,""]
[null,""]
[null,""]
[null,""]
[null,""]
[null,""]
[null,""]
[null,""]
[null,""]
[null,""]
[null,""]
[null,""]
[null,""]
[null,""]
[null,""]
[null,""]
[null,""]
[null,""]
[null,""]
[null,""]
[null,""]
[null,""]
[null,""]
[null,""]
[null,""]
[null,{"$f":"IF(C8483=0,\"\",C8483-C8482)","v":""}]
[null,""]
[null,""]
[null,""]
[null,""]
[null,""]
[null,""]
[null,""]
[null,""]
[null,""]
[null,""]
[null,""]
[null,""]
[null,""]
[null,""]
[null,""]
[null,""]
[null,""]
[null,""]
[null,""]
[null,""]
[null,""]
[null,""]
[null,""]
[null,""]
[null,""]
[null,""]
[null,""]
[null,""]
[null,""]
[null,""]
[null,""]
[null,""]
[null,""]
[null,""]
[null,""]
[null,""]
[null,""]
[null,""]
[null,""]
[null,""]
[null,""]
[null,""]
[null,""]
[null,""]
[null,""]
[null,""]
[null,""]
[null,""]
[null,""]
[null,""]
[null,""]
[null,""]
[null,""]
[null,""]
[null,""]
[null,""]
[null,""]
[null,""]
[null,""]
[null,""]
[null,""]
[null,""]
[null,""]
[null,{"$f":"IF(C8547=0,\"\",C8547-C8546)","v":""}]
[null,""]
[null,""]
[null,""]
[null,""]
[null,""]
[null,""]
[null,""]
[null,""]
[null,""]
[null,""]
[null,""]
[null,""]
[null,""]
[null,""]
[null,""]
[null,""]
[null,""]
[null,""]
[null,""]
[null,""]
[null,""]
[null,""]
[null,""]
[null,""]
[null,""]
[null,""]
[null,""]
[null,""]
[null,""]
[null,""]
[null,""]
[null,""]
[null,""]
[null,""]
[null,""]
[null,""]
[null,""]
[null,""]
[null,""]
[null,""]
[null,""]
[null,""]
[null,""]
[null,""]
[null,""]
[null,""]
[null,""]
[null,""]
[null,""]
[null,""]
[null,""]
[null,""]
[null,""]
[null,""]
[null,""]
[null,""]
[null,""]
[null,""]
[null,""]
[null,""]
[null,""]
[null,""]
[null,""]
[null,{"$f":"IF(C8611=0,\"\",C8611-C8610)","v":""}]
[null,""]
[null,""]
[null,""]
[null,""]
[null,""]
[null,""]
[null,""]
[null,""]
[null,""]
[null,""]
[null,""]
[null,""]
[null,""]
[null,""]
[null,""]
[null,""]
[null,""]
[null,""]
[null,""]
[null,""]
[null,""]
[null,""]
[null,""]
[null,""]
[null,""]
[null,""]
[null,""]
[null,""]
[null,""]
[null,""]
[null,""]
[null,""]
[null,""]
[null,""]
[null,""]
[null,""]
[null,""]
[null,""]
[null,""]
[null,""]
[null,""]
[null,""]
[null,""]
[null,""]
[null,""]
[null,""]
[null,""]
[null,""]
[null,""]
[null,""]
[null,""]
[null,""]
[null,""]
[null,""]
[null,""]
[null,""]
[null,""]
[null,""]
[null,""]
[null,""]
[null,""]
[null,""]
[null,""]
[null,{"$f":"IF(C8675=0,\"\",C8675-C8674)","v":""}]
[null,""]
[null,""]
[null,""]
[null,""]
[null,""]
[null,""]
[null,""]
[null,""]
[null,""]
[null,""]
[null,""]
[null,""]
[null,""]
[null,""]
[null,""]
[null,""]
[null,""]
[null,""]
[null,""]
[null,""]
[null,""]
[null,""]
[null,""]
[null,""]
[null,""]
[null,""]
[null,""]
[null,""]
[null,""]
[null,""]
[null,""]
[null,""]
[null,""]
[null,""]
[null,""]
[null,""]
[null,""]
[null,""]
[null,""]
[null,""]
[null,""]
[null,""]
[null,""]
[null,""]
[null,""]
[null,""]
[null,""]
[null,""]
[null,""]
[null,""]
[null,""]
[null,""]
[null,""]
[null,""]
[null,""]
[null,""]
[null,""]
[null,""]
[null,""]
[null,""]
[null,""]
[null,""]
[null,""]
[null,{"$f":"IF(C8739=0,\"\",C8739-C8738)","v":""}]
[null,""]
[null,""]
[null,""]
[null,""]
[null,""]
[null,""]
[null,""]
[null,""]
[null,""]
[null,""]
[null,""]
[null,""]
[null,""]
[null,""]
[null,""]
[null,""]
[null,""]
[null,""]
[null,""]
[null,""]
[null,""]
[null,""]
[null,""]
[null,""]
[null,""]
[null,""]
[null,""]
[null,""]
[null,""]
[null,""]
[null,""]
[null,""]
[null,""]
[null,""]
[null,""]
[null,""]
[null,""]
[null,""]
[null,""]
[null,""]
[null,""]
[null,""]
[null,""]
[null,""]
[null,""]
[null,""]
[null,""]
[null,""]
[null,""]
[null,""]
[null,""]
[null,""]
[null,""]
[null,""]
[null,""]
[null,""]
[null,""]
[null,""]
[null,""]
[null,""]
[null,""]
[null,""]
[null,""]
[null,{"$f":"IF(C8803=0,\"\",C8803-C8802)","v":""}]
[null,""]
[null,""]
[null,""]
[null,""]
[null,""]
[null,""]
[null,""]
[null,""]
[null,""]
[null,""]
[null,""]
[null,""]
[null,""]
[null,""]
[null,""]
[null,""]
[null,""]
[null,""]
[null,""]
[null,""]
[null,""]
[null,""]
[null,""]
[null,""]
[null,""]
[null,""]
[null,""]
[null,""]
[null,""]
[null,""]
[null,""]
[null,""]
[null,""]
[null,""]
[null,""]
[null,""]
[null,""]
[null,""]
[null,""]
[null,""]
[null,""]
[null,""]
[null,""]
[null,""]
[null,""]
[null,""]
[null,""]
[null,""]
[null,""]
[null,""]
[null,""]
[null,""]
[null,""]
[null,""]
[null,""]
[null,""]
[null,""]
[null,""]
[null,""]
[null,""]
[null,""]
[null,""]
[null,""]
[null,{"$f":"IF(C8867=0,\"\",C8867-C8866)","v":""}]
[null,""]
[null,""]
[null,""]
[null,""]
[null,""]
[null,""]
[null,""]
[null,""]
[null,""]
[null,""]
[null,""]
[null,""]
[null,""]
[null,""]
[null,""]
[null,""]
[null,""]
[null,""]
[null,""]
[null,""]
[null,""]
[null,""]
[null,""]
[null,""]
[null,""]
[null,""]
[null,""]
[null,""]
[null,""]
[null,""]
[null,""]
[null,""]
[null,""]
[null,""]
[null,""]
[null,""]
[null,""]
[null,""]
[null,""]
[null,""]
[null,""]
[null,""]
[null,""]
[null,""]
[null,""]
[null,""]
[null,""]
[null,""]
[null,""]
[null,""]
[null,""]
[null,""]
[null,""]
[null,""]
[null,""]
[null,""]
[null,""]
[null,""]
[null,""]
[null,""]
[null,""]
[null,""]
[null,""]
[null,{"$f":"IF(C8931=0,\"\",C8931-C8930)","v":""}]
[null,""]
[null,""]
[null,""]
[null,""]
[null,""]
[null,""]
[null,""]
[null,""]
[null,""]
[null,""]
[null,""]
[null,""]
[null,""]
[null,""]
[null,""]
[null,""]
[null,""]
[null,""]
[null,""]
[null,""]
[null,""]
[null,""]
[null,""]
[null,""]
[null,""]
[null,""]
[null,""]
[null,""]
[null,""]
[null,""]
[null,""]
[null,""]
[null,""]
[null,""]
[null,""]
[null,""]
[null,""]
[null,""]
[null,""]
[null,""]
[null,""]
[null,""]
[null,""]
[null,""]
[null,""]
[null,""]
[null,""]
[null,""]
[null,""]
[null,""]
[null,""]
[null,""]
[null,""]
[null,""]
[null,""]
[null,""]
[null,""]
[null,""]
[null,""]
[null,""]
[null,""]
[null,""]
[null,""]
[null,{"$f":"IF(C8995=0,\"\",C8995-C8994)","v":""}]
[null,""]
[null,""]
[null,""]
[null,""]
[null,""]
[null,""]
[null,""]
[null,""]
[null,""]
[null,""]
[null,""]
[null,""]
[null,""]
[null,""]
[null,""]
[null,""]
[null,""]
[null,""]
[null,""]
[null,""]
[null,""]
[null,""]
[null,""]
[null,""]
[null,""]
[null,""]
[null,""]
[null,""]
[null,""]
[null,""]
[null,""]
[null,""]
[null,""]
[null,""]
[null,""]
[null,""]
[null,""]
[null,""]
[null,""]
[null,""]
[null,""]
[null,""]
[null,""]
[null,""]
[null,""]
[null,""]
[null,""]
[null,""]
[null,""]
[null,""]
[null,""]
[null,""]
[null,""]
[null,""]
[null,""]
[null,""]
[null,""]
[null,""]
[null,""]
[null,""]
[null,""]
[null,""]
[null,""]
[null,{"$f":"IF(C9059=0,\"\",C9059-C9058)","v":""}]
[null,""]
[null,""]
[null,""]
[null,""]
[null,""]
[null,""]
[null,""]
[null,""]
[null,""]
[null,""]
[null,""]
[null,""]
[null,""]
[null,""]
[null,""]
[null,""]
[null,""]
[null,""]
[null,""]
[null,""]
[null,""]
[null,""]
[null,""]
[null,""]
[null,""]
[null,""]
[null,""]
[null,""]
[null,""]
[null,""]
[null,""]
[null,""]
[null,""]
[null,""]
[null,""]
[null,""]
[null,""]
[null,""]
[null,""]
[null,""]
[null,""]
[null,""]
[null,""]
[null,""]
[null,""]
[null,""]
[null,""]
[null,""]
[null,""]
[null,""]
[null,""]
[null,""]
[null,""]
[null,""]
[null,""]
[null,""]
[null,""]
[null,""]
[null,""]
[null,""]
[null,""]
[null,""]
[null,""]
[null,{"$f":"IF(C9123=0,\"\",C9123-C9122)","v":""}]
[null,""]
[null,""]
[null,""]
[null,""]
[null,""]
[null,""]
[null,""]
[null,""]
[null,""]
[null,""]
[null,""]
[null,""]
[null,""]
[null,""]
[null,""]
[null,""]
[null,""]
[null,""]
[null,""]
[null,""]
[null,""]
[null,""]
[null,""]
[null,""]
[null,""]
[null,""]
[null,""]
[null,""]
[null,""]
[null,""]
[null,""]
[null,""]
[null,""]
[null,""]
[null,""]
[null,""]
[null,""]
[null,""]
[null,""]
[null,""]
[null,""]
[null,""]
[null,""]
[null,""]
[null,""]
[null,""]
[null,""]
[null,""]
[null,""]
[null,""]
[null,""]
[null,""]
[null,""]
[null,""]
[null,""]
[null,""]
[null,""]
[null,""]
[null,""]
[null,""]
[null,""]
[null,""]
[null,""]
[null,{"$f":"IF(C9187=0,\"\",C9187-C9186)","v":""}]
[null,""]
[null,""]
[null,""]
[null,""]
[null,""]
[null,""]
[null,""]
[null,""]
[null,""]
[null,""]
[null,""]
[null,""]
[null,""]
[null,""]
[null,""]
[null,""]
[null,""]
[null,""]
[null,""]
[null,""]
[null,""]
[null,""]
[null,""]
[null,""]
[null,""]
[null,""]
[null,""]
[null,""]
[null,""]
[null,""]
[null,""]
[null,""]
[null,""]
[null,""]
[null,""]
[null,""]
[null,""]
[null,""]
[null,""]
[null,""]
[null,""]
[null,""]
[null,""]
[null,""]
[null,""]
[null,""]
[null,""]
[null,""]
[null,""]
[null,""]
[null,""]
[null,""]
[null,""]
[null,""]
[null,""]
[null,""]
[null,""]
[null,""]
[null,""]
[null,""]
[null,""]
[null,""]
[null,""]
[null,{"$f":"IF(C9251=0,\"\",C9251-C9250)","v":""}]
[null,""]
[null,""]
[null,""]
[null,""]
[null,""]
[null,""]
[null,""]
[null,""]
[null,""]
[null,""]
[null,""]
[null,""]
[null,""]
[null,""]
[null,""]
[null,""]
[null,""]
[null,""]
[null,""]
[null,""]
[null,""]
[null,""]
[null,""]
[null,""]
[null,""]
[null,""]
[null,""]
[null,""]
[null,""]
[null,""]
[null,""]
[null,""]
[null,""]
[null,""]
[null,""]
[null,""]
[null,""]
[null,""]
[null,""]
[null,""]
[null,""]
[null,""]
[null,""]
[null,""]
[null,""]
[null,""]
[null,""]
[null,""]
[null,""]
[null,""]
[null,""]
[null,""]
[null,""]
[null,""]
[null,""]
[null,""]
[null,""]
[null,""]
[null,""]
[null,""]
[null,""]
[null,""]
[null,""]
[null,{"$f":"IF(C9315=0,\"\",C9315-C9314)","v":""}]
[null,""]
[null,""]
[null,""]
[null,""]
[null,""]
[null,""]
[null,""]
[null,""]
[null,""]
[null,""]
[null,""]
[null,""]
[null,""]
[null,""]
[null,""]
[null,""]
[null,""]
[null,""]
[null,""]
[null,""]
[null,""]
[null,""]
[null,""]
[null,""]
[null,""]
[null,""]
[null,""]
[null,""]
[null,""]
[null,""]
[null,""]
[null,""]
[null,""]
[null,""]
[null,""]
[null,""]
[null,""]
[null,""]
[null,""]
[null,""]
[null,""]
[null,""]
[null,""]
[null,""]
[null,""]
[null,""]
[null,""]
[null,""]
[null,""]
[null,""]
[null,""]
[null,""]
[null,""]
[null,""]
[null,""]
[null,""]
[null,""]
[null,""]
[null,""]
[null,""]
[null,""]
[null,""]
[null,""]
[null,{"$f":"IF(C9379=0,\"\",C9379-C9378)","v":""}]
[null,""]
[null,""]
[null,""]
[null,""]
[null,""]
[null,""]
[null,""]
[null,""]
[null,""]
[null,""]
[null,""]
[null,""]
[null,""]
[null,""]
[null,""]
[null,""]
[null,""]
[null,""]
[null,""]
[null,""]
[null,""]
[null,""]
[null,""]
[null,""]
[null,""]
[null,""]
[null,""]
[null,""]
[null,""]
[null,""]
[null,""]
[null,""]
[null,""]
[null,""]
[null,""]
[null,""]
[null,""]
[null,""]
[null,""]
[null,""]
[null,""]
[null,""]
[null,""]
[null,""]
[null,""]
[null,""]
[null,""]
[null,""]
[null,""]
[null,""]
[null,""]
[null,""]
[null,""]
[null,""]
[null,""]
[null,""]
[null,""]
[null,""]
[null,""]
[null,""]
[null,""]
[null,""]
[null,""]
[null,{"$f":"IF(C9443=0,\"\",C9443-C9442)","v":""}]
[null,""]
[null,""]
[null,""]
[null,""]
[null,""]
[null,""]
[null,""]
[null,""]
[null,""]
[null,""]
[null,""]
[null,""]
[null,""]
[null,""]
[null,""]
[null,""]
[null,""]
[null,""]
[null,""]
[null,""]
[null,""]
[null,""]
[null,""]
[null,""]
[null,""]
[null,""]
[null,""]
[null,""]
[null,""]
[null,""]
[null,""]
[null,""]
[null,""]
[null,""]
[null,""]
[null,""]
[null,""]
[null,""]
[null,""]
[null,""]
[null,""]
[null,""]
[null,""]
[null,""]
[null,""]
[null,""]
[null,""]
[null,""]
[null,""]
[null,""]
[null,""]
[null,""]
[null,""]
[null,""]
[null,""]
[null,""]
[null,""]
[null,""]
[null,""]
[null,""]
[null,""]
[null,""]
[null,""]
[null,{"$f":"IF(C9507=0,\"\",C9507-C9506)","v":""}]
[null,""]
[null,""]
[null,""]
[null,""]
[null,""]
[null,""]
[null,""]
[null,""]
[null,""]
[null,""]
[null,""]
[null,""]
[null,""]
[null,""]
[null,""]
[null,""]
[null,""]
[null,""]
[null,""]
[null,""]
[null,""]
[null,""]
[null,""]
[null,""]
[null,""]
[null,""]
[null,""]
[null,""]
[null,""]
[null,""]
[null,""]
[null,""]
[null,""]
[null,""]
[null,""]
[null,""]
[null,""]
[null,""]
[null,""]
[null,""]
[null,""]
[null,""]
[null,""]
[null,""]
[null,""]
[null,""]
[null,""]
[null,""]
[null,""]
[null,""]
[null,""]
[null,""]
[null,""]
[null,""]
[null,""]
[null,""]
[null,""]
[null,""]
[null,""]
[null,""]
[null,""]
[null,""]
[null,""]
[null,{"$f":"IF(C9571=0,\"\",C9571-C9570)","v":""}]
[null,""]
[null,""]
[null,""]
[null,""]
[null,""]
[null,""]
[null,""]
[null,""]
[null,""]
[null,""]
[null,""]
[null,""]
[null,""]
[null,""]
[null,""]
[null,""]
[null,""]
[null,""]
[null,""]
[null,""]
[null,""]
[null,""]
[null,""]
[null,""]
[null,""]
[null,""]
[null,""]
[null,""]
[null,""]
[null,""]
[null,""]
[null,""]
[null,""]
[null,""]
[null,""]
[null,""]
[null,""]
[null,""]
[null,""]
[null,""]
[null,""]
[null,""]
[null,""]
[null,""]
[null,""]
[null,""]
[null,""]
[null,""]
[null,""]
[null,""]
[null,""]
[null,""]
[null,""]
[null,""]
[null,""]
[null,""]
[null,""]
[null,""]
[null,""]
[null,""]
[null,""]
[null,""]
[null,""]
[null,{"$f":"IF(C9635=0,\"\",C9635-C9634)","v":""}]
[null,""]
[null,""]
[null,""]
[null,""]
[null,""]
[null,""]
[null,""]
[null,""]
[null,""]
[null,""]
[null,""]
[null,""]
[null,""]
[null,""]
[null,""]
[null,""]
[null,""]
[null,""]
[null,""]
[null,""]
[null,""]
[null,""]
[null,""]
[null,""]
[null,""]
[null,""]
[null,""]
[null,""]
[null,""]
[null,""]
[null,""]
[null,""]
[null,""]
[null,""]
[null,""]
[null,""]
[null,""]
[null,""]
[null,""]
[null,""]
[null,""]
[null,""]
[null,""]
[null,""]
[null,""]
[null,""]
[null,""]
[null,""]
[null,""]
[null,""]
[null,""]
[null,""]
[null,""]
[null,""]
[null,""]
[null,""]
[null,""]
[null,""]
[null,""]
[null,""]
[null,""]
[null,""]
[null,""]
[null,{"$f":"IF(C9699=0,\"\",C9699-C9698)","v":""}]
[null,""]
[null,""]
[null,""]
[null,""]
[null,""]
[null,""]
[null,""]
[null,""]
[null,""]
[null,""]
[null,""]
[null,""]
[null,""]
[null,""]
[null,""]
[null,""]
[null,""]
[null,""]
[null,""]
[null,""]
[null,""]
[null,""]
[null,""]
[null,""]
[null,""]
[null,""]
[null,""]
[null,""]
[null,""]
[null,""]
[null,""]
[null,""]
[null,""]
[null,""]
[null,""]
[null,""]
[null,""]
[null,""]
[null,""]
[null,""]
[null,""]
[null,""]
[null,""]
[null,""]
[null,""]
[null,""]
[null,""]
[null,""]
[null,""]
[null,""]
[null,""]
[null,""]
[null,""]
[null,""]
[null,""]
[null,""]
[null,""]
[null,""]
[null,""]
[null,""]
[null,""]
[null,""]
[null,""]
[null,{"$f":"IF(C9763=0,\"\",C9763-C9762)","v":""}]
[null,""]
[null,""]
[null,""]
[null,""]
[null,""]
[null,""]
[null,""]
[null,""]
[null,""]
[null,""]
[null,""]
[null,""]
[null,""]
[null,""]
[null,""]
[null,""]
[null,""]
[null,""]
[null,""]
[null,""]
[null,""]
[null,""]
[null,""]
[null,""]
[null,""]
[null,""]
[null,""]
[null,""]
[null,""]
[null,""]
[null,""]
[null,""]
[null,""]
[null,""]
[null,""]
[null,""]
[null,""]
[null,""]
[null,""]
[null,""]
[null,""]
[null,""]
[null,""]
[null,""]
[null,""]
[null,""]
[null,""]
[null,""]
[null,""]
[null,""]
[null,""]
[null,""]
[null,""]
[null,""]
[null,""]
[null,""]
[null,""]
[null,""]
[null,""]
[null,""]
[null,""]
[null,""]
[null,""]
[null,{"$f":"IF(C9827=0,\"\",C9827-C9826)","v":""}]
[null,""]
[null,""]
[null,""]
[null,""]
[null,""]
[null,""]
[null,""]
[null,""]
[null,""]
[null,""]
[null,""]
[null,""]
[null,""]
[null,""]
[null,""]
[null,""]
[null,""]
[null,""]
[null,""]
[null,""]
[null,""]
[null,""]
[null,""]
[null,""]
[null,""]
[null,""]
[null,""]
[null,""]
[null,""]
[null,""]
[null,""]
[null,""]
[null,""]
[null,""]
[null,""]
[null,""]
[null,""]
[null,""]
[null,""]
[null,""]
[null,""]
[null,""]
[null,""]
[null,""]
[null,""]
[null,""]
[null,""]
[null,""]
[null,""]
[null,""]
[null,""]
[null,""]
[null,""]
[null,""]
[null,""]
[null,""]
[null,""]
[null,""]
[null,""]
[null,""]
[null,""]
[null,""]
[null,""]
[null,{"$f":"IF(C9891=0,\"\",C9891-C9890)","v":""}]
[null,""]
[null,""]
[null,""]
[null,""]
[null,""]
[null,""]
[null,""]
[null,""]
[null,""]
[null,""]
[null,""]
[null,""]
[null,""]
[null,""]
[null,""]
[null,""]
[null,""]
[null,""]
[null,""]
[null,""]
[null,""]
[null,""]
[null,""]
[null,""]
[null,""]
[null,""]
[null,""]
[null,""]
[null,""]
[null,""]
[null,""]
[null,""]
[null,""]
[null,""]
[null,""]
[null,""]
[null,""]
[null,""]
[null,""]
[null,""]
[null,""]
[null,""]
[null,""]
[null,""]
[null,""]
[null,""]
[null,""]
[null,""]
[null,""]
[null,""]
[null,""]
[null,""]
[null,""]
[null,""]
[null,""]
[null,""]
[null,""]
[null,""]
[null,""]
[null,""]
[null,""]
[null,""]
[null,""]
[null,{"$f":"IF(C9955=0,\"\",C9955-C9954)","v":""}]
[null,""]
[null,""]
[null,""]
[null,""]
[null,""]
[null,""]
[null,""]
[null,""]
[null,""]
[null,""]
[null,""]
[null,""]
[null,""]
[null,""]
[null,""]
[null,""]
[null,""]
[null,""]
[null,""]
[null,""]
[null,""]
[null,""]
[null,""]
[null,""]
[null,""]
[null,""]
[null,""]
[null,""]
[null,""]
[null,""]
[null,""]
[null,""]
[null,""]
[null,""]
[null,""]
[null,""]
[null,""]
[null,""]
[null,""]
[null,""]
[null,""]
[null,""]
[null,""]
[null,""]
[null,""]
[null,""]
[null,""]
[null,""]
[null,""]
[null,""]
[null,""]
[null,""]
[null,""]
[null,""]
[null,""]
[null,""]
[null,""]
[null,""]
[null,""]
[null,""]
[null,""]
[null,""]
[null,""]
[null,{"$f":"IF(C10019=0,\"\",C10019-C10018)","v":""}]
[null,""]
[null,""]
[null,""]
[null,""]
[null,""]
[null,""]
[null,""]
[null,""]
[null,""]
[null,""]
[null,""]
[null,""]
[null,""]
[null,""]
[null,""]
[null,""]
[null,""]
[null,""]
[null,""]
[null,""]
[null,""]
[null,""]
[null,""]
[null,""]
[null,""]
[null,""]
[null,""]
[null,""]
[null,""]
[null,""]
[null,""]
[null,""]
[null,""]
[null,""]
[null,""]
[null,""]
[null,""]
[null,""]
[null,""]
[null,""]
[null,""]
[null,""]
[null,""]
[null,""]
[null,""]
[null,""]
[null,""]
[null,""]
[null,""]
[null,""]
[null,""]
[null,""]
[null,""]
[null,""]
[null,""]
[null,""]
[null,""]
[null,""]
[null,""]
[null,""]
[null,""]
[null,""]
[null,""]
[null,{"$f":"IF(C10083=0,\"\",C10083-C10082)","v":""}]
[null,""]
[null,""]
[null,""]
[null,""]
[null,""]
[null,""]
[null,{"$f":"IF(C10090=0,\"\",C10090-C10089)","v":""}]

{"sheet":"Condition 5","index":9,"n_rows":10089,"n_cols":30,"rows_kept":10089,"cut":false,"hidden":true,"merged":[[205,0,205,3],[206,0,210,1],[206,2,206,3],[207,2,207,3],[208,2,208,3],[209,2,209,3],[210,2,210,3],[211,0,211,3],[212,0,216,1],[212,2,212,3],[213,2,213,3],[214,2,214,3],[215,2,215,3],[216,2,216,3],[193,0,193,3],[194,0,198,1],[194,2,194,3],[195,2,195,3],[196,2,196,3],[197,2,197,3],[198,2,198,3],[199,0,199,3],[200,0,204,1],[200,2,200,3],[201,2,201,3],[202,2,202,3],[203,2,203,3],[204,2,204,3],[181,0,181,3],[182,0,186,1],[182,2,182,3],[183,2,183,3],[184,2,184,3],[185,2,185,3],[186,2,186,3],[187,0,187,3],[188,0,192,1],[188,2,188,3],[189,2,189,3],[190,2,190,3],[191,2,191,3],[192,2,192,3],[169,0,169,3],[170,0,174,1],[170,2,170,3],[171,2,171,3],[172,2,172,3],[173,2,173,3],[174,2,174,3],[175,0,175,3],[176,0,180,1],[176,2,176,3],[177,2,177,3],[178,2,178,3],[179,2,179,3],[180,2,180,3],[157,0,157,3],[158,0,162,1],[158,2,158,3],[159,2,159,3],[160,2,160,3],[161,2,161,3],[162,2,162,3],[163,0,163,3],[164,0,168,1],[164,2,164,3],[165,2,165,3],[166,2,166,3],[167,2,167,3],[168,2,168,3],[247,5,248,5],[247,8,248,8],[247,17,248,17],[151,0,151,3],[152,0,156,1],[152,2,152,3],[153,2,153,3],[154,2,154,3],[155,2,155,3],[156,2,156,3],[218,0,218,3],[219,0,219,3],[242,0,242,3],[243,0,243,3],[226,0,226,3],[227,0,227,3],[228,0,228,3],[229,0,229,3],[230,0,230,3],[231,0,231,3],[220,0,220,3],[221,0,221,3],[222,0,222,3],[223,0,223,3],[143,2,143,3],[144,2,144,3],[145,0,145,3],[146,0,150,1],[146,2,146,3],[147,2,147,3],[148,2,148,3],[149,2,149,3],[150,2,150,3],[121,0,121,3],[122,0,126,1],[122,2,122,3],[123,2,123,3],[124,2,124,3],[125,2,125,3],[126,2,126,3],[128,0,132,1],[128,2,128,3],[129,2,129,3],[130,2,130,3],[131,2,131,3],[132,2,132,3],[112,2,112,3],[113,2,113,3],[114,2,114,3],[115,0,115,3],[116,0,120,1],[116,2,116,3],[117,2,117,3],[118,2,118,3],[119,2,119,3],[120,2,120,3],[28,5,28,6],[29,5,29,6],[26,0,29,2],[5,0,5,2],[5,3,5,6],[6,0,6,6],[7,0,8,0],[10,0,10,3],[25,0,25,3],[25,5,25,6],[26,5,26,6],[27,5,27,6],[0,0,0,6],[2,0,2,2],[2,3,2,6],[3,0,3,2],[3,3,3,6],[4,0,4,2],[4,3,4,6],[23,0,23,6],[24,0,24,3],[24,5,24,6],[11,0,12,2],[13,0,14,2],[15,0,16,2],[17,0,18,2],[19,0,20,2],[21,0,22,1],[21,2,21,3],[22,2,22,3],[1,0,1,2],[1,3,1,6],[30,5,30,6],[31,5,31,6],[32,0,32,6],[33,0,33,3],[34,0,34,3],[34,4,34,6],[37,0,37,3],[38,0,39,0],[38,1,38,3],[39,1,39,3],[35,0,35,3],[36,0,36,3],[30,0,31,2],[40,0,41,0],[40,1,40,3],[41,1,41,3],[42,0,43,0],[42,1,42,3],[43,1,43,3],[50,1,50,3],[51,1,51,3],[52,0,53,0],[52,1,52,3],[53,1,53,3],[44,0,45,0],[44,1,44,3],[45,1,45,3],[46,0,46,3],[47,0,47,3],[48,0,49,0],[48,1,48,3],[49,1,49,3],[50,0,51,0],[54,0,55,0],[54,1,54,3],[55,1,55,3],[56,0,56,3],[57,0,57,3],[58,0,59,0],[58,1,58,3],[59,1,59,3],[60,0,61,0],[60,1,60,3],[61,1,61,3],[96,0,96,3],[97,0,97,3],[98,0,102,1],[98,2,98,3],[99,2,99,3],[100,2,100,3],[101,2,101,3],[102,2,102,3],[103,0,103,3],[104,0,108,1],[104,2,104,3],[105,2,105,3],[106,2,106,3],[107,2,107,3],[108,2,108,3],[109,0,109,3],[110,0,114,1],[217,0,217,6],[127,0,127,3],[133,0,133,3],[134,0,138,1],[134,2,134,3],[135,2,135,3],[136,2,136,3],[137,2,137,3],[138,2,138,3],[139,0,139,3],[140,0,144,1],[140,2,140,3],[141,2,141,3],[142,2,142,3],[110,2,110,3],[111,2,111,3],[224,0,224,3],[225,0,225,3],[239,0,239,6],[240,0,240,3],[241,0,241,3],[246,27,246,29],[244,0,244,6],[245,3,245,12],[245,13,245,14],[245,15,245,29],[246,3,246,5],[246,6,246,8],[246,9,246,11],[246,15,246,17],[246,19,246,22],[246,23,246,26],[232,0,232,3],[233,0,233,6],[234,0,234,3],[235,0,235,3],[236,0,236,3],[237,0,237,3],[238,0,238,3],[62,0,63,0],[62,1,62,3],[63,1,63,3],[64,0,65,0],[64,1,64,3],[65,1,65,3],[74,0,75,0],[74,1,74,3],[75,1,75,3],[66,0,66,3],[67,0,67,3],[68,0,69,0],[68,1,68,3],[69,1,69,3],[70,0,71,0],[70,1,70,3],[71,1,71,3],[72,0,73,0],[72,1,72,3],[73,1,73,3],[76,0,76,3],[77,0,77,3],[78,0,79,0],[78,1,78,3],[79,1,79,3],[80,0,81,0],[80,1,80,3],[81,1,81,3],[82,0,83,0],[82,1,82,3],[83,1,83,3],[92,0,93,0],[92,1,92,3],[93,1,93,3],[94,0,95,0],[94,1,94,3],[95,1,95,3],[84,0,85,0],[84,1,84,3],[85,1,85,3],[86,0,86,3],[87,0,87,3],[88,0,89,0],[88,1,88,3],[89,1,89,3],[90,0,91,0],[90,1,90,3],[91,1,91,3],[8,7,8,18],[10,7,10,9],[11,7,22,9],[10,10,10,12],[10,13,10,15],[10,16,10,18],[11,10,22,12],[11,13,22,15],[11,16,22,18]]}
[{"$f":"'Test Plan'!$A$72","v":"Condition 5"}]
["AHRI Test Stand Inspection Number",null,null,{"$f":"IF('Test Plan'!$B$3=0,\" \",'Test Plan'!$B$2)","v":"FIACCL-230##-1"}]
["AHRI Test Number",null,null,{"$f":"IF('Test Plan'!$B$3=0,\" \",'Test Plan'!$B$3)","v":"ACCL-230##-1-A"}]
["Model Designation",{"$f":"IF('[2]WCCL-DS2'!B4:D4=0,\" \",'[2]WCCL-DS2'!B4:D4)","v":"DEF"},null,{"$f":"IF('Test Plan'!$B$4=0,\" \",'Test Plan'!$B$4)","v":" "}]
["Manufacturer",{"$f":"IF('[2]WCCL-DS2'!B5:D5=0,\" \",'[2]WCCL-DS2'!B5:D5)","v":43101},null,{"$f":"IF('Test Plan'!$B$5=0,\" \",'Test Plan'!$B$5)","v":" "}]
["Test Date",{"$f":"IF('[2]WCCL-DS2'!B6:D6=0,\" \",'[2]WCCL-DS2'!B6:D6)","v":{"$error":"#REF!"}}]
[]
["Measurement Time","Data Points","Units","Period (min)","Mean Intvl. (s)","Max. Intvl. (s)","Max. Intvl. for Avg. of Data (s)"]
[null,{"$f":"COUNTA(C258:C10089)","v":0},"h:mm:ss:ms",{"$f":"(INDEX(C258:C10089,$B$9)-C258)*24*60","v":{"$error":"#VALUE!"}},{"$f":"D9*60/(B9-1)","v":{"$error":"#VALUE!"}},{"$f":"MAX(B258:B10089)*60*60*24","v":0},{"$f":"D9*60/60","v":{"$error":"#VALUE!"}},"Photographs to confirm compliance with Appendix E of AHRI Standards 550/590 and 551/591"]
[]
["Air and Water Measurements",null,null,null,"Units","Evaporator","Condenser","Chiller Condenser Side 1",null,null,"Chiller Condenser Side 2",null,null,"Chiller Condenser Side 3",null,null,"Chiller Condenser Side 4"]
["Atmospheric Pressure",null,null,"Mean",{"$f":"'Test Plan'!$B$41","v":"kPa"},null,{"$f":"IF(O252=\"Yes\",$O$250,$O$256)","v":{"$error":"#DIV/0!"}},"Photo",null,null,"Photo",null,null,"Photo",null,null,"Photo"]
[null,null,null,"St. Dev.",{"$f":"'Test Plan'!$B$41","v":"kPa"},null,{"$f":"IF(O252=\"Yes\",\"Lab Data\",$O$257)","v":{"$error":"#DIV/0!"}}]
["Leaving Water Temperature",null,null,"Mean",{"$f":"'Test Conditions'!$B$18","v":"°C"},{"$f":"IF(F252=\"Yes\",$F$250,$F$256)","v":{"$error":"#DIV/0!"}}]
[null,null,null,"St. Dev.",{"$f":"'Test Conditions'!$B$18","v":"°C"},{"$f":"IF(F252=\"Yes\",\"Lab Data\",$F$257)","v":{"$error":"#DIV/0!"}}]
["Entering Db Air and Water Temperatures",null,null,"Mean",{"$f":"'Test Conditions'!$B$19","v":"°C"},{"$f":"IF(I252=\"Yes\",$I$250,$I$256)","v":{"$error":"#DIV/0!"}},{"$f":"IF(N252=\"Yes\",$N$250,$N$256)","v":{"$error":"#DIV/0!"}}]
[null,null,null,"St. Dev.",{"$f":"'Test Conditions'!$B$19","v":"°C"},{"$f":"IF(I252=\"Yes\",\"Lab Data\",$I$257)","v":{"$error":"#DIV/0!"}},{"$f":"IF(N252=\"Yes\",\"Lab Data\",$N$257)","v":{"$error":"#DIV/0!"}}]
["Water Flow Rate",null,null,"Mean",{"$f":"'Test Conditions'!$B$20","v":"m³/h"},{"$f":"$L$256","v":{"$error":"#DIV/0!"}}]
[null,null,null,"St. Dev.",{"$f":"'Test Conditions'!$B$20","v":"m³/h"},{"$f":"$L$257","v":{"$error":"#DIV/0!"}}]
["Water Pressure Drop",null,null,"Mean",{"$f":"'Test Plan'!$B$127","v":"kPa"},{"$f":"IF('Test Plan'!$B$19=\"I-P\",IF(M252=\"Yes\",$M$250/0.4331,$M$256/0.4331),IF(M252=\"Yes\",$M$250,$M$256))","v":{"$error":"#DIV/0!"}}]
[null,null,null,"St. Dev.",{"$f":"'Test Plan'!$B$127","v":"kPa"},{"$f":"IF(M252=\"Yes\",\"Lab Data\",IF('Test Plan'!$B$19=\"I-P\",$M$257/0.4331,$M$257))","v":{"$error":"#DIV/0!"}}]
[null,null,"Correction (∆padj)",null,{"$f":"'Test Plan'!$B$127","v":"kPa"}]
[null,null,"Corrected (∆pcorrected)",null,{"$f":"'Test Plan'!$B$127","v":"kPa"},{"$f":"F20-F22","v":{"$error":"#DIV/0!"}}]
[]
["Electrical Measurements",null,null,null,"Units","Total"]
["Power",null,null,null,"kW",{"$f":"IF(R252=\"Yes\",$R$250,$R$256)","v":{"$error":"#DIV/0!"}}]
["Voltage",null,null,"Mean","V",{"$f":"IF(R252=\"Yes\",\"Lab Data\",$S$256)","v":{"$error":"#DIV/0!"}}]
[null,null,null,"St. Dev.",{"$f":"E27","v":"V"},{"$f":"IF(R252=\"Yes\",\"Lab Data\",$S$257)","v":{"$error":"#DIV/0!"}}]
[null,null,null,"V1 Balance","%",{"$f":"IF(R252=\"Yes\",\"Lab Data\",ROUND(MAX(ABS($U$256-$T$256),ABS($V$256-$T$256),ABS($W$256-$T$256))/$T$256,4-(1+INT(LOG10(ABS(MAX(ABS($U$256-$T$256),ABS($V$256-$T$256),ABS($W$256-$T$256))/$T$256))))))","v":{"$error":"#DIV/0!"}}]
[null,null,null,"V2 Balance","%",{"$f":"IF(R252=\"Yes\",\"Lab Data\",ROUND(MAX(ABS($Y$256-$X$256),ABS($Z$256-$X$256),ABS($AA$256-$X$256))/$X$256,4-(1+INT(LOG10(ABS(MAX(ABS($Y$256-$X$256),ABS($Z$256-$X$256),ABS($AA$256-$X$256))/$X$256))))))","v":{"$error":"#DIV/0!"}}]
["Frequency",null,null,"Mean","Hz",{"$f":"IF(R252=\"Yes\",\"Lab Data\",$AB$256)","v":{"$error":"#DIV/0!"}}]
[null,null,null,"St. Dev.",{"$f":"E31","v":"Hz"},{"$f":"IF(R252=\"Yes\",\"Lab Data\",$AB$257)","v":{"$error":"#DIV/0!"}}]
[]
["Air Temperature Measurement",null,null,null,"Units",null,"Condenser"]
["Measurement Method"]
["# of Aspirating Psychrometers",null,null,null,"#"]
["Aspirating Psychrometer #1, Mean Air Temperature",null,null,null,{"$f":"'Test Conditions'!$B$19","v":"°C"}]
["# of Air Sampling Trees on Aspirating Psychrometer #1",null,null,null,"#",null,4]
["#1-A\nTemperatures","Air Sampling Tree Thermopile Grid",null,null,{"$f":"'Test Conditions'!$B$19","v":"°C"}]
[null,"Recirculation Thermocouple",null,null,{"$f":"'Test Conditions'!$B$19","v":"°C"}]
["#1-B\nTemperatures","Air Sampling Tree Thermopile Grid",null,null,{"$f":"'Test Conditions'!$B$19","v":"°C"}]
[null,"Recirculation Thermocouple",null,null,{"$f":"'Test Conditions'!$B$19","v":"°C"}]
["#1-C\nTemperatures","Air Sampling Tree Thermopile Grid",null,null,{"$f":"'Test Conditions'!$B$19","v":"°C"}]
[null,"Recirculation Thermocouple",null,null,{"$f":"'Test Conditions'!$B$19","v":"°C"}]
["#1-D\nTemperatures","Air Sampling Tree Thermopile Grid",null,null,{"$f":"'Test Conditions'!$B$19","v":"°C"}]
[null,"Recirculation Thermocouple",null,null,{"$f":"'Test Conditions'!$B$19","v":"°C"}]
["Aspirating Psychrometer #2, Mean Air Temperature",null,null,null,{"$f":"'Test Conditions'!$B$19","v":"°C"}]
["# of Air Sampling Trees on Aspirating Psychrometer #2",null,null,null,"#",null,4]
["#2-A\nTemperatures","Air Sampling Tree Thermopile Grid",null,null,{"$f":"'Test Conditions'!$B$19","v":"°C"}]
[null,"Recirculation Thermocouple",null,null,{"$f":"'Test Conditions'!$B$19","v":"°C"}]
["#2-B\nTemperatures","Air Sampling Tree Thermopile Grid",null,null,{"$f":"'Test Conditions'!$B$19","v":"°C"}]
[null,"Recirculation Thermocouple",null,null,{"$f":"'Test Conditions'!$B$19","v":"°C"}]
["#2-C\nTemperatures","Air Sampling Tree Thermopile Grid",null,null,{"$f":"'Test Conditions'!$B$19","v":"°C"}]
[null,"Recirculation Thermocouple",null,null,{"$f":"'Test Conditions'!$B$19","v":"°C"}]
["#2-D\nTemperatures","Air Sampling Tree Thermopile Grid",null,null,{"$f":"'Test Conditions'!$B$19","v":"°C"}]
[null,"Recirculation Thermocouple",null,null,{"$f":"'Test Conditions'!$B$19","v":"°C"}]
["Aspirating Psychrometer #3, Mean Air Temperature",null,null,null,{"$f":"'Test Conditions'!$B$19","v":"°C"}]
["# of Air Sampling Trees on Aspirating Psychrometer #3",null,null,null,"#",null,4]
["#3-A\nTemperatures","Air Sampling Tree Thermopile Grid",null,null,{"$f":"'Test Conditions'!$B$19","v":"°C"}]
[null,"Recirculation Thermocouple",null,null,{"$f":"'Test Conditions'!$B$19","v":"°C"}]
["#3-B\nTemperatures","Air Sampling Tree Thermopile Grid",null,null,{"$f":"'Test Conditions'!$B$19","v":"°C"}]
[null,"Recirculation Thermocouple",null,null,{"$f":"'Test Conditions'!$B$19","v":"°C"}]
["#3-C\nTemperatures","Air Sampling Tree Thermopile Grid",null,null,{"$f":"'Test Conditions'!$B$19","v":"°C"}]
[null,"Recirculation Thermocouple",null,null,{"$f":"'Test Conditions'!$B$19","v":"°C"}]
["#3-D\nTemperatures","Air Sampling Tree Thermopile Grid",null,null,{"$f":"'Test Conditions'!$B$19","v":"°C"}]
[null,"Recirculation Thermocouple",null,null,{"$f":"'Test Conditions'!$B$19","v":"°C"}]
["Aspirating Psychrometer #4, Mean Air Temperature",null,null,null,{"$f":"'Test Conditions'!$B$19","v":"°C"}]
["# of Air Sampling Trees on Aspirating Psychrometer #4",null,null,null,"#",null,4]
["#4-A\nTemperatures","Air Sampling Tree Thermopile Grid",null,null,{"$f":"'Test Conditions'!$B$19","v":"°C"}]
[null,"Recirculation Thermocouple",null,null,{"$f":"'Test Conditions'!$B$19","v":"°C"}]
["#4-B\nTemperatures","Air Sampling Tree Thermopile Grid",null,null,{"$f":"'Test Conditions'!$B$19","v":"°C"}]
[null,"Recirculation Thermocouple",null,null,{"$f":"'Test Conditions'!$B$19","v":"°C"}]
["#4-C\nTemperatures","Air Sampling Tree Thermopile Grid",null,null,{"$f":"'Test Conditions'!$B$19","v":"°C"}]
[null,"Recirculation Thermocouple",null,null,{"$f":"'Test Conditions'!$B$19","v":"°C"}]
["#4-D\nTemperatures","Air Sampling Tree Thermopile Grid",null,null,{"$f":"'Test Conditions'!$B$19","v":"°C"}]
[null,"Recirculation Thermocouple",null,null,{"$f":"'Test Conditions'!$B$19","v":"°C"}]
["Aspirating Psychrometer #5, Mean Air Temperature",null,null,null,{"$f":"'Test Conditions'!$B$19","v":"°C"}]
["# of Air Sampling Trees on Aspirating Psychrometer #5",null,null,null,"#",null,4]
["#5-A\nTemperatures","Air Sampling Tree Thermopile Grid",null,null,{"$f":"'Test Conditions'!$B$19","v":"°C"}]
[null,"Recirculation Thermocouple",null,null,{"$f":"'Test Conditions'!$B$19","v":"°C"}]
["#5-B\nTemperatures","Air Sampling Tree Thermopile Grid",null,null,{"$f":"'Test Conditions'!$B$19","v":"°C"}]
[null,"Recirculation Thermocouple",null,null,{"$f":"'Test Conditions'!$B$19","v":"°C"}]
["#5-C\nTemperatures","Air Sampling Tree Thermopile Grid",null,null,{"$f":"'Test Conditions'!$B$19","v":"°C"}]
[null,"Recirculation Thermocouple",null,null,{"$f":"'Test Conditions'!$B$19","v":"°C"}]
["#5-D\nTemperatures","Air Sampling Tree Thermopile Grid",null,null,{"$f":"'Test Conditions'!$B$19","v":"°C"}]
[null,"Recirculation Thermocouple",null,null,{"$f":"'Test Conditions'!$B$19","v":"°C"}]
["Aspirating Psychrometer #6, Mean Air Temperature",null,null,null,{"$f":"'Test Conditions'!$B$19","v":"°C"}]
["# of Air Sampling Trees on Aspirating Psychrometer #6",null,null,null,"#",null,4]
["#6-A\nTemperatures","Air Sampling Tree Thermopile Grid",null,null,{"$f":"'Test Conditions'!$B$19","v":"°C"}]
[null,"Recirculation Thermocouple",null,null,{"$f":"'Test Conditions'!$B$19","v":"°C"}]
["#6-B\nTemperatures","Air Sampling Tree Thermopile Grid",null,null,{"$f":"'Test Conditions'!$B$19","v":"°C"}]
[null,"Recirculation Thermocouple",null,null,{"$f":"'Test Conditions'!$B$19","v":"°C"}]
["#6-C\nTemperatures","Air Sampling Tree Thermopile Grid",null,null,{"$f":"'Test Conditions'!$B$19","v":"°C"}]
[null,"Recirculation Thermocouple",null,null,{"$f":"'Test Conditions'!$B$19","v":"°C"}]
["#6-D\nTemperatures","Air Sampling Tree Thermopile Grid",null,null,{"$f":"'Test Conditions'!$B$19","v":"°C"}]
[null,"Recirculation Thermocouple",null,null,{"$f":"'Test Conditions'!$B$19","v":"°C"}]
["# of Air Sampling Arrays",null,null,null,"#"]
["Air Sampling Array #1, Mean Air Temperature",null,null,null,{"$f":"'Test Conditions'!$B$19","v":"°C"},null,{"$f":"AVERAGE(G99:G102)","v":{"$error":"#DIV/0!"}}]
["Air Sampling Array Individual \nMeasurement Temperatures",null,"#1-A",null,{"$f":"'Test Conditions'!$B$19","v":"°C"}]
[null,null,"#1-B",null,{"$f":"'Test Conditions'!$B$19","v":"°C"}]
[null,null,"#1-C",null,{"$f":"'Test Conditions'!$B$19","v":"°C"}]
[null,null,"#1-D",null,{"$f":"'Test Conditions'!$B$19","v":"°C"}]
[null,null,"Recirculation Thermocouple",null,{"$f":"'Test Conditions'!$B$19","v":"°C"}]
["Air Sampling Array #2, Mean Air Temperature",null,null,null,{"$f":"'Test Conditions'!$B$19","v":"°C"},null,{"$f":"AVERAGE(G105:G108)","v":{"$error":"#DIV/0!"}}]
["Air Sampling Array Individual \nMeasurement Temperatures",null,"#2-A",null,{"$f":"'Test Conditions'!$B$19","v":"°C"}]
[null,null,"#2-B",null,{"$f":"'Test Conditions'!$B$19","v":"°C"}]
[null,null,"#2-C",null,{"$f":"'Test Conditions'!$B$19","v":"°C"}]
[null,null,"#2-D",null,{"$f":"'Test Conditions'!$B$19","v":"°C"}]
[null,null,"Recirculation Thermocouple",null,{"$f":"'Test Conditions'!$B$19","v":"°C"}]
["Air Sampling Array #3, Mean Air Temperature",null,null,null,{"$f":"'Test Conditions'!$B$19","v":"°C"},null,{"$f":"AVERAGE(G111:G114)","v":{"$error":"#DIV/0!"}}]
["Air Sampling Array Individual \nMeasurement Temperatures",null,"#3-A",null,{"$f":"'Test Conditions'!$B$19","v":"°C"}]
[null,null,"#3-B",null,{"$f":"'Test Conditions'!$B$19","v":"°C"}]
[null,null,"#3-C",null,{"$f":"'Test Conditions'!$B$19","v":"°C"}]
[null,null,"#3-D",null,{"$f":"'Test Conditions'!$B$19","v":"°C"}]
[null,null,"Recirculation Thermocouple",null,{"$f":"'Test Conditions'!$B$19","v":"°C"}]
["Air Sampling Array #4, Mean Air Temperature",null,null,null,{"$f":"'Test Conditions'!$B$19","v":"°C"},null,{"$f":"AVERAGE(G117:G120)","v":{"$error":"#DIV/0!"}}]
["Air Sampling Array Individual \nMeasurement Temperatures",null,"#4-A",null,{"$f":"'Test Conditions'!$B$19","v":"°C"}]
[null,null,"#4-B",null,{"$f":"'Test Conditions'!$B$19","v":"°C"}]
[null,null,"#4-C",null,{"$f":"'Test Conditions'!$B$19","v":"°C"}]
[null,null,"#4-D",null,{"$f":"'Test Conditions'!$B$19","v":"°C"}]
[null,null,"Recirculation Thermocouple",null,{"$f":"'Test Conditions'!$B$19","v":"°C"}]
["Air Sampling Array #5, Mean Air Temperature",null,null,null,{"$f":"'Test Conditions'!$B$19","v":"°C"},null,{"$f":"AVERAGE(G123:G126)","v":{"$error":"#DIV/0!"}}]
["Air Sampling Array Individual \nMeasurement Temperatures",null,"#5-A",null,{"$f":"'Test Conditions'!$B$19","v":"°C"}]
[null,null,"#5-B",null,{"$f":"'Test Conditions'!$B$19","v":"°C"}]
[null,null,"#5-C",null,{"$f":"'Test Conditions'!$B$19","v":"°C"}]
[null,null,"#5-D",null,{"$f":"'Test Conditions'!$B$19","v":"°C"}]
[null,null,"Recirculation Thermocouple",null,{"$f":"'Test Conditions'!$B$19","v":"°C"}]
["Air Sampling Array #6, Mean Air Temperature",null,null,null,{"$f":"'Test Conditions'!$B$19","v":"°C"},null,{"$f":"AVERAGE(G129:G132)","v":{"$error":"#DIV/0!"}}]
["Air Sampling Array Individual \nMeasurement Temperatures",null,"#6-A",null,{"$f":"'Test Conditions'!$B$19","v":"°C"}]
[null,null,"#6-B",null,{"$f":"'Test Conditions'!$B$19","v":"°C"}]
[null,null,"#6-C",null,{"$f":"'Test Conditions'!$B$19","v":"°C"}]
[null,null,"#6-D",null,{"$f":"'Test Conditions'!$B$19","v":"°C"}]
[null,null,"Recirculation Thermocouple",null,{"$f":"'Test Conditions'!$B$19","v":"°C"}]
["Air Sampling Array #7, Mean Air Temperature",null,null,null,{"$f":"'Test Conditions'!$B$19","v":"°C"},null,{"$f":"AVERAGE(G135:G138)","v":{"$error":"#DIV/0!"}}]
["Air Sampling Array Individual \nMeasurement Temperatures",null,"#7-A",null,{"$f":"'Test Conditions'!$B$19","v":"°C"}]
[null,null,"#7-B",null,{"$f":"'Test Conditions'!$B$19","v":"°C"}]
[null,null,"#7-C",null,{"$f":"'Test Conditions'!$B$19","v":"°C"}]
[null,null,"#7-D",null,{"$f":"'Test Conditions'!$B$19","v":"°C"}]
[null,null,"Recirculation Thermocouple",null,{"$f":"'Test Conditions'!$B$19","v":"°C"}]
["Air Sampling Array #8, Mean Air Temperature",null,null,null,{"$f":"'Test Conditions'!$B$19","v":"°C"},null,{"$f":"AVERAGE(G141:G144)","v":{"$error":"#DIV/0!"}}]
["Air Sampling Array Individual \nMeasurement Temperatures",null,"#8-A",null,{"$f":"'Test Conditions'!$B$19","v":"°C"}]
[null,null,"#8-B",null,{"$f":"'Test Conditions'!$B$19","v":"°C"}]
[null,null,"#8-C",null,{"$f":"'Test Conditions'!$B$19","v":"°C"}]
[null,null,"#8-D",null,{"$f":"'Test Conditions'!$B$19","v":"°C"}]
[null,null,"Recirculation Thermocouple",null,{"$f":"'Test Conditions'!$B$19","v":"°C"}]
["Air Sampling Array #9, Mean Air Temperature",null,null,null,{"$f":"'Test Conditions'!$B$19","v":"°C"},null,{"$f":"AVERAGE(G147:G150)","v":{"$error":"#DIV/0!"}}]
["Air Sampling Array Individual \nMeasurement Temperatures",null,"#9-A",null,{"$f":"'Test Conditions'!$B$19","v":"°C"}]
[null,null,"#9-B",null,{"$f":"'Test Conditions'!$B$19","v":"°C"}]
[null,null,"#9-C",null,{"$f":"'Test Conditions'!$B$19","v":"°C"}]
[null,null,"#9-D",null,{"$f":"'Test Conditions'!$B$19","v":"°C"}]
[null,null,"Recirculation Thermocouple",null,{"$f":"'Test Conditions'!$B$19","v":"°C"}]
["Air Sampling Array #10, Mean Air Temperature",null,null,null,{"$f":"'Test Conditions'!$B$19","v":"°C"},null,{"$f":"AVERAGE(G153:G156)","v":{"$error":"#DIV/0!"}}]
["Air Sampling Array Individual \nMeasurement Temperatures",null,"#10-A",null,{"$f":"'Test Conditions'!$B$19","v":"°C"}]
[null,null,"#10-B",null,{"$f":"'Test Conditions'!$B$19","v":"°C"}]
[null,null,"#10-C",null,{"$f":"'Test Conditions'!$B$19","v":"°C"}]
[null,null,"#10-D",null,{"$f":"'Test Conditions'!$B$19","v":"°C"}]
[null,null,"Recirculation Thermocouple",null,{"$f":"'Test Conditions'!$B$19","v":"°C"}]
["Air Sampling Array #11, Mean Air Temperature",null,null,null,{"$f":"'Test Conditions'!$B$19","v":"°C"},null,{"$f":"AVERAGE(G159:G162)","v":{"$error":"#DIV/0!"}}]
["Air Sampling Array Individual \nMeasurement Temperatures",null,"#11-A",null,{"$f":"'Test Conditions'!$B$19","v":"°C"}]
[null,null,"#11-B",null,{"$f":"'Test Conditions'!$B$19","v":"°C"}]
[null,null,"#11-C",null,{"$f":"'Test Conditions'!$B$19","v":"°C"}]
[null,null,"#11-D",null,{"$f":"'Test Conditions'!$B$19","v":"°C"}]
[null,null,"Recirculation Thermocouple",null,{"$f":"'Test Conditions'!$B$19","v":"°C"}]
["Air Sampling Array #12, Mean Air Temperature",null,null,null,{"$f":"'Test Conditions'!$B$19","v":"°C"},null,{"$f":"AVERAGE(G165:G168)","v":{"$error":"#DIV/0!"}}]
["Air Sampling Array Individual \nMeasurement Temperatures",null,"#12-A",null,{"$f":"'Test Conditions'!$B$19","v":"°C"}]
[null,null,"#12-B",null,{"$f":"'Test Conditions'!$B$19","v":"°C"}]
[null,null,"#12-C",null,{"$f":"'Test Conditions'!$B$19","v":"°C"}]
[null,null,"#12-D",null,{"$f":"'Test Conditions'!$B$19","v":"°C"}]
[null,null,"Recirculation Thermocouple",null,{"$f":"'Test Conditions'!$B$19","v":"°C"}]
["Air Sampling Array #13, Mean Air Temperature",null,null,null,{"$f":"'Test Conditions'!$B$19","v":"°C"},null,{"$f":"AVERAGE(G171:G174)","v":{"$error":"#DIV/0!"}}]
["Air Sampling Array Individual \nMeasurement Temperatures",null,"#13-A",null,{"$f":"'Test Conditions'!$B$19","v":"°C"}]
[null,null,"#13-B",null,{"$f":"'Test Conditions'!$B$19","v":"°C"}]
[null,null,"#13-C",null,{"$f":"'Test Conditions'!$B$19","v":"°C"}]
[null,null,"#13-D",null,{"$f":"'Test Conditions'!$B$19","v":"°C"}]
[null,null,"Recirculation Thermocouple",null,{"$f":"'Test Conditions'!$B$19","v":"°C"}]
["Air Sampling Array #14, Mean Air Temperature",null,null,null,{"$f":"'Test Conditions'!$B$19","v":"°C"},null,{"$f":"AVERAGE(G177:G180)","v":{"$error":"#DIV/0!"}}]
["Air Sampling Array Individual \nMeasurement Temperatures",null,"#14-A",null,{"$f":"'Test Conditions'!$B$19","v":"°C"}]
[null,null,"#14-B",null,{"$f":"'Test Conditions'!$B$19","v":"°C"}]
[null,null,"#14-C",null,{"$f":"'Test Conditions'!$B$19","v":"°C"}]
[null,null,"#14-D",null,{"$f":"'Test Conditions'!$B$19","v":"°C"}]
[null,null,"Recirculation Thermocouple",null,{"$f":"'Test Conditions'!$B$19","v":"°C"}]
["Air Sampling Array #15, Mean Air Temperature",null,null,null,{"$f":"'Test Conditions'!$B$19","v":"°C"},null,{"$f":"AVERAGE(G183:G186)","v":{"$error":"#DIV/0!"}}]
["Air Sampling Array Individual \nMeasurement Temperatures",null,"#15-A",null,{"$f":"'Test Conditions'!$B$19","v":"°C"}]
[null,null,"#15-B",null,{"$f":"'Test Conditions'!$B$19","v":"°C"}]
[null,null,"#15-C",null,{"$f":"'Test Conditions'!$B$19","v":"°C"}]
[null,null,"#15-D",null,{"$f":"'Test Conditions'!$B$19","v":"°C"}]
[null,null,"Recirculation Thermocouple",null,{"$f":"'Test Conditions'!$B$19","v":"°C"}]
["Air Sampling Array #16, Mean Air Temperature",null,null,null,{"$f":"'Test Conditions'!$B$19","v":"°C"},null,{"$f":"AVERAGE(G189:G192)","v":{"$error":"#DIV/0!"}}]
["Air Sampling Array Individual \nMeasurement Temperatures",null,"#16-A",null,{"$f":"'Test Conditions'!$B$19","v":"°C"}]
[null,null,"#16-B",null,{"$f":"'Test Conditions'!$B$19","v":"°C"}]
[null,null,"#16-C",null,{"$f":"'Test Conditions'!$B$19","v":"°C"}]
[null,null,"#16-D",null,{"$f":"'Test Conditions'!$B$19","v":"°C"}]
[null,null,"Recirculation Thermocouple",null,{"$f":"'Test Conditions'!$B$19","v":"°C"}]
["Air Sampling Array #17, Mean Air Temperature",null,null,null,{"$f":"'Test Conditions'!$B$19","v":"°C"},null,{"$f":"AVERAGE(G195:G198)","v":{"$error":"#DIV/0!"}}]
["Air Sampling Array Individual \nMeasurement Temperatures",null,"#17-A",null,{"$f":"'Test Conditions'!$B$19","v":"°C"}]
[null,null,"#17-B",null,{"$f":"'Test Conditions'!$B$19","v":"°C"}]
[null,null,"#17-C",null,{"$f":"'Test Conditions'!$B$19","v":"°C"}]
[null,null,"#17-D",null,{"$f":"'Test Conditions'!$B$19","v":"°C"}]
[null,null,"Recirculation Thermocouple",null,{"$f":"'Test Conditions'!$B$19","v":"°C"}]
["Air Sampling Array #18, Mean Air Temperature",null,null,null,{"$f":"'Test Conditions'!$B$19","v":"°C"},null,{"$f":"AVERAGE(G201:G204)","v":{"$error":"#DIV/0!"}}]
["Air Sampling Array Individual \nMeasurement Temperatures",null,"#18-A",null,{"$f":"'Test Conditions'!$B$19","v":"°C"}]
[null,null,"#18-B",null,{"$f":"'Test Conditions'!$B$19","v":"°C"}]
[null,null,"#18-C",null,{"$f":"'Test Conditions'!$B$19","v":"°C"}]
[null,null,"#18-D",null,{"$f":"'Test Conditions'!$B$19","v":"°C"}]
[null,null,"Recirculation Thermocouple",null,{"$f":"'Test Conditions'!$B$19","v":"°C"}]
["Air Sampling Array #19, Mean Air Temperature",null,null,null,{"$f":"'Test Conditions'!$B$19","v":"°C"},null,{"$f":"AVERAGE(G207:G210)","v":{"$error":"#DIV/0!"}}]
["Air Sampling Array Individual \nMeasurement Temperatures",null,"#19-A",null,{"$f":"'Test Conditions'!$B$19","v":"°C"}]
[null,null,"#19-B",null,{"$f":"'Test Conditions'!$B$19","v":"°C"}]
[null,null,"#19-C",null,{"$f":"'Test Conditions'!$B$19","v":"°C"}]
[null,null,"#19-D",null,{"$f":"'Test Conditions'!$B$19","v":"°C"}]
[null,null,"Recirculation Thermocouple",null,{"$f":"'Test Conditions'!$B$19","v":"°C"}]
["Air Sampling Array #20, Mean Air Temperature",null,null,null,{"$f":"'Test Conditions'!$B$19","v":"°C"},null,{"$f":"AVERAGE(G213:G216)","v":{"$error":"#DIV/0!"}}]
["Air Sampling Array Individual \nMeasurement Temperatures",null,"#20-A",null,{"$f":"'Test Conditions'!$B$19","v":"°C"}]
[null,null,"#20-B",null,{"$f":"'Test Conditions'!$B$19","v":"°C"}]
[null,null,"#20-C",null,{"$f":"'Test Conditions'!$B$19","v":"°C"}]
[null,null,"#20-D",null,{"$f":"'Test Conditions'!$B$19","v":"°C"}]
[null,null,"Recirculation Thermocouple",null,{"$f":"'Test Conditions'!$B$19","v":"°C"}]
[]
["Atmospheric Pressure Correction",null,null,null,"Units","Evaporator","Condenser"]
["Location of Water Flow Meter Relative to Chiller",null,null,null,"-"]
["Water Temperature (T) for Density",null,null,null,{"$f":"'Test Conditions'!$B$18","v":"°C"},{"$f":"IF($F$220=\"Entering\",$F$16,$F$14)","v":{"$error":"#DIV/0!"}}]
["Water Density (ρ)",null,null,null,{"$f":"IF('Test Plan'!$B$19=\"I-P\",'Unit Conversion'!$B$10,'Unit Conversion'!$C$10)","v":"kg/m³"},{"$f":"IF('Test Plan'!$B$19=\"I-P\",(-0.00000000074704*$F$221^4)+(0.00000052643*$F$221^3)+(-0.00018846*$F$221^2)+(0.012164*$F$221)+62.227,((-0.00000012556*$F$221^4)+(0.000040229*$F$221^3)+(-0.0073948*$F$221^2)+(0.046734*$F$221)+1000.2))","v":{"$error":"#DIV/0!"}}]
["Average Water Temperature (T) for Specific Heat & ∆pcorrected Density",null,null,null,{"$f":"'Test Conditions'!$B$18","v":"°C"},{"$f":"AVERAGE($F$14,$F$16)","v":{"$error":"#DIV/0!"}}]
["Water Specific Heat (cp)",null,null,null,{"$f":"IF('Test Plan'!$B$19=\"I-P\",'Unit Conversion'!$B$13,'Unit Conversion'!$C$13)","v":"kJ/kg·K"},{"$f":"IF('Test Plan'!$B$19=\"I-P\",(-0.00000000000040739*$F$223^5)+(0.00000000031031*$F$223^4)+(-0.000000092501*$F$223^3)+(0.000014071*$F$223^2)+(-0.0010677*$F$223)+1.0295,((-0.00000000003222*$F$223^5)+(0.00000001077*$F$223^4)+(-0.0000013901*$F$223^3)+(0.000094433*$F$223^2)+(-0.0031103*$F$223)+4.216))","v":{"$error":"#DIV/0!"}}]
["Water Density (ρ) for ∆pcorrected",null,null,null,{"$f":"IF('Test Plan'!$B$19=\"I-P\",'Unit Conversion'!$B$10,'Unit Conversion'!$C$10)","v":"kg/m³"},{"$f":"IF('Test Plan'!$B$19=\"I-P\",(-0.00000000074704*$F$223^4)+(0.00000052643*$F$223^3)+(-0.00018846*$F$223^2)+(0.012164*$F$223)+62.227,((-0.00000012556*$F$223^4)+(0.000040229*$F$223^3)+(-0.0073948*$F$223^2)+(0.046734*$F$223)+1000.2))","v":{"$error":"#DIV/0!"}}]
["Water Mass Flow Rate (mw)",null,null,null,{"$f":"IF('Test Plan'!$B$19=\"I-P\",'Unit Conversion'!$B$11,'Unit Conversion'!$C$11)","v":"kg/h"},{"$f":"IF('Test Plan'!$B$19=\"I-P\",$F$18*$F$222/0.124675,$F$18*$F$222)","v":{"$error":"#DIV/0!"}}]
["Gross Refrigeranting Capacity (Q'ev)",null,null,null,{"$f":"'Test Plan'!$B$125","v":"kW"},{"$f":"IF('Test Plan'!$B$19=\"I-P\",$F$226*($F$224*ABS($F$16-$F$14)+(0.18505*$F$23/$F$225*0.4331))/12000,$F$226*($F$224*ABS($F$16-$F$14)+($F$23/$F$225))/3600)","v":{"$error":"#DIV/0!"}}]
["Net Refrigerating Capacity (Qev)",null,null,null,{"$f":"'Test Plan'!$B$125","v":"kW"},{"$f":"IF('Test Plan'!$B$19=\"I-P\",$F$226*($F$224*ABS($F$16-$F$14))/12000,IF('Test Plan'!$B$17=\"EN 14511 and 14825\",$F$226*($F$224*ABS($F$16-$F$14))/3600-$F$238,$F$226*($F$224*ABS($F$16-$F$14))/3600))","v":{"$error":"#DIV/0!"}}]
["Cooling Energy Efficiency",null,null,null,{"$f":"'Test Plan'!$B$126","v":"kW/kW"},{"$f":"IF('Test Plan'!$B$19=\"I-P\",$F$26/$F$228,IF('Test Plan'!$B$17=\"EN 14511 and 14825\",$F$228/($F$26+$F$239),$F$228/$F$26))","v":{"$error":"#DIV/0!"}}]
["Coefficient Correction Factor (Capacity), DQ",null,null,null,"-",null,{"$f":"IF('Test Plan'!$B$19=\"I-P\",0.0011273*$G$12^2-0.041272*$G$12+1.36304,0.000023713*$G$12^2-0.005986*$G$12+1.36304)","v":{"$error":"#DIV/0!"}}]
["Coefficient Correction Factor (Efficiency), Dƞ",null,null,null,"-",null,{"$f":"IF('Test Plan'!$B$19=\"I-P\",0.0024308*$G$12^2-0.090075*$G$12+1.79872,0.000051135*$G$12^2-0.013064*$G$12+1.79872)","v":{"$error":"#DIV/0!"}}]
["Correction Factor (Capacity), CFQ",null,null,null,"-",null,{"$f":"IF('Test Plan'!$B$19=\"I-P\",1+($F$228/'100% Load Condition '!$F$228)*($G$230-1)*EXP(-0.35*(($G$231*(12/'100% Load Condition '!$F$229))-9.6)),1+($F$228/'100% Load Condition '!$F$228)*($G$230-1)*EXP(-0.35*((3.41214*$G$231*'100% Load Condition '!$F$229)-9.6)))","v":{"$error":"#DIV/0!"}}]
["Correction Factor (Efficiency), CFƞ",null,null,null,"-",null,{"$f":"IF('Test Plan'!$B$19=\"I-P\",1+($F$228/'100% Load Condition '!$F$228)*($G$231-1)*EXP(-0.35*(($G$231*(12/'100% Load Condition '!$F$229))-9.6)),1+($F$228/'100% Load Condition '!$F$228)*($G$231-1)*EXP(-0.35*((3.41214*$G$231*'100% Load Condition '!$F$229)-9.6)))","v":{"$error":"#DIV/0!"}}]
[]
["Pump Power Correction",null,null,null,"Units","Evaporator"]
["Hydraulic Pump Power (Phyd)",null,null,null,"W",{"$f":"($F$18/(60*60))*$F$23*1000","v":{"$error":"#DIV/0!"}}]
["Pump Efficiency (η)",null,null,null,"kW/kW",{"$f":"IF($F$236<=300,((0.35844*$F$236)/(1.7*$F$236+17*(1-EXP(-0.3*$F$236))))*(0.49/0.23),IF($F$236<=500,0.0721*$F$236^0.3183,0.092*LN($F$236)-0.0403))","v":{"$error":"#DIV/0!"}}]
["Pump Capacity Correction",null,null,null,"kW",{"$f":"IF($F$236<=0.3,($F$18/(60*60))*($F$23)*((1-$F$237)/$F$237),($F$18/(60*60))*($F$23)*((0.88-$F$237)/$F$237))","v":{"$error":"#DIV/0!"}}]
["Pump Power Correction",null,null,null,"kW",{"$f":"($F$18/(60*60))*($F$23)/$F$237","v":{"$error":"#DIV/0!"}}]
[]
["Test Result",null,null,null,"Units","Evaporator"]
["Corrected Net Refrigerating Capacity (Qev)",null,null,null,{"$f":"'Test Plan'!$B$125","v":"kW"},{"$f":"$F$228*$G$232","v":{"$error":"#DIV/0!"}}]
["Corrected Cooling Energy Efficiency",null,null,null,{"$f":"'Test Plan'!$B$126","v":"kW/kW"},{"$f":"IF('Test Plan'!$B$19=\"I-P\",$F$229/$G$233,$F$229*$G$233)","v":{"$error":"#DIV/0!"}}]
["Water Pressure Drop",null,null,null,{"$f":"'Test Plan'!$B$127","v":"kPa"},{"$f":"$F$23","v":{"$error":"#DIV/0!"}}]
[]
[null,null,null,"Evaporator Water",null,null,null,null,null,null,null,null,null,"Condenser Air",null,"Electrical"]
[null,null,null,"Lvg. Temp.",null,null,"Ent. Temp.",null,null,"Flow Rate",null,null,null,null,null,"Power",null,null,"Total Voltage","Voltage 1",null,null,null,"Voltage 2",null,null,null,"Frequency"]
["Laboratory Data","Start Time","Stop Time",null,null,{"$f":"'Test Conditions'!$B$18","v":"°C"},null,null,{"$f":"'Test Conditions'!$B$18","v":"°C"},null,null,null,"Press. Drop","Ent. Temp.","Atm Press.",null,null,"kW"]
["Unit",{"$f":"$C$9","v":"h:mm:ss:ms"},{"$f":"$C$9","v":"h:mm:ss:ms"},null,null,null,null,null,null,null,null,null,{"$f":"IF('Test Plan'!$B$19=\"I-P\",'Unit Conversion'!$B$9,'Unit Conversion'!$C$9)","v":"kPa"},{"$f":"'Test Conditions'!$B$19","v":"°C"},{"$f":"IF('Test Plan'!$B$19=\"I-P\",'Unit Conversion'!$B$7,'Unit Conversion'!$C$7)","v":"kPa"}]
["Mean"]
["Data Comparison",{"$f":"ABS(B250-Zero)*24*60*60","v":0},{"$f":"ABS(C250-INDEX(Zero:C10202,$B$10))*24*60*60","v":{"$error":"#VALUE!"}},null,null,{"$f":"ABS(F250-F256)","v":{"$error":"#DIV/0!"}},null,null,{"$f":"ABS(I250-I256)","v":{"$error":"#DIV/0!"}},null,null,null,{"$f":"ABS(M250-M256)","v":{"$error":"#DIV/0!"}},{"$f":"ABS(N250-N256)","v":{"$error":"#DIV/0!"}},{"$f":"ABS(O250-O256)/O256","v":{"$error":"#DIV/0!"}},null,null,{"$f":"ABS(R250-R256)/R256","v":{"$error":"#DIV/0!"}}]
["Use Lab Data?"]
["Test Stand Data","Time Interval","Time Stamp",1,2,"Avg.",1,2,"Avg.",1,2,"Avg.","Press. Drop","Ent. Temp.","Atm Press.",1,2,"Avg.","Avg","Avg."," A-B"," B-C"," C-A","Avg."," A-B"," B-C"," C-A","Avg.",1,2]
["Unit",{"$f":"$C$9","v":"h:mm:ss:ms"},{"$f":"$C$9","v":"h:mm:ss:ms"},{"$f":"'Test Conditions'!$B$18","v":"°C"},{"$f":"'Test Conditions'!$B$18","v":"°C"},{"$f":"'Test Conditions'!$B$18","v":"°C"},{"$f":"'Test Conditions'!$B$19","v":"°C"},{"$f":"'Test Conditions'!$B$19","v":"°C"},{"$f":"'Test Conditions'!$B$19","v":"°C"},{"$f":"'Test Conditions'!$B$20","v":"m³/h"},{"$f":"'Test Conditions'!$B$20","v":"m³/h"},{"$f":"'Test Conditions'!$B$20","v":"m³/h"},{"$f":"IF('Test Plan'!$B$19=\"I-P\",'Unit Conversion'!$B$9,'Unit Conversion'!$C$9)","v":"kPa"},{"$f":"'Test Conditions'!$B$19","v":"°C"},{"$f":"IF('Test Plan'!$B$19=\"I-P\",'Unit Conversion'!$B$7,'Unit Conversion'!$C$7)","v":"kPa"},"kW","kW","kW","V","V","V","V","V","V","V","V","V","Hz","Hz","Hz"]
["Rating","-","-",{"$f":"'Test Conditions'!$C$58","v":{"$error":"#VALUE!"}},{"$f":"'Test Conditions'!$C$58","v":{"$error":"#VALUE!"}},{"$f":"'Test Conditions'!$C$58","v":{"$error":"#VALUE!"}},{"$f":"'Test Plan'!$C$74","v":0},{"$f":"'Test Plan'!$C$74","v":0},{"$f":"'Test Plan'!$C$74","v":0},{"$f":"'Test Plan'!$C$76","v":0},{"$f":"'Test Plan'!$C$76","v":0},{"$f":"'Test Plan'!$C$76","v":0},{"$f":"IF('Test Plan'!$B$19=\"I-P\",'Test Plan'!$C$127*0.4331,'Test Plan'!$C$127)","v":0},{"$f":"'Test Conditions'!$D$59","v":0},{"$f":"'Test Plan'!$C$41","v":101.33},{"$f":"'Test Plan'!$C$78","v":""},{"$f":"'Test Plan'!$C$78","v":""},{"$f":"'Test Plan'!$C$78","v":""},{"$f":"'Test Plan'!$B$14","v":0},{"$f":"'Test Plan'!$B$14","v":0},{"$f":"'Test Plan'!$B$14","v":0},{"$f":"'Test Plan'!$B$14","v":0},{"$f":"'Test Plan'!$B$14","v":0},{"$f":"'Test Plan'!$B$14","v":0},{"$f":"'Test Plan'!$B$14","v":0},{"$f":"'Test Plan'!$B$14","v":0},{"$f":"'Test Plan'!$B$14","v":0},{"$f":"'Test Plan'!$D$14","v":0},{"$f":"'Test Plan'!$D$14","v":0},{"$f":"'Test Plan'!$D$14","v":0}]
["Mean","-","-",{"$f":"AVERAGE(D258:INDEX(D258:D10089,$B$9))","v":{"$error":"#DIV/0!"}},{"$f":"AVERAGE(E258:INDEX(E258:E10089,$B$9))","v":{"$error":"#DIV/0!"}},{"$f":"AVERAGE(D256:E256)","v":{"$error":"#DIV/0!"}},{"$f":"AVERAGE(G258:INDEX(G258:G10089,$B$9))","v":{"$error":"#DIV/0!"}},{"$f":"AVERAGE(H258:INDEX(H258:H10089,$B$9))","v":{"$error":"#DIV/0!"}},{"$f":"AVERAGE(G256:H256)","v":{"$error":"#DIV/0!"}},{"$f":"AVERAGE(J258:INDEX(J258:J10089,$B$9))","v":{"$error":"#DIV/0!"}},{"$f":"AVERAGE(K258:INDEX(K258:K10089,$B$9))","v":{"$error":"#DIV/0!"}},{"$f":"AVERAGE(J256:K256)","v":{"$error":"#DIV/0!"}},{"$f":"AVERAGE(M258:INDEX(M258:M10089,$B$9))","v":{"$error":"#DIV/0!"}},{"$f":"AVERAGE(N258:INDEX(N258:N10089,$B$9))","v":{"$error":"#DIV/0!"}},{"$f":"AVERAGE(O258:INDEX(O258:O10089,$B$9))","v":{"$error":"#DIV/0!"}},{"$f":"AVERAGE(P258:INDEX(P258:P10089,$B$9))","v":{"$error":"#DIV/0!"}},{"$f":"AVERAGE(Q258:INDEX(Q258:Q10089,$B$9))","v":{"$error":"#DIV/0!"}},{"$f":"AVERAGE(P256:Q256)","v":{"$error":"#DIV/0!"}},{"$f":"AVERAGE(T256,X256)","v":{"$error":"#DIV/0!"}},{"$f":"AVERAGE(T258:INDEX(T258:T10089,$B$9))","v":{"$error":"#DIV/0!"}},{"$f":"AVERAGE(U258:INDEX(U258:U10089,$B$9))","v":{"$error":"#DIV/0!"}},{"$f":"AVERAGE(V258:INDEX(V258:V10089,$B$9))","v":{"$error":"#DIV/0!"}},{"$f":"AVERAGE(W258:INDEX(W258:W10089,$B$9))","v":{"$error":"#DIV/0!"}},{"$f":"AVERAGE(X258:INDEX(X258:X10089,$B$9))","v":{"$error":"#DIV/0!"}},{"$f":"AVERAGE(Y258:INDEX(Y258:Y10089,$B$9))","v":{"$error":"#DIV/0!"}},{"$f":"AVERAGE(Z258:INDEX(Z258:Z10089,$B$9))","v":{"$error":"#DIV/0!"}},{"$f":"AVERAGE(AA258:INDEX(AA258:AA10089,$B$9))","v":{"$error":"#DIV/0!"}},{"$f":"AVERAGE(AC256:AD256)","v":{"$error":"#DIV/0!"}},{"$f":"AVERAGE(AC258:INDEX(AC258:AC10089,$B$9))","v":{"$error":"#DIV/0!"}},{"$f":"AVERAGE(AD258:INDEX(AD258:AD10089,$B$9))","v":{"$error":"#DIV/0!"}}]
["St. Dev.","-","-",{"$f":"_xlfn.STDEV.S(D258:INDEX(D258:D10089,$B$9))","v":{"$error":"#DIV/0!"}},{"$f":"_xlfn.STDEV.S(E258:INDEX(E258:E10089,$B$9))","v":{"$error":"#DIV/0!"}},{"$f":"SQRT((D257^2+E257^2)/2)","v":{"$error":"#DIV/0!"}},{"$f":"_xlfn.STDEV.S(G258:INDEX(G258:G10089,$B$9))","v":{"$error":"#DIV/0!"}},{"$f":"_xlfn.STDEV.S(H258:INDEX(H258:H10089,$B$9))","v":{"$error":"#DIV/0!"}},{"$f":"SQRT((G257^2+H257^2)/2)","v":{"$error":"#DIV/0!"}},{"$f":"_xlfn.STDEV.S(J258:INDEX(J258:J10089,$B$9))","v":{"$error":"#DIV/0!"}},{"$f":"_xlfn.STDEV.S(K258:INDEX(K258:K10089,$B$9))","v":{"$error":"#DIV/0!"}},{"$f":"SQRT((J257^2+K257^2)/2)","v":{"$error":"#DIV/0!"}},{"$f":"_xlfn.STDEV.S(M258:INDEX(M258:M10089,$B$9))","v":{"$error":"#DIV/0!"}},{"$f":"_xlfn.STDEV.S(N258:INDEX(N258:N10089,$B$9))","v":{"$error":"#DIV/0!"}},{"$f":"_xlfn.STDEV.S(O258:INDEX(O258:O10089,$B$9))","v":{"$error":"#DIV/0!"}},{"$f":"_xlfn.STDEV.S(P258:INDEX(P258:P10089,$B$9))","v":{"$error":"#DIV/0!"}},{"$f":"_xlfn.STDEV.S(Q258:INDEX(Q258:Q10089,$B$9))","v":{"$error":"#DIV/0!"}},{"$f":"SQRT((P257^2+Q257^2)/2)","v":{"$error":"#DIV/0!"}},{"$f":"SQRT((T257^2+X257^2)/2)","v":{"$error":"#DIV/0!"}},{"$f":"_xlfn.STDEV.S(T258:INDEX(T258:T10089,$B$9))","v":{"$error":"#DIV/0!"}},{"$f":"_xlfn.STDEV.S(U258:INDEX(U258:U10089,$B$9))","v":{"$error":"#DIV/0!"}},{"$f":"_xlfn.STDEV.S(V258:INDEX(V258:V10089,$B$9))","v":{"$error":"#DIV/0!"}},{"$f":"_xlfn.STDEV.S(W258:INDEX(W258:W10089,$B$9))","v":{"$error":"#DIV/0!"}},{"$f":"_xlfn.STDEV.S(X258:INDEX(X258:X10089,$B$9))","v":{"$error":"#DIV/0!"}},{"$f":"_xlfn.STDEV.S(Y258:INDEX(Y258:Y10089,$B$9))","v":{"$error":"#DIV/0!"}},{"$f":"_xlfn.STDEV.S(Z258:INDEX(Z258:Z10089,$B$9))","v":{"$error":"#DIV/0!"}},{"$f":"_xlfn.STDEV.S(AA258:INDEX(AA258:AA10089,$B$9))","v":{"$error":"#DIV/0!"}},{"$f":"SQRT((AC257^2+AD257^2)/2)","v":{"$error":"#DIV/0!"}},{"$f":"_xlfn.STDEV.S(AC258:INDEX(AC258:AC10089,$B$9))","v":{"$error":"#DIV/0!"}},{"$f":"_xlfn.STDEV.S(AD258:INDEX(AD258:AD10089,$B$9))","v":{"$error":"#DIV/0!"}}]
[null,{"$f":"C259-C258","v":"00:00:00"}]
[null,{"$f":"C260-C259","v":"00:00:00"}]
[null,{"$f":"C261-C260","v":"00:00:00"}]
[null,"00:00:00"]
[null,"00:00:00"]
[null,"00:00:00"]
[null,"00:00:00"]
[null,"00:00:00"]
[null,"00:00:00"]
[null,"00:00:00"]
[null,"00:00:00"]
[null,"00:00:00"]
[null,"00:00:00"]
[null,"00:00:00"]
[null,"00:00:00"]
[null,"00:00:00"]
[null,"00:00:00"]
[null,"00:00:00"]
[null,"00:00:00"]
[null,"00:00:00"]
[null,"00:00:00"]
[null,"00:00:00"]
[null,"00:00:00"]
[null,"00:00:00"]
[null,"00:00:00"]
[null,"00:00:00"]
[null,"00:00:00"]
[null,{"$f":"C286-C285","v":"00:00:00"}]
[null,{"$f":"C287-C286","v":"00:00:00"}]
[null,{"$f":"IF(C288=0,\"\",C288-C287)","v":""}]
[null,{"$f":"IF(C289=0,\"\",C289-C288)","v":""}]
[null,{"$f":"IF(C290=0,\"\",C290-C289)","v":""}]
[null,{"$f":"IF(C291=0,\"\",C291-C290)","v":""}]
[null,""]
[null,""]
[null,""]
[null,""]
[null,""]
[null,""]
[null,""]
[null,""]
[null,""]
[null,""]
[null,""]
[null,""]
[null,""]
[null,""]
[null,""]
[null,""]
[null,""]
[null,""]
[null,""]
[null,""]
[null,""]
[null,""]
[null,""]
[null,""]
[null,""]
[null,""]
[null,""]
[null,""]
[null,""]
[null,""]
[null,""]
[null,""]
[null,""]
[null,""]
[null,""]
[null,""]
[null,""]
[null,""]
[null,""]
[null,""]
[null,""]
[null,""]
[null,""]
[null,""]
[null,""]
[null,""]
[null,""]
[null,""]
[null,""]
[null,""]
[null,""]
[null,""]
[null,""]
[null,""]
[null,""]
[null,""]
[null,""]
[null,""]
[null,""]
[null,""]
[null,""]
[null,""]
[null,""]
[null,{"$f":"IF(C355=0,\"\",C355-C354)","v":""}]
[null,""]
[null,""]
[null,""]
[null,""]
[null,""]
[null,""]
[null,""]
[null,""]
[null,""]
[null,""]
[null,""]
[null,""]
[null,""]
[null,""]
[null,""]
[null,""]
[null,""]
[null,""]
[null,""]
[null,""]
[null,""]
[null,""]
[null,""]
[null,""]
[null,""]
[null,""]
[null,""]
[null,""]
[null,""]
[null,""]
[null,""]
[null,""]
[null,""]
[null,""]
[null,""]
[null,""]
[null,""]
[null,""]
[null,""]
[null,""]
[null,""]
[null,""]
[null,""]
[null,""]
[null,""]
[null,""]
[null,""]
[null,""]
[null,""]
[null,""]
[null,""]
[null,""]
[null,""]
[null,""]
[null,""]
[null,""]
[null,""]
[null,""]
[null,""]
[null,""]
[null,""]
[null,""]
[null,""]
[null,{"$f":"IF(C419=0,\"\",C419-C418)","v":""}]
[null,""]
[null,""]
[null,""]
[null,""]
[null,""]
[null,""]
[null,""]
[null,""]
[null,""]
[null,""]
[null,""]
[null,""]
[null,""]
[null,""]
[null,""]
[null,""]
[null,""]
[null,""]
[null,""]
[null,""]
[null,""]
[null,""]
[null,""]
[null,""]
[null,""]
[null,""]
[null,""]
[null,""]
[null,""]
[null,""]
[null,""]
[null,""]
[null,""]
[null,""]
[null,""]
[null,""]
[null,""]
[null,""]
[null,""]
[null,""]
[null,""]
[null,""]
[null,""]
[null,""]
[null,""]
[null,""]
[null,""]
[null,""]
[null,""]
[null,""]
[null,""]
[null,""]
[null,""]
[null,""]
[null,""]
[null,""]
[null,""]
[null,""]
[null,""]
[null,""]
[null,""]
[null,""]
[null,""]
[null,{"$f":"IF(C483=0,\"\",C483-C482)","v":""}]
[null,""]
[null,""]
[null,""]
[null,""]
[null,""]
[null,""]
[null,""]
[null,""]
[null,""]
[null,""]
[null,""]
[null,""]
[null,""]
[null,""]
[null,""]
[null,""]
[null,""]
[null,""]
[null,""]
[null,""]
[null,""]
[null,""]
[null,""]
[null,""]
[null,""]
[null,""]
[null,""]
[null,""]
[null,""]
[null,""]
[null,""]
[null,""]
[null,""]
[null,""]
[null,""]
[null,""]
[null,""]
[null,""]
[null,""]
[null,""]
[null,""]
[null,""]
[null,""]
[null,""]
[null,""]
[null,""]
[null,""]
[null,""]
[null,""]
[null,""]
[null,""]
[null,""]
[null,""]
[null,""]
[null,""]
[null,""]
[null,""]
[null,""]
[null,""]
[null,""]
[null,""]
[null,""]
[null,""]
[null,{"$f":"IF(C547=0,\"\",C547-C546)","v":""}]
[null,""]
[null,""]
[null,""]
[null,""]
[null,""]
[null,""]
[null,""]
[null,""]
[null,""]
[null,""]
[null,""]
[null,""]
[null,""]
[null,""]
[null,""]
[null,""]
[null,""]
[null,""]
[null,""]
[null,""]
[null,""]
[null,""]
[null,""]
[null,""]
[null,""]
[null,""]
[null,""]
[null,""]
[null,""]
[null,""]
[null,""]
[null,""]
[null,""]
[null,""]
[null,""]
[null,""]
[null,""]
[null,""]
[null,""]
[null,""]
[null,""]
[null,""]
[null,""]
[null,""]
[null,""]
[null,""]
[null,""]
[null,""]
[null,""]
[null,""]
[null,""]
[null,""]
[null,""]
[null,""]
[null,""]
[null,""]
[null,""]
[null,""]
[null,""]
[null,""]
[null,""]
[null,""]
[null,""]
[null,{"$f":"IF(C611=0,\"\",C611-C610)","v":""}]
[null,""]
[null,""]
[null,""]
[null,""]
[null,""]
[null,""]
[null,""]
[null,""]
[null,""]
[null,""]
[null,""]
[null,""]
[null,""]
[null,""]
[null,""]
[null,""]
[null,""]
[null,""]
[null,""]
[null,""]
[null,""]
[null,""]
[null,""]
[null,""]
[null,""]
[null,""]
[null,""]
[null,""]
[null,""]
[null,""]
[null,""]
[null,""]
[null,""]
[null,""]
[null,""]
[null,""]
[null,""]
[null,""]
[null,""]
[null,""]
[null,""]
[null,""]
[null,""]
[null,""]
[null,""]
[null,""]
[null,""]
[null,""]
[null,""]
[null,""]
[null,""]
[null,""]
[null,""]
[null,""]
[null,""]
[null,""]
[null,""]
[null,""]
[null,""]
[null,""]
[null,""]
[null,""]
[null,""]
[null,{"$f":"IF(C675=0,\"\",C675-C674)","v":""}]
[null,""]
[null,""]
[null,""]
[null,""]
[null,""]
[null,""]
[null,""]
[null,""]
[null,""]
[null,""]
[null,""]
[null,""]
[null,""]
[null,""]
[null,""]
[null,""]
[null,""]
[null,""]
[null,""]
[null,""]
[null,""]
[null,""]
[null,""]
[null,""]
[null,""]
[null,""]
[null,""]
[null,""]
[null,""]
[null,""]
[null,""]
[null,""]
[null,""]
[null,""]
[null,""]
[null,""]
[null,""]
[null,""]
[null,""]
[null,""]
[null,""]
[null,""]
[null,""]
[null,""]
[null,""]
[null,""]
[null,""]
[null,""]
[null,""]
[null,""]
[null,""]
[null,""]
[null,""]
[null,""]
[null,""]
[null,""]
[null,""]
[null,""]
[null,""]
[null,""]
[null,""]
[null,""]
[null,""]
[null,{"$f":"IF(C739=0,\"\",C739-C738)","v":""}]
[null,""]
[null,""]
[null,""]
[null,""]
[null,""]
[null,""]
[null,""]
[null,""]
[null,""]
[null,""]
[null,""]
[null,""]
[null,""]
[null,""]
[null,""]
[null,""]
[null,""]
[null,""]
[null,""]
[null,""]
[null,""]
[null,""]
[null,""]
[null,""]
[null,""]
[null,""]
[null,""]
[null,""]
[null,""]
[null,""]
[null,""]
[null,""]
[null,""]
[null,""]
[null,""]
[null,""]
[null,""]
[null,""]
[null,""]
[null,""]
[null,""]
[null,""]
[null,""]
[null,""]
[null,""]
[null,""]
[null,""]
[null,""]
[null,""]
[null,""]
[null,""]
[null,""]
[null,""]
[null,""]
[null,""]
[null,""]
[null,""]
[null,""]
[null,""]
[null,""]
[null,""]
[null,""]
[null,""]
[null,{"$f":"IF(C803=0,\"\",C803-C802)","v":""}]
[null,""]
[null,""]
[null,""]
[null,""]
[null,""]
[null,""]
[null,""]
[null,""]
[null,""]
[null,""]
[null,""]
[null,""]
[null,""]
[null,""]
[null,""]
[null,""]
[null,""]
[null,""]
[null,""]
[null,""]
[null,""]
[null,""]
[null,""]
[null,""]
[null,""]
[null,""]
[null,""]
[null,""]
[null,""]
[null,""]
[null,""]
[null,""]
[null,""]
[null,""]
[null,""]
[null,""]
[null,""]
[null,""]
[null,""]
[null,""]
[null,""]
[null,""]
[null,""]
[null,""]
[null,""]
[null,""]
[null,""]
[null,""]
[null,""]
[null,""]
[null,""]
[null,""]
[null,""]
[null,""]
[null,""]
[null,""]
[null,""]
[null,""]
[null,""]
[null,""]
[null,""]
[null,""]
[null,""]
[null,{"$f":"IF(C867=0,\"\",C867-C866)","v":""}]
[null,""]
[null,""]
[null,""]
[null,""]
[null,""]
[null,""]
[null,""]
[null,""]
[null,""]
[null,""]
[null,""]
[null,""]
[null,""]
[null,""]
[null,""]
[null,""]
[null,""]
[null,""]
[null,""]
[null,""]
[null,""]
[null,""]
[null,""]
[null,""]
[null,""]
[null,""]
[null,""]
[null,""]
[null,""]
[null,""]
[null,""]
[null,""]
[null,""]
[null,""]
[null,""]
[null,""]
[null,""]
[null,""]
[null,""]
[null,""]
[null,""]
[null,""]
[null,""]
[null,""]
[null,""]
[null,""]
[null,""]
[null,""]
[null,""]
[null,""]
[null,""]
[null,""]
[null,""]
[null,""]
[null,""]
[null,""]
[null,""]
[null,""]
[null,""]
[null,""]
[null,""]
[null,""]
[null,""]
[null,{"$f":"IF(C931=0,\"\",C931-C930)","v":""}]
[null,""]
[null,""]
[null,""]
[null,""]
[null,""]
[null,""]
[null,""]
[null,""]
[null,""]
[null,""]
[null,""]
[null,""]
[null,""]
[null,""]
[null,""]
[null,""]
[null,""]
[null,""]
[null,""]
[null,""]
[null,""]
[null,""]
[null,""]
[null,""]
[null,""]
[null,""]
[null,""]
[null,""]
[null,""]
[null,""]
[null,""]
[null,""]
[null,""]
[null,""]
[null,""]
[null,""]
[null,""]
[null,""]
[null,""]
[null,""]
[null,""]
[null,""]
[null,""]
[null,""]
[null,""]
[null,""]
[null,""]
[null,""]
[null,""]
[null,""]
[null,""]
[null,""]
[null,""]
[null,""]
[null,""]
[null,""]
[null,""]
[null,""]
[null,""]
[null,""]
[null,""]
[null,""]
[null,""]
[null,{"$f":"IF(C995=0,\"\",C995-C994)","v":""}]
[null,""]
[null,""]
[null,""]
[null,""]
[null,""]
[null,""]
[null,""]
[null,""]
[null,""]
[null,""]
[null,""]
[null,""]
[null,""]
[null,""]
[null,""]
[null,""]
[null,""]
[null,""]
[null,""]
[null,""]
[null,""]
[null,""]
[null,""]
[null,""]
[null,""]
[null,""]
[null,""]
[null,""]
[null,""]
[null,""]
[null,""]
[null,""]
[null,""]
[null,""]
[null,""]
[null,""]
[null,""]
[null,""]
[null,""]
[null,""]
[null,""]
[null,""]
[null,""]
[null,""]
[null,""]
[null,""]
[null,""]
[null,""]
[null,""]
[null,""]
[null,""]
[null,""]
[null,""]
[null,""]
[null,""]
[null,""]
[null,""]
[null,""]
[null,""]
[null,""]
[null,""]
[null,""]
[null,""]
[null,{"$f":"IF(C1059=0,\"\",C1059-C1058)","v":""}]
[null,""]
[null,""]
[null,""]
[null,""]
[null,""]
[null,""]
[null,""]
[null,""]
[null,""]
[null,""]
[null,""]
[null,""]
[null,""]
[null,""]
[null,""]
[null,""]
[null,""]
[null,""]
[null,""]
[null,""]
[null,""]
[null,""]
[null,""]
[null,""]
[null,""]
[null,""]
[null,""]
[null,""]
[null,""]
[null,""]
[null,""]
[null,""]
[null,""]
[null,""]
[null,""]
[null,""]
[null,""]
[null,""]
[null,""]
[null,""]
[null,""]
[null,""]
[null,""]
[null,""]
[null,""]
[null,""]
[null,""]
[null,""]
[null,""]
[null,""]
[null,""]
[null,""]
[null,""]
[null,""]
[null,""]
[null,""]
[null,""]
[null,""]
[null,""]
[null,""]
[null,""]
[null,""]
[null,""]
[null,{"$f":"IF(C1123=0,\"\",C1123-C1122)","v":""}]
[null,""]
[null,""]
[null,""]
[null,""]
[null,""]
[null,""]
[null,""]
[null,""]
[null,""]
[null,""]
[null,""]
[null,""]
[null,""]
[null,""]
[null,""]
[null,""]
[null,""]
[null,""]
[null,""]
[null,""]
[null,""]
[null,""]
[null,""]
[null,""]
[null,""]
[null,""]
[null,""]
[null,""]
[null,""]
[null,""]
[null,""]
[null,""]
[null,""]
[null,""]
[null,""]
[null,""]
[null,""]
[null,""]
[null,""]
[null,""]
[null,""]
[null,""]
[null,""]
[null,""]
[null,""]
[null,""]
[null,""]
[null,""]
[null,""]
[null,""]
[null,""]
[null,""]
[null,""]
[null,""]
[null,""]
[null,""]
[null,""]
[null,""]
[null,""]
[null,""]
[null,""]
[null,""]
[null,""]
[null,{"$f":"IF(C1187=0,\"\",C1187-C1186)","v":""}]
[null,""]
[null,""]
[null,""]
[null,""]
[null,""]
[null,""]
[null,""]
[null,""]
[null,""]
[null,""]
[null,""]
[null,""]
[null,""]
[null,""]
[null,""]
[null,""]
[null,""]
[null,""]
[null,""]
[null,""]
[null,""]
[null,""]
[null,""]
[null,""]
[null,""]
[null,""]
[null,""]
[null,""]
[null,""]
[null,""]
[null,""]
[null,""]
[null,""]
[null,""]
[null,""]
[null,""]
[null,""]
[null,""]
[null,""]
[null,""]
[null,""]
[null,""]
[null,""]
[null,""]
[null,""]
[null,""]
[null,""]
[null,""]
[null,""]
[null,""]
[null,""]
[null,""]
[null,""]
[null,""]
[null,""]
[null,""]
[null,""]
[null,""]
[null,""]
[null,""]
[null,""]
[null,""]
[null,""]
[null,{"$f":"IF(C1251=0,\"\",C1251-C1250)","v":""}]
[null,""]
[null,""]
[null,""]
[null,""]
[null,""]
[null,""]
[null,""]
[null,""]
[null,""]
[null,""]
[null,""]
[null,""]
[null,""]
[null,""]
[null,""]
[null,""]
[null,""]
[null,""]
[null,""]
[null,""]
[null,""]
[null,""]
[null,""]
[null,""]
[null,""]
[null,""]
[null,""]
[null,""]
[null,""]
[null,""]
[null,""]
[null,""]
[null,""]
[null,""]
[null,""]
[null,""]
[null,""]
[null,""]
[null,""]
[null,""]
[null,""]
[null,""]
[null,""]
[null,""]
[null,""]
[null,""]
[null,""]
[null,""]
[null,""]
[null,""]
[null,""]
[null,""]
[null,""]
[null,""]
[null,""]
[null,""]
[null,""]
[null,""]
[null,""]
[null,""]
[null,""]
[null,""]
[null,""]
[null,{"$f":"IF(C1315=0,\"\",C1315-C1314)","v":""}]
[null,""]
[null,""]
[null,""]
[null,""]
[null,""]
[null,""]
[null,""]
[null,""]
[null,""]
[null,""]
[null,""]
[null,""]
[null,""]
[null,""]
[null,""]
[null,""]
[null,""]
[null,""]
[null,""]
[null,""]
[null,""]
[null,""]
[null,""]
[null,""]
[null,""]
[null,""]
[null,""]
[null,""]
[null,""]
[null,""]
[null,""]
[null,""]
[null,""]
[null,""]
[null,""]
[null,""]
[null,""]
[null,""]
[null,""]
[null,""]
[null,""]
[null,""]
[null,""]
[null,""]
[null,""]
[null,""]
[null,""]
[null,""]
[null,""]
[null,""]
[null,""]
[null,""]
[null,""]
[null,""]
[null,""]
[null,""]
[null,""]
[null,""]
[null,""]
[null,""]
[null,""]
[null,""]
[null,""]
[null,{"$f":"IF(C1379=0,\"\",C1379-C1378)","v":""}]
[null,""]
[null,""]
[null,""]
[null,""]
[null,""]
[null,""]
[null,""]
[null,""]
[null,""]
[null,""]
[null,""]
[null,""]
[null,""]
[null,""]
[null,""]
[null,""]
[null,""]
[null,""]
[null,""]
[null,""]
[null,""]
[null,""]
[null,""]
[null,""]
[null,""]
[null,""]
[null,""]
[null,""]
[null,""]
[null,""]
[null,""]
[null,""]
[null,""]
[null,""]
[null,""]
[null,""]
[null,""]
[null,""]
[null,""]
[null,""]
[null,""]
[null,""]
[null,""]
[null,""]
[null,""]
[null,""]
[null,""]
[null,""]
[null,""]
[null,""]
[null,""]
[null,""]
[null,""]
[null,""]
[null,""]
[null,""]
[null,""]
[null,""]
[null,""]
[null,""]
[null,""]
[null,""]
[null,""]
[null,{"$f":"IF(C1443=0,\"\",C1443-C1442)","v":""}]
[null,""]
[null,""]
[null,""]
[null,""]
[null,""]
[null,""]
[null,""]
[null,""]
[null,""]
[null,""]
[null,""]
[null,""]
[null,""]
[null,""]
[null,""]
[null,""]
[null,""]
[null,""]
[null,""]
[null,""]
[null,""]
[null,""]
[null,""]
[null,""]
[null,""]
[null,""]
[null,""]
[null,""]
[null,""]
[null,""]
[null,""]
[null,""]
[null,""]
[null,""]
[null,""]
[null,""]
[null,""]
[null,""]
[null,""]
[null,""]
[null,""]
[null,""]
[null,""]
[null,""]
[null,""]
[null,""]
[null,""]
[null,""]
[null,""]
[null,""]
[null,""]
[null,""]
[null,""]
[null,""]
[null,""]
[null,""]
[null,""]
[null,""]
[null,""]
[null,""]
[null,""]
[null,""]
[null,""]
[null,{"$f":"IF(C1507=0,\"\",C1507-C1506)","v":""}]
[null,""]
[null,""]
[null,""]
[null,""]
[null,""]
[null,""]
[null,""]
[null,""]
[null,""]
[null,""]
[null,""]
[null,""]
[null,""]
[null,""]
[null,""]
[null,""]
[null,""]
[null,""]
[null,""]
[null,""]
[null,""]
[null,""]
[null,""]
[null,""]
[null,""]
[null,""]
[null,""]
[null,""]
[null,""]
[null,""]
[null,""]
[null,""]
[null,""]
[null,""]
[null,""]
[null,""]
[null,""]
[null,""]
[null,""]
[null,""]
[null,""]
[null,""]
[null,""]
[null,""]
[null,""]
[null,""]
[null,""]
[null,""]
[null,""]
[null,""]
[null,""]
[null,""]
[null,""]
[null,""]
[null,""]
[null,""]
[null,""]
[null,""]
[null,""]
[null,""]
[null,""]
[null,""]
[null,""]
[null,{"$f":"IF(C1571=0,\"\",C1571-C1570)","v":""}]
[null,""]
[null,""]
[null,""]
[null,""]
[null,""]
[null,""]
[null,""]
[null,""]
[null,""]
[null,""]
[null,""]
[null,""]
[null,""]
[null,""]
[null,""]
[null,""]
[null,""]
[null,""]
[null,""]
[null,""]
[null,""]
[null,""]
[null,""]
[null,""]
[null,""]
[null,""]
[null,""]
[null,""]
[null,""]
[null,""]
[null,""]
[null,""]
[null,""]
[null,""]
[null,""]
[null,""]
[null,""]
[null,""]
[null,""]
[null,""]
[null,""]
[null,""]
[null,""]
[null,""]
[null,""]
[null,""]
[null,""]
[null,""]
[null,""]
[null,""]
[null,""]
[null,""]
[null,""]
[null,""]
[null,""]
[null,""]
[null,""]
[null,""]
[null,""]
[null,""]
[null,""]
[null,""]
[null,""]
[null,{"$f":"IF(C1635=0,\"\",C1635-C1634)","v":""}]
[null,""]
[null,""]
[null,""]
[null,""]
[null,""]
[null,""]
[null,""]
[null,""]
[null,""]
[null,""]
[null,""]
[null,""]
[null,""]
[null,""]
[null,""]
[null,""]
[null,""]
[null,""]
[null,""]
[null,""]
[null,""]
[null,""]
[null,""]
[null,""]
[null,""]
[null,""]
[null,""]
[null,""]
[null,""]
[null,""]
[null,""]
[null,""]
[null,""]
[null,""]
[null,""]
[null,""]
[null,""]
[null,""]
[null,""]
[null,""]
[null,""]
[null,""]
[null,""]
[null,""]
[null,""]
[null,""]
[null,""]
[null,""]
[null,""]
[null,""]
[null,""]
[null,""]
[null,""]
[null,""]
[null,""]
[null,""]
[null,""]
[null,""]
[null,""]
[null,""]
[null,""]
[null,""]
[null,""]
[null,{"$f":"IF(C1699=0,\"\",C1699-C1698)","v":""}]
[null,""]
[null,""]
[null,""]
[null,""]
[null,""]
[null,""]
[null,""]
[null,""]
[null,""]
[null,""]
[null,""]
[null,""]
[null,""]
[null,""]
[null,""]
[null,""]
[null,""]
[null,""]
[null,""]
[null,""]
[null,""]
[null,""]
[null,""]
[null,""]
[null,""]
[null,""]
[null,""]
[null,""]
[null,""]
[null,""]
[null,""]
[null,""]
[null,""]
[null,""]
[null,""]
[null,""]
[null,""]
[null,""]
[null,""]
[null,""]
[null,""]
[null,""]
[null,""]
[null,""]
[null,""]
[null,""]
[null,""]
[null,""]
[null,""]
[null,""]
[null,""]
[null,""]
[null,""]
[null,""]
[null,""]
[null,""]
[null,""]
[null,""]
[null,""]
[null,""]
[null,""]
[null,""]
[null,""]
[null,{"$f":"IF(C1763=0,\"\",C1763-C1762)","v":""}]
[null,""]
[null,""]
[null,""]
[null,""]
[null,""]
[null,""]
[null,""]
[null,""]
[null,""]
[null,""]
[null,""]
[null,""]
[null,""]
[null,""]
[null,""]
[null,""]
[null,""]
[null,""]
[null,""]
[null,""]
[null,""]
[null,""]
[null,""]
[null,""]
[null,""]
[null,""]
[null,""]
[null,""]
[null,""]
[null,""]
[null,""]
[null,""]
[null,""]
[null,""]
[null,""]
[null,""]
[null,""]
[null,""]
[null,""]
[null,""]
[null,""]
[null,""]
[null,""]
[null,""]
[null,""]
[null,""]
[null,""]
[null,""]
[null,""]
[null,""]
[null,""]
[null,""]
[null,""]
[null,""]
[null,""]
[null,""]
[null,""]
[null,""]
[null,""]
[null,""]
[null,""]
[null,""]
[null,""]
[null,{"$f":"IF(C1827=0,\"\",C1827-C1826)","v":""}]
[null,""]
[null,""]
[null,""]
[null,""]
[null,""]
[null,""]
[null,""]
[null,""]
[null,""]
[null,""]
[null,""]
[null,""]
[null,""]
[null,""]
[null,""]
[null,""]
[null,""]
[null,""]
[null,""]
[null,""]
[null,""]
[null,""]
[null,""]
[null,""]
[null,""]
[null,""]
[null,""]
[null,""]
[null,""]
[null,""]
[null,""]
[null,""]
[null,""]
[null,""]
[null,""]
[null,""]
[null,""]
[null,""]
[null,""]
[null,""]
[null,""]
[null,""]
[null,""]
[null,""]
[null,""]
[null,""]
[null,""]
[null,""]
[null,""]
[null,""]
[null,""]
[null,""]
[null,""]
[null,""]
[null,""]
[null,""]
[null,""]
[null,""]
[null,""]
[null,""]
[null,""]
[null,""]
[null,""]
[null,{"$f":"IF(C1891=0,\"\",C1891-C1890)","v":""}]
[null,""]
[null,""]
[null,""]
[null,""]
[null,""]
[null,""]
[null,""]
[null,""]
[null,""]
[null,""]
[null,""]
[null,""]
[null,""]
[null,""]
[null,""]
[null,""]
[null,""]
[null,""]
[null,""]
[null,""]
[null,""]
[null,""]
[null,""]
[null,""]
[null,""]
[null,""]
[null,""]
[null,""]
[null,""]
[null,""]
[null,""]
[null,""]
[null,""]
[null,""]
[null,""]
[null,""]
[null,""]
[null,""]
[null,""]
[null,""]
[null,""]
[null,""]
[null,""]
[null,""]
[null,""]
[null,""]
[null,""]
[null,""]
[null,""]
[null,""]
[null,""]
[null,""]
[null,""]
[null,""]
[null,""]
[null,""]
[null,""]
[null,""]
[null,""]
[null,""]
[null,""]
[null,""]
[null,""]
[null,{"$f":"IF(C1955=0,\"\",C1955-C1954)","v":""}]
[null,""]
[null,""]
[null,""]
[null,""]
[null,""]
[null,""]
[null,""]
[null,""]
[null,""]
[null,""]
[null,""]
[null,""]
[null,""]
[null,""]
[null,""]
[null,""]
[null,""]
[null,""]
[null,""]
[null,""]
[null,""]
[null,""]
[null,""]
[null,""]
[null,""]
[null,""]
[null,""]
[null,""]
[null,""]
[null,""]
[null,""]
[null,""]
[null,""]
[null,""]
[null,""]
[null,""]
[null,""]
[null,""]
[null,""]
[null,""]
[null,""]
[null,""]
[null,""]
[null,""]
[null,""]
[null,""]
[null,""]
[null,""]
[null,""]
[null,""]
[null,""]
[null,""]
[null,""]
[null,""]
[null,""]
[null,""]
[null,""]
[null,""]
[null,""]
[null,""]
[null,""]
[null,""]
[null,""]
[null,{"$f":"IF(C2019=0,\"\",C2019-C2018)","v":""}]
[null,""]
[null,""]
[null,""]
[null,""]
[null,""]
[null,""]
[null,""]
[null,""]
[null,""]
[null,""]
[null,""]
[null,""]
[null,""]
[null,""]
[null,""]
[null,""]
[null,""]
[null,""]
[null,""]
[null,""]
[null,""]
[null,""]
[null,""]
[null,""]
[null,""]
[null,""]
[null,""]
[null,""]
[null,""]
[null,""]
[null,""]
[null,""]
[null,""]
[null,""]
[null,""]
[null,""]
[null,""]
[null,""]
[null,""]
[null,""]
[null,""]
[null,""]
[null,""]
[null,""]
[null,""]
[null,""]
[null,""]
[null,""]
[null,""]
[null,""]
[null,""]
[null,""]
[null,""]
[null,""]
[null,""]
[null,""]
[null,""]
[null,""]
[null,""]
[null,""]
[null,""]
[null,""]
[null,""]
[null,{"$f":"IF(C2083=0,\"\",C2083-C2082)","v":""}]
[null,""]
[null,""]
[null,""]
[null,""]
[null,""]
[null,""]
[null,""]
[null,""]
[null,""]
[null,""]
[null,""]
[null,""]
[null,""]
[null,""]
[null,""]
[null,""]
[null,""]
[null,""]
[null,""]
[null,""]
[null,""]
[null,""]
[null,""]
[null,""]
[null,""]
[null,""]
[null,""]
[null,""]
[null,""]
[null,""]
[null,""]
[null,""]
[null,""]
[null,""]
[null,""]
[null,""]
[null,""]
[null,""]
[null,""]
[null,""]
[null,""]
[null,""]
[null,""]
[null,""]
[null,""]
[null,""]
[null,""]
[null,""]
[null,""]
[null,""]
[null,""]
[null,""]
[null,""]
[null,""]
[null,""]
[null,""]
[null,""]
[null,""]
[null,""]
[null,""]
[null,""]
[null,""]
[null,""]
[null,{"$f":"IF(C2147=0,\"\",C2147-C2146)","v":""}]
[null,""]
[null,""]
[null,""]
[null,""]
[null,""]
[null,""]
[null,""]
[null,""]
[null,""]
[null,""]
[null,""]
[null,""]
[null,""]
[null,""]
[null,""]
[null,""]
[null,""]
[null,""]
[null,""]
[null,""]
[null,""]
[null,""]
[null,""]
[null,""]
[null,""]
[null,""]
[null,""]
[null,""]
[null,""]
[null,""]
[null,""]
[null,""]
[null,""]
[null,""]
[null,""]
[null,""]
[null,""]
[null,""]
[null,""]
[null,""]
[null,""]
[null,""]
[null,""]
[null,""]
[null,""]
[null,""]
[null,""]
[null,""]
[null,""]
[null,""]
[null,""]
[null,""]
[null,""]
[null,""]
[null,""]
[null,""]
[null,""]
[null,""]
[null,""]
[null,""]
[null,""]
[null,""]
[null,""]
[null,{"$f":"IF(C2211=0,\"\",C2211-C2210)","v":""}]
[null,""]
[null,""]
[null,""]
[null,""]
[null,""]
[null,""]
[null,""]
[null,""]
[null,""]
[null,""]
[null,""]
[null,""]
[null,""]
[null,""]
[null,""]
[null,""]
[null,""]
[null,""]
[null,""]
[null,""]
[null,""]
[null,""]
[null,""]
[null,""]
[null,""]
[null,""]
[null,""]
[null,""]
[null,""]
[null,""]
[null,""]
[null,""]
[null,""]
[null,""]
[null,""]
[null,""]
[null,""]
[null,""]
[null,""]
[null,""]
[null,""]
[null,""]
[null,""]
[null,""]
[null,""]
[null,""]
[null,""]
[null,""]
[null,""]
[null,""]
[null,""]
[null,""]
[null,""]
[null,""]
[null,""]
[null,""]
[null,""]
[null,""]
[null,""]
[null,""]
[null,""]
[null,""]
[null,""]
[null,{"$f":"IF(C2275=0,\"\",C2275-C2274)","v":""}]
[null,""]
[null,""]
[null,""]
[null,""]
[null,""]
[null,""]
[null,""]
[null,""]
[null,""]
[null,""]
[null,""]
[null,""]
[null,""]
[null,""]
[null,""]
[null,""]
[null,""]
[null,""]
[null,""]
[null,""]
[null,""]
[null,""]
[null,""]
[null,""]
[null,""]
[null,""]
[null,""]
[null,""]
[null,""]
[null,""]
[null,""]
[null,""]
[null,""]
[null,""]
[null,""]
[null,""]
[null,""]
[null,""]
[null,""]
[null,""]
[null,""]
[null,""]
[null,""]
[null,""]
[null,""]
[null,""]
[null,""]
[null,""]
[null,""]
[null,""]
[null,""]
[null,""]
[null,""]
[null,""]
[null,""]
[null,""]
[null,""]
[null,""]
[null,""]
[null,""]
[null,""]
[null,""]
[null,""]
[null,{"$f":"IF(C2339=0,\"\",C2339-C2338)","v":""}]
[null,""]
[null,""]
[null,""]
[null,""]
[null,""]
[null,""]
[null,""]
[null,""]
[null,""]
[null,""]
[null,""]
[null,""]
[null,""]
[null,""]
[null,""]
[null,""]
[null,""]
[null,""]
[null,""]
[null,""]
[null,""]
[null,""]
[null,""]
[null,""]
[null,""]
[null,""]
[null,""]
[null,""]
[null,""]
[null,""]
[null,""]
[null,""]
[null,""]
[null,""]
[null,""]
[null,""]
[null,""]
[null,""]
[null,""]
[null,""]
[null,""]
[null,""]
[null,""]
[null,""]
[null,""]
[null,""]
[null,""]
[null,""]
[null,""]
[null,""]
[null,""]
[null,""]
[null,""]
[null,""]
[null,""]
[null,""]
[null,""]
[null,""]
[null,""]
[null,""]
[null,""]
[null,""]
[null,""]
[null,{"$f":"IF(C2403=0,\"\",C2403-C2402)","v":""}]
[null,""]
[null,""]
[null,""]
[null,""]
[null,""]
[null,""]
[null,""]
[null,""]
[null,""]
[null,""]
[null,""]
[null,""]
[null,""]
[null,""]
[null,""]
[null,""]
[null,""]
[null,""]
[null,""]
[null,""]
[null,""]
[null,""]
[null,""]
[null,""]
[null,""]
[null,""]
[null,""]
[null,""]
[null,""]
[null,""]
[null,""]
[null,""]
[null,""]
[null,""]
[null,""]
[null,""]
[null,""]
[null,""]
[null,""]
[null,""]
[null,""]
[null,""]
[null,""]
[null,""]
[null,""]
[null,""]
[null,""]
[null,""]
[null,""]
[null,""]
[null,""]
[null,""]
[null,""]
[null,""]
[null,""]
[null,""]
[null,""]
[null,""]
[null,""]
[null,""]
[null,""]
[null,""]
[null,""]
[null,{"$f":"IF(C2467=0,\"\",C2467-C2466)","v":""}]
[null,""]
[null,""]
[null,""]
[null,""]
[null,""]
[null,""]
[null,""]
[null,""]
[null,""]
[null,""]
[null,""]
[null,""]
[null,""]
[null,""]
[null,""]
[null,""]
[null,""]
[null,""]
[null,""]
[null,""]
[null,""]
[null,""]
[null,""]
[null,""]
[null,""]
[null,""]
[null,""]
[null,""]
[null,""]
[null,""]
[null,""]
[null,""]
[null,""]
[null,""]
[null,""]
[null,""]
[null,""]
[null,""]
[null,""]
[null,""]
[null,""]
[null,""]
[null,""]
[null,""]
[null,""]
[null,""]
[null,""]
[null,""]
[null,""]
[null,""]
[null,""]
[null,""]
[null,""]
[null,""]
[null,""]
[null,""]
[null,""]
[null,""]
[null,""]
[null,""]
[null,""]
[null,""]
[null,""]
[null,{"$f":"IF(C2531=0,\"\",C2531-C2530)","v":""}]
[null,""]
[null,""]
[null,""]
[null,""]
[null,""]
[null,""]
[null,""]
[null,""]
[null,""]
[null,""]
[null,""]
[null,""]
[null,""]
[null,""]
[null,""]
[null,""]
[null,""]
[null,""]
[null,""]
[null,""]
[null,""]
[null,""]
[null,""]
[null,""]
[null,""]
[null,""]
[null,""]
[null,""]
[null,""]
[null,""]
[null,""]
[null,""]
[null,""]
[null,""]
[null,""]
[null,""]
[null,""]
[null,""]
[null,""]
[null,""]
[null,""]
[null,""]
[null,""]
[null,""]
[null,""]
[null,""]
[null,""]
[null,""]
[null,""]
[null,""]
[null,""]
[null,""]
[null,""]
[null,""]
[null,""]
[null,""]
[null,""]
[null,""]
[null,""]
[null,""]
[null,""]
[null,""]
[null,""]
[null,{"$f":"IF(C2595=0,\"\",C2595-C2594)","v":""}]
[null,""]
[null,""]
[null,""]
[null,""]
[null,""]
[null,""]
[null,""]
[null,""]
[null,""]
[null,""]
[null,""]
[null,""]
[null,""]
[null,""]
[null,""]
[null,""]
[null,""]
[null,""]
[null,""]
[null,""]
[null,""]
[null,""]
[null,""]
[null,""]
[null,""]
[null,""]
[null,""]
[null,""]
[null,""]
[null,""]
[null,""]
[null,""]
[null,""]
[null,""]
[null,""]
[null,""]
[null,""]
[null,""]
[null,""]
[null,""]
[null,""]
[null,""]
[null,""]
[null,""]
[null,""]
[null,""]
[null,""]
[null,""]
[null,""]
[null,""]
[null,""]
[null,""]
[null,""]
[null,""]
[null,""]
[null,""]
[null,""]
[null,""]
[null,""]
[null,""]
[null,""]
[null,""]
[null,""]
[null,{"$f":"IF(C2659=0,\"\",C2659-C2658)","v":""}]
[null,""]
[null,""]
[null,""]
[null,""]
[null,""]
[null,""]
[null,""]
[null,""]
[null,""]
[null,""]
[null,""]
[null,""]
[null,""]
[null,""]
[null,""]
[null,""]
[null,""]
[null,""]
[null,""]
[null,""]
[null,""]
[null,""]
[null,""]
[null,""]
[null,""]
[null,""]
[null,""]
[null,""]
[null,""]
[null,""]
[null,""]
[null,""]
[null,""]
[null,""]
[null,""]
[null,""]
[null,""]
[null,""]
[null,""]
[null,""]
[null,""]
[null,""]
[null,""]
[null,""]
[null,""]
[null,""]
[null,""]
[null,""]
[null,""]
[null,""]
[null,""]
[null,""]
[null,""]
[null,""]
[null,""]
[null,""]
[null,""]
[null,""]
[null,""]
[null,""]
[null,""]
[null,""]
[null,""]
[null,{"$f":"IF(C2723=0,\"\",C2723-C2722)","v":""}]
[null,""]
[null,""]
[null,""]
[null,""]
[null,""]
[null,""]
[null,""]
[null,""]
[null,""]
[null,""]
[null,""]
[null,""]
[null,""]
[null,""]
[null,""]
[null,""]
[null,""]
[null,""]
[null,""]
[null,""]
[null,""]
[null,""]
[null,""]
[null,""]
[null,""]
[null,""]
[null,""]
[null,""]
[null,""]
[null,""]
[null,""]
[null,""]
[null,""]
[null,""]
[null,""]
[null,""]
[null,""]
[null,""]
[null,""]
[null,""]
[null,""]
[null,""]
[null,""]
[null,""]
[null,""]
[null,""]
[null,""]
[null,""]
[null,""]
[null,""]
[null,""]
[null,""]
[null,""]
[null,""]
[null,""]
[null,""]
[null,""]
[null,""]
[null,""]
[null,""]
[null,""]
[null,""]
[null,""]
[null,{"$f":"IF(C2787=0,\"\",C2787-C2786)","v":""}]
[null,""]
[null,""]
[null,""]
[null,""]
[null,""]
[null,""]
[null,""]
[null,""]
[null,""]
[null,""]
[null,""]
[null,""]
[null,""]
[null,""]
[null,""]
[null,""]
[null,""]
[null,""]
[null,""]
[null,""]
[null,""]
[null,""]
[null,""]
[null,""]
[null,""]
[null,""]
[null,""]
[null,""]
[null,""]
[null,""]
[null,""]
[null,""]
[null,""]
[null,""]
[null,""]
[null,""]
[null,""]
[null,""]
[null,""]
[null,""]
[null,""]
[null,""]
[null,""]
[null,""]
[null,""]
[null,""]
[null,""]
[null,""]
[null,""]
[null,""]
[null,""]
[null,""]
[null,""]
[null,""]
[null,""]
[null,""]
[null,""]
[null,""]
[null,""]
[null,""]
[null,""]
[null,""]
[null,""]
[null,{"$f":"IF(C2851=0,\"\",C2851-C2850)","v":""}]
[null,""]
[null,""]
[null,""]
[null,""]
[null,""]
[null,""]
[null,""]
[null,""]
[null,""]
[null,""]
[null,""]
[null,""]
[null,""]
[null,""]
[null,""]
[null,""]
[null,""]
[null,""]
[null,""]
[null,""]
[null,""]
[null,""]
[null,""]
[null,""]
[null,""]
[null,""]
[null,""]
[null,""]
[null,""]
[null,""]
[null,""]
[null,""]
[null,""]
[null,""]
[null,""]
[null,""]
[null,""]
[null,""]
[null,""]
[null,""]
[null,""]
[null,""]
[null,""]
[null,""]
[null,""]
[null,""]
[null,""]
[null,""]
[null,""]
[null,""]
[null,""]
[null,""]
[null,""]
[null,""]
[null,""]
[null,""]
[null,""]
[null,""]
[null,""]
[null,""]
[null,""]
[null,""]
[null,""]
[null,{"$f":"IF(C2915=0,\"\",C2915-C2914)","v":""}]
[null,""]
[null,""]
[null,""]
[null,""]
[null,""]
[null,""]
[null,""]
[null,""]
[null,""]
[null,""]
[null,""]
[null,""]
[null,""]
[null,""]
[null,""]
[null,""]
[null,""]
[null,""]
[null,""]
[null,""]
[null,""]
[null,""]
[null,""]
[null,""]
[null,""]
[null,""]
[null,""]
[null,""]
[null,""]
[null,""]
[null,""]
[null,""]
[null,""]
[null,""]
[null,""]
[null,""]
[null,""]
[null,""]
[null,""]
[null,""]
[null,""]
[null,""]
[null,""]
[null,""]
[null,""]
[null,""]
[null,""]
[null,""]
[null,""]
[null,""]
[null,""]
[null,""]
[null,""]
[null,""]
[null,""]
[null,""]
[null,""]
[null,""]
[null,""]
[null,""]
[null,""]
[null,""]
[null,""]
[null,{"$f":"IF(C2979=0,\"\",C2979-C2978)","v":""}]
[null,""]
[null,""]
[null,""]
[null,""]
[null,""]
[null,""]
[null,""]
[null,""]
[null,""]
[null,""]
[null,""]
[null,""]
[null,""]
[null,""]
[null,""]
[null,""]
[null,""]
[null,""]
[null,""]
[null,""]
[null,""]
[null,""]
[null,""]
[null,""]
[null,""]
[null,""]
[null,""]
[null,""]
[null,""]
[null,""]
[null,""]
[null,""]
[null,""]
[null,""]
[null,""]
[null,""]
[null,""]
[null,""]
[null,""]
[null,""]
[null,""]
[null,""]
[null,""]
[null,""]
[null,""]
[null,""]
[null,""]
[null,""]
[null,""]
[null,""]
[null,""]
[null,""]
[null,""]
[null,""]
[null,""]
[null,""]
[null,""]
[null,""]
[null,""]
[null,""]
[null,""]
[null,""]
[null,""]
[null,{"$f":"IF(C3043=0,\"\",C3043-C3042)","v":""}]
[null,""]
[null,""]
[null,""]
[null,""]
[null,""]
[null,""]
[null,""]
[null,""]
[null,""]
[null,""]
[null,""]
[null,""]
[null,""]
[null,""]
[null,""]
[null,""]
[null,""]
[null,""]
[null,""]
[null,""]
[null,""]
[null,""]
[null,""]
[null,""]
[null,""]
[null,""]
[null,""]
[null,""]
[null,""]
[null,""]
[null,""]
[null,""]
[null,""]
[null,""]
[null,""]
[null,""]
[null,""]
[null,""]
[null,""]
[null,""]
[null,""]
[null,""]
[null,""]
[null,""]
[null,""]
[null,""]
[null,""]
[null,""]
[null,""]
[null,""]
[null,""]
[null,""]
[null,""]
[null,""]
[null,""]
[null,""]
[null,""]
[null,""]
[null,""]
[null,""]
[null,""]
[null,""]
[null,""]
[null,{"$f":"IF(C3107=0,\"\",C3107-C3106)","v":""}]
[null,""]
[null,""]
[null,""]
[null,""]
[null,""]
[null,""]
[null,""]
[null,""]
[null,""]
[null,""]
[null,""]
[null,""]
[null,""]
[null,""]
[null,""]
[null,""]
[null,""]
[null,""]
[null,""]
[null,""]
[null,""]
[null,""]
[null,""]
[null,""]
[null,""]
[null,""]
[null,""]
[null,""]
[null,""]
[null,""]
[null,""]
[null,""]
[null,""]
[null,""]
[null,""]
[null,""]
[null,""]
[null,""]
[null,""]
[null,""]
[null,""]
[null,""]
[null,""]
[null,""]
[null,""]
[null,""]
[null,""]
[null,""]
[null,""]
[null,""]
[null,""]
[null,""]
[null,""]
[null,""]
[null,""]
[null,""]
[null,""]
[null,""]
[null,""]
[null,""]
[null,""]
[null,""]
[null,""]
[null,{"$f":"IF(C3171=0,\"\",C3171-C3170)","v":""}]
[null,""]
[null,""]
[null,""]
[null,""]
[null,""]
[null,""]
[null,""]
[null,""]
[null,""]
[null,""]
[null,""]
[null,""]
[null,""]
[null,""]
[null,""]
[null,""]
[null,""]
[null,""]
[null,""]
[null,""]
[null,""]
[null,""]
[null,""]
[null,""]
[null,""]
[null,""]
[null,""]
[null,""]
[null,""]
[null,""]
[null,""]
[null,""]
[null,""]
[null,""]
[null,""]
[null,""]
[null,""]
[null,""]
[null,""]
[null,""]
[null,""]
[null,""]
[null,""]
[null,""]
[null,""]
[null,""]
[null,""]
[null,""]
[null,""]
[null,""]
[null,""]
[null,""]
[null,""]
[null,""]
[null,""]
[null,""]
[null,""]
[null,""]
[null,""]
[null,""]
[null,""]
[null,""]
[null,""]
[null,{"$f":"IF(C3235=0,\"\",C3235-C3234)","v":""}]
[null,""]
[null,""]
[null,""]
[null,""]
[null,""]
[null,""]
[null,""]
[null,""]
[null,""]
[null,""]
[null,""]
[null,""]
[null,""]
[null,""]
[null,""]
[null,""]
[null,""]
[null,""]
[null,""]
[null,""]
[null,""]
[null,""]
[null,""]
[null,""]
[null,""]
[null,""]
[null,""]
[null,""]
[null,""]
[null,""]
[null,""]
[null,""]
[null,""]
[null,""]
[null,""]
[null,""]
[null,""]
[null,""]
[null,""]
[null,""]
[null,""]
[null,""]
[null,""]
[null,""]
[null,""]
[null,""]
[null,""]
[null,""]
[null,""]
[null,""]
[null,""]
[null,""]
[null,""]
[null,""]
[null,""]
[null,""]
[null,""]
[null,""]
[null,""]
[null,""]
[null,""]
[null,""]
[null,""]
[null,{"$f":"IF(C3299=0,\"\",C3299-C3298)","v":""}]
[null,""]
[null,""]
[null,""]
[null,""]
[null,""]
[null,""]
[null,""]
[null,""]
[null,""]
[null,""]
[null,""]
[null,""]
[null,""]
[null,""]
[null,""]
[null,""]
[null,""]
[null,""]
[null,""]
[null,""]
[null,""]
[null,""]
[null,""]
[null,""]
[null,""]
[null,""]
[null,""]
[null,""]
[null,""]
[null,""]
[null,""]
[null,""]
[null,""]
[null,""]
[null,""]
[null,""]
[null,""]
[null,""]
[null,""]
[null,""]
[null,""]
[null,""]
[null,""]
[null,""]
[null,""]
[null,""]
[null,""]
[null,""]
[null,""]
[null,""]
[null,""]
[null,""]
[null,""]
[null,""]
[null,""]
[null,""]
[null,""]
[null,""]
[null,""]
[null,""]
[null,""]
[null,""]
[null,""]
[null,{"$f":"IF(C3363=0,\"\",C3363-C3362)","v":""}]
[null,""]
[null,""]
[null,""]
[null,""]
[null,""]
[null,""]
[null,""]
[null,""]
[null,""]
[null,""]
[null,""]
[null,""]
[null,""]
[null,""]
[null,""]
[null,""]
[null,""]
[null,""]
[null,""]
[null,""]
[null,""]
[null,""]
[null,""]
[null,""]
[null,""]
[null,""]
[null,""]
[null,""]
[null,""]
[null,""]
[null,""]
[null,""]
[null,""]
[null,""]
[null,""]
[null,""]
[null,""]
[null,""]
[null,""]
[null,""]
[null,""]
[null,""]
[null,""]
[null,""]
[null,""]
[null,""]
[null,""]
[null,""]
[null,""]
[null,""]
[null,""]
[null,""]
[null,""]
[null,""]
[null,""]
[null,""]
[null,""]
[null,""]
[null,""]
[null,""]
[null,""]
[null,""]
[null,""]
[null,{"$f":"IF(C3427=0,\"\",C3427-C3426)","v":""}]
[null,""]
[null,""]
[null,""]
[null,""]
[null,""]
[null,""]
[null,""]
[null,""]
[null,""]
[null,""]
[null,""]
[null,""]
[null,""]
[null,""]
[null,""]
[null,""]
[null,""]
[null,""]
[null,""]
[null,""]
[null,""]
[null,""]
[null,""]
[null,""]
[null,""]
[null,""]
[null,""]
[null,""]
[null,""]
[null,""]
[null,""]
[null,""]
[null,""]
[null,""]
[null,""]
[null,""]
[null,""]
[null,""]
[null,""]
[null,""]
[null,""]
[null,""]
[null,""]
[null,""]
[null,""]
[null,""]
[null,""]
[null,""]
[null,""]
[null,""]
[null,""]
[null,""]
[null,""]
[null,""]
[null,""]
[null,""]
[null,""]
[null,""]
[null,""]
[null,""]
[null,""]
[null,""]
[null,""]
[null,{"$f":"IF(C3491=0,\"\",C3491-C3490)","v":""}]
[null,""]
[null,""]
[null,""]
[null,""]
[null,""]
[null,""]
[null,""]
[null,""]
[null,""]
[null,""]
[null,""]
[null,""]
[null,""]
[null,""]
[null,""]
[null,""]
[null,""]
[null,""]
[null,""]
[null,""]
[null,""]
[null,""]
[null,""]
[null,""]
[null,""]
[null,""]
[null,""]
[null,""]
[null,""]
[null,""]
[null,""]
[null,""]
[null,""]
[null,""]
[null,""]
[null,""]
[null,""]
[null,""]
[null,""]
[null,""]
[null,""]
[null,""]
[null,""]
[null,""]
[null,""]
[null,""]
[null,""]
[null,""]
[null,""]
[null,""]
[null,""]
[null,""]
[null,""]
[null,""]
[null,""]
[null,""]
[null,""]
[null,""]
[null,""]
[null,""]
[null,""]
[null,""]
[null,""]
[null,{"$f":"IF(C3555=0,\"\",C3555-C3554)","v":""}]
[null,""]
[null,""]
[null,""]
[null,""]
[null,""]
[null,""]
[null,""]
[null,""]
[null,""]
[null,""]
[null,""]
[null,""]
[null,""]
[null,""]
[null,""]
[null,""]
[null,""]
[null,""]
[null,""]
[null,""]
[null,""]
[null,""]
[null,""]
[null,""]
[null,""]
[null,""]
[null,""]
[null,""]
[null,""]
[null,""]
[null,""]
[null,""]
[null,""]
[null,""]
[null,""]
[null,""]
[null,""]
[null,""]
[null,""]
[null,""]
[null,""]
[null,""]
[null,""]
[null,""]
[null,""]
[null,""]
[null,""]
[null,""]
[null,""]
[null,""]
[null,""]
[null,""]
[null,""]
[null,""]
[null,""]
[null,""]
[null,""]
[null,""]
[null,""]
[null,""]
[null,""]
[null,""]
[null,""]
[null,{"$f":"IF(C3619=0,\"\",C3619-C3618)","v":""}]
[null,""]
[null,""]
[null,""]
[null,""]
[null,""]
[null,""]
[null,""]
[null,""]
[null,""]
[null,""]
[null,""]
[null,""]
[null,""]
[null,""]
[null,""]
[null,""]
[null,""]
[null,""]
[null,""]
[null,""]
[null,""]
[null,""]
[null,""]
[null,""]
[null,""]
[null,""]
[null,""]
[null,""]
[null,""]
[null,""]
[null,""]
[null,""]
[null,""]
[null,""]
[null,""]
[null,""]
[null,""]
[null,""]
[null,""]
[null,""]
[null,""]
[null,""]
[null,""]
[null,""]
[null,""]
[null,""]
[null,""]
[null,""]
[null,""]
[null,""]
[null,""]
[null,""]
[null,""]
[null,""]
[null,""]
[null,""]
[null,""]
[null,""]
[null,""]
[null,""]
[null,""]
[null,""]
[null,""]
[null,{"$f":"IF(C3683=0,\"\",C3683-C3682)","v":""}]
[null,""]
[null,""]
[null,""]
[null,""]
[null,""]
[null,""]
[null,""]
[null,""]
[null,""]
[null,""]
[null,""]
[null,""]
[null,""]
[null,""]
[null,""]
[null,""]
[null,""]
[null,""]
[null,""]
[null,""]
[null,""]
[null,""]
[null,""]
[null,""]
[null,""]
[null,""]
[null,""]
[null,""]
[null,""]
[null,""]
[null,""]
[null,""]
[null,""]
[null,""]
[null,""]
[null,""]
[null,""]
[null,""]
[null,""]
[null,""]
[null,""]
[null,""]
[null,""]
[null,""]
[null,""]
[null,""]
[null,""]
[null,""]
[null,""]
[null,""]
[null,""]
[null,""]
[null,""]
[null,""]
[null,""]
[null,""]
[null,""]
[null,""]
[null,""]
[null,""]
[null,""]
[null,""]
[null,""]
[null,{"$f":"IF(C3747=0,\"\",C3747-C3746)","v":""}]
[null,""]
[null,""]
[null,""]
[null,""]
[null,""]
[null,""]
[null,""]
[null,""]
[null,""]
[null,""]
[null,""]
[null,""]
[null,""]
[null,""]
[null,""]
[null,""]
[null,""]
[null,""]
[null,""]
[null,""]
[null,""]
[null,""]
[null,""]
[null,""]
[null,""]
[null,""]
[null,""]
[null,""]
[null,""]
[null,""]
[null,""]
[null,""]
[null,""]
[null,""]
[null,""]
[null,""]
[null,""]
[null,""]
[null,""]
[null,""]
[null,""]
[null,""]
[null,""]
[null,""]
[null,""]
[null,""]
[null,""]
[null,""]
[null,""]
[null,""]
[null,""]
[null,""]
[null,""]
[null,""]
[null,""]
[null,""]
[null,""]
[null,""]
[null,""]
[null,""]
[null,""]
[null,""]
[null,""]
[null,{"$f":"IF(C3811=0,\"\",C3811-C3810)","v":""}]
[null,""]
[null,""]
[null,""]
[null,""]
[null,""]
[null,""]
[null,""]
[null,""]
[null,""]
[null,""]
[null,""]
[null,""]
[null,""]
[null,""]
[null,""]
[null,""]
[null,""]
[null,""]
[null,""]
[null,""]
[null,""]
[null,""]
[null,""]
[null,""]
[null,""]
[null,""]
[null,""]
[null,""]
[null,""]
[null,""]
[null,""]
[null,""]
[null,""]
[null,""]
[null,""]
[null,""]
[null,""]
[null,""]
[null,""]
[null,""]
[null,""]
[null,""]
[null,""]
[null,""]
[null,""]
[null,""]
[null,""]
[null,""]
[null,""]
[null,""]
[null,""]
[null,""]
[null,""]
[null,""]
[null,""]
[null,""]
[null,""]
[null,""]
[null,""]
[null,""]
[null,""]
[null,""]
[null,""]
[null,{"$f":"IF(C3875=0,\"\",C3875-C3874)","v":""}]
[null,""]
[null,""]
[null,""]
[null,""]
[null,""]
[null,""]
[null,""]
[null,""]
[null,""]
[null,""]
[null,""]
[null,""]
[null,""]
[null,""]
[null,""]
[null,""]
[null,""]
[null,""]
[null,""]
[null,""]
[null,""]
[null,""]
[null,""]
[null,""]
[null,""]
[null,""]
[null,""]
[null,""]
[null,""]
[null,""]
[null,""]
[null,""]
[null,""]
[null,""]
[null,""]
[null,""]
[null,""]
[null,""]
[null,""]
[null,""]
[null,""]
[null,""]
[null,""]
[null,""]
[null,""]
[null,""]
[null,""]
[null,""]
[null,""]
[null,""]
[null,""]
[null,""]
[null,""]
[null,""]
[null,""]
[null,""]
[null,""]
[null,""]
[null,""]
[null,""]
[null,""]
[null,""]
[null,""]
[null,{"$f":"IF(C3939=0,\"\",C3939-C3938)","v":""}]
[null,""]
[null,""]
[null,""]
[null,""]
[null,""]
[null,""]
[null,""]
[null,""]
[null,""]
[null,""]
[null,""]
[null,""]
[null,""]
[null,""]
[null,""]
[null,""]
[null,""]
[null,""]
[null,""]
[null,""]
[null,""]
[null,""]
[null,""]
[null,""]
[null,""]
[null,""]
[null,""]
[null,""]
[null,""]
[null,""]
[null,""]
[null,""]
[null,""]
[null,""]
[null,""]
[null,""]
[null,""]
[null,""]
[null,""]
[null,""]
[null,""]
[null,""]
[null,""]
[null,""]
[null,""]
[null,""]
[null,""]
[null,""]
[null,""]
[null,""]
[null,""]
[null,""]
[null,""]
[null,""]
[null,""]
[null,""]
[null,""]
[null,""]
[null,""]
[null,""]
[null,""]
[null,""]
[null,""]
[null,{"$f":"IF(C4003=0,\"\",C4003-C4002)","v":""}]
[null,""]
[null,""]
[null,""]
[null,""]
[null,""]
[null,""]
[null,""]
[null,""]
[null,""]
[null,""]
[null,""]
[null,""]
[null,""]
[null,""]
[null,""]
[null,""]
[null,""]
[null,""]
[null,""]
[null,""]
[null,""]
[null,""]
[null,""]
[null,""]
[null,""]
[null,""]
[null,""]
[null,""]
[null,""]
[null,""]
[null,""]
[null,""]
[null,""]
[null,""]
[null,""]
[null,""]
[null,""]
[null,""]
[null,""]
[null,""]
[null,""]
[null,""]
[null,""]
[null,""]
[null,""]
[null,""]
[null,""]
[null,""]
[null,""]
[null,""]
[null,""]
[null,""]
[null,""]
[null,""]
[null,""]
[null,""]
[null,""]
[null,""]
[null,""]
[null,""]
[null,""]
[null,""]
[null,""]
[null,{"$f":"IF(C4067=0,\"\",C4067-C4066)","v":""}]
[null,""]
[null,""]
[null,""]
[null,""]
[null,""]
[null,""]
[null,""]
[null,""]
[null,""]
[null,""]
[null,""]
[null,""]
[null,""]
[null,""]
[null,""]
[null,""]
[null,""]
[null,""]
[null,""]
[null,""]
[null,""]
[null,""]
[null,""]
[null,""]
[null,""]
[null,""]
[null,""]
[null,""]
[null,""]
[null,""]
[null,""]
[null,""]
[null,""]
[null,""]
[null,""]
[null,""]
[null,""]
[null,""]
[null,""]
[null,""]
[null,""]
[null,""]
[null,""]
[null,""]
[null,""]
[null,""]
[null,""]
[null,""]
[null,""]
[null,""]
[null,""]
[null,""]
[null,""]
[null,""]
[null,""]
[null,""]
[null,""]
[null,""]
[null,""]
[null,""]
[null,""]
[null,""]
[null,""]
[null,{"$f":"IF(C4131=0,\"\",C4131-C4130)","v":""}]
[null,""]
[null,""]
[null,""]
[null,""]
[null,""]
[null,""]
[null,""]
[null,""]
[null,""]
[null,""]
[null,""]
[null,""]
[null,""]
[null,""]
[null,""]
[null,""]
[null,""]
[null,""]
[null,""]
[null,""]
[null,""]
[null,""]
[null,""]
[null,""]
[null,""]
[null,""]
[null,""]
[null,""]
[null,""]
[null,""]
[null,""]
[null,""]
[null,""]
[null,""]
[null,""]
[null,""]
[null,""]
[null,""]
[null,""]
[null,""]
[null,""]
[null,""]
[null,""]
[null,""]
[null,""]
[null,""]
[null,""]
[null,""]
[null,""]
[null,""]
[null,""]
[null,""]
[null,""]
[null,""]
[null,""]
[null,""]
[null,""]
[null,""]
[null,""]
[null,""]
[null,""]
[null,""]
[null,""]
[null,{"$f":"IF(C4195=0,\"\",C4195-C4194)","v":""}]
[null,""]
[null,""]
[null,""]
[null,""]
[null,""]
[null,""]
[null,""]
[null,""]
[null,""]
[null,""]
[null,""]
[null,""]
[null,""]
[null,""]
[null,""]
[null,""]
[null,""]
[null,""]
[null,""]
[null,""]
[null,""]
[null,""]
[null,""]
[null,""]
[null,""]
[null,""]
[null,""]
[null,""]
[null,""]
[null,""]
[null,""]
[null,""]
[null,""]
[null,""]
[null,""]
[null,""]
[null,""]
[null,""]
[null,""]
[null,""]
[null,""]
[null,""]
[null,""]
[null,""]
[null,""]
[null,""]
[null,""]
[null,""]
[null,""]
[null,""]
[null,""]
[null,""]
[null,""]
[null,""]
[null,""]
[null,""]
[null,""]
[null,""]
[null,""]
[null,""]
[null,""]
[null,""]
[null,""]
[null,{"$f":"IF(C4259=0,\"\",C4259-C4258)","v":""}]
[null,""]
[null,""]
[null,""]
[null,""]
[null,""]
[null,""]
[null,""]
[null,""]
[null,""]
[null,""]
[null,""]
[null,""]
[null,""]
[null,""]
[null,""]
[null,""]
[null,""]
[null,""]
[null,""]
[null,""]
[null,""]
[null,""]
[null,""]
[null,""]
[null,""]
[null,""]
[null,""]
[null,""]
[null,""]
[null,""]
[null,""]
[null,""]
[null,""]
[null,""]
[null,""]
[null,""]
[null,""]
[null,""]
[null,""]
[null,""]
[null,""]
[null,""]
[null,""]
[null,""]
[null,""]
[null,""]
[null,""]
[null,""]
[null,""]
[null,""]
[null,""]
[null,""]
[null,""]
[null,""]
[null,""]
[null,""]
[null,""]
[null,""]
[null,""]
[null,""]
[null,""]
[null,""]
[null,""]
[null,{"$f":"IF(C4323=0,\"\",C4323-C4322)","v":""}]
[null,""]
[null,""]
[null,""]
[null,""]
[null,""]
[null,""]
[null,""]
[null,""]
[null,""]
[null,""]
[null,""]
[null,""]
[null,""]
[null,""]
[null,""]
[null,""]
[null,""]
[null,""]
[null,""]
[null,""]
[null,""]
[null,""]
[null,""]
[null,""]
[null,""]
[null,""]
[null,""]
[null,""]
[null,""]
[null,""]
[null,""]
[null,""]
[null,""]
[null,""]
[null,""]
[null,""]
[null,""]
[null,""]
[null,""]
[null,""]
[null,""]
[null,""]
[null,""]
[null,""]
[null,""]
[null,""]
[null,""]
[null,""]
[null,""]
[null,""]
[null,""]
[null,""]
[null,""]
[null,""]
[null,""]
[null,""]
[null,""]
[null,""]
[null,""]
[null,""]
[null,""]
[null,""]
[null,""]
[null,{"$f":"IF(C4387=0,\"\",C4387-C4386)","v":""}]
[null,""]
[null,""]
[null,""]
[null,""]
[null,""]
[null,""]
[null,""]
[null,""]
[null,""]
[null,""]
[null,""]
[null,""]
[null,""]
[null,""]
[null,""]
[null,""]
[null,""]
[null,""]
[null,""]
[null,""]
[null,""]
[null,""]
[null,""]
[null,""]
[null,""]
[null,""]
[null,""]
[null,""]
[null,""]
[null,""]
[null,""]
[null,""]
[null,""]
[null,""]
[null,""]
[null,""]
[null,""]
[null,""]
[null,""]
[null,""]
[null,""]
[null,""]
[null,""]
[null,""]
[null,""]
[null,""]
[null,""]
[null,""]
[null,""]
[null,""]
[null,""]
[null,""]
[null,""]
[null,""]
[null,""]
[null,""]
[null,""]
[null,""]
[null,""]
[null,""]
[null,""]
[null,""]
[null,""]
[null,{"$f":"IF(C4451=0,\"\",C4451-C4450)","v":""}]
[null,""]
[null,""]
[null,""]
[null,""]
[null,""]
[null,""]
[null,""]
[null,""]
[null,""]
[null,""]
[null,""]
[null,""]
[null,""]
[null,""]
[null,""]
[null,""]
[null,""]
[null,""]
[null,""]
[null,""]
[null,""]
[null,""]
[null,""]
[null,""]
[null,""]
[null,""]
[null,""]
[null,""]
[null,""]
[null,""]
[null,""]
[null,""]
[null,""]
[null,""]
[null,""]
[null,""]
[null,""]
[null,""]
[null,""]
[null,""]
[null,""]
[null,""]
[null,""]
[null,""]
[null,""]
[null,""]
[null,""]
[null,""]
[null,""]
[null,""]
[null,""]
[null,""]
[null,""]
[null,""]
[null,""]
[null,""]
[null,""]
[null,""]
[null,""]
[null,""]
[null,""]
[null,""]
[null,""]
[null,{"$f":"IF(C4515=0,\"\",C4515-C4514)","v":""}]
[null,""]
[null,""]
[null,""]
[null,""]
[null,""]
[null,""]
[null,""]
[null,""]
[null,""]
[null,""]
[null,""]
[null,""]
[null,""]
[null,""]
[null,""]
[null,""]
[null,""]
[null,""]
[null,""]
[null,""]
[null,""]
[null,""]
[null,""]
[null,""]
[null,""]
[null,""]
[null,""]
[null,""]
[null,""]
[null,""]
[null,""]
[null,""]
[null,""]
[null,""]
[null,""]
[null,""]
[null,""]
[null,""]
[null,""]
[null,""]
[null,""]
[null,""]
[null,""]
[null,""]
[null,""]
[null,""]
[null,""]
[null,""]
[null,""]
[null,""]
[null,""]
[null,""]
[null,""]
[null,""]
[null,""]
[null,""]
[null,""]
[null,""]
[null,""]
[null,""]
[null,""]
[null,""]
[null,""]
[null,{"$f":"IF(C4579=0,\"\",C4579-C4578)","v":""}]
[null,""]
[null,""]
[null,""]
[null,""]
[null,""]
[null,""]
[null,""]
[null,""]
[null,""]
[null,""]
[null,""]
[null,""]
[null,""]
[null,""]
[null,""]
[null,""]
[null,""]
[null,""]
[null,""]
[null,""]
[null,""]
[null,""]
[null,""]
[null,""]
[null,""]
[null,""]
[null,""]
[null,""]
[null,""]
[null,""]
[null,""]
[null,""]
[null,""]
[null,""]
[null,""]
[null,""]
[null,""]
[null,""]
[null,""]
[null,""]
[null,""]
[null,""]
[null,""]
[null,""]
[null,""]
[null,""]
[null,""]
[null,""]
[null,""]
[null,""]
[null,""]
[null,""]
[null,""]
[null,""]
[null,""]
[null,""]
[null,""]
[null,""]
[null,""]
[null,""]
[null,""]
[null,""]
[null,""]
[null,{"$f":"IF(C4643=0,\"\",C4643-C4642)","v":""}]
[null,""]
[null,""]
[null,""]
[null,""]
[null,""]
[null,""]
[null,""]
[null,""]
[null,""]
[null,""]
[null,""]
[null,""]
[null,""]
[null,""]
[null,""]
[null,""]
[null,""]
[null,""]
[null,""]
[null,""]
[null,""]
[null,""]
[null,""]
[null,""]
[null,""]
[null,""]
[null,""]
[null,""]
[null,""]
[null,""]
[null,""]
[null,""]
[null,""]
[null,""]
[null,""]
[null,""]
[null,""]
[null,""]
[null,""]
[null,""]
[null,""]
[null,""]
[null,""]
[null,""]
[null,""]
[null,""]
[null,""]
[null,""]
[null,""]
[null,""]
[null,""]
[null,""]
[null,""]
[null,""]
[null,""]
[null,""]
[null,""]
[null,""]
[null,""]
[null,""]
[null,""]
[null,""]
[null,""]
[null,{"$f":"IF(C4707=0,\"\",C4707-C4706)","v":""}]
[null,""]
[null,""]
[null,""]
[null,""]
[null,""]
[null,""]
[null,""]
[null,""]
[null,""]
[null,""]
[null,""]
[null,""]
[null,""]
[null,""]
[null,""]
[null,""]
[null,""]
[null,""]
[null,""]
[null,""]
[null,""]
[null,""]
[null,""]
[null,""]
[null,""]
[null,""]
[null,""]
[null,""]
[null,""]
[null,""]
[null,""]
[null,""]
[null,""]
[null,""]
[null,""]
[null,""]
[null,""]
[null,""]
[null,""]
[null,""]
[null,""]
[null,""]
[null,""]
[null,""]
[null,""]
[null,""]
[null,""]
[null,""]
[null,""]
[null,""]
[null,""]
[null,""]
[null,""]
[null,""]
[null,""]
[null,""]
[null,""]
[null,""]
[null,""]
[null,""]
[null,""]
[null,""]
[null,""]
[null,{"$f":"IF(C4771=0,\"\",C4771-C4770)","v":""}]
[null,""]
[null,""]
[null,""]
[null,""]
[null,""]
[null,""]
[null,""]
[null,""]
[null,""]
[null,""]
[null,""]
[null,""]
[null,""]
[null,""]
[null,""]
[null,""]
[null,""]
[null,""]
[null,""]
[null,""]
[null,""]
[null,""]
[null,""]
[null,""]
[null,""]
[null,""]
[null,""]
[null,""]
[null,""]
[null,""]
[null,""]
[null,""]
[null,""]
[null,""]
[null,""]
[null,""]
[null,""]
[null,""]
[null,""]
[null,""]
[null,""]
[null,""]
[null,""]
[null,""]
[null,""]
[null,""]
[null,""]
[null,""]
[null,""]
[null,""]
[null,""]
[null,""]
[null,""]
[null,""]
[null,""]
[null,""]
[null,""]
[null,""]
[null,""]
[null,""]
[null,""]
[null,""]
[null,""]
[null,{"$f":"IF(C4835=0,\"\",C4835-C4834)","v":""}]
[null,""]
[null,""]
[null,""]
[null,""]
[null,""]
[null,""]
[null,""]
[null,""]
[null,""]
[null,""]
[null,""]
[null,""]
[null,""]
[null,""]
[null,""]
[null,""]
[null,""]
[null,""]
[null,""]
[null,""]
[null,""]
[null,""]
[null,""]
[null,""]
[null,""]
[null,""]
[null,""]
[null,""]
[null,""]
[null,""]
[null,""]
[null,""]
[null,""]
[null,""]
[null,""]
[null,""]
[null,""]
[null,""]
[null,""]
[null,""]
[null,""]
[null,""]
[null,""]
[null,""]
[null,""]
[null,""]
[null,""]
[null,""]
[null,""]
[null,""]
[null,""]
[null,""]
[null,""]
[null,""]
[null,""]
[null,""]
[null,""]
[null,""]
[null,""]
[null,""]
[null,""]
[null,""]
[null,""]
[null,{"$f":"IF(C4899=0,\"\",C4899-C4898)","v":""}]
[null,""]
[null,""]
[null,""]
[null,""]
[null,""]
[null,""]
[null,""]
[null,""]
[null,""]
[null,""]
[null,""]
[null,""]
[null,""]
[null,""]
[null,""]
[null,""]
[null,""]
[null,""]
[null,""]
[null,""]
[null,""]
[null,""]
[null,""]
[null,""]
[null,""]
[null,""]
[null,""]
[null,""]
[null,""]
[null,""]
[null,""]
[null,""]
[null,""]
[null,""]
[null,""]
[null,""]
[null,""]
[null,""]
[null,""]
[null,""]
[null,""]
[null,""]
[null,""]
[null,""]
[null,""]
[null,""]
[null,""]
[null,""]
[null,""]
[null,""]
[null,""]
[null,""]
[null,""]
[null,""]
[null,""]
[null,""]
[null,""]
[null,""]
[null,""]
[null,""]
[null,""]
[null,""]
[null,""]
[null,{"$f":"IF(C4963=0,\"\",C4963-C4962)","v":""}]
[null,""]
[null,""]
[null,""]
[null,""]
[null,""]
[null,""]
[null,""]
[null,""]
[null,""]
[null,""]
[null,""]
[null,""]
[null,""]
[null,""]
[null,""]
[null,""]
[null,""]
[null,""]
[null,""]
[null,""]
[null,""]
[null,""]
[null,""]
[null,""]
[null,""]
[null,""]
[null,""]
[null,""]
[null,""]
[null,""]
[null,""]
[null,""]
[null,""]
[null,""]
[null,""]
[null,""]
[null,""]
[null,""]
[null,""]
[null,""]
[null,""]
[null,""]
[null,""]
[null,""]
[null,""]
[null,""]
[null,""]
[null,""]
[null,""]
[null,""]
[null,""]
[null,""]
[null,""]
[null,""]
[null,""]
[null,""]
[null,""]
[null,""]
[null,""]
[null,""]
[null,""]
[null,""]
[null,""]
[null,{"$f":"IF(C5027=0,\"\",C5027-C5026)","v":""}]
[null,""]
[null,""]
[null,""]
[null,""]
[null,""]
[null,""]
[null,""]
[null,""]
[null,""]
[null,""]
[null,""]
[null,""]
[null,""]
[null,""]
[null,""]
[null,""]
[null,""]
[null,""]
[null,""]
[null,""]
[null,""]
[null,""]
[null,""]
[null,""]
[null,""]
[null,""]
[null,""]
[null,""]
[null,""]
[null,""]
[null,""]
[null,""]
[null,""]
[null,""]
[null,""]
[null,""]
[null,""]
[null,""]
[null,""]
[null,""]
[null,""]
[null,""]
[null,""]
[null,""]
[null,""]
[null,""]
[null,""]
[null,""]
[null,""]
[null,""]
[null,""]
[null,""]
[null,""]
[null,""]
[null,""]
[null,""]
[null,""]
[null,""]
[null,""]
[null,""]
[null,""]
[null,""]
[null,""]
[null,{"$f":"IF(C5091=0,\"\",C5091-C5090)","v":""}]
[null,""]
[null,""]
[null,""]
[null,""]
[null,""]
[null,""]
[null,""]
[null,""]
[null,""]
[null,""]
[null,""]
[null,""]
[null,""]
[null,""]
[null,""]
[null,""]
[null,""]
[null,""]
[null,""]
[null,""]
[null,""]
[null,""]
[null,""]
[null,""]
[null,""]
[null,""]
[null,""]
[null,""]
[null,""]
[null,""]
[null,""]
[null,""]
[null,""]
[null,""]
[null,""]
[null,""]
[null,""]
[null,""]
[null,""]
[null,""]
[null,""]
[null,""]
[null,""]
[null,""]
[null,""]
[null,""]
[null,""]
[null,""]
[null,""]
[null,""]
[null,""]
[null,""]
[null,""]
[null,""]
[null,""]
[null,""]
[null,""]
[null,""]
[null,""]
[null,""]
[null,""]
[null,""]
[null,""]
[null,{"$f":"IF(C5155=0,\"\",C5155-C5154)","v":""}]
[null,""]
[null,""]
[null,""]
[null,""]
[null,""]
[null,""]
[null,""]
[null,""]
[null,""]
[null,""]
[null,""]
[null,""]
[null,""]
[null,""]
[null,""]
[null,""]
[null,""]
[null,""]
[null,""]
[null,""]
[null,""]
[null,""]
[null,""]
[null,""]
[null,""]
[null,""]
[null,""]
[null,""]
[null,""]
[null,""]
[null,""]
[null,""]
[null,""]
[null,""]
[null,""]
[null,""]
[null,""]
[null,""]
[null,""]
[null,""]
[null,""]
[null,""]
[null,""]
[null,""]
[null,""]
[null,""]
[null,""]
[null,""]
[null,""]
[null,""]
[null,""]
[null,""]
[null,""]
[null,""]
[null,""]
[null,""]
[null,""]
[null,""]
[null,""]
[null,""]
[null,""]
[null,""]
[null,""]
[null,{"$f":"IF(C5219=0,\"\",C5219-C5218)","v":""}]
[null,""]
[null,""]
[null,""]
[null,""]
[null,""]
[null,""]
[null,""]
[null,""]
[null,""]
[null,""]
[null,""]
[null,""]
[null,""]
[null,""]
[null,""]
[null,""]
[null,""]
[null,""]
[null,""]
[null,""]
[null,""]
[null,""]
[null,""]
[null,""]
[null,""]
[null,""]
[null,""]
[null,""]
[null,""]
[null,""]
[null,""]
[null,""]
[null,""]
[null,""]
[null,""]
[null,""]
[null,""]
[null,""]
[null,""]
[null,""]
[null,""]
[null,""]
[null,""]
[null,""]
[null,""]
[null,""]
[null,""]
[null,""]
[null,""]
[null,""]
[null,""]
[null,""]
[null,""]
[null,""]
[null,""]
[null,""]
[null,""]
[null,""]
[null,""]
[null,""]
[null,""]
[null,""]
[null,""]
[null,{"$f":"IF(C5283=0,\"\",C5283-C5282)","v":""}]
[null,""]
[null,""]
[null,""]
[null,""]
[null,""]
[null,""]
[null,""]
[null,""]
[null,""]
[null,""]
[null,""]
[null,""]
[null,""]
[null,""]
[null,""]
[null,""]
[null,""]
[null,""]
[null,""]
[null,""]
[null,""]
[null,""]
[null,""]
[null,""]
[null,""]
[null,""]
[null,""]
[null,""]
[null,""]
[null,""]
[null,""]
[null,""]
[null,""]
[null,""]
[null,""]
[null,""]
[null,""]
[null,""]
[null,""]
[null,""]
[null,""]
[null,""]
[null,""]
[null,""]
[null,""]
[null,""]
[null,""]
[null,""]
[null,""]
[null,""]
[null,""]
[null,""]
[null,""]
[null,""]
[null,""]
[null,""]
[null,""]
[null,""]
[null,""]
[null,""]
[null,""]
[null,""]
[null,""]
[null,{"$f":"IF(C5347=0,\"\",C5347-C5346)","v":""}]
[null,""]
[null,""]
[null,""]
[null,""]
[null,""]
[null,""]
[null,""]
[null,""]
[null,""]
[null,""]
[null,""]
[null,""]
[null,""]
[null,""]
[null,""]
[null,""]
[null,""]
[null,""]
[null,""]
[null,""]
[null,""]
[null,""]
[null,""]
[null,""]
[null,""]
[null,""]
[null,""]
[null,""]
[null,""]
[null,""]
[null,""]
[null,""]
[null,""]
[null,""]
[null,""]
[null,""]
[null,""]
[null,""]
[null,""]
[null,""]
[null,""]
[null,""]
[null,""]
[null,""]
[null,""]
[null,""]
[null,""]
[null,""]
[null,""]
[null,""]
[null,""]
[null,""]
[null,""]
[null,""]
[null,""]
[null,""]
[null,""]
[null,""]
[null,""]
[null,""]
[null,""]
[null,""]
[null,""]
[null,{"$f":"IF(C5411=0,\"\",C5411-C5410)","v":""}]
[null,""]
[null,""]
[null,""]
[null,""]
[null,""]
[null,""]
[null,""]
[null,""]
[null,""]
[null,""]
[null,""]
[null,""]
[null,""]
[null,""]
[null,""]
[null,""]
[null,""]
[null,""]
[null,""]
[null,""]
[null,""]
[null,""]
[null,""]
[null,""]
[null,""]
[null,""]
[null,""]
[null,""]
[null,""]
[null,""]
[null,""]
[null,""]
[null,""]
[null,""]
[null,""]
[null,""]
[null,""]
[null,""]
[null,""]
[null,""]
[null,""]
[null,""]
[null,""]
[null,""]
[null,""]
[null,""]
[null,""]
[null,""]
[null,""]
[null,""]
[null,""]
[null,""]
[null,""]
[null,""]
[null,""]
[null,""]
[null,""]
[null,""]
[null,""]
[null,""]
[null,""]
[null,""]
[null,""]
[null,{"$f":"IF(C5475=0,\"\",C5475-C5474)","v":""}]
[null,""]
[null,""]
[null,""]
[null,""]
[null,""]
[null,""]
[null,""]
[null,""]
[null,""]
[null,""]
[null,""]
[null,""]
[null,""]
[null,""]
[null,""]
[null,""]
[null,""]
[null,""]
[null,""]
[null,""]
[null,""]
[null,""]
[null,""]
[null,""]
[null,""]
[null,""]
[null,""]
[null,""]
[null,""]
[null,""]
[null,""]
[null,""]
[null,""]
[null,""]
[null,""]
[null,""]
[null,""]
[null,""]
[null,""]
[null,""]
[null,""]
[null,""]
[null,""]
[null,""]
[null,""]
[null,""]
[null,""]
[null,""]
[null,""]
[null,""]
[null,""]
[null,""]
[null,""]
[null,""]
[null,""]
[null,""]
[null,""]
[null,""]
[null,""]
[null,""]
[null,""]
[null,""]
[null,""]
[null,{"$f":"IF(C5539=0,\"\",C5539-C5538)","v":""}]
[null,""]
[null,""]
[null,""]
[null,""]
[null,""]
[null,""]
[null,""]
[null,""]
[null,""]
[null,""]
[null,""]
[null,""]
[null,""]
[null,""]
[null,""]
[null,""]
[null,""]
[null,""]
[null,""]
[null,""]
[null,""]
[null,""]
[null,""]
[null,""]
[null,""]
[null,""]
[null,""]
[null,""]
[null,""]
[null,""]
[null,""]
[null,""]
[null,""]
[null,""]
[null,""]
[null,""]
[null,""]
[null,""]
[null,""]
[null,""]
[null,""]
[null,""]
[null,""]
[null,""]
[null,""]
[null,""]
[null,""]
[null,""]
[null,""]
[null,""]
[null,""]
[null,""]
[null,""]
[null,""]
[null,""]
[null,""]
[null,""]
[null,""]
[null,""]
[null,""]
[null,""]
[null,""]
[null,""]
[null,{"$f":"IF(C5603=0,\"\",C5603-C5602)","v":""}]
[null,""]
[null,""]
[null,""]
[null,""]
[null,""]
[null,""]
[null,""]
[null,""]
[null,""]
[null,""]
[null,""]
[null,""]
[null,""]
[null,""]
[null,""]
[null,""]
[null,""]
[null,""]
[null,""]
[null,""]
[null,""]
[null,""]
[null,""]
[null,""]
[null,""]
[null,""]
[null,""]
[null,""]
[null,""]
[null,""]
[null,""]
[null,""]
[null,""]
[null,""]
[null,""]
[null,""]
[null,""]
[null,""]
[null,""]
[null,""]
[null,""]
[null,""]
[null,""]
[null,""]
[null,""]
[null,""]
[null,""]
[null,""]
[null,""]
[null,""]
[null,""]
[null,""]
[null,""]
[null,""]
[null,""]
[null,""]
[null,""]
[null,""]
[null,""]
[null,""]
[null,""]
[null,""]
[null,""]
[null,{"$f":"IF(C5667=0,\"\",C5667-C5666)","v":""}]
[null,""]
[null,""]
[null,""]
[null,""]
[null,""]
[null,""]
[null,""]
[null,""]
[null,""]
[null,""]
[null,""]
[null,""]
[null,""]
[null,""]
[null,""]
[null,""]
[null,""]
[null,""]
[null,""]
[null,""]
[null,""]
[null,""]
[null,""]
[null,""]
[null,""]
[null,""]
[null,""]
[null,""]
[null,""]
[null,""]
[null,""]
[null,""]
[null,""]
[null,""]
[null,""]
[null,""]
[null,""]
[null,""]
[null,""]
[null,""]
[null,""]
[null,""]
[null,""]
[null,""]
[null,""]
[null,""]
[null,""]
[null,""]
[null,""]
[null,""]
[null,""]
[null,""]
[null,""]
[null,""]
[null,""]
[null,""]
[null,""]
[null,""]
[null,""]
[null,""]
[null,""]
[null,""]
[null,""]
[null,{"$f":"IF(C5731=0,\"\",C5731-C5730)","v":""}]
[null,""]
[null,""]
[null,""]
[null,""]
[null,""]
[null,""]
[null,""]
[null,""]
[null,""]
[null,""]
[null,""]
[null,""]
[null,""]
[null,""]
[null,""]
[null,""]
[null,""]
[null,""]
[null,""]
[null,""]
[null,""]
[null,""]
[null,""]
[null,""]
[null,""]
[null,""]
[null,""]
[null,""]
[null,""]
[null,""]
[null,""]
[null,""]
[null,""]
[null,""]
[null,""]
[null,""]
[null,""]
[null,""]
[null,""]
[null,""]
[null,""]
[null,""]
[null,""]
[null,""]
[null,""]
[null,""]
[null,""]
[null,""]
[null,""]
[null,""]
[null,""]
[null,""]
[null,""]
[null,""]
[null,""]
[null,""]
[null,""]
[null,""]
[null,""]
[null,""]
[null,""]
[null,""]
[null,""]
[null,{"$f":"IF(C5795=0,\"\",C5795-C5794)","v":""}]
[null,""]
[null,""]
[null,""]
[null,""]
[null,""]
[null,""]
[null,""]
[null,""]
[null,""]
[null,""]
[null,""]
[null,""]
[null,""]
[null,""]
[null,""]
[null,""]
[null,""]
[null,""]
[null,""]
[null,""]
[null,""]
[null,""]
[null,""]
[null,""]
[null,""]
[null,""]
[null,""]
[null,""]
[null,""]
[null,""]
[null,""]
[null,""]
[null,""]
[null,""]
[null,""]
[null,""]
[null,""]
[null,""]
[null,""]
[null,""]
[null,""]
[null,""]
[null,""]
[null,""]
[null,""]
[null,""]
[null,""]
[null,""]
[null,""]
[null,""]
[null,""]
[null,""]
[null,""]
[null,""]
[null,""]
[null,""]
[null,""]
[null,""]
[null,""]
[null,""]
[null,""]
[null,""]
[null,""]
[null,{"$f":"IF(C5859=0,\"\",C5859-C5858)","v":""}]
[null,""]
[null,""]
[null,""]
[null,""]
[null,""]
[null,""]
[null,""]
[null,""]
[null,""]
[null,""]
[null,""]
[null,""]
[null,""]
[null,""]
[null,""]
[null,""]
[null,""]
[null,""]
[null,""]
[null,""]
[null,""]
[null,""]
[null,""]
[null,""]
[null,""]
[null,""]
[null,""]
[null,""]
[null,""]
[null,""]
[null,""]
[null,""]
[null,""]
[null,""]
[null,""]
[null,""]
[null,""]
[null,""]
[null,""]
[null,""]
[null,""]
[null,""]
[null,""]
[null,""]
[null,""]
[null,""]
[null,""]
[null,""]
[null,""]
[null,""]
[null,""]
[null,""]
[null,""]
[null,""]
[null,""]
[null,""]
[null,""]
[null,""]
[null,""]
[null,""]
[null,""]
[null,""]
[null,""]
[null,{"$f":"IF(C5923=0,\"\",C5923-C5922)","v":""}]
[null,""]
[null,""]
[null,""]
[null,""]
[null,""]
[null,""]
[null,""]
[null,""]
[null,""]
[null,""]
[null,""]
[null,""]
[null,""]
[null,""]
[null,""]
[null,""]
[null,""]
[null,""]
[null,""]
[null,""]
[null,""]
[null,""]
[null,""]
[null,""]
[null,""]
[null,""]
[null,""]
[null,""]
[null,""]
[null,""]
[null,""]
[null,""]
[null,""]
[null,""]
[null,""]
[null,""]
[null,""]
[null,""]
[null,""]
[null,""]
[null,""]
[null,""]
[null,""]
[null,""]
[null,""]
[null,""]
[null,""]
[null,""]
[null,""]
[null,""]
[null,""]
[null,""]
[null,""]
[null,""]
[null,""]
[null,""]
[null,""]
[null,""]
[null,""]
[null,""]
[null,""]
[null,""]
[null,""]
[null,{"$f":"IF(C5987=0,\"\",C5987-C5986)","v":""}]
[null,""]
[null,""]
[null,""]
[null,""]
[null,""]
[null,""]
[null,""]
[null,""]
[null,""]
[null,""]
[null,""]
[null,""]
[null,""]
[null,""]
[null,""]
[null,""]
[null,""]
[null,""]
[null,""]
[null,""]
[null,""]
[null,""]
[null,""]
[null,""]
[null,""]
[null,""]
[null,""]
[null,""]
[null,""]
[null,""]
[null,""]
[null,""]
[null,""]
[null,""]
[null,""]
[null,""]
[null,""]
[null,""]
[null,""]
[null,""]
[null,""]
[null,""]
[null,""]
[null,""]
[null,""]
[null,""]
[null,""]
[null,""]
[null,""]
[null,""]
[null,""]
[null,""]
[null,""]
[null,""]
[null,""]
[null,""]
[null,""]
[null,""]
[null,""]
[null,""]
[null,""]
[null,""]
[null,""]
[null,{"$f":"IF(C6051=0,\"\",C6051-C6050)","v":""}]
[null,""]
[null,""]
[null,""]
[null,""]
[null,""]
[null,""]
[null,""]
[null,""]
[null,""]
[null,""]
[null,""]
[null,""]
[null,""]
[null,""]
[null,""]
[null,""]
[null,""]
[null,""]
[null,""]
[null,""]
[null,""]
[null,""]
[null,""]
[null,""]
[null,""]
[null,""]
[null,""]
[null,""]
[null,""]
[null,""]
[null,""]
[null,""]
[null,""]
[null,""]
[null,""]
[null,""]
[null,""]
[null,""]
[null,""]
[null,""]
[null,""]
[null,""]
[null,""]
[null,""]
[null,""]
[null,""]
[null,""]
[null,""]
[null,""]
[null,""]
[null,""]
[null,""]
[null,""]
[null,""]
[null,""]
[null,""]
[null,""]
[null,""]
[null,""]
[null,""]
[null,""]
[null,""]
[null,""]
[null,{"$f":"IF(C6115=0,\"\",C6115-C6114)","v":""}]
[null,""]
[null,""]
[null,""]
[null,""]
[null,""]
[null,""]
[null,""]
[null,""]
[null,""]
[null,""]
[null,""]
[null,""]
[null,""]
[null,""]
[null,""]
[null,""]
[null,""]
[null,""]
[null,""]
[null,""]
[null,""]
[null,""]
[null,""]
[null,""]
[null,""]
[null,""]
[null,""]
[null,""]
[null,""]
[null,""]
[null,""]
[null,""]
[null,""]
[null,""]
[null,""]
[null,""]
[null,""]
[null,""]
[null,""]
[null,""]
[null,""]
[null,""]
[null,""]
[null,""]
[null,""]
[null,""]
[null,""]
[null,""]
[null,""]
[null,""]
[null,""]
[null,""]
[null,""]
[null,""]
[null,""]
[null,""]
[null,""]
[null,""]
[null,""]
[null,""]
[null,""]
[null,""]
[null,""]
[null,{"$f":"IF(C6179=0,\"\",C6179-C6178)","v":""}]
[null,""]
[null,""]
[null,""]
[null,""]
[null,""]
[null,""]
[null,""]
[null,""]
[null,""]
[null,""]
[null,""]
[null,""]
[null,""]
[null,""]
[null,""]
[null,""]
[null,""]
[null,""]
[null,""]
[null,""]
[null,""]
[null,""]
[null,""]
[null,""]
[null,""]
[null,""]
[null,""]
[null,""]
[null,""]
[null,""]
[null,""]
[null,""]
[null,""]
[null,""]
[null,""]
[null,""]
[null,""]
[null,""]
[null,""]
[null,""]
[null,""]
[null,""]
[null,""]
[null,""]
[null,""]
[null,""]
[null,""]
[null,""]
[null,""]
[null,""]
[null,""]
[null,""]
[null,""]
[null,""]
[null,""]
[null,""]
[null,""]
[null,""]
[null,""]
[null,""]
[null,""]
[null,""]
[null,""]
[null,{"$f":"IF(C6243=0,\"\",C6243-C6242)","v":""}]
[null,""]
[null,""]
[null,""]
[null,""]
[null,""]
[null,""]
[null,""]
[null,""]
[null,""]
[null,""]
[null,""]
[null,""]
[null,""]
[null,""]
[null,""]
[null,""]
[null,""]
[null,""]
[null,""]
[null,""]
[null,""]
[null,""]
[null,""]
[null,""]
[null,""]
[null,""]
[null,""]
[null,""]
[null,""]
[null,""]
[null,""]
[null,""]
[null,""]
[null,""]
[null,""]
[null,""]
[null,""]
[null,""]
[null,""]
[null,""]
[null,""]
[null,""]
[null,""]
[null,""]
[null,""]
[null,""]
[null,""]
[null,""]
[null,""]
[null,""]
[null,""]
[null,""]
[null,""]
[null,""]
[null,""]
[null,""]
[null,""]
[null,""]
[null,""]
[null,""]
[null,""]
[null,""]
[null,""]
[null,{"$f":"IF(C6307=0,\"\",C6307-C6306)","v":""}]
[null,""]
[null,""]
[null,""]
[null,""]
[null,""]
[null,""]
[null,""]
[null,""]
[null,""]
[null,""]
[null,""]
[null,""]
[null,""]
[null,""]
[null,""]
[null,""]
[null,""]
[null,""]
[null,""]
[null,""]
[null,""]
[null,""]
[null,""]
[null,""]
[null,""]
[null,""]
[null,""]
[null,""]
[null,""]
[null,""]
[null,""]
[null,""]
[null,""]
[null,""]
[null,""]
[null,""]
[null,""]
[null,""]
[null,""]
[null,""]
[null,""]
[null,""]
[null,""]
[null,""]
[null,""]
[null,""]
[null,""]
[null,""]
[null,""]
[null,""]
[null,""]
[null,""]
[null,""]
[null,""]
[null,""]
[null,""]
[null,""]
[null,""]
[null,""]
[null,""]
[null,""]
[null,""]
[null,""]
[null,{"$f":"IF(C6371=0,\"\",C6371-C6370)","v":""}]
[null,""]
[null,""]
[null,""]
[null,""]
[null,""]
[null,""]
[null,""]
[null,""]
[null,""]
[null,""]
[null,""]
[null,""]
[null,""]
[null,""]
[null,""]
[null,""]
[null,""]
[null,""]
[null,""]
[null,""]
[null,""]
[null,""]
[null,""]
[null,""]
[null,""]
[null,""]
[null,""]
[null,""]
[null,""]
[null,""]
[null,""]
[null,""]
[null,""]
[null,""]
[null,""]
[null,""]
[null,""]
[null,""]
[null,""]
[null,""]
[null,""]
[null,""]
[null,""]
[null,""]
[null,""]
[null,""]
[null,""]
[null,""]
[null,""]
[null,""]
[null,""]
[null,""]
[null,""]
[null,""]
[null,""]
[null,""]
[null,""]
[null,""]
[null,""]
[null,""]
[null,""]
[null,""]
[null,""]
[null,{"$f":"IF(C6435=0,\"\",C6435-C6434)","v":""}]
[null,""]
[null,""]
[null,""]
[null,""]
[null,""]
[null,""]
[null,""]
[null,""]
[null,""]
[null,""]
[null,""]
[null,""]
[null,""]
[null,""]
[null,""]
[null,""]
[null,""]
[null,""]
[null,""]
[null,""]
[null,""]
[null,""]
[null,""]
[null,""]
[null,""]
[null,""]
[null,""]
[null,""]
[null,""]
[null,""]
[null,""]
[null,""]
[null,""]
[null,""]
[null,""]
[null,""]
[null,""]
[null,""]
[null,""]
[null,""]
[null,""]
[null,""]
[null,""]
[null,""]
[null,""]
[null,""]
[null,""]
[null,""]
[null,""]
[null,""]
[null,""]
[null,""]
[null,""]
[null,""]
[null,""]
[null,""]
[null,""]
[null,""]
[null,""]
[null,""]
[null,""]
[null,""]
[null,""]
[null,{"$f":"IF(C6499=0,\"\",C6499-C6498)","v":""}]
[null,""]
[null,""]
[null,""]
[null,""]
[null,""]
[null,""]
[null,""]
[null,""]
[null,""]
[null,""]
[null,""]
[null,""]
[null,""]
[null,""]
[null,""]
[null,""]
[null,""]
[null,""]
[null,""]
[null,""]
[null,""]
[null,""]
[null,""]
[null,""]
[null,""]
[null,""]
[null,""]
[null,""]
[null,""]
[null,""]
[null,""]
[null,""]
[null,""]
[null,""]
[null,""]
[null,""]
[null,""]
[null,""]
[null,""]
[null,""]
[null,""]
[null,""]
[null,""]
[null,""]
[null,""]
[null,""]
[null,""]
[null,""]
[null,""]
[null,""]
[null,""]
[null,""]
[null,""]
[null,""]
[null,""]
[null,""]
[null,""]
[null,""]
[null,""]
[null,""]
[null,""]
[null,""]
[null,""]
[null,{"$f":"IF(C6563=0,\"\",C6563-C6562)","v":""}]
[null,""]
[null,""]
[null,""]
[null,""]
[null,""]
[null,""]
[null,""]
[null,""]
[null,""]
[null,""]
[null,""]
[null,""]
[null,""]
[null,""]
[null,""]
[null,""]
[null,""]
[null,""]
[null,""]
[null,""]
[null,""]
[null,""]
[null,""]
[null,""]
[null,""]
[null,""]
[null,""]
[null,""]
[null,""]
[null,""]
[null,""]
[null,""]
[null,""]
[null,""]
[null,""]
[null,""]
[null,""]
[null,""]
[null,""]
[null,""]
[null,""]
[null,""]
[null,""]
[null,""]
[null,""]
[null,""]
[null,""]
[null,""]
[null,""]
[null,""]
[null,""]
[null,""]
[null,""]
[null,""]
[null,""]
[null,""]
[null,""]
[null,""]
[null,""]
[null,""]
[null,""]
[null,""]
[null,""]
[null,{"$f":"IF(C6627=0,\"\",C6627-C6626)","v":""}]
[null,""]
[null,""]
[null,""]
[null,""]
[null,""]
[null,""]
[null,""]
[null,""]
[null,""]
[null,""]
[null,""]
[null,""]
[null,""]
[null,""]
[null,""]
[null,""]
[null,""]
[null,""]
[null,""]
[null,""]
[null,""]
[null,""]
[null,""]
[null,""]
[null,""]
[null,""]
[null,""]
[null,""]
[null,""]
[null,""]
[null,""]
[null,""]
[null,""]
[null,""]
[null,""]
[null,""]
[null,""]
[null,""]
[null,""]
[null,""]
[null,""]
[null,""]
[null,""]
[null,""]
[null,""]
[null,""]
[null,""]
[null,""]
[null,""]
[null,""]
[null,""]
[null,""]
[null,""]
[null,""]
[null,""]
[null,""]
[null,""]
[null,""]
[null,""]
[null,""]
[null,""]
[null,""]
[null,""]
[null,{"$f":"IF(C6691=0,\"\",C6691-C6690)","v":""}]
[null,""]
[null,""]
[null,""]
[null,""]
[null,""]
[null,""]
[null,""]
[null,""]
[null,""]
[null,""]
[null,""]
[null,""]
[null,""]
[null,""]
[null,""]
[null,""]
[null,""]
[null,""]
[null,""]
[null,""]
[null,""]
[null,""]
[null,""]
[null,""]
[null,""]
[null,""]
[null,""]
[null,""]
[null,""]
[null,""]
[null,""]
[null,""]
[null,""]
[null,""]
[null,""]
[null,""]
[null,""]
[null,""]
[null,""]
[null,""]
[null,""]
[null,""]
[null,""]
[null,""]
[null,""]
[null,""]
[null,""]
[null,""]
[null,""]
[null,""]
[null,""]
[null,""]
[null,""]
[null,""]
[null,""]
[null,""]
[null,""]
[null,""]
[null,""]
[null,""]
[null,""]
[null,""]
[null,""]
[null,{"$f":"IF(C6755=0,\"\",C6755-C6754)","v":""}]
[null,""]
[null,""]
[null,""]
[null,""]
[null,""]
[null,""]
[null,""]
[null,""]
[null,""]
[null,""]
[null,""]
[null,""]
[null,""]
[null,""]
[null,""]
[null,""]
[null,""]
[null,""]
[null,""]
[null,""]
[null,""]
[null,""]
[null,""]
[null,""]
[null,""]
[null,""]
[null,""]
[null,""]
[null,""]
[null,""]
[null,""]
[null,""]
[null,""]
[null,""]
[null,""]
[null,""]
[null,""]
[null,""]
[null,""]
[null,""]
[null,""]
[null,""]
[null,""]
[null,""]
[null,""]
[null,""]
[null,""]
[null,""]
[null,""]
[null,""]
[null,""]
[null,""]
[null,""]
[null,""]
[null,""]
[null,""]
[null,""]
[null,""]
[null,""]
[null,""]
[null,""]
[null,""]
[null,""]
[null,{"$f":"IF(C6819=0,\"\",C6819-C6818)","v":""}]
[null,""]
[null,""]
[null,""]
[null,""]
[null,""]
[null,""]
[null,""]
[null,""]
[null,""]
[null,""]
[null,""]
[null,""]
[null,""]
[null,""]
[null,""]
[null,""]
[null,""]
[null,""]
[null,""]
[null,""]
[null,""]
[null,""]
[null,""]
[null,""]
[null,""]
[null,""]
[null,""]
[null,""]
[null,""]
[null,""]
[null,""]
[null,""]
[null,""]
[null,""]
[null,""]
[null,""]
[null,""]
[null,""]
[null,""]
[null,""]
[null,""]
[null,""]
[null,""]
[null,""]
[null,""]
[null,""]
[null,""]
[null,""]
[null,""]
[null,""]
[null,""]
[null,""]
[null,""]
[null,""]
[null,""]
[null,""]
[null,""]
[null,""]
[null,""]
[null,""]
[null,""]
[null,""]
[null,""]
[null,{"$f":"IF(C6883=0,\"\",C6883-C6882)","v":""}]
[null,""]
[null,""]
[null,""]
[null,""]
[null,""]
[null,""]
[null,""]
[null,""]
[null,""]
[null,""]
[null,""]
[null,""]
[null,""]
[null,""]
[null,""]
[null,""]
[null,""]
[null,""]
[null,""]
[null,""]
[null,""]
[null,""]
[null,""]
[null,""]
[null,""]
[null,""]
[null,""]
[null,""]
[null,""]
[null,""]
[null,""]
[null,""]
[null,""]
[null,""]
[null,""]
[null,""]
[null,""]
[null,""]
[null,""]
[null,""]
[null,""]
[null,""]
[null,""]
[null,""]
[null,""]
[null,""]
[null,""]
[null,""]
[null,""]
[null,""]
[null,""]
[null,""]
[null,""]
[null,""]
[null,""]
[null,""]
[null,""]
[null,""]
[null,""]
[null,""]
[null,""]
[null,""]
[null,""]
[null,{"$f":"IF(C6947=0,\"\",C6947-C6946)","v":""}]
[null,""]
[null,""]
[null,""]
[null,""]
[null,""]
[null,""]
[null,""]
[null,""]
[null,""]
[null,""]
[null,""]
[null,""]
[null,""]
[null,""]
[null,""]
[null,""]
[null,""]
[null,""]
[null,""]
[null,""]
[null,""]
[null,""]
[null,""]
[null,""]
[null,""]
[null,""]
[null,""]
[null,""]
[null,""]
[null,""]
[null,""]
[null,""]
[null,""]
[null,""]
[null,""]
[null,""]
[null,""]
[null,""]
[null,""]
[null,""]
[null,""]
[null,""]
[null,""]
[null,""]
[null,""]
[null,""]
[null,""]
[null,""]
[null,""]
[null,""]
[null,""]
[null,""]
[null,""]
[null,""]
[null,""]
[null,""]
[null,""]
[null,""]
[null,""]
[null,""]
[null,""]
[null,""]
[null,""]
[null,{"$f":"IF(C7011=0,\"\",C7011-C7010)","v":""}]
[null,""]
[null,""]
[null,""]
[null,""]
[null,""]
[null,""]
[null,""]
[null,""]
[null,""]
[null,""]
[null,""]
[null,""]
[null,""]
[null,""]
[null,""]
[null,""]
[null,""]
[null,""]
[null,""]
[null,""]
[null,""]
[null,""]
[null,""]
[null,""]
[null,""]
[null,""]
[null,""]
[null,""]
[null,""]
[null,""]
[null,""]
[null,""]
[null,""]
[null,""]
[null,""]
[null,""]
[null,""]
[null,""]
[null,""]
[null,""]
[null,""]
[null,""]
[null,""]
[null,""]
[null,""]
[null,""]
[null,""]
[null,""]
[null,""]
[null,""]
[null,""]
[null,""]
[null,""]
[null,""]
[null,""]
[null,""]
[null,""]
[null,""]
[null,""]
[null,""]
[null,""]
[null,""]
[null,""]
[null,{"$f":"IF(C7075=0,\"\",C7075-C7074)","v":""}]
[null,""]
[null,""]
[null,""]
[null,""]
[null,""]
[null,""]
[null,""]
[null,""]
[null,""]
[null,""]
[null,""]
[null,""]
[null,""]
[null,""]
[null,""]
[null,""]
[null,""]
[null,""]
[null,""]
[null,""]
[null,""]
[null,""]
[null,""]
[null,""]
[null,""]
[null,""]
[null,""]
[null,""]
[null,""]
[null,""]
[null,""]
[null,""]
[null,""]
[null,""]
[null,""]
[null,""]
[null,""]
[null,""]
[null,""]
[null,""]
[null,""]
[null,""]
[null,""]
[null,""]
[null,""]
[null,""]
[null,""]
[null,""]
[null,""]
[null,""]
[null,""]
[null,""]
[null,""]
[null,""]
[null,""]
[null,""]
[null,""]
[null,""]
[null,""]
[null,""]
[null,""]
[null,""]
[null,""]
[null,{"$f":"IF(C7139=0,\"\",C7139-C7138)","v":""}]
[null,""]
[null,""]
[null,""]
[null,""]
[null,""]
[null,""]
[null,""]
[null,""]
[null,""]
[null,""]
[null,""]
[null,""]
[null,""]
[null,""]
[null,""]
[null,""]
[null,""]
[null,""]
[null,""]
[null,""]
[null,""]
[null,""]
[null,""]
[null,""]
[null,""]
[null,""]
[null,""]
[null,""]
[null,""]
[null,""]
[null,""]
[null,""]
[null,""]
[null,""]
[null,""]
[null,""]
[null,""]
[null,""]
[null,""]
[null,""]
[null,""]
[null,""]
[null,""]
[null,""]
[null,""]
[null,""]
[null,""]
[null,""]
[null,""]
[null,""]
[null,""]
[null,""]
[null,""]
[null,""]
[null,""]
[null,""]
[null,""]
[null,""]
[null,""]
[null,""]
[null,""]
[null,""]
[null,""]
[null,{"$f":"IF(C7203=0,\"\",C7203-C7202)","v":""}]
[null,""]
[null,""]
[null,""]
[null,""]
[null,""]
[null,""]
[null,""]
[null,""]
[null,""]
[null,""]
[null,""]
[null,""]
[null,""]
[null,""]
[null,""]
[null,""]
[null,""]
[null,""]
[null,""]
[null,""]
[null,""]
[null,""]
[null,""]
[null,""]
[null,""]
[null,""]
[null,""]
[null,""]
[null,""]
[null,""]
[null,""]
[null,""]
[null,""]
[null,""]
[null,""]
[null,""]
[null,""]
[null,""]
[null,""]
[null,""]
[null,""]
[null,""]
[null,""]
[null,""]
[null,""]
[null,""]
[null,""]
[null,""]
[null,""]
[null,""]
[null,""]
[null,""]
[null,""]
[null,""]
[null,""]
[null,""]
[null,""]
[null,""]
[null,""]
[null,""]
[null,""]
[null,""]
[null,""]
[null,{"$f":"IF(C7267=0,\"\",C7267-C7266)","v":""}]
[null,""]
[null,""]
[null,""]
[null,""]
[null,""]
[null,""]
[null,""]
[null,""]
[null,""]
[null,""]
[null,""]
[null,""]
[null,""]
[null,""]
[null,""]
[null,""]
[null,""]
[null,""]
[null,""]
[null,""]
[null,""]
[null,""]
[null,""]
[null,""]
[null,""]
[null,""]
[null,""]
[null,""]
[null,""]
[null,""]
[null,""]
[null,""]
[null,""]
[null,""]
[null,""]
[null,""]
[null,""]
[null,""]
[null,""]
[null,""]
[null,""]
[null,""]
[null,""]
[null,""]
[null,""]
[null,""]
[null,""]
[null,""]
[null,""]
[null,""]
[null,""]
[null,""]
[null,""]
[null,""]
[null,""]
[null,""]
[null,""]
[null,""]
[null,""]
[null,""]
[null,""]
[null,""]
[null,""]
[null,{"$f":"IF(C7331=0,\"\",C7331-C7330)","v":""}]
[null,""]
[null,""]
[null,""]
[null,""]
[null,""]
[null,""]
[null,""]
[null,""]
[null,""]
[null,""]
[null,""]
[null,""]
[null,""]
[null,""]
[null,""]
[null,""]
[null,""]
[null,""]
[null,""]
[null,""]
[null,""]
[null,""]
[null,""]
[null,""]
[null,""]
[null,""]
[null,""]
[null,""]
[null,""]
[null,""]
[null,""]
[null,""]
[null,""]
[null,""]
[null,""]
[null,""]
[null,""]
[null,""]
[null,""]
[null,""]
[null,""]
[null,""]
[null,""]
[null,""]
[null,""]
[null,""]
[null,""]
[null,""]
[null,""]
[null,""]
[null,""]
[null,""]
[null,""]
[null,""]
[null,""]
[null,""]
[null,""]
[null,""]
[null,""]
[null,""]
[null,""]
[null,""]
[null,""]
[null,{"$f":"IF(C7395=0,\"\",C7395-C7394)","v":""}]
[null,""]
[null,""]
[null,""]
[null,""]
[null,""]
[null,""]
[null,""]
[null,""]
[null,""]
[null,""]
[null,""]
[null,""]
[null,""]
[null,""]
[null,""]
[null,""]
[null,""]
[null,""]
[null,""]
[null,""]
[null,""]
[null,""]
[null,""]
[null,""]
[null,""]
[null,""]
[null,""]
[null,""]
[null,""]
[null,""]
[null,""]
[null,""]
[null,""]
[null,""]
[null,""]
[null,""]
[null,""]
[null,""]
[null,""]
[null,""]
[null,""]
[null,""]
[null,""]
[null,""]
[null,""]
[null,""]
[null,""]
[null,""]
[null,""]
[null,""]
[null,""]
[null,""]
[null,""]
[null,""]
[null,""]
[null,""]
[null,""]
[null,""]
[null,""]
[null,""]
[null,""]
[null,""]
[null,""]
[null,{"$f":"IF(C7459=0,\"\",C7459-C7458)","v":""}]
[null,""]
[null,""]
[null,""]
[null,""]
[null,""]
[null,""]
[null,""]
[null,""]
[null,""]
[null,""]
[null,""]
[null,""]
[null,""]
[null,""]
[null,""]
[null,""]
[null,""]
[null,""]
[null,""]
[null,""]
[null,""]
[null,""]
[null,""]
[null,""]
[null,""]
[null,""]
[null,""]
[null,""]
[null,""]
[null,""]
[null,""]
[null,""]
[null,""]
[null,""]
[null,""]
[null,""]
[null,""]
[null,""]
[null,""]
[null,""]
[null,""]
[null,""]
[null,""]
[null,""]
[null,""]
[null,""]
[null,""]
[null,""]
[null,""]
[null,""]
[null,""]
[null,""]
[null,""]
[null,""]
[null,""]
[null,""]
[null,""]
[null,""]
[null,""]
[null,""]
[null,""]
[null,""]
[null,""]
[null,{"$f":"IF(C7523=0,\"\",C7523-C7522)","v":""}]
[null,""]
[null,""]
[null,""]
[null,""]
[null,""]
[null,""]
[null,""]
[null,""]
[null,""]
[null,""]
[null,""]
[null,""]
[null,""]
[null,""]
[null,""]
[null,""]
[null,""]
[null,""]
[null,""]
[null,""]
[null,""]
[null,""]
[null,""]
[null,""]
[null,""]
[null,""]
[null,""]
[null,""]
[null,""]
[null,""]
[null,""]
[null,""]
[null,""]
[null,""]
[null,""]
[null,""]
[null,""]
[null,""]
[null,""]
[null,""]
[null,""]
[null,""]
[null,""]
[null,""]
[null,""]
[null,""]
[null,""]
[null,""]
[null,""]
[null,""]
[null,""]
[null,""]
[null,""]
[null,""]
[null,""]
[null,""]
[null,""]
[null,""]
[null,""]
[null,""]
[null,""]
[null,""]
[null,""]
[null,{"$f":"IF(C7587=0,\"\",C7587-C7586)","v":""}]
[null,""]
[null,""]
[null,""]
[null,""]
[null,""]
[null,""]
[null,""]
[null,""]
[null,""]
[null,""]
[null,""]
[null,""]
[null,""]
[null,""]
[null,""]
[null,""]
[null,""]
[null,""]
[null,""]
[null,""]
[null,""]
[null,""]
[null,""]
[null,""]
[null,""]
[null,""]
[null,""]
[null,""]
[null,""]
[null,""]
[null,""]
[null,""]
[null,""]
[null,""]
[null,""]
[null,""]
[null,""]
[null,""]
[null,""]
[null,""]
[null,""]
[null,""]
[null,""]
[null,""]
[null,""]
[null,""]
[null,""]
[null,""]
[null,""]
[null,""]
[null,""]
[null,""]
[null,""]
[null,""]
[null,""]
[null,""]
[null,""]
[null,""]
[null,""]
[null,""]
[null,""]
[null,""]
[null,""]
[null,{"$f":"IF(C7651=0,\"\",C7651-C7650)","v":""}]
[null,""]
[null,""]
[null,""]
[null,""]
[null,""]
[null,""]
[null,""]
[null,""]
[null,""]
[null,""]
[null,""]
[null,""]
[null,""]
[null,""]
[null,""]
[null,""]
[null,""]
[null,""]
[null,""]
[null,""]
[null,""]
[null,""]
[null,""]
[null,""]
[null,""]
[null,""]
[null,""]
[null,""]
[null,""]
[null,""]
[null,""]
[null,""]
[null,""]
[null,""]
[null,""]
[null,""]
[null,""]
[null,""]
[null,""]
[null,""]
[null,""]
[null,""]
[null,""]
[null,""]
[null,""]
[null,""]
[null,""]
[null,""]
[null,""]
[null,""]
[null,""]
[null,""]
[null,""]
[null,""]
[null,""]
[null,""]
[null,""]
[null,""]
[null,""]
[null,""]
[null,""]
[null,""]
[null,""]
[null,{"$f":"IF(C7715=0,\"\",C7715-C7714)","v":""}]
[null,""]
[null,""]
[null,""]
[null,""]
[null,""]
[null,""]
[null,""]
[null,""]
[null,""]
[null,""]
[null,""]
[null,""]
[null,""]
[null,""]
[null,""]
[null,""]
[null,""]
[null,""]
[null,""]
[null,""]
[null,""]
[null,""]
[null,""]
[null,""]
[null,""]
[null,""]
[null,""]
[null,""]
[null,""]
[null,""]
[null,""]
[null,""]
[null,""]
[null,""]
[null,""]
[null,""]
[null,""]
[null,""]
[null,""]
[null,""]
[null,""]
[null,""]
[null,""]
[null,""]
[null,""]
[null,""]
[null,""]
[null,""]
[null,""]
[null,""]
[null,""]
[null,""]
[null,""]
[null,""]
[null,""]
[null,""]
[null,""]
[null,""]
[null,""]
[null,""]
[null,""]
[null,""]
[null,""]
[null,{"$f":"IF(C7779=0,\"\",C7779-C7778)","v":""}]
[null,""]
[null,""]
[null,""]
[null,""]
[null,""]
[null,""]
[null,""]
[null,""]
[null,""]
[null,""]
[null,""]
[null,""]
[null,""]
[null,""]
[null,""]
[null,""]
[null,""]
[null,""]
[null,""]
[null,""]
[null,""]
[null,""]
[null,""]
[null,""]
[null,""]
[null,""]
[null,""]
[null,""]
[null,""]
[null,""]
[null,""]
[null,""]
[null,""]
[null,""]
[null,""]
[null,""]
[null,""]
[null,""]
[null,""]
[null,""]
[null,""]
[null,""]
[null,""]
[null,""]
[null,""]
[null,""]
[null,""]
[null,""]
[null,""]
[null,""]
[null,""]
[null,""]
[null,""]
[null,""]
[null,""]
[null,""]
[null,""]
[null,""]
[null,""]
[null,""]
[null,""]
[null,""]
[null,""]
[null,{"$f":"IF(C7843=0,\"\",C7843-C7842)","v":""}]
[null,""]
[null,""]
[null,""]
[null,""]
[null,""]
[null,""]
[null,""]
[null,""]
[null,""]
[null,""]
[null,""]
[null,""]
[null,""]
[null,""]
[null,""]
[null,""]
[null,""]
[null,""]
[null,""]
[null,""]
[null,""]
[null,""]
[null,""]
[null,""]
[null,""]
[null,""]
[null,""]
[null,""]
[null,""]
[null,""]
[null,""]
[null,""]
[null,""]
[null,""]
[null,""]
[null,""]
[null,""]
[null,""]
[null,""]
[null,""]
[null,""]
[null,""]
[null,""]
[null,""]
[null,""]
[null,""]
[null,""]
[null,""]
[null,""]
[null,""]
[null,""]
[null,""]
[null,""]
[null,""]
[null,""]
[null,""]
[null,""]
[null,""]
[null,""]
[null,""]
[null,""]
[null,""]
[null,""]
[null,{"$f":"IF(C7907=0,\"\",C7907-C7906)","v":""}]
[null,""]
[null,""]
[null,""]
[null,""]
[null,""]
[null,""]
[null,""]
[null,""]
[null,""]
[null,""]
[null,""]
[null,""]
[null,""]
[null,""]
[null,""]
[null,""]
[null,""]
[null,""]
[null,""]
[null,""]
[null,""]
[null,""]
[null,""]
[null,""]
[null,""]
[null,""]
[null,""]
[null,""]
[null,""]
[null,""]
[null,""]
[null,""]
[null,""]
[null,""]
[null,""]
[null,""]
[null,""]
[null,""]
[null,""]
[null,""]
[null,""]
[null,""]
[null,""]
[null,""]
[null,""]
[null,""]
[null,""]
[null,""]
[null,""]
[null,""]
[null,""]
[null,""]
[null,""]
[null,""]
[null,""]
[null,""]
[null,""]
[null,""]
[null,""]
[null,""]
[null,""]
[null,""]
[null,""]
[null,{"$f":"IF(C7971=0,\"\",C7971-C7970)","v":""}]
[null,""]
[null,""]
[null,""]
[null,""]
[null,""]
[null,""]
[null,""]
[null,""]
[null,""]
[null,""]
[null,""]
[null,""]
[null,""]
[null,""]
[null,""]
[null,""]
[null,""]
[null,""]
[null,""]
[null,""]
[null,""]
[null,""]
[null,""]
[null,""]
[null,""]
[null,""]
[null,""]
[null,""]
[null,""]
[null,""]
[null,""]
[null,""]
[null,""]
[null,""]
[null,""]
[null,""]
[null,""]
[null,""]
[null,""]
[null,""]
[null,""]
[null,""]
[null,""]
[null,""]
[null,""]
[null,""]
[null,""]
[null,""]
[null,""]
[null,""]
[null,""]
[null,""]
[null,""]
[null,""]
[null,""]
[null,""]
[null,""]
[null,""]
[null,""]
[null,""]
[null,""]
[null,""]
[null,""]
[null,{"$f":"IF(C8035=0,\"\",C8035-C8034)","v":""}]
[null,""]
[null,""]
[null,""]
[null,""]
[null,""]
[null,""]
[null,""]
[null,""]
[null,""]
[null,""]
[null,""]
[null,""]
[null,""]
[null,""]
[null,""]
[null,""]
[null,""]
[null,""]
[null,""]
[null,""]
[null,""]
[null,""]
[null,""]
[null,""]
[null,""]
[null,""]
[null,""]
[null,""]
[null,""]
[null,""]
[null,""]
[null,""]
[null,""]
[null,""]
[null,""]
[null,""]
[null,""]
[null,""]
[null,""]
[null,""]
[null,""]
[null,""]
[null,""]
[null,""]
[null,""]
[null,""]
[null,""]
[null,""]
[null,""]
[null,""]
[null,""]
[null,""]
[null,""]
[null,""]
[null,""]
[null,""]
[null,""]
[null,""]
[null,""]
[null,""]
[null,""]
[null,""]
[null,""]
[null,{"$f":"IF(C8099=0,\"\",C8099-C8098)","v":""}]
[null,""]
[null,""]
[null,""]
[null,""]
[null,""]
[null,""]
[null,""]
[null,""]
[null,""]
[null,""]
[null,""]
[null,""]
[null,""]
[null,""]
[null,""]
[null,""]
[null,""]
[null,""]
[null,""]
[null,""]
[null,""]
[null,""]
[null,""]
[null,""]
[null,""]
[null,""]
[null,""]
[null,""]
[null,""]
[null,""]
[null,""]
[null,""]
[null,""]
[null,""]
[null,""]
[null,""]
[null,""]
[null,""]
[null,""]
[null,""]
[null,""]
[null,""]
[null,""]
[null,""]
[null,""]
[null,""]
[null,""]
[null,""]
[null,""]
[null,""]
[null,""]
[null,""]
[null,""]
[null,""]
[null,""]
[null,""]
[null,""]
[null,""]
[null,""]
[null,""]
[null,""]
[null,""]
[null,""]
[null,{"$f":"IF(C8163=0,\"\",C8163-C8162)","v":""}]
[null,""]
[null,""]
[null,""]
[null,""]
[null,""]
[null,""]
[null,""]
[null,""]
[null,""]
[null,""]
[null,""]
[null,""]
[null,""]
[null,""]
[null,""]
[null,""]
[null,""]
[null,""]
[null,""]
[null,""]
[null,""]
[null,""]
[null,""]
[null,""]
[null,""]
[null,""]
[null,""]
[null,""]
[null,""]
[null,""]
[null,""]
[null,""]
[null,""]
[null,""]
[null,""]
[null,""]
[null,""]
[null,""]
[null,""]
[null,""]
[null,""]
[null,""]
[null,""]
[null,""]
[null,""]
[null,""]
[null,""]
[null,""]
[null,""]
[null,""]
[null,""]
[null,""]
[null,""]
[null,""]
[null,""]
[null,""]
[null,""]
[null,""]
[null,""]
[null,""]
[null,""]
[null,""]
[null,""]
[null,{"$f":"IF(C8227=0,\"\",C8227-C8226)","v":""}]
[null,""]
[null,""]
[null,""]
[null,""]
[null,""]
[null,""]
[null,""]
[null,""]
[null,""]
[null,""]
[null,""]
[null,""]
[null,""]
[null,""]
[null,""]
[null,""]
[null,""]
[null,""]
[null,""]
[null,""]
[null,""]
[null,""]
[null,""]
[null,""]
[null,""]
[null,""]
[null,""]
[null,""]
[null,""]
[null,""]
[null,""]
[null,""]
[null,""]
[null,""]
[null,""]
[null,""]
[null,""]
[null,""]
[null,""]
[null,""]
[null,""]
[null,""]
[null,""]
[null,""]
[null,""]
[null,""]
[null,""]
[null,""]
[null,""]
[null,""]
[null,""]
[null,""]
[null,""]
[null,""]
[null,""]
[null,""]
[null,""]
[null,""]
[null,""]
[null,""]
[null,""]
[null,""]
[null,""]
[null,{"$f":"IF(C8291=0,\"\",C8291-C8290)","v":""}]
[null,""]
[null,""]
[null,""]
[null,""]
[null,""]
[null,""]
[null,""]
[null,""]
[null,""]
[null,""]
[null,""]
[null,""]
[null,""]
[null,""]
[null,""]
[null,""]
[null,""]
[null,""]
[null,""]
[null,""]
[null,""]
[null,""]
[null,""]
[null,""]
[null,""]
[null,""]
[null,""]
[null,""]
[null,""]
[null,""]
[null,""]
[null,""]
[null,""]
[null,""]
[null,""]
[null,""]
[null,""]
[null,""]
[null,""]
[null,""]
[null,""]
[null,""]
[null,""]
[null,""]
[null,""]
[null,""]
[null,""]
[null,""]
[null,""]
[null,""]
[null,""]
[null,""]
[null,""]
[null,""]
[null,""]
[null,""]
[null,""]
[null,""]
[null,""]
[null,""]
[null,""]
[null,""]
[null,""]
[null,{"$f":"IF(C8355=0,\"\",C8355-C8354)","v":""}]
[null,""]
[null,""]
[null,""]
[null,""]
[null,""]
[null,""]
[null,""]
[null,""]
[null,""]
[null,""]
[null,""]
[null,""]
[null,""]
[null,""]
[null,""]
[null,""]
[null,""]
[null,""]
[null,""]
[null,""]
[null,""]
[null,""]
[null,""]
[null,""]
[null,""]
[null,""]
[null,""]
[null,""]
[null,""]
[null,""]
[null,""]
[null,""]
[null,""]
[null,""]
[null,""]
[null,""]
[null,""]
[null,""]
[null,""]
[null,""]
[null,""]
[null,""]
[null,""]
[null,""]
[null,""]
[null,""]
[null,""]
[null,""]
[null,""]
[null,""]
[null,""]
[null,""]
[null,""]
[null,""]
[null,""]
[null,""]
[null,""]
[null,""]
[null,""]
[null,""]
[null,""]
[null,""]
[null,""]
[null,{"$f":"IF(C8419=0,\"\",C8419-C8418)","v":""}]
[null,""]
[null,""]
[null,""]
[null,""]
[null,""]
[null,""]
[null,""]
[null,""]
[null,""]
[null,""]
[null,""]
[null,""]
[null,""]
[null,""]
[null,""]
[null,""]
[null,""]
[null,""]
[null,""]
[null,""]
[null,""]
[null,""]
[null,""]
[null,""]
[null,""]
[null,""]
[null,""]
[null,""]
[null,""]
[null,""]
[null,""]
[null,""]
[null,""]
[null,""]
[null,""]
[null,""]
[null,""]
[null,""]
[null,""]
[null,""]
[null,""]
[null,""]
[null,""]
[null,""]
[null,""]
[null,""]
[null,""]
[null,""]
[null,""]
[null,""]
[null,""]
[null,""]
[null,""]
[null,""]
[null,""]
[null,""]
[null,""]
[null,""]
[null,""]
[null,""]
[null,""]
[null,""]
[null,""]
[null,{"$f":"IF(C8483=0,\"\",C8483-C8482)","v":""}]
[null,""]
[null,""]
[null,""]
[null,""]
[null,""]
[null,""]
[null,""]
[null,""]
[null,""]
[null,""]
[null,""]
[null,""]
[null,""]
[null,""]
[null,""]
[null,""]
[null,""]
[null,""]
[null,""]
[null,""]
[null,""]
[null,""]
[null,""]
[null,""]
[null,""]
[null,""]
[null,""]
[null,""]
[null,""]
[null,""]
[null,""]
[null,""]
[null,""]
[null,""]
[null,""]
[null,""]
[null,""]
[null,""]
[null,""]
[null,""]
[null,""]
[null,""]
[null,""]
[null,""]
[null,""]
[null,""]
[null,""]
[null,""]
[null,""]
[null,""]
[null,""]
[null,""]
[null,""]
[null,""]
[null,""]
[null,""]
[null,""]
[null,""]
[null,""]
[null,""]
[null,""]
[null,""]
[null,""]
[null,{"$f":"IF(C8547=0,\"\",C8547-C8546)","v":""}]
[null,""]
[null,""]
[null,""]
[null,""]
[null,""]
[null,""]
[null,""]
[null,""]
[null,""]
[null,""]
[null,""]
[null,""]
[null,""]
[null,""]
[null,""]
[null,""]
[null,""]
[null,""]
[null,""]
[null,""]
[null,""]
[null,""]
[null,""]
[null,""]
[null,""]
[null,""]
[null,""]
[null,""]
[null,""]
[null,""]
[null,""]
[null,""]
[null,""]
[null,""]
[null,""]
[null,""]
[null,""]
[null,""]
[null,""]
[null,""]
[null,""]
[null,""]
[null,""]
[null,""]
[null,""]
[null,""]
[null,""]
[null,""]
[null,""]
[null,""]
[null,""]
[null,""]
[null,""]
[null,""]
[null,""]
[null,""]
[null,""]
[null,""]
[null,""]
[null,""]
[null,""]
[null,""]
[null,""]
[null,{"$f":"IF(C8611=0,\"\",C8611-C8610)","v":""}]
[null,""]
[null,""]
[null,""]
[null,""]
[null,""]
[null,""]
[null,""]
[null,""]
[null,""]
[null,""]
[null,""]
[null,""]
[null,""]
[null,""]
[null,""]
[null,""]
[null,""]
[null,""]
[null,""]
[null,""]
[null,""]
[null,""]
[null,""]
[null,""]
[null,""]
[null,""]
[null,""]
[null,""]
[null,""]
[null,""]
[null,""]
[null,""]
[null,""]
[null,""]
[null,""]
[null,""]
[null,""]
[null,""]
[null,""]
[null,""]
[null,""]
[null,""]
[null,""]
[null,""]
[null,""]
[null,""]
[null,""]
[null,""]
[null,""]
[null,""]
[null,""]
[null,""]
[null,""]
[null,""]
[null,""]
[null,""]
[null,""]
[null,""]
[null,""]
[null,""]
[null,""]
[null,""]
[null,""]
[null,{"$f":"IF(C8675=0,\"\",C8675-C8674)","v":""}]
[null,""]
[null,""]
[null,""]
[null,""]
[null,""]
[null,""]
[null,""]
[null,""]
[null,""]
[null,""]
[null,""]
[null,""]
[null,""]
[null,""]
[null,""]
[null,""]
[null,""]
[null,""]
[null,""]
[null,""]
[null,""]
[null,""]
[null,""]
[null,""]
[null,""]
[null,""]
[null,""]
[null,""]
[null,""]
[null,""]
[null,""]
[null,""]
[null,""]
[null,""]
[null,""]
[null,""]
[null,""]
[null,""]
[null,""]
[null,""]
[null,""]
[null,""]
[null,""]
[null,""]
[null,""]
[null,""]
[null,""]
[null,""]
[null,""]
[null,""]
[null,""]
[null,""]
[null,""]
[null,""]
[null,""]
[null,""]
[null,""]
[null,""]
[null,""]
[null,""]
[null,""]
[null,""]
[null,""]
[null,{"$f":"IF(C8739=0,\"\",C8739-C8738)","v":""}]
[null,""]
[null,""]
[null,""]
[null,""]
[null,""]
[null,""]
[null,""]
[null,""]
[null,""]
[null,""]
[null,""]
[null,""]
[null,""]
[null,""]
[null,""]
[null,""]
[null,""]
[null,""]
[null,""]
[null,""]
[null,""]
[null,""]
[null,""]
[null,""]
[null,""]
[null,""]
[null,""]
[null,""]
[null,""]
[null,""]
[null,""]
[null,""]
[null,""]
[null,""]
[null,""]
[null,""]
[null,""]
[null,""]
[null,""]
[null,""]
[null,""]
[null,""]
[null,""]
[null,""]
[null,""]
[null,""]
[null,""]
[null,""]
[null,""]
[null,""]
[null,""]
[null,""]
[null,""]
[null,""]
[null,""]
[null,""]
[null,""]
[null,""]
[null,""]
[null,""]
[null,""]
[null,""]
[null,""]
[null,{"$f":"IF(C8803=0,\"\",C8803-C8802)","v":""}]
[null,""]
[null,""]
[null,""]
[null,""]
[null,""]
[null,""]
[null,""]
[null,""]
[null,""]
[null,""]
[null,""]
[null,""]
[null,""]
[null,""]
[null,""]
[null,""]
[null,""]
[null,""]
[null,""]
[null,""]
[null,""]
[null,""]
[null,""]
[null,""]
[null,""]
[null,""]
[null,""]
[null,""]
[null,""]
[null,""]
[null,""]
[null,""]
[null,""]
[null,""]
[null,""]
[null,""]
[null,""]
[null,""]
[null,""]
[null,""]
[null,""]
[null,""]
[null,""]
[null,""]
[null,""]
[null,""]
[null,""]
[null,""]
[null,""]
[null,""]
[null,""]
[null,""]
[null,""]
[null,""]
[null,""]
[null,""]
[null,""]
[null,""]
[null,""]
[null,""]
[null,""]
[null,""]
[null,""]
[null,{"$f":"IF(C8867=0,\"\",C8867-C8866)","v":""}]
[null,""]
[null,""]
[null,""]
[null,""]
[null,""]
[null,""]
[null,""]
[null,""]
[null,""]
[null,""]
[null,""]
[null,""]
[null,""]
[null,""]
[null,""]
[null,""]
[null,""]
[null,""]
[null,""]
[null,""]
[null,""]
[null,""]
[null,""]
[null,""]
[null,""]
[null,""]
[null,""]
[null,""]
[null,""]
[null,""]
[null,""]
[null,""]
[null,""]
[null,""]
[null,""]
[null,""]
[null,""]
[null,""]
[null,""]
[null,""]
[null,""]
[null,""]
[null,""]
[null,""]
[null,""]
[null,""]
[null,""]
[null,""]
[null,""]
[null,""]
[null,""]
[null,""]
[null,""]
[null,""]
[null,""]
[null,""]
[null,""]
[null,""]
[null,""]
[null,""]
[null,""]
[null,""]
[null,""]
[null,{"$f":"IF(C8931=0,\"\",C8931-C8930)","v":""}]
[null,""]
[null,""]
[null,""]
[null,""]
[null,""]
[null,""]
[null,""]
[null,""]
[null,""]
[null,""]
[null,""]
[null,""]
[null,""]
[null,""]
[null,""]
[null,""]
[null,""]
[null,""]
[null,""]
[null,""]
[null,""]
[null,""]
[null,""]
[null,""]
[null,""]
[null,""]
[null,""]
[null,""]
[null,""]
[null,""]
[null,""]
[null,""]
[null,""]
[null,""]
[null,""]
[null,""]
[null,""]
[null,""]
[null,""]
[null,""]
[null,""]
[null,""]
[null,""]
[null,""]
[null,""]
[null,""]
[null,""]
[null,""]
[null,""]
[null,""]
[null,""]
[null,""]
[null,""]
[null,""]
[null,""]
[null,""]
[null,""]
[null,""]
[null,""]
[null,""]
[null,""]
[null,""]
[null,""]
[null,{"$f":"IF(C8995=0,\"\",C8995-C8994)","v":""}]
[null,""]
[null,""]
[null,""]
[null,""]
[null,""]
[null,""]
[null,""]
[null,""]
[null,""]
[null,""]
[null,""]
[null,""]
[null,""]
[null,""]
[null,""]
[null,""]
[null,""]
[null,""]
[null,""]
[null,""]
[null,""]
[null,""]
[null,""]
[null,""]
[null,""]
[null,""]
[null,""]
[null,""]
[null,""]
[null,""]
[null,""]
[null,""]
[null,""]
[null,""]
[null,""]
[null,""]
[null,""]
[null,""]
[null,""]
[null,""]
[null,""]
[null,""]
[null,""]
[null,""]
[null,""]
[null,""]
[null,""]
[null,""]
[null,""]
[null,""]
[null,""]
[null,""]
[null,""]
[null,""]
[null,""]
[null,""]
[null,""]
[null,""]
[null,""]
[null,""]
[null,""]
[null,""]
[null,""]
[null,{"$f":"IF(C9059=0,\"\",C9059-C9058)","v":""}]
[null,""]
[null,""]
[null,""]
[null,""]
[null,""]
[null,""]
[null,""]
[null,""]
[null,""]
[null,""]
[null,""]
[null,""]
[null,""]
[null,""]
[null,""]
[null,""]
[null,""]
[null,""]
[null,""]
[null,""]
[null,""]
[null,""]
[null,""]
[null,""]
[null,""]
[null,""]
[null,""]
[null,""]
[null,""]
[null,""]
[null,""]
[null,""]
[null,""]
[null,""]
[null,""]
[null,""]
[null,""]
[null,""]
[null,""]
[null,""]
[null,""]
[null,""]
[null,""]
[null,""]
[null,""]
[null,""]
[null,""]
[null,""]
[null,""]
[null,""]
[null,""]
[null,""]
[null,""]
[null,""]
[null,""]
[null,""]
[null,""]
[null,""]
[null,""]
[null,""]
[null,""]
[null,""]
[null,""]
[null,{"$f":"IF(C9123=0,\"\",C9123-C9122)","v":""}]
[null,""]
[null,""]
[null,""]
[null,""]
[null,""]
[null,""]
[null,""]
[null,""]
[null,""]
[null,""]
[null,""]
[null,""]
[null,""]
[null,""]
[null,""]
[null,""]
[null,""]
[null,""]
[null,""]
[null,""]
[null,""]
[null,""]
[null,""]
[null,""]
[null,""]
[null,""]
[null,""]
[null,""]
[null,""]
[null,""]
[null,""]
[null,""]
[null,""]
[null,""]
[null,""]
[null,""]
[null,""]
[null,""]
[null,""]
[null,""]
[null,""]
[null,""]
[null,""]
[null,""]
[null,""]
[null,""]
[null,""]
[null,""]
[null,""]
[null,""]
[null,""]
[null,""]
[null,""]
[null,""]
[null,""]
[null,""]
[null,""]
[null,""]
[null,""]
[null,""]
[null,""]
[null,""]
[null,""]
[null,{"$f":"IF(C9187=0,\"\",C9187-C9186)","v":""}]
[null,""]
[null,""]
[null,""]
[null,""]
[null,""]
[null,""]
[null,""]
[null,""]
[null,""]
[null,""]
[null,""]
[null,""]
[null,""]
[null,""]
[null,""]
[null,""]
[null,""]
[null,""]
[null,""]
[null,""]
[null,""]
[null,""]
[null,""]
[null,""]
[null,""]
[null,""]
[null,""]
[null,""]
[null,""]
[null,""]
[null,""]
[null,""]
[null,""]
[null,""]
[null,""]
[null,""]
[null,""]
[null,""]
[null,""]
[null,""]
[null,""]
[null,""]
[null,""]
[null,""]
[null,""]
[null,""]
[null,""]
[null,""]
[null,""]
[null,""]
[null,""]
[null,""]
[null,""]
[null,""]
[null,""]
[null,""]
[null,""]
[null,""]
[null,""]
[null,""]
[null,""]
[null,""]
[null,""]
[null,{"$f":"IF(C9251=0,\"\",C9251-C9250)","v":""}]
[null,""]
[null,""]
[null,""]
[null,""]
[null,""]
[null,""]
[null,""]
[null,""]
[null,""]
[null,""]
[null,""]
[null,""]
[null,""]
[null,""]
[null,""]
[null,""]
[null,""]
[null,""]
[null,""]
[null,""]
[null,""]
[null,""]
[null,""]
[null,""]
[null,""]
[null,""]
[null,""]
[null,""]
[null,""]
[null,""]
[null,""]
[null,""]
[null,""]
[null,""]
[null,""]
[null,""]
[null,""]
[null,""]
[null,""]
[null,""]
[null,""]
[null,""]
[null,""]
[null,""]
[null,""]
[null,""]
[null,""]
[null,""]
[null,""]
[null,""]
[null,""]
[null,""]
[null,""]
[null,""]
[null,""]
[null,""]
[null,""]
[null,""]
[null,""]
[null,""]
[null,""]
[null,""]
[null,""]
[null,{"$f":"IF(C9315=0,\"\",C9315-C9314)","v":""}]
[null,""]
[null,""]
[null,""]
[null,""]
[null,""]
[null,""]
[null,""]
[null,""]
[null,""]
[null,""]
[null,""]
[null,""]
[null,""]
[null,""]
[null,""]
[null,""]
[null,""]
[null,""]
[null,""]
[null,""]
[null,""]
[null,""]
[null,""]
[null,""]
[null,""]
[null,""]
[null,""]
[null,""]
[null,""]
[null,""]
[null,""]
[null,""]
[null,""]
[null,""]
[null,""]
[null,""]
[null,""]
[null,""]
[null,""]
[null,""]
[null,""]
[null,""]
[null,""]
[null,""]
[null,""]
[null,""]
[null,""]
[null,""]
[null,""]
[null,""]
[null,""]
[null,""]
[null,""]
[null,""]
[null,""]
[null,""]
[null,""]
[null,""]
[null,""]
[null,""]
[null,""]
[null,""]
[null,""]
[null,{"$f":"IF(C9379=0,\"\",C9379-C9378)","v":""}]
[null,""]
[null,""]
[null,""]
[null,""]
[null,""]
[null,""]
[null,""]
[null,""]
[null,""]
[null,""]
[null,""]
[null,""]
[null,""]
[null,""]
[null,""]
[null,""]
[null,""]
[null,""]
[null,""]
[null,""]
[null,""]
[null,""]
[null,""]
[null,""]
[null,""]
[null,""]
[null,""]
[null,""]
[null,""]
[null,""]
[null,""]
[null,""]
[null,""]
[null,""]
[null,""]
[null,""]
[null,""]
[null,""]
[null,""]
[null,""]
[null,""]
[null,""]
[null,""]
[null,""]
[null,""]
[null,""]
[null,""]
[null,""]
[null,""]
[null,""]
[null,""]
[null,""]
[null,""]
[null,""]
[null,""]
[null,""]
[null,""]
[null,""]
[null,""]
[null,""]
[null,""]
[null,""]
[null,""]
[null,{"$f":"IF(C9443=0,\"\",C9443-C9442)","v":""}]
[null,""]
[null,""]
[null,""]
[null,""]
[null,""]
[null,""]
[null,""]
[null,""]
[null,""]
[null,""]
[null,""]
[null,""]
[null,""]
[null,""]
[null,""]
[null,""]
[null,""]
[null,""]
[null,""]
[null,""]
[null,""]
[null,""]
[null,""]
[null,""]
[null,""]
[null,""]
[null,""]
[null,""]
[null,""]
[null,""]
[null,""]
[null,""]
[null,""]
[null,""]
[null,""]
[null,""]
[null,""]
[null,""]
[null,""]
[null,""]
[null,""]
[null,""]
[null,""]
[null,""]
[null,""]
[null,""]
[null,""]
[null,""]
[null,""]
[null,""]
[null,""]
[null,""]
[null,""]
[null,""]
[null,""]
[null,""]
[null,""]
[null,""]
[null,""]
[null,""]
[null,""]
[null,""]
[null,""]
[null,{"$f":"IF(C9507=0,\"\",C9507-C9506)","v":""}]
[null,""]
[null,""]
[null,""]
[null,""]
[null,""]
[null,""]
[null,""]
[null,""]
[null,""]
[null,""]
[null,""]
[null,""]
[null,""]
[null,""]
[null,""]
[null,""]
[null,""]
[null,""]
[null,""]
[null,""]
[null,""]
[null,""]
[null,""]
[null,""]
[null,""]
[null,""]
[null,""]
[null,""]
[null,""]
[null,""]
[null,""]
[null,""]
[null,""]
[null,""]
[null,""]
[null,""]
[null,""]
[null,""]
[null,""]
[null,""]
[null,""]
[null,""]
[null,""]
[null,""]
[null,""]
[null,""]
[null,""]
[null,""]
[null,""]
[null,""]
[null,""]
[null,""]
[null,""]
[null,""]
[null,""]
[null,""]
[null,""]
[null,""]
[null,""]
[null,""]
[null,""]
[null,""]
[null,""]
[null,{"$f":"IF(C9571=0,\"\",C9571-C9570)","v":""}]
[null,""]
[null,""]
[null,""]
[null,""]
[null,""]
[null,""]
[null,""]
[null,""]
[null,""]
[null,""]
[null,""]
[null,""]
[null,""]
[null,""]
[null,""]
[null,""]
[null,""]
[null,""]
[null,""]
[null,""]
[null,""]
[null,""]
[null,""]
[null,""]
[null,""]
[null,""]
[null,""]
[null,""]
[null,""]
[null,""]
[null,""]
[null,""]
[null,""]
[null,""]
[null,""]
[null,""]
[null,""]
[null,""]
[null,""]
[null,""]
[null,""]
[null,""]
[null,""]
[null,""]
[null,""]
[null,""]
[null,""]
[null,""]
[null,""]
[null,""]
[null,""]
[null,""]
[null,""]
[null,""]
[null,""]
[null,""]
[null,""]
[null,""]
[null,""]
[null,""]
[null,""]
[null,""]
[null,""]
[null,{"$f":"IF(C9635=0,\"\",C9635-C9634)","v":""}]
[null,""]
[null,""]
[null,""]
[null,""]
[null,""]
[null,""]
[null,""]
[null,""]
[null,""]
[null,""]
[null,""]
[null,""]
[null,""]
[null,""]
[null,""]
[null,""]
[null,""]
[null,""]
[null,""]
[null,""]
[null,""]
[null,""]
[null,""]
[null,""]
[null,""]
[null,""]
[null,""]
[null,""]
[null,""]
[null,""]
[null,""]
[null,""]
[null,""]
[null,""]
[null,""]
[null,""]
[null,""]
[null,""]
[null,""]
[null,""]
[null,""]
[null,""]
[null,""]
[null,""]
[null,""]
[null,""]
[null,""]
[null,""]
[null,""]
[null,""]
[null,""]
[null,""]
[null,""]
[null,""]
[null,""]
[null,""]
[null,""]
[null,""]
[null,""]
[null,""]
[null,""]
[null,""]
[null,""]
[null,{"$f":"IF(C9699=0,\"\",C9699-C9698)","v":""}]
[null,""]
[null,""]
[null,""]
[null,""]
[null,""]
[null,""]
[null,""]
[null,""]
[null,""]
[null,""]
[null,""]
[null,""]
[null,""]
[null,""]
[null,""]
[null,""]
[null,""]
[null,""]
[null,""]
[null,""]
[null,""]
[null,""]
[null,""]
[null,""]
[null,""]
[null,""]
[null,""]
[null,""]
[null,""]
[null,""]
[null,""]
[null,""]
[null,""]
[null,""]
[null,""]
[null,""]
[null,""]
[null,""]
[null,""]
[null,""]
[null,""]
[null,""]
[null,""]
[null,""]
[null,""]
[null,""]
[null,""]
[null,""]
[null,""]
[null,""]
[null,""]
[null,""]
[null,""]
[null,""]
[null,""]
[null,""]
[null,""]
[null,""]
[null,""]
[null,""]
[null,""]
[null,""]
[null,""]
[null,{"$f":"IF(C9763=0,\"\",C9763-C9762)","v":""}]
[null,""]
[null,""]
[null,""]
[null,""]
[null,""]
[null,""]
[null,""]
[null,""]
[null,""]
[null,""]
[null,""]
[null,""]
[null,""]
[null,""]
[null,""]
[null,""]
[null,""]
[null,""]
[null,""]
[null,""]
[null,""]
[null,""]
[null,""]
[null,""]
[null,""]
[null,""]
[null,""]
[null,""]
[null,""]
[null,""]
[null,""]
[null,""]
[null,""]
[null,""]
[null,""]
[null,""]
[null,""]
[null,""]
[null,""]
[null,""]
[null,""]
[null,""]
[null,""]
[null,""]
[null,""]
[null,""]
[null,""]
[null,""]
[null,""]
[null,""]
[null,""]
[null,""]
[null,""]
[null,""]
[null,""]
[null,""]
[null,""]
[null,""]
[null,""]
[null,""]
[null,""]
[null,""]
[null,""]
[null,{"$f":"IF(C9827=0,\"\",C9827-C9826)","v":""}]
[null,""]
[null,""]
[null,""]
[null,""]
[null,""]
[null,""]
[null,""]
[null,""]
[null,""]
[null,""]
[null,""]
[null,""]
[null,""]
[null,""]
[null,""]
[null,""]
[null,""]
[null,""]
[null,""]
[null,""]
[null,""]
[null,""]
[null,""]
[null,""]
[null,""]
[null,""]
[null,""]
[null,""]
[null,""]
[null,""]
[null,""]
[null,""]
[null,""]
[null,""]
[null,""]
[null,""]
[null,""]
[null,""]
[null,""]
[null,""]
[null,""]
[null,""]
[null,""]
[null,""]
[null,""]
[null,""]
[null,""]
[null,""]
[null,""]
[null,""]
[null,""]
[null,""]
[null,""]
[null,""]
[null,""]
[null,""]
[null,""]
[null,""]
[null,""]
[null,""]
[null,""]
[null,""]
[null,""]
[null,{"$f":"IF(C9891=0,\"\",C9891-C9890)","v":""}]
[null,""]
[null,""]
[null,""]
[null,""]
[null,""]
[null,""]
[null,""]
[null,""]
[null,""]
[null,""]
[null,""]
[null,""]
[null,""]
[null,""]
[null,""]
[null,""]
[null,""]
[null,""]
[null,""]
[null,""]
[null,""]
[null,""]
[null,""]
[null,""]
[null,""]
[null,""]
[null,""]
[null,""]
[null,""]
[null,""]
[null,""]
[null,""]
[null,""]
[null,""]
[null,""]
[null,""]
[null,""]
[null,""]
[null,""]
[null,""]
[null,""]
[null,""]
[null,""]
[null,""]
[null,""]
[null,""]
[null,""]
[null,""]
[null,""]
[null,""]
[null,""]
[null,""]
[null,""]
[null,""]
[null,""]
[null,""]
[null,""]
[null,""]
[null,""]
[null,""]
[null,""]
[null,""]
[null,""]
[null,{"$f":"IF(C9955=0,\"\",C9955-C9954)","v":""}]
[null,""]
[null,""]
[null,""]
[null,""]
[null,""]
[null,""]
[null,""]
[null,""]
[null,""]
[null,""]
[null,""]
[null,""]
[null,""]
[null,""]
[null,""]
[null,""]
[null,""]
[null,""]
[null,""]
[null,""]
[null,""]
[null,""]
[null,""]
[null,""]
[null,""]
[null,""]
[null,""]
[null,""]
[null,""]
[null,""]
[null,""]
[null,""]
[null,""]
[null,""]
[null,""]
[null,""]
[null,""]
[null,""]
[null,""]
[null,""]
[null,""]
[null,""]
[null,""]
[null,""]
[null,""]
[null,""]
[null,""]
[null,""]
[null,""]
[null,""]
[null,""]
[null,""]
[null,""]
[null,""]
[null,""]
[null,""]
[null,""]
[null,""]
[null,""]
[null,""]
[null,""]
[null,""]
[null,""]
[null,{"$f":"IF(C10019=0,\"\",C10019-C10018)","v":""}]
[null,""]
[null,""]
[null,""]
[null,""]
[null,""]
[null,""]
[null,""]
[null,""]
[null,""]
[null,""]
[null,""]
[null,""]
[null,""]
[null,""]
[null,""]
[null,""]
[null,""]
[null,""]
[null,""]
[null,""]
[null,""]
[null,""]
[null,""]
[null,""]
[null,""]
[null,""]
[null,""]
[null,""]
[null,""]
[null,""]
[null,""]
[null,""]
[null,""]
[null,""]
[null,""]
[null,""]
[null,""]
[null,""]
[null,""]
[null,""]
[null,""]
[null,""]
[null,""]
[null,""]
[null,""]
[null,""]
[null,""]
[null,""]
[null,""]
[null,""]
[null,""]
[null,""]
[null,""]
[null,""]
[null,""]
[null,""]
[null,""]
[null,""]
[null,""]
[null,""]
[null,""]
[null,""]
[null,""]
[null,{"$f":"IF(C10083=0,\"\",C10083-C10082)","v":""}]
[null,""]
[null,""]
[null,""]
[null,""]
[null,""]
[null,""]
[null,{"$f":"IF(C10090=0,\"\",C10090-C10089)","v":""}]

{"sheet":"Condition 6","index":10,"n_rows":10089,"n_cols":30,"rows_kept":10089,"cut":false,"hidden":true,"merged":[[205,0,205,3],[206,0,210,1],[206,2,206,3],[207,2,207,3],[208,2,208,3],[209,2,209,3],[210,2,210,3],[211,0,211,3],[212,0,216,1],[212,2,212,3],[213,2,213,3],[214,2,214,3],[215,2,215,3],[216,2,216,3],[193,0,193,3],[194,0,198,1],[194,2,194,3],[195,2,195,3],[196,2,196,3],[197,2,197,3],[198,2,198,3],[199,0,199,3],[200,0,204,1],[200,2,200,3],[201,2,201,3],[202,2,202,3],[203,2,203,3],[204,2,204,3],[181,0,181,3],[182,0,186,1],[182,2,182,3],[183,2,183,3],[184,2,184,3],[185,2,185,3],[186,2,186,3],[187,0,187,3],[188,0,192,1],[188,2,188,3],[189,2,189,3],[190,2,190,3],[191,2,191,3],[192,2,192,3],[169,0,169,3],[170,0,174,1],[170,2,170,3],[171,2,171,3],[172,2,172,3],[173,2,173,3],[174,2,174,3],[175,0,175,3],[176,0,180,1],[176,2,176,3],[177,2,177,3],[178,2,178,3],[179,2,179,3],[180,2,180,3],[159,2,159,3],[160,2,160,3],[161,2,161,3],[162,2,162,3],[163,0,163,3],[164,0,168,1],[164,2,164,3],[165,2,165,3],[166,2,166,3],[167,2,167,3],[168,2,168,3],[247,5,248,5],[247,8,248,8],[247,17,248,17],[225,0,225,3],[217,0,217,6],[218,0,218,3],[219,0,219,3],[151,0,151,3],[152,0,156,1],[152,2,152,3],[223,0,223,3],[224,0,224,3],[232,0,232,3],[239,0,239,6],[240,0,240,3],[241,0,241,3],[242,0,242,3],[243,0,243,3],[226,0,226,3],[230,0,230,3],[231,0,231,3],[157,0,157,3],[158,0,162,1],[158,2,158,3],[133,0,133,3],[134,0,138,1],[134,2,134,3],[135,2,135,3],[136,2,136,3],[137,2,137,3],[138,2,138,3],[156,2,156,3],[139,0,139,3],[140,0,144,1],[140,2,140,3],[141,2,141,3],[142,2,142,3],[143,2,143,3],[144,2,144,3],[145,0,145,3],[146,0,150,1],[146,2,146,3],[147,2,147,3],[148,2,148,3],[149,2,149,3],[150,2,150,3],[5,0,5,2],[5,3,5,6],[6,0,6,6],[7,0,8,0],[10,0,10,3],[0,0,0,6],[2,0,2,2],[2,3,2,6],[3,0,3,2],[3,3,3,6],[4,0,4,2],[4,3,4,6],[1,0,1,2],[1,3,1,6],[11,0,12,2],[13,0,14,2],[15,0,16,2],[17,0,18,2],[19,0,20,2],[21,0,22,1],[21,2,21,3],[22,2,22,3],[26,0,29,2],[44,0,45,0],[44,1,44,3],[45,1,45,3],[23,0,23,6],[24,0,24,3],[24,5,24,6],[25,0,25,3],[25,5,25,6],[26,5,26,6],[27,5,27,6],[28,5,28,6],[29,5,29,6],[37,0,37,3],[38,0,39,0],[38,1,38,3],[39,1,39,3],[40,0,41,0],[40,1,40,3],[41,1,41,3],[42,0,43,0],[42,1,42,3],[43,1,43,3],[35,0,35,3],[30,0,31,2],[30,5,30,6],[31,5,31,6],[32,0,32,6],[33,0,33,3],[34,0,34,3],[34,4,34,6],[36,0,36,3],[112,2,112,3],[113,2,113,3],[46,0,46,3],[47,0,47,3],[48,0,49,0],[48,1,48,3],[49,1,49,3],[50,0,51,0],[50,1,50,3],[51,1,51,3],[52,0,53,0],[52,1,52,3],[53,1,53,3],[54,0,55,0],[54,1,54,3],[55,1,55,3],[56,0,56,3],[97,0,97,3],[98,0,102,1],[98,2,98,3],[99,2,99,3],[100,2,100,3],[101,2,101,3],[102,2,102,3],[103,0,103,3],[104,0,108,1],[104,2,104,3],[105,2,105,3],[106,2,106,3],[107,2,107,3],[108,2,108,3],[246,27,246,29],[244,0,244,6],[245,3,245,12],[245,13,245,14],[245,15,245,29],[246,3,246,5],[246,6,246,8],[246,9,246,11],[246,15,246,17],[246,19,246,22],[246,23,246,26],[128,0,132,1],[128,2,128,3],[129,2,129,3],[130,2,130,3],[131,2,131,3],[132,2,132,3],[127,0,127,3],[57,0,57,3],[58,0,59,0],[58,1,58,3],[59,1,59,3],[60,0,61,0],[60,1,60,3],[61,1,61,3],[62,0,63,0],[62,1,62,3],[63,1,63,3],[114,2,114,3],[115,0,115,3],[116,0,120,1],[116,2,116,3],[117,2,117,3],[118,2,118,3],[96,0,96,3],[110,0,114,1],[120,2,120,3],[121,0,121,3],[122,0,126,1],[122,2,122,3],[123,2,123,3],[124,2,124,3],[125,2,125,3],[126,2,126,3],[119,2,119,3],[110,2,110,3],[111,2,111,3],[229,0,229,3],[220,0,220,3],[221,0,221,3],[222,0,222,3],[70,0,71,0],[70,1,70,3],[71,1,71,3],[72,0,73,0],[72,1,72,3],[73,1,73,3],[74,0,75,0],[76,0,76,3],[77,0,77,3],[78,0,79,0],[78,1,78,3],[79,1,79,3],[74,1,74,3],[75,1,75,3],[153,2,153,3],[154,2,154,3],[155,2,155,3],[227,0,227,3],[228,0,228,3],[109,0,109,3],[92,0,93,0],[92,1,92,3],[93,1,93,3],[64,0,65,0],[64,1,64,3],[65,1,65,3],[66,0,66,3],[67,0,67,3],[68,0,69,0],[68,1,68,3],[69,1,69,3],[88,1,88,3],[89,1,89,3],[90,0,91,0],[90,1,90,3],[91,1,91,3],[80,0,81,0],[80,1,80,3],[81,1,81,3],[82,0,83,0],[82,1,82,3],[83,1,83,3],[233,0,233,6],[234,0,234,3],[235,0,235,3],[236,0,236,3],[237,0,237,3],[238,0,238,3],[8,7,8,18],[10,7,10,9],[11,7,22,9],[10,10,10,12],[10,13,10,15],[10,16,10,18],[11,10,22,12],[11,13,22,15],[11,16,22,18],[94,0,95,0],[94,1,94,3],[95,1,95,3],[84,0,85,0],[84,1,84,3],[85,1,85,3],[86,0,86,3],[87,0,87,3],[88,0,89,0]]}
[{"$f":"'Test Plan'!$A$79","v":"Condition 6"}]
["AHRI Test Stand Inspection Number",null,null,{"$f":"IF('Test Plan'!$B$3=0,\" \",'Test Plan'!$B$2)","v":"FIACCL-230##-1"}]
["AHRI Test Number",null,null,{"$f":"IF('Test Plan'!$B$3=0,\" \",'Test Plan'!$B$3)","v":"ACCL-230##-1-A"}]
["Model Designation",{"$f":"IF('[2]WCCL-DS2'!B4:D4=0,\" \",'[2]WCCL-DS2'!B4:D4)","v":"DEF"},null,{"$f":"IF('Test Plan'!$B$4=0,\" \",'Test Plan'!$B$4)","v":" "}]
["Manufacturer",{"$f":"IF('[2]WCCL-DS2'!B5:D5=0,\" \",'[2]WCCL-DS2'!B5:D5)","v":43101},null,{"$f":"IF('Test Plan'!$B$5=0,\" \",'Test Plan'!$B$5)","v":" "}]
["Test Date",{"$f":"IF('[2]WCCL-DS2'!B6:D6=0,\" \",'[2]WCCL-DS2'!B6:D6)","v":{"$error":"#REF!"}}]
[]
["Measurement Time","Data Points","Units","Period (min)","Mean Intvl. (s)","Max. Intvl. (s)","Max. Intvl. for Avg. of Data (s)"]
[null,{"$f":"COUNTA(C258:C10089)","v":0},"h:mm:ss:ms",{"$f":"(INDEX(C258:C10089,$B$9)-C258)*24*60","v":{"$error":"#VALUE!"}},{"$f":"D9*60/(B9-1)","v":{"$error":"#VALUE!"}},{"$f":"MAX(B258:B10089)*60*60*24","v":0},{"$f":"D9*60/60","v":{"$error":"#VALUE!"}},"Photographs to confirm compliance with Appendix E of AHRI Standards 550/590 and 551/591"]
[]
["Air and Water Measurements",null,null,null,"Units","Evaporator","Condenser","Chiller Condenser Side 1",null,null,"Chiller Condenser Side 2",null,null,"Chiller Condenser Side 3",null,null,"Chiller Condenser Side 4"]
["Atmospheric Pressure",null,null,"Mean",{"$f":"'Test Plan'!$B$41","v":"kPa"},null,{"$f":"IF(O252=\"Yes\",$O$250,$O$256)","v":{"$error":"#DIV/0!"}},"Photo",null,null,"Photo",null,null,"Photo",null,null,"Photo"]
[null,null,null,"St. Dev.",{"$f":"'Test Plan'!$B$41","v":"kPa"},null,{"$f":"IF(O252=\"Yes\",\"Lab Data\",$O$257)","v":{"$error":"#DIV/0!"}}]
["Leaving Water Temperature",null,null,"Mean",{"$f":"'Test Conditions'!$B$18","v":"°C"},{"$f":"IF(F252=\"Yes\",$F$250,$F$256)","v":{"$error":"#DIV/0!"}}]
[null,null,null,"St. Dev.",{"$f":"'Test Conditions'!$B$18","v":"°C"},{"$f":"IF(F252=\"Yes\",\"Lab Data\",$F$257)","v":{"$error":"#DIV/0!"}}]
["Entering Db Air and Water Temperatures",null,null,"Mean",{"$f":"'Test Conditions'!$B$19","v":"°C"},{"$f":"IF(I252=\"Yes\",$I$250,$I$256)","v":{"$error":"#DIV/0!"}},{"$f":"IF(N252=\"Yes\",$N$250,$N$256)","v":{"$error":"#DIV/0!"}}]
[null,null,null,"St. Dev.",{"$f":"'Test Conditions'!$B$19","v":"°C"},{"$f":"IF(I252=\"Yes\",\"Lab Data\",$I$257)","v":{"$error":"#DIV/0!"}},{"$f":"IF(N252=\"Yes\",\"Lab Data\",$N$257)","v":{"$error":"#DIV/0!"}}]
["Water Flow Rate",null,null,"Mean",{"$f":"'Test Conditions'!$B$20","v":"m³/h"},{"$f":"$L$256","v":{"$error":"#DIV/0!"}}]
[null,null,null,"St. Dev.",{"$f":"'Test Conditions'!$B$20","v":"m³/h"},{"$f":"$L$257","v":{"$error":"#DIV/0!"}}]
["Water Pressure Drop",null,null,"Mean",{"$f":"'Test Plan'!$B$127","v":"kPa"},{"$f":"IF('Test Plan'!$B$19=\"I-P\",IF(M252=\"Yes\",$M$250/0.4331,$M$256/0.4331),IF(M252=\"Yes\",$M$250,$M$256))","v":{"$error":"#DIV/0!"}}]
[null,null,null,"St. Dev.",{"$f":"'Test Plan'!$B$127","v":"kPa"},{"$f":"IF(M252=\"Yes\",\"Lab Data\",IF('Test Plan'!$B$19=\"I-P\",$M$257/0.4331,$M$257))","v":{"$error":"#DIV/0!"}}]
[null,null,"Correction (∆padj)",null,{"$f":"'Test Plan'!$B$127","v":"kPa"}]
[null,null,"Corrected (∆pcorrected)",null,{"$f":"'Test Plan'!$B$127","v":"kPa"},{"$f":"F20-F22","v":{"$error":"#DIV/0!"}}]
[]
["Electrical Measurements",null,null,null,"Units","Total"]
["Power",null,null,null,"kW",{"$f":"IF(R252=\"Yes\",$R$250,$R$256)","v":{"$error":"#DIV/0!"}}]
["Voltage",null,null,"Mean","V",{"$f":"IF(R252=\"Yes\",\"Lab Data\",$S$256)","v":{"$error":"#DIV/0!"}}]
[null,null,null,"St. Dev.",{"$f":"E27","v":"V"},{"$f":"IF(R252=\"Yes\",\"Lab Data\",$S$257)","v":{"$error":"#DIV/0!"}}]
[null,null,null,"V1 Balance","%",{"$f":"IF(R252=\"Yes\",\"Lab Data\",ROUND(MAX(ABS($U$256-$T$256),ABS($V$256-$T$256),ABS($W$256-$T$256))/$T$256,4-(1+INT(LOG10(ABS(MAX(ABS($U$256-$T$256),ABS($V$256-$T$256),ABS($W$256-$T$256))/$T$256))))))","v":{"$error":"#DIV/0!"}}]
[null,null,null,"V2 Balance","%",{"$f":"IF(R252=\"Yes\",\"Lab Data\",ROUND(MAX(ABS($Y$256-$X$256),ABS($Z$256-$X$256),ABS($AA$256-$X$256))/$X$256,4-(1+INT(LOG10(ABS(MAX(ABS($Y$256-$X$256),ABS($Z$256-$X$256),ABS($AA$256-$X$256))/$X$256))))))","v":{"$error":"#DIV/0!"}}]
["Frequency",null,null,"Mean","Hz",{"$f":"IF(R252=\"Yes\",\"Lab Data\",$AB$256)","v":{"$error":"#DIV/0!"}}]
[null,null,null,"St. Dev.",{"$f":"E31","v":"Hz"},{"$f":"IF(R252=\"Yes\",\"Lab Data\",$AB$257)","v":{"$error":"#DIV/0!"}}]
[]
["Air Temperature Measurement",null,null,null,"Units",null,"Condenser"]
["Measurement Method"]
["# of Aspirating Psychrometers",null,null,null,"#"]
["Aspirating Psychrometer #1, Mean Air Temperature",null,null,null,{"$f":"'Test Conditions'!$B$19","v":"°C"}]
["# of Air Sampling Trees on Aspirating Psychrometer #1",null,null,null,"#",null,4]
["#1-A\nTemperatures","Air Sampling Tree Thermopile Grid",null,null,{"$f":"'Test Conditions'!$B$19","v":"°C"}]
[null,"Recirculation Thermocouple",null,null,{"$f":"'Test Conditions'!$B$19","v":"°C"}]
["#1-B\nTemperatures","Air Sampling Tree Thermopile Grid",null,null,{"$f":"'Test Conditions'!$B$19","v":"°C"}]
[null,"Recirculation Thermocouple",null,null,{"$f":"'Test Conditions'!$B$19","v":"°C"}]
["#1-C\nTemperatures","Air Sampling Tree Thermopile Grid",null,null,{"$f":"'Test Conditions'!$B$19","v":"°C"}]
[null,"Recirculation Thermocouple",null,null,{"$f":"'Test Conditions'!$B$19","v":"°C"}]
["#1-D\nTemperatures","Air Sampling Tree Thermopile Grid",null,null,{"$f":"'Test Conditions'!$B$19","v":"°C"}]
[null,"Recirculation Thermocouple",null,null,{"$f":"'Test Conditions'!$B$19","v":"°C"}]
["Aspirating Psychrometer #2, Mean Air Temperature",null,null,null,{"$f":"'Test Conditions'!$B$19","v":"°C"}]
["# of Air Sampling Trees on Aspirating Psychrometer #2",null,null,null,"#",null,4]
["#2-A\nTemperatures","Air Sampling Tree Thermopile Grid",null,null,{"$f":"'Test Conditions'!$B$19","v":"°C"}]
[null,"Recirculation Thermocouple",null,null,{"$f":"'Test Conditions'!$B$19","v":"°C"}]
["#2-B\nTemperatures","Air Sampling Tree Thermopile Grid",null,null,{"$f":"'Test Conditions'!$B$19","v":"°C"}]
[null,"Recirculation Thermocouple",null,null,{"$f":"'Test Conditions'!$B$19","v":"°C"}]
["#2-C\nTemperatures","Air Sampling Tree Thermopile Grid",null,null,{"$f":"'Test Conditions'!$B$19","v":"°C"}]
[null,"Recirculation Thermocouple",null,null,{"$f":"'Test Conditions'!$B$19","v":"°C"}]
["#2-D\nTemperatures","Air Sampling Tree Thermopile Grid",null,null,{"$f":"'Test Conditions'!$B$19","v":"°C"}]
[null,"Recirculation Thermocouple",null,null,{"$f":"'Test Conditions'!$B$19","v":"°C"}]
["Aspirating Psychrometer #3, Mean Air Temperature",null,null,null,{"$f":"'Test Conditions'!$B$19","v":"°C"}]
["# of Air Sampling Trees on Aspirating Psychrometer #3",null,null,null,"#",null,4]
["#3-A\nTemperatures","Air Sampling Tree Thermopile Grid",null,null,{"$f":"'Test Conditions'!$B$19","v":"°C"}]
[null,"Recirculation Thermocouple",null,null,{"$f":"'Test Conditions'!$B$19","v":"°C"}]
["#3-B\nTemperatures","Air Sampling Tree Thermopile Grid",null,null,{"$f":"'Test Conditions'!$B$19","v":"°C"}]
[null,"Recirculation Thermocouple",null,null,{"$f":"'Test Conditions'!$B$19","v":"°C"}]
["#3-C\nTemperatures","Air Sampling Tree Thermopile Grid",null,null,{"$f":"'Test Conditions'!$B$19","v":"°C"}]
[null,"Recirculation Thermocouple",null,null,{"$f":"'Test Conditions'!$B$19","v":"°C"}]
["#3-D\nTemperatures","Air Sampling Tree Thermopile Grid",null,null,{"$f":"'Test Conditions'!$B$19","v":"°C"}]
[null,"Recirculation Thermocouple",null,null,{"$f":"'Test Conditions'!$B$19","v":"°C"}]
["Aspirating Psychrometer #4, Mean Air Temperature",null,null,null,{"$f":"'Test Conditions'!$B$19","v":"°C"}]
["# of Air Sampling Trees on Aspirating Psychrometer #4",null,null,null,"#",null,4]
["#4-A\nTemperatures","Air Sampling Tree Thermopile Grid",null,null,{"$f":"'Test Conditions'!$B$19","v":"°C"}]
[null,"Recirculation Thermocouple",null,null,{"$f":"'Test Conditions'!$B$19","v":"°C"}]
["#4-B\nTemperatures","Air Sampling Tree Thermopile Grid",null,null,{"$f":"'Test Conditions'!$B$19","v":"°C"}]
[null,"Recirculation Thermocouple",null,null,{"$f":"'Test Conditions'!$B$19","v":"°C"}]
["#4-C\nTemperatures","Air Sampling Tree Thermopile Grid",null,null,{"$f":"'Test Conditions'!$B$19","v":"°C"}]
[null,"Recirculation Thermocouple",null,null,{"$f":"'Test Conditions'!$B$19","v":"°C"}]
["#4-D\nTemperatures","Air Sampling Tree Thermopile Grid",null,null,{"$f":"'Test Conditions'!$B$19","v":"°C"}]
[null,"Recirculation Thermocouple",null,null,{"$f":"'Test Conditions'!$B$19","v":"°C"}]
["Aspirating Psychrometer #5, Mean Air Temperature",null,null,null,{"$f":"'Test Conditions'!$B$19","v":"°C"}]
["# of Air Sampling Trees on Aspirating Psychrometer #5",null,null,null,"#",null,4]
["#5-A\nTemperatures","Air Sampling Tree Thermopile Grid",null,null,{"$f":"'Test Conditions'!$B$19","v":"°C"}]
[null,"Recirculation Thermocouple",null,null,{"$f":"'Test Conditions'!$B$19","v":"°C"}]
["#5-B\nTemperatures","Air Sampling Tree Thermopile Grid",null,null,{"$f":"'Test Conditions'!$B$19","v":"°C"}]
[null,"Recirculation Thermocouple",null,null,{"$f":"'Test Conditions'!$B$19","v":"°C"}]
["#5-C\nTemperatures","Air Sampling Tree Thermopile Grid",null,null,{"$f":"'Test Conditions'!$B$19","v":"°C"}]
[null,"Recirculation Thermocouple",null,null,{"$f":"'Test Conditions'!$B$19","v":"°C"}]
["#5-D\nTemperatures","Air Sampling Tree Thermopile Grid",null,null,{"$f":"'Test Conditions'!$B$19","v":"°C"}]
[null,"Recirculation Thermocouple",null,null,{"$f":"'Test Conditions'!$B$19","v":"°C"}]
["Aspirating Psychrometer #6, Mean Air Temperature",null,null,null,{"$f":"'Test Conditions'!$B$19","v":"°C"}]
["# of Air Sampling Trees on Aspirating Psychrometer #6",null,null,null,"#",null,4]
["#6-A\nTemperatures","Air Sampling Tree Thermopile Grid",null,null,{"$f":"'Test Conditions'!$B$19","v":"°C"}]
[null,"Recirculation Thermocouple",null,null,{"$f":"'Test Conditions'!$B$19","v":"°C"}]
["#6-B\nTemperatures","Air Sampling Tree Thermopile Grid",null,null,{"$f":"'Test Conditions'!$B$19","v":"°C"}]
[null,"Recirculation Thermocouple",null,null,{"$f":"'Test Conditions'!$B$19","v":"°C"}]
["#6-C\nTemperatures","Air Sampling Tree Thermopile Grid",null,null,{"$f":"'Test Conditions'!$B$19","v":"°C"}]
[null,"Recirculation Thermocouple",null,null,{"$f":"'Test Conditions'!$B$19","v":"°C"}]
["#6-D\nTemperatures","Air Sampling Tree Thermopile Grid",null,null,{"$f":"'Test Conditions'!$B$19","v":"°C"}]
[null,"Recirculation Thermocouple",null,null,{"$f":"'Test Conditions'!$B$19","v":"°C"}]
["# of Air Sampling Arrays",null,null,null,"#"]
["Air Sampling Array #1, Mean Air Temperature",null,null,null,{"$f":"'Test Conditions'!$B$19","v":"°C"},null,{"$f":"AVERAGE(G99:G102)","v":{"$error":"#DIV/0!"}}]
["Air Sampling Array Individual \nMeasurement Temperatures",null,"#1-A",null,{"$f":"'Test Conditions'!$B$19","v":"°C"}]
[null,null,"#1-B",null,{"$f":"'Test Conditions'!$B$19","v":"°C"}]
[null,null,"#1-C",null,{"$f":"'Test Conditions'!$B$19","v":"°C"}]
[null,null,"#1-D",null,{"$f":"'Test Conditions'!$B$19","v":"°C"}]
[null,null,"Recirculation Thermocouple",null,{"$f":"'Test Conditions'!$B$19","v":"°C"}]
["Air Sampling Array #2, Mean Air Temperature",null,null,null,{"$f":"'Test Conditions'!$B$19","v":"°C"},null,{"$f":"AVERAGE(G105:G108)","v":{"$error":"#DIV/0!"}}]
["Air Sampling Array Individual \nMeasurement Temperatures",null,"#2-A",null,{"$f":"'Test Conditions'!$B$19","v":"°C"}]
[null,null,"#2-B",null,{"$f":"'Test Conditions'!$B$19","v":"°C"}]
[null,null,"#2-C",null,{"$f":"'Test Conditions'!$B$19","v":"°C"}]
[null,null,"#2-D",null,{"$f":"'Test Conditions'!$B$19","v":"°C"}]
[null,null,"Recirculation Thermocouple",null,{"$f":"'Test Conditions'!$B$19","v":"°C"}]
["Air Sampling Array #3, Mean Air Temperature",null,null,null,{"$f":"'Test Conditions'!$B$19","v":"°C"},null,{"$f":"AVERAGE(G111:G114)","v":{"$error":"#DIV/0!"}}]
["Air Sampling Array Individual \nMeasurement Temperatures",null,"#3-A",null,{"$f":"'Test Conditions'!$B$19","v":"°C"}]
[null,null,"#3-B",null,{"$f":"'Test Conditions'!$B$19","v":"°C"}]
[null,null,"#3-C",null,{"$f":"'Test Conditions'!$B$19","v":"°C"}]
[null,null,"#3-D",null,{"$f":"'Test Conditions'!$B$19","v":"°C"}]
[null,null,"Recirculation Thermocouple",null,{"$f":"'Test Conditions'!$B$19","v":"°C"}]
["Air Sampling Array #4, Mean Air Temperature",null,null,null,{"$f":"'Test Conditions'!$B$19","v":"°C"},null,{"$f":"AVERAGE(G117:G120)","v":{"$error":"#DIV/0!"}}]
["Air Sampling Array Individual \nMeasurement Temperatures",null,"#4-A",null,{"$f":"'Test Conditions'!$B$19","v":"°C"}]
[null,null,"#4-B",null,{"$f":"'Test Conditions'!$B$19","v":"°C"}]
[null,null,"#4-C",null,{"$f":"'Test Conditions'!$B$19","v":"°C"}]
[null,null,"#4-D",null,{"$f":"'Test Conditions'!$B$19","v":"°C"}]
[null,null,"Recirculation Thermocouple",null,{"$f":"'Test Conditions'!$B$19","v":"°C"}]
["Air Sampling Array #5, Mean Air Temperature",null,null,null,{"$f":"'Test Conditions'!$B$19","v":"°C"},null,{"$f":"AVERAGE(G123:G126)","v":{"$error":"#DIV/0!"}}]
["Air Sampling Array Individual \nMeasurement Temperatures",null,"#5-A",null,{"$f":"'Test Conditions'!$B$19","v":"°C"}]
[null,null,"#5-B",null,{"$f":"'Test Conditions'!$B$19","v":"°C"}]
[null,null,"#5-C",null,{"$f":"'Test Conditions'!$B$19","v":"°C"}]
[null,null,"#5-D",null,{"$f":"'Test Conditions'!$B$19","v":"°C"}]
[null,null,"Recirculation Thermocouple",null,{"$f":"'Test Conditions'!$B$19","v":"°C"}]
["Air Sampling Array #6, Mean Air Temperature",null,null,null,{"$f":"'Test Conditions'!$B$19","v":"°C"},null,{"$f":"AVERAGE(G129:G132)","v":{"$error":"#DIV/0!"}}]
["Air Sampling Array Individual \nMeasurement Temperatures",null,"#6-A",null,{"$f":"'Test Conditions'!$B$19","v":"°C"}]
[null,null,"#6-B",null,{"$f":"'Test Conditions'!$B$19","v":"°C"}]
[null,null,"#6-C",null,{"$f":"'Test Conditions'!$B$19","v":"°C"}]
[null,null,"#6-D",null,{"$f":"'Test Conditions'!$B$19","v":"°C"}]
[null,null,"Recirculation Thermocouple",null,{"$f":"'Test Conditions'!$B$19","v":"°C"}]
["Air Sampling Array #7, Mean Air Temperature",null,null,null,{"$f":"'Test Conditions'!$B$19","v":"°C"},null,{"$f":"AVERAGE(G135:G138)","v":{"$error":"#DIV/0!"}}]
["Air Sampling Array Individual \nMeasurement Temperatures",null,"#7-A",null,{"$f":"'Test Conditions'!$B$19","v":"°C"}]
[null,null,"#7-B",null,{"$f":"'Test Conditions'!$B$19","v":"°C"}]
[null,null,"#7-C",null,{"$f":"'Test Conditions'!$B$19","v":"°C"}]
[null,null,"#7-D",null,{"$f":"'Test Conditions'!$B$19","v":"°C"}]
[null,null,"Recirculation Thermocouple",null,{"$f":"'Test Conditions'!$B$19","v":"°C"}]
["Air Sampling Array #8, Mean Air Temperature",null,null,null,{"$f":"'Test Conditions'!$B$19","v":"°C"},null,{"$f":"AVERAGE(G141:G144)","v":{"$error":"#DIV/0!"}}]
["Air Sampling Array Individual \nMeasurement Temperatures",null,"#8-A",null,{"$f":"'Test Conditions'!$B$19","v":"°C"}]
[null,null,"#8-B",null,{"$f":"'Test Conditions'!$B$19","v":"°C"}]
[null,null,"#8-C",null,{"$f":"'Test Conditions'!$B$19","v":"°C"}]
[null,null,"#8-D",null,{"$f":"'Test Conditions'!$B$19","v":"°C"}]
[null,null,"Recirculation Thermocouple",null,{"$f":"'Test Conditions'!$B$19","v":"°C"}]
["Air Sampling Array #9, Mean Air Temperature",null,null,null,{"$f":"'Test Conditions'!$B$19","v":"°C"},null,{"$f":"AVERAGE(G147:G150)","v":{"$error":"#DIV/0!"}}]
["Air Sampling Array Individual \nMeasurement Temperatures",null,"#9-A",null,{"$f":"'Test Conditions'!$B$19","v":"°C"}]
[null,null,"#9-B",null,{"$f":"'Test Conditions'!$B$19","v":"°C"}]
[null,null,"#9-C",null,{"$f":"'Test Conditions'!$B$19","v":"°C"}]
[null,null,"#9-D",null,{"$f":"'Test Conditions'!$B$19","v":"°C"}]
[null,null,"Recirculation Thermocouple",null,{"$f":"'Test Conditions'!$B$19","v":"°C"}]
["Air Sampling Array #10, Mean Air Temperature",null,null,null,{"$f":"'Test Conditions'!$B$19","v":"°C"},null,{"$f":"AVERAGE(G153:G156)","v":{"$error":"#DIV/0!"}}]
["Air Sampling Array Individual \nMeasurement Temperatures",null,"#10-A",null,{"$f":"'Test Conditions'!$B$19","v":"°C"}]
[null,null,"#10-B",null,{"$f":"'Test Conditions'!$B$19","v":"°C"}]
[null,null,"#10-C",null,{"$f":"'Test Conditions'!$B$19","v":"°C"}]
[null,null,"#10-D",null,{"$f":"'Test Conditions'!$B$19","v":"°C"}]
[null,null,"Recirculation Thermocouple",null,{"$f":"'Test Conditions'!$B$19","v":"°C"}]
["Air Sampling Array #11, Mean Air Temperature",null,null,null,{"$f":"'Test Conditions'!$B$19","v":"°C"},null,{"$f":"AVERAGE(G159:G162)","v":{"$error":"#DIV/0!"}}]
["Air Sampling Array Individual \nMeasurement Temperatures",null,"#11-A",null,{"$f":"'Test Conditions'!$B$19","v":"°C"}]
[null,null,"#11-B",null,{"$f":"'Test Conditions'!$B$19","v":"°C"}]
[null,null,"#11-C",null,{"$f":"'Test Conditions'!$B$19","v":"°C"}]
[null,null,"#11-D",null,{"$f":"'Test Conditions'!$B$19","v":"°C"}]
[null,null,"Recirculation Thermocouple",null,{"$f":"'Test Conditions'!$B$19","v":"°C"}]
["Air Sampling Array #12, Mean Air Temperature",null,null,null,{"$f":"'Test Conditions'!$B$19","v":"°C"},null,{"$f":"AVERAGE(G165:G168)","v":{"$error":"#DIV/0!"}}]
["Air Sampling Array Individual \nMeasurement Temperatures",null,"#12-A",null,{"$f":"'Test Conditions'!$B$19","v":"°C"}]
[null,null,"#12-B",null,{"$f":"'Test Conditions'!$B$19","v":"°C"}]
[null,null,"#12-C",null,{"$f":"'Test Conditions'!$B$19","v":"°C"}]
[null,null,"#12-D",null,{"$f":"'Test Conditions'!$B$19","v":"°C"}]
[null,null,"Recirculation Thermocouple",null,{"$f":"'Test Conditions'!$B$19","v":"°C"}]
["Air Sampling Array #13, Mean Air Temperature",null,null,null,{"$f":"'Test Conditions'!$B$19","v":"°C"},null,{"$f":"AVERAGE(G171:G174)","v":{"$error":"#DIV/0!"}}]
["Air Sampling Array Individual \nMeasurement Temperatures",null,"#13-A",null,{"$f":"'Test Conditions'!$B$19","v":"°C"}]
[null,null,"#13-B",null,{"$f":"'Test Conditions'!$B$19","v":"°C"}]
[null,null,"#13-C",null,{"$f":"'Test Conditions'!$B$19","v":"°C"}]
[null,null,"#13-D",null,{"$f":"'Test Conditions'!$B$19","v":"°C"}]
[null,null,"Recirculation Thermocouple",null,{"$f":"'Test Conditions'!$B$19","v":"°C"}]
["Air Sampling Array #14, Mean Air Temperature",null,null,null,{"$f":"'Test Conditions'!$B$19","v":"°C"},null,{"$f":"AVERAGE(G177:G180)","v":{"$error":"#DIV/0!"}}]
["Air Sampling Array Individual \nMeasurement Temperatures",null,"#14-A",null,{"$f":"'Test Conditions'!$B$19","v":"°C"}]
[null,null,"#14-B",null,{"$f":"'Test Conditions'!$B$19","v":"°C"}]
[null,null,"#14-C",null,{"$f":"'Test Conditions'!$B$19","v":"°C"}]
[null,null,"#14-D",null,{"$f":"'Test Conditions'!$B$19","v":"°C"}]
[null,null,"Recirculation Thermocouple",null,{"$f":"'Test Conditions'!$B$19","v":"°C"}]
["Air Sampling Array #15, Mean Air Temperature",null,null,null,{"$f":"'Test Conditions'!$B$19","v":"°C"},null,{"$f":"AVERAGE(G183:G186)","v":{"$error":"#DIV/0!"}}]
["Air Sampling Array Individual \nMeasurement Temperatures",null,"#15-A",null,{"$f":"'Test Conditions'!$B$19","v":"°C"}]
[null,null,"#15-B",null,{"$f":"'Test Conditions'!$B$19","v":"°C"}]
[null,null,"#15-C",null,{"$f":"'Test Conditions'!$B$19","v":"°C"}]
[null,null,"#15-D",null,{"$f":"'Test Conditions'!$B$19","v":"°C"}]
[null,null,"Recirculation Thermocouple",null,{"$f":"'Test Conditions'!$B$19","v":"°C"}]
["Air Sampling Array #16, Mean Air Temperature",null,null,null,{"$f":"'Test Conditions'!$B$19","v":"°C"},null,{"$f":"AVERAGE(G189:G192)","v":{"$error":"#DIV/0!"}}]
["Air Sampling Array Individual \nMeasurement Temperatures",null,"#16-A",null,{"$f":"'Test Conditions'!$B$19","v":"°C"}]
[null,null,"#16-B",null,{"$f":"'Test Conditions'!$B$19","v":"°C"}]
[null,null,"#16-C",null,{"$f":"'Test Conditions'!$B$19","v":"°C"}]
[null,null,"#16-D",null,{"$f":"'Test Conditions'!$B$19","v":"°C"}]
[null,null,"Recirculation Thermocouple",null,{"$f":"'Test Conditions'!$B$19","v":"°C"}]
["Air Sampling Array #17, Mean Air Temperature",null,null,null,{"$f":"'Test Conditions'!$B$19","v":"°C"},null,{"$f":"AVERAGE(G195:G198)","v":{"$error":"#DIV/0!"}}]
["Air Sampling Array Individual \nMeasurement Temperatures",null,"#17-A",null,{"$f":"'Test Conditions'!$B$19","v":"°C"}]
[null,null,"#17-B",null,{"$f":"'Test Conditions'!$B$19","v":"°C"}]
[null,null,"#17-C",null,{"$f":"'Test Conditions'!$B$19","v":"°C"}]
[null,null,"#17-D",null,{"$f":"'Test Conditions'!$B$19","v":"°C"}]
[null,null,"Recirculation Thermocouple",null,{"$f":"'Test Conditions'!$B$19","v":"°C"}]
["Air Sampling Array #18, Mean Air Temperature",null,null,null,{"$f":"'Test Conditions'!$B$19","v":"°C"},null,{"$f":"AVERAGE(G201:G204)","v":{"$error":"#DIV/0!"}}]
["Air Sampling Array Individual \nMeasurement Temperatures",null,"#18-A",null,{"$f":"'Test Conditions'!$B$19","v":"°C"}]
[null,null,"#18-B",null,{"$f":"'Test Conditions'!$B$19","v":"°C"}]
[null,null,"#18-C",null,{"$f":"'Test Conditions'!$B$19","v":"°C"}]
[null,null,"#18-D",null,{"$f":"'Test Conditions'!$B$19","v":"°C"}]
[null,null,"Recirculation Thermocouple",null,{"$f":"'Test Conditions'!$B$19","v":"°C"}]
["Air Sampling Array #19, Mean Air Temperature",null,null,null,{"$f":"'Test Conditions'!$B$19","v":"°C"},null,{"$f":"AVERAGE(G207:G210)","v":{"$error":"#DIV/0!"}}]
["Air Sampling Array Individual \nMeasurement Temperatures",null,"#19-A",null,{"$f":"'Test Conditions'!$B$19","v":"°C"}]
[null,null,"#19-B",null,{"$f":"'Test Conditions'!$B$19","v":"°C"}]
[null,null,"#19-C",null,{"$f":"'Test Conditions'!$B$19","v":"°C"}]
[null,null,"#19-D",null,{"$f":"'Test Conditions'!$B$19","v":"°C"}]
[null,null,"Recirculation Thermocouple",null,{"$f":"'Test Conditions'!$B$19","v":"°C"}]
["Air Sampling Array #20, Mean Air Temperature",null,null,null,{"$f":"'Test Conditions'!$B$19","v":"°C"},null,{"$f":"AVERAGE(G213:G216)","v":{"$error":"#DIV/0!"}}]
["Air Sampling Array Individual \nMeasurement Temperatures",null,"#20-A",null,{"$f":"'Test Conditions'!$B$19","v":"°C"}]
[null,null,"#20-B",null,{"$f":"'Test Conditions'!$B$19","v":"°C"}]
[null,null,"#20-C",null,{"$f":"'Test Conditions'!$B$19","v":"°C"}]
[null,null,"#20-D",null,{"$f":"'Test Conditions'!$B$19","v":"°C"}]
[null,null,"Recirculation Thermocouple",null,{"$f":"'Test Conditions'!$B$19","v":"°C"}]
[]
["Atmospheric Pressure Correction",null,null,null,"Units","Evaporator","Condenser"]
["Location of Water Flow Meter Relative to Chiller",null,null,null,"-"]
["Water Temperature (T) for Density",null,null,null,{"$f":"'Test Conditions'!$B$18","v":"°C"},{"$f":"IF($F$220=\"Entering\",$F$16,$F$14)","v":{"$error":"#DIV/0!"}}]
["Water Density (ρ)",null,null,null,{"$f":"IF('Test Plan'!$B$19=\"I-P\",'Unit Conversion'!$B$10,'Unit Conversion'!$C$10)","v":"kg/m³"},{"$f":"IF('Test Plan'!$B$19=\"I-P\",(-0.00000000074704*$F$221^4)+(0.00000052643*$F$221^3)+(-0.00018846*$F$221^2)+(0.012164*$F$221)+62.227,((-0.00000012556*$F$221^4)+(0.000040229*$F$221^3)+(-0.0073948*$F$221^2)+(0.046734*$F$221)+1000.2))","v":{"$error":"#DIV/0!"}}]
["Average Water Temperature (T) for Specific Heat & ∆pcorrected Density",null,null,null,{"$f":"'Test Conditions'!$B$18","v":"°C"},{"$f":"AVERAGE($F$14,$F$16)","v":{"$error":"#DIV/0!"}}]
["Water Specific Heat (cp)",null,null,null,{"$f":"IF('Test Plan'!$B$19=\"I-P\",'Unit Conversion'!$B$13,'Unit Conversion'!$C$13)","v":"kJ/kg·K"},{"$f":"IF('Test Plan'!$B$19=\"I-P\",(-0.00000000000040739*$F$223^5)+(0.00000000031031*$F$223^4)+(-0.000000092501*$F$223^3)+(0.000014071*$F$223^2)+(-0.0010677*$F$223)+1.0295,((-0.00000000003222*$F$223^5)+(0.00000001077*$F$223^4)+(-0.0000013901*$F$223^3)+(0.000094433*$F$223^2)+(-0.0031103*$F$223)+4.216))","v":{"$error":"#DIV/0!"}}]
["Water Density (ρ) for ∆pcorrected",null,null,null,{"$f":"IF('Test Plan'!$B$19=\"I-P\",'Unit Conversion'!$B$10,'Unit Conversion'!$C$10)","v":"kg/m³"},{"$f":"IF('Test Plan'!$B$19=\"I-P\",(-0.00000000074704*$F$223^4)+(0.00000052643*$F$223^3)+(-0.00018846*$F$223^2)+(0.012164*$F$223)+62.227,((-0.00000012556*$F$223^4)+(0.000040229*$F$223^3)+(-0.0073948*$F$223^2)+(0.046734*$F$223)+1000.2))","v":{"$error":"#DIV/0!"}}]
["Water Mass Flow Rate (mw)",null,null,null,{"$f":"IF('Test Plan'!$B$19=\"I-P\",'Unit Conversion'!$B$11,'Unit Conversion'!$C$11)","v":"kg/h"},{"$f":"IF('Test Plan'!$B$19=\"I-P\",$F$18*$F$222/0.124675,$F$18*$F$222)","v":{"$error":"#DIV/0!"}}]
["Gross Refrigeranting Capacity (Q'ev)",null,null,null,{"$f":"'Test Plan'!$B$125","v":"kW"},{"$f":"IF('Test Plan'!$B$19=\"I-P\",$F$226*($F$224*ABS($F$16-$F$14)+(0.18505*$F$23/$F$225*0.4331))/12000,$F$226*($F$224*ABS($F$16-$F$14)+($F$23/$F$225))/3600)","v":{"$error":"#DIV/0!"}}]
["Net Refrigerating Capacity (Qev)",null,null,null,{"$f":"'Test Plan'!$B$125","v":"kW"},{"$f":"IF('Test Plan'!$B$19=\"I-P\",$F$226*($F$224*ABS($F$16-$F$14))/12000,IF('Test Plan'!$B$17=\"EN 14511 and 14825\",$F$226*($F$224*ABS($F$16-$F$14))/3600-$F$238,$F$226*($F$224*ABS($F$16-$F$14))/3600))","v":{"$error":"#DIV/0!"}}]
["Cooling Energy Efficiency",null,null,null,{"$f":"'Test Plan'!$B$126","v":"kW/kW"},{"$f":"IF('Test Plan'!$B$19=\"I-P\",$F$26/$F$228,IF('Test Plan'!$B$17=\"EN 14511 and 14825\",$F$228/($F$26+$F$239),$F$228/$F$26))","v":{"$error":"#DIV/0!"}}]
["Coefficient Correction Factor (Capacity), DQ",null,null,null,"-",null,{"$f":"IF('Test Plan'!$B$19=\"I-P\",0.0011273*$G$12^2-0.041272*$G$12+1.36304,0.000023713*$G$12^2-0.005986*$G$12+1.36304)","v":{"$error":"#DIV/0!"}}]
["Coefficient Correction Factor (Efficiency), Dƞ",null,null,null,"-",null,{"$f":"IF('Test Plan'!$B$19=\"I-P\",0.0024308*$G$12^2-0.090075*$G$12+1.79872,0.000051135*$G$12^2-0.013064*$G$12+1.79872)","v":{"$error":"#DIV/0!"}}]
["Correction Factor (Capacity), CFQ",null,null,null,"-",null,{"$f":"IF('Test Plan'!$B$19=\"I-P\",1+($F$228/'100% Load Condition '!$F$228)*($G$230-1)*EXP(-0.35*(($G$231*(12/'100% Load Condition '!$F$229))-9.6)),1+($F$228/'100% Load Condition '!$F$228)*($G$230-1)*EXP(-0.35*((3.41214*$G$231*'100% Load Condition '!$F$229)-9.6)))","v":{"$error":"#DIV/0!"}}]
["Correction Factor (Efficiency), CFƞ",null,null,null,"-",null,{"$f":"IF('Test Plan'!$B$19=\"I-P\",1+($F$228/'100% Load Condition '!$F$228)*($G$231-1)*EXP(-0.35*(($G$231*(12/'100% Load Condition '!$F$229))-9.6)),1+($F$228/'100% Load Condition '!$F$228)*($G$231-1)*EXP(-0.35*((3.41214*$G$231*'100% Load Condition '!$F$229)-9.6)))","v":{"$error":"#DIV/0!"}}]
[]
["Pump Power Correction",null,null,null,"Units","Evaporator"]
["Hydraulic Pump Power (Phyd)",null,null,null,"W",{"$f":"($F$18/(60*60))*$F$23*1000","v":{"$error":"#DIV/0!"}}]
["Pump Efficiency (η)",null,null,null,"kW/kW",{"$f":"IF($F$236<=300,((0.35844*$F$236)/(1.7*$F$236+17*(1-EXP(-0.3*$F$236))))*(0.49/0.23),IF($F$236<=500,0.0721*$F$236^0.3183,0.092*LN($F$236)-0.0403))","v":{"$error":"#DIV/0!"}}]
["Pump Capacity Correction",null,null,null,"kW",{"$f":"IF($F$236<=0.3,($F$18/(60*60))*($F$23)*((1-$F$237)/$F$237),($F$18/(60*60))*($F$23)*((0.88-$F$237)/$F$237))","v":{"$error":"#DIV/0!"}}]
["Pump Power Correction",null,null,null,"kW",{"$f":"($F$18/(60*60))*($F$23)/$F$237","v":{"$error":"#DIV/0!"}}]
[]
["Test Result",null,null,null,"Units","Evaporator"]
["Corrected Net Refrigerating Capacity (Qev)",null,null,null,{"$f":"'Test Plan'!$B$125","v":"kW"},{"$f":"$F$228*$G$232","v":{"$error":"#DIV/0!"}}]
["Corrected Cooling Energy Efficiency",null,null,null,{"$f":"'Test Plan'!$B$126","v":"kW/kW"},{"$f":"IF('Test Plan'!$B$19=\"I-P\",$F$229/$G$233,$F$229*$G$233)","v":{"$error":"#DIV/0!"}}]
["Water Pressure Drop",null,null,null,{"$f":"'Test Plan'!$B$127","v":"kPa"},{"$f":"$F$23","v":{"$error":"#DIV/0!"}}]
[]
[null,null,null,"Evaporator Water",null,null,null,null,null,null,null,null,null,"Condenser Air",null,"Electrical"]
[null,null,null,"Lvg. Temp.",null,null,"Ent. Temp.",null,null,"Flow Rate",null,null,null,null,null,"Power",null,null,"Total Voltage","Voltage 1",null,null,null,"Voltage 2",null,null,null,"Frequency"]
["Laboratory Data","Start Time","Stop Time",null,null,{"$f":"'Test Conditions'!$B$18","v":"°C"},null,null,{"$f":"'Test Conditions'!$B$18","v":"°C"},null,null,null,"Press. Drop","Ent. Temp.","Atm Press.",null,null,"kW"]
["Unit",{"$f":"$C$9","v":"h:mm:ss:ms"},{"$f":"$C$9","v":"h:mm:ss:ms"},null,null,null,null,null,null,null,null,null,{"$f":"IF('Test Plan'!$B$19=\"I-P\",'Unit Conversion'!$B$9,'Unit Conversion'!$C$9)","v":"kPa"},{"$f":"'Test Conditions'!$B$19","v":"°C"},{"$f":"IF('Test Plan'!$B$19=\"I-P\",'Unit Conversion'!$B$7,'Unit Conversion'!$C$7)","v":"kPa"}]
["Mean"]
["Data Comparison",{"$f":"ABS(B250-Zero)*24*60*60","v":0},{"$f":"ABS(C250-INDEX(Zero:C10202,$B$10))*24*60*60","v":{"$error":"#VALUE!"}},null,null,{"$f":"ABS(F250-F256)","v":{"$error":"#DIV/0!"}},null,null,{"$f":"ABS(I250-I256)","v":{"$error":"#DIV/0!"}},null,null,null,{"$f":"ABS(M250-M256)","v":{"$error":"#DIV/0!"}},{"$f":"ABS(N250-N256)","v":{"$error":"#DIV/0!"}},{"$f":"ABS(O250-O256)/O256","v":{"$error":"#DIV/0!"}},null,null,{"$f":"ABS(R250-R256)/R256","v":{"$error":"#DIV/0!"}}]
["Use Lab Data?"]
["Test Stand Data","Time Interval","Time Stamp",1,2,"Avg.",1,2,"Avg.",1,2,"Avg.","Press. Drop","Ent. Temp.","Atm Press.",1,2,"Avg.","Avg","Avg."," A-B"," B-C"," C-A","Avg."," A-B"," B-C"," C-A","Avg.",1,2]
["Unit",{"$f":"$C$9","v":"h:mm:ss:ms"},{"$f":"$C$9","v":"h:mm:ss:ms"},{"$f":"'Test Conditions'!$B$18","v":"°C"},{"$f":"'Test Conditions'!$B$18","v":"°C"},{"$f":"'Test Conditions'!$B$18","v":"°C"},{"$f":"'Test Conditions'!$B$19","v":"°C"},{"$f":"'Test Conditions'!$B$19","v":"°C"},{"$f":"'Test Conditions'!$B$19","v":"°C"},{"$f":"'Test Conditions'!$B$20","v":"m³/h"},{"$f":"'Test Conditions'!$B$20","v":"m³/h"},{"$f":"'Test Conditions'!$B$20","v":"m³/h"},{"$f":"IF('Test Plan'!$B$19=\"I-P\",'Unit Conversion'!$B$9,'Unit Conversion'!$C$9)","v":"kPa"},{"$f":"'Test Conditions'!$B$19","v":"°C"},{"$f":"IF('Test Plan'!$B$19=\"I-P\",'Unit Conversion'!$B$7,'Unit Conversion'!$C$7)","v":"kPa"},"kW","kW","kW","V","V","V","V","V","V","V","V","V","Hz","Hz","Hz"]
["Rating","-","-",{"$f":"'Test Conditions'!$C$68","v":{"$error":"#VALUE!"}},{"$f":"'Test Conditions'!$C$68","v":{"$error":"#VALUE!"}},{"$f":"'Test Conditions'!$C$68","v":{"$error":"#VALUE!"}},{"$f":"'Test Plan'!$C$81","v":0},{"$f":"'Test Plan'!$C$81","v":0},{"$f":"'Test Plan'!$C$81","v":0},{"$f":"'Test Plan'!$C$83","v":0},{"$f":"'Test Plan'!$C$83","v":0},{"$f":"'Test Plan'!$C$83","v":0},{"$f":"IF('Test Plan'!$B$19=\"I-P\",'Test Plan'!$C$127*0.4331,'Test Plan'!$C$127)","v":0},{"$f":"'Test Conditions'!$D$69","v":0},{"$f":"'Test Plan'!$C$41","v":101.33},{"$f":"'Test Plan'!$C$85","v":""},{"$f":"'Test Plan'!$C$85","v":""},{"$f":"'Test Plan'!$C$85","v":""},{"$f":"'Test Plan'!$B$14","v":0},{"$f":"'Test Plan'!$B$14","v":0},{"$f":"'Test Plan'!$B$14","v":0},{"$f":"'Test Plan'!$B$14","v":0},{"$f":"'Test Plan'!$B$14","v":0},{"$f":"'Test Plan'!$B$14","v":0},{"$f":"'Test Plan'!$B$14","v":0},{"$f":"'Test Plan'!$B$14","v":0},{"$f":"'Test Plan'!$B$14","v":0},{"$f":"'Test Plan'!$D$14","v":0},{"$f":"'Test Plan'!$D$14","v":0},{"$f":"'Test Plan'!$D$14","v":0}]
["Mean","-","-",{"$f":"AVERAGE(D258:INDEX(D258:D10089,$B$9))","v":{"$error":"#DIV/0!"}},{"$f":"AVERAGE(E258:INDEX(E258:E10089,$B$9))","v":{"$error":"#DIV/0!"}},{"$f":"AVERAGE(D256:E256)","v":{"$error":"#DIV/0!"}},{"$f":"AVERAGE(G258:INDEX(G258:G10089,$B$9))","v":{"$error":"#DIV/0!"}},{"$f":"AVERAGE(H258:INDEX(H258:H10089,$B$9))","v":{"$error":"#DIV/0!"}},{"$f":"AVERAGE(G256:H256)","v":{"$error":"#DIV/0!"}},{"$f":"AVERAGE(J258:INDEX(J258:J10089,$B$9))","v":{"$error":"#DIV/0!"}},{"$f":"AVERAGE(K258:INDEX(K258:K10089,$B$9))","v":{"$error":"#DIV/0!"}},{"$f":"AVERAGE(J256:K256)","v":{"$error":"#DIV/0!"}},{"$f":"AVERAGE(M258:INDEX(M258:M10089,$B$9))","v":{"$error":"#DIV/0!"}},{"$f":"AVERAGE(N258:INDEX(N258:N10089,$B$9))","v":{"$error":"#DIV/0!"}},{"$f":"AVERAGE(O258:INDEX(O258:O10089,$B$9))","v":{"$error":"#DIV/0!"}},{"$f":"AVERAGE(P258:INDEX(P258:P10089,$B$9))","v":{"$error":"#DIV/0!"}},{"$f":"AVERAGE(Q258:INDEX(Q258:Q10089,$B$9))","v":{"$error":"#DIV/0!"}},{"$f":"AVERAGE(P256:Q256)","v":{"$error":"#DIV/0!"}},{"$f":"AVERAGE(T256,X256)","v":{"$error":"#DIV/0!"}},{"$f":"AVERAGE(T258:INDEX(T258:T10089,$B$9))","v":{"$error":"#DIV/0!"}},{"$f":"AVERAGE(U258:INDEX(U258:U10089,$B$9))","v":{"$error":"#DIV/0!"}},{"$f":"AVERAGE(V258:INDEX(V258:V10089,$B$9))","v":{"$error":"#DIV/0!"}},{"$f":"AVERAGE(W258:INDEX(W258:W10089,$B$9))","v":{"$error":"#DIV/0!"}},{"$f":"AVERAGE(X258:INDEX(X258:X10089,$B$9))","v":{"$error":"#DIV/0!"}},{"$f":"AVERAGE(Y258:INDEX(Y258:Y10089,$B$9))","v":{"$error":"#DIV/0!"}},{"$f":"AVERAGE(Z258:INDEX(Z258:Z10089,$B$9))","v":{"$error":"#DIV/0!"}},{"$f":"AVERAGE(AA258:INDEX(AA258:AA10089,$B$9))","v":{"$error":"#DIV/0!"}},{"$f":"AVERAGE(AC256:AD256)","v":{"$error":"#DIV/0!"}},{"$f":"AVERAGE(AC258:INDEX(AC258:AC10089,$B$9))","v":{"$error":"#DIV/0!"}},{"$f":"AVERAGE(AD258:INDEX(AD258:AD10089,$B$9))","v":{"$error":"#DIV/0!"}}]
["St. Dev.","-","-",{"$f":"_xlfn.STDEV.S(D258:INDEX(D258:D10089,$B$9))","v":{"$error":"#DIV/0!"}},{"$f":"_xlfn.STDEV.S(E258:INDEX(E258:E10089,$B$9))","v":{"$error":"#DIV/0!"}},{"$f":"SQRT((D257^2+E257^2)/2)","v":{"$error":"#DIV/0!"}},{"$f":"_xlfn.STDEV.S(G258:INDEX(G258:G10089,$B$9))","v":{"$error":"#DIV/0!"}},{"$f":"_xlfn.STDEV.S(H258:INDEX(H258:H10089,$B$9))","v":{"$error":"#DIV/0!"}},{"$f":"SQRT((G257^2+H257^2)/2)","v":{"$error":"#DIV/0!"}},{"$f":"_xlfn.STDEV.S(J258:INDEX(J258:J10089,$B$9))","v":{"$error":"#DIV/0!"}},{"$f":"_xlfn.STDEV.S(K258:INDEX(K258:K10089,$B$9))","v":{"$error":"#DIV/0!"}},{"$f":"SQRT((J257^2+K257^2)/2)","v":{"$error":"#DIV/0!"}},{"$f":"_xlfn.STDEV.S(M258:INDEX(M258:M10089,$B$9))","v":{"$error":"#DIV/0!"}},{"$f":"_xlfn.STDEV.S(N258:INDEX(N258:N10089,$B$9))","v":{"$error":"#DIV/0!"}},{"$f":"_xlfn.STDEV.S(O258:INDEX(O258:O10089,$B$9))","v":{"$error":"#DIV/0!"}},{"$f":"_xlfn.STDEV.S(P258:INDEX(P258:P10089,$B$9))","v":{"$error":"#DIV/0!"}},{"$f":"_xlfn.STDEV.S(Q258:INDEX(Q258:Q10089,$B$9))","v":{"$error":"#DIV/0!"}},{"$f":"SQRT((P257^2+Q257^2)/2)","v":{"$error":"#DIV/0!"}},{"$f":"SQRT((T257^2+X257^2)/2)","v":{"$error":"#DIV/0!"}},{"$f":"_xlfn.STDEV.S(T258:INDEX(T258:T10089,$B$9))","v":{"$error":"#DIV/0!"}},{"$f":"_xlfn.STDEV.S(U258:INDEX(U258:U10089,$B$9))","v":{"$error":"#DIV/0!"}},{"$f":"_xlfn.STDEV.S(V258:INDEX(V258:V10089,$B$9))","v":{"$error":"#DIV/0!"}},{"$f":"_xlfn.STDEV.S(W258:INDEX(W258:W10089,$B$9))","v":{"$error":"#DIV/0!"}},{"$f":"_xlfn.STDEV.S(X258:INDEX(X258:X10089,$B$9))","v":{"$error":"#DIV/0!"}},{"$f":"_xlfn.STDEV.S(Y258:INDEX(Y258:Y10089,$B$9))","v":{"$error":"#DIV/0!"}},{"$f":"_xlfn.STDEV.S(Z258:INDEX(Z258:Z10089,$B$9))","v":{"$error":"#DIV/0!"}},{"$f":"_xlfn.STDEV.S(AA258:INDEX(AA258:AA10089,$B$9))","v":{"$error":"#DIV/0!"}},{"$f":"SQRT((AC257^2+AD257^2)/2)","v":{"$error":"#DIV/0!"}},{"$f":"_xlfn.STDEV.S(AC258:INDEX(AC258:AC10089,$B$9))","v":{"$error":"#DIV/0!"}},{"$f":"_xlfn.STDEV.S(AD258:INDEX(AD258:AD10089,$B$9))","v":{"$error":"#DIV/0!"}}]
[null,{"$f":"C259-C258","v":"00:00:00"}]
[null,{"$f":"C260-C259","v":"00:00:00"}]
[null,{"$f":"C261-C260","v":"00:00:00"}]
[null,"00:00:00"]
[null,"00:00:00"]
[null,"00:00:00"]
[null,"00:00:00"]
[null,"00:00:00"]
[null,"00:00:00"]
[null,"00:00:00"]
[null,"00:00:00"]
[null,"00:00:00"]
[null,"00:00:00"]
[null,"00:00:00"]
[null,"00:00:00"]
[null,"00:00:00"]
[null,"00:00:00"]
[null,"00:00:00"]
[null,"00:00:00"]
[null,"00:00:00"]
[null,"00:00:00"]
[null,"00:00:00"]
[null,"00:00:00"]
[null,"00:00:00"]
[null,"00:00:00"]
[null,"00:00:00"]
[null,"00:00:00"]
[null,{"$f":"C286-C285","v":"00:00:00"}]
[null,{"$f":"C287-C286","v":"00:00:00"}]
[null,{"$f":"IF(C288=0,\"\",C288-C287)","v":""}]
[null,{"$f":"IF(C289=0,\"\",C289-C288)","v":""}]
[null,{"$f":"IF(C290=0,\"\",C290-C289)","v":""}]
[null,{"$f":"IF(C291=0,\"\",C291-C290)","v":""}]
[null,""]
[null,""]
[null,""]
[null,""]
[null,""]
[null,""]
[null,""]
[null,""]
[null,""]
[null,""]
[null,""]
[null,""]
[null,""]
[null,""]
[null,""]
[null,""]
[null,""]
[null,""]
[null,""]
[null,""]
[null,""]
[null,""]
[null,""]
[null,""]
[null,""]
[null,""]
[null,""]
[null,""]
[null,""]
[null,""]
[null,""]
[null,""]
[null,""]
[null,""]
[null,""]
[null,""]
[null,""]
[null,""]
[null,""]
[null,""]
[null,""]
[null,""]
[null,""]
[null,""]
[null,""]
[null,""]
[null,""]
[null,""]
[null,""]
[null,""]
[null,""]
[null,""]
[null,""]
[null,""]
[null,""]
[null,""]
[null,""]
[null,""]
[null,""]
[null,""]
[null,""]
[null,""]
[null,""]
[null,{"$f":"IF(C355=0,\"\",C355-C354)","v":""}]
[null,""]
[null,""]
[null,""]
[null,""]
[null,""]
[null,""]
[null,""]
[null,""]
[null,""]
[null,""]
[null,""]
[null,""]
[null,""]
[null,""]
[null,""]
[null,""]
[null,""]
[null,""]
[null,""]
[null,""]
[null,""]
[null,""]
[null,""]
[null,""]
[null,""]
[null,""]
[null,""]
[null,""]
[null,""]
[null,""]
[null,""]
[null,""]
[null,""]
[null,""]
[null,""]
[null,""]
[null,""]
[null,""]
[null,""]
[null,""]
[null,""]
[null,""]
[null,""]
[null,""]
[null,""]
[null,""]
[null,""]
[null,""]
[null,""]
[null,""]
[null,""]
[null,""]
[null,""]
[null,""]
[null,""]
[null,""]
[null,""]
[null,""]
[null,""]
[null,""]
[null,""]
[null,""]
[null,""]
[null,{"$f":"IF(C419=0,\"\",C419-C418)","v":""}]
[null,""]
[null,""]
[null,""]
[null,""]
[null,""]
[null,""]
[null,""]
[null,""]
[null,""]
[null,""]
[null,""]
[null,""]
[null,""]
[null,""]
[null,""]
[null,""]
[null,""]
[null,""]
[null,""]
[null,""]
[null,""]
[null,""]
[null,""]
[null,""]
[null,""]
[null,""]
[null,""]
[null,""]
[null,""]
[null,""]
[null,""]
[null,""]
[null,""]
[null,""]
[null,""]
[null,""]
[null,""]
[null,""]
[null,""]
[null,""]
[null,""]
[null,""]
[null,""]
[null,""]
[null,""]
[null,""]
[null,""]
[null,""]
[null,""]
[null,""]
[null,""]
[null,""]
[null,""]
[null,""]
[null,""]
[null,""]
[null,""]
[null,""]
[null,""]
[null,""]
[null,""]
[null,""]
[null,""]
[null,{"$f":"IF(C483=0,\"\",C483-C482)","v":""}]
[null,""]
[null,""]
[null,""]
[null,""]
[null,""]
[null,""]
[null,""]
[null,""]
[null,""]
[null,""]
[null,""]
[null,""]
[null,""]
[null,""]
[null,""]
[null,""]
[null,""]
[null,""]
[null,""]
[null,""]
[null,""]
[null,""]
[null,""]
[null,""]
[null,""]
[null,""]
[null,""]
[null,""]
[null,""]
[null,""]
[null,""]
[null,""]
[null,""]
[null,""]
[null,""]
[null,""]
[null,""]
[null,""]
[null,""]
[null,""]
[null,""]
[null,""]
[null,""]
[null,""]
[null,""]
[null,""]
[null,""]
[null,""]
[null,""]
[null,""]
[null,""]
[null,""]
[null,""]
[null,""]
[null,""]
[null,""]
[null,""]
[null,""]
[null,""]
[null,""]
[null,""]
[null,""]
[null,""]
[null,{"$f":"IF(C547=0,\"\",C547-C546)","v":""}]
[null,""]
[null,""]
[null,""]
[null,""]
[null,""]
[null,""]
[null,""]
[null,""]
[null,""]
[null,""]
[null,""]
[null,""]
[null,""]
[null,""]
[null,""]
[null,""]
[null,""]
[null,""]
[null,""]
[null,""]
[null,""]
[null,""]
[null,""]
[null,""]
[null,""]
[null,""]
[null,""]
[null,""]
[null,""]
[null,""]
[null,""]
[null,""]
[null,""]
[null,""]
[null,""]
[null,""]
[null,""]
[null,""]
[null,""]
[null,""]
[null,""]
[null,""]
[null,""]
[null,""]
[null,""]
[null,""]
[null,""]
[null,""]
[null,""]
[null,""]
[null,""]
[null,""]
[null,""]
[null,""]
[null,""]
[null,""]
[null,""]
[null,""]
[null,""]
[null,""]
[null,""]
[null,""]
[null,""]
[null,{"$f":"IF(C611=0,\"\",C611-C610)","v":""}]
[null,""]
[null,""]
[null,""]
[null,""]
[null,""]
[null,""]
[null,""]
[null,""]
[null,""]
[null,""]
[null,""]
[null,""]
[null,""]
[null,""]
[null,""]
[null,""]
[null,""]
[null,""]
[null,""]
[null,""]
[null,""]
[null,""]
[null,""]
[null,""]
[null,""]
[null,""]
[null,""]
[null,""]
[null,""]
[null,""]
[null,""]
[null,""]
[null,""]
[null,""]
[null,""]
[null,""]
[null,""]
[null,""]
[null,""]
[null,""]
[null,""]
[null,""]
[null,""]
[null,""]
[null,""]
[null,""]
[null,""]
[null,""]
[null,""]
[null,""]
[null,""]
[null,""]
[null,""]
[null,""]
[null,""]
[null,""]
[null,""]
[null,""]
[null,""]
[null,""]
[null,""]
[null,""]
[null,""]
[null,{"$f":"IF(C675=0,\"\",C675-C674)","v":""}]
[null,""]
[null,""]
[null,""]
[null,""]
[null,""]
[null,""]
[null,""]
[null,""]
[null,""]
[null,""]
[null,""]
[null,""]
[null,""]
[null,""]
[null,""]
[null,""]
[null,""]
[null,""]
[null,""]
[null,""]
[null,""]
[null,""]
[null,""]
[null,""]
[null,""]
[null,""]
[null,""]
[null,""]
[null,""]
[null,""]
[null,""]
[null,""]
[null,""]
[null,""]
[null,""]
[null,""]
[null,""]
[null,""]
[null,""]
[null,""]
[null,""]
[null,""]
[null,""]
[null,""]
[null,""]
[null,""]
[null,""]
[null,""]
[null,""]
[null,""]
[null,""]
[null,""]
[null,""]
[null,""]
[null,""]
[null,""]
[null,""]
[null,""]
[null,""]
[null,""]
[null,""]
[null,""]
[null,""]
[null,{"$f":"IF(C739=0,\"\",C739-C738)","v":""}]
[null,""]
[null,""]
[null,""]
[null,""]
[null,""]
[null,""]
[null,""]
[null,""]
[null,""]
[null,""]
[null,""]
[null,""]
[null,""]
[null,""]
[null,""]
[null,""]
[null,""]
[null,""]
[null,""]
[null,""]
[null,""]
[null,""]
[null,""]
[null,""]
[null,""]
[null,""]
[null,""]
[null,""]
[null,""]
[null,""]
[null,""]
[null,""]
[null,""]
[null,""]
[null,""]
[null,""]
[null,""]
[null,""]
[null,""]
[null,""]
[null,""]
[null,""]
[null,""]
[null,""]
[null,""]
[null,""]
[null,""]
[null,""]
[null,""]
[null,""]
[null,""]
[null,""]
[null,""]
[null,""]
[null,""]
[null,""]
[null,""]
[null,""]
[null,""]
[null,""]
[null,""]
[null,""]
[null,""]
[null,{"$f":"IF(C803=0,\"\",C803-C802)","v":""}]
[null,""]
[null,""]
[null,""]
[null,""]
[null,""]
[null,""]
[null,""]
[null,""]
[null,""]
[null,""]
[null,""]
[null,""]
[null,""]
[null,""]
[null,""]
[null,""]
[null,""]
[null,""]
[null,""]
[null,""]
[null,""]
[null,""]
[null,""]
[null,""]
[null,""]
[null,""]
[null,""]
[null,""]
[null,""]
[null,""]
[null,""]
[null,""]
[null,""]
[null,""]
[null,""]
[null,""]
[null,""]
[null,""]
[null,""]
[null,""]
[null,""]
[null,""]
[null,""]
[null,""]
[null,""]
[null,""]
[null,""]
[null,""]
[null,""]
[null,""]
[null,""]
[null,""]
[null,""]
[null,""]
[null,""]
[null,""]
[null,""]
[null,""]
[null,""]
[null,""]
[null,""]
[null,""]
[null,""]
[null,{"$f":"IF(C867=0,\"\",C867-C866)","v":""}]
[null,""]
[null,""]
[null,""]
[null,""]
[null,""]
[null,""]
[null,""]
[null,""]
[null,""]
[null,""]
[null,""]
[null,""]
[null,""]
[null,""]
[null,""]
[null,""]
[null,""]
[null,""]
[null,""]
[null,""]
[null,""]
[null,""]
[null,""]
[null,""]
[null,""]
[null,""]
[null,""]
[null,""]
[null,""]
[null,""]
[null,""]
[null,""]
[null,""]
[null,""]
[null,""]
[null,""]
[null,""]
[null,""]
[null,""]
[null,""]
[null,""]
[null,""]
[null,""]
[null,""]
[null,""]
[null,""]
[null,""]
[null,""]
[null,""]
[null,""]
[null,""]
[null,""]
[null,""]
[null,""]
[null,""]
[null,""]
[null,""]
[null,""]
[null,""]
[null,""]
[null,""]
[null,""]
[null,""]
[null,{"$f":"IF(C931=0,\"\",C931-C930)","v":""}]
[null,""]
[null,""]
[null,""]
[null,""]
[null,""]
[null,""]
[null,""]
[null,""]
[null,""]
[null,""]
[null,""]
[null,""]
[null,""]
[null,""]
[null,""]
[null,""]
[null,""]
[null,""]
[null,""]
[null,""]
[null,""]
[null,""]
[null,""]
[null,""]
[null,""]
[null,""]
[null,""]
[null,""]
[null,""]
[null,""]
[null,""]
[null,""]
[null,""]
[null,""]
[null,""]
[null,""]
[null,""]
[null,""]
[null,""]
[null,""]
[null,""]
[null,""]
[null,""]
[null,""]
[null,""]
[null,""]
[null,""]
[null,""]
[null,""]
[null,""]
[null,""]
[null,""]
[null,""]
[null,""]
[null,""]
[null,""]
[null,""]
[null,""]
[null,""]
[null,""]
[null,""]
[null,""]
[null,""]
[null,{"$f":"IF(C995=0,\"\",C995-C994)","v":""}]
[null,""]
[null,""]
[null,""]
[null,""]
[null,""]
[null,""]
[null,""]
[null,""]
[null,""]
[null,""]
[null,""]
[null,""]
[null,""]
[null,""]
[null,""]
[null,""]
[null,""]
[null,""]
[null,""]
[null,""]
[null,""]
[null,""]
[null,""]
[null,""]
[null,""]
[null,""]
[null,""]
[null,""]
[null,""]
[null,""]
[null,""]
[null,""]
[null,""]
[null,""]
[null,""]
[null,""]
[null,""]
[null,""]
[null,""]
[null,""]
[null,""]
[null,""]
[null,""]
[null,""]
[null,""]
[null,""]
[null,""]
[null,""]
[null,""]
[null,""]
[null,""]
[null,""]
[null,""]
[null,""]
[null,""]
[null,""]
[null,""]
[null,""]
[null,""]
[null,""]
[null,""]
[null,""]
[null,""]
[null,{"$f":"IF(C1059=0,\"\",C1059-C1058)","v":""}]
[null,""]
[null,""]
[null,""]
[null,""]
[null,""]
[null,""]
[null,""]
[null,""]
[null,""]
[null,""]
[null,""]
[null,""]
[null,""]
[null,""]
[null,""]
[null,""]
[null,""]
[null,""]
[null,""]
[null,""]
[null,""]
[null,""]
[null,""]
[null,""]
[null,""]
[null,""]
[null,""]
[null,""]
[null,""]
[null,""]
[null,""]
[null,""]
[null,""]
[null,""]
[null,""]
[null,""]
[null,""]
[null,""]
[null,""]
[null,""]
[null,""]
[null,""]
[null,""]
[null,""]
[null,""]
[null,""]
[null,""]
[null,""]
[null,""]
[null,""]
[null,""]
[null,""]
[null,""]
[null,""]
[null,""]
[null,""]
[null,""]
[null,""]
[null,""]
[null,""]
[null,""]
[null,""]
[null,""]
[null,{"$f":"IF(C1123=0,\"\",C1123-C1122)","v":""}]
[null,""]
[null,""]
[null,""]
[null,""]
[null,""]
[null,""]
[null,""]
[null,""]
[null,""]
[null,""]
[null,""]
[null,""]
[null,""]
[null,""]
[null,""]
[null,""]
[null,""]
[null,""]
[null,""]
[null,""]
[null,""]
[null,""]
[null,""]
[null,""]
[null,""]
[null,""]
[null,""]
[null,""]
[null,""]
[null,""]
[null,""]
[null,""]
[null,""]
[null,""]
[null,""]
[null,""]
[null,""]
[null,""]
[null,""]
[null,""]
[null,""]
[null,""]
[null,""]
[null,""]
[null,""]
[null,""]
[null,""]
[null,""]
[null,""]
[null,""]
[null,""]
[null,""]
[null,""]
[null,""]
[null,""]
[null,""]
[null,""]
[null,""]
[null,""]
[null,""]
[null,""]
[null,""]
[null,""]
[null,{"$f":"IF(C1187=0,\"\",C1187-C1186)","v":""}]
[null,""]
[null,""]
[null,""]
[null,""]
[null,""]
[null,""]
[null,""]
[null,""]
[null,""]
[null,""]
[null,""]
[null,""]
[null,""]
[null,""]
[null,""]
[null,""]
[null,""]
[null,""]
[null,""]
[null,""]
[null,""]
[null,""]
[null,""]
[null,""]
[null,""]
[null,""]
[null,""]
[null,""]
[null,""]
[null,""]
[null,""]
[null,""]
[null,""]
[null,""]
[null,""]
[null,""]
[null,""]
[null,""]
[null,""]
[null,""]
[null,""]
[null,""]
[null,""]
[null,""]
[null,""]
[null,""]
[null,""]
[null,""]
[null,""]
[null,""]
[null,""]
[null,""]
[null,""]
[null,""]
[null,""]
[null,""]
[null,""]
[null,""]
[null,""]
[null,""]
[null,""]
[null,""]
[null,""]
[null,{"$f":"IF(C1251=0,\"\",C1251-C1250)","v":""}]
[null,""]
[null,""]
[null,""]
[null,""]
[null,""]
[null,""]
[null,""]
[null,""]
[null,""]
[null,""]
[null,""]
[null,""]
[null,""]
[null,""]
[null,""]
[null,""]
[null,""]
[null,""]
[null,""]
[null,""]
[null,""]
[null,""]
[null,""]
[null,""]
[null,""]
[null,""]
[null,""]
[null,""]
[null,""]
[null,""]
[null,""]
[null,""]
[null,""]
[null,""]
[null,""]
[null,""]
[null,""]
[null,""]
[null,""]
[null,""]
[null,""]
[null,""]
[null,""]
[null,""]
[null,""]
[null,""]
[null,""]
[null,""]
[null,""]
[null,""]
[null,""]
[null,""]
[null,""]
[null,""]
[null,""]
[null,""]
[null,""]
[null,""]
[null,""]
[null,""]
[null,""]
[null,""]
[null,""]
[null,{"$f":"IF(C1315=0,\"\",C1315-C1314)","v":""}]
[null,""]
[null,""]
[null,""]
[null,""]
[null,""]
[null,""]
[null,""]
[null,""]
[null,""]
[null,""]
[null,""]
[null,""]
[null,""]
[null,""]
[null,""]
[null,""]
[null,""]
[null,""]
[null,""]
[null,""]
[null,""]
[null,""]
[null,""]
[null,""]
[null,""]
[null,""]
[null,""]
[null,""]
[null,""]
[null,""]
[null,""]
[null,""]
[null,""]
[null,""]
[null,""]
[null,""]
[null,""]
[null,""]
[null,""]
[null,""]
[null,""]
[null,""]
[null,""]
[null,""]
[null,""]
[null,""]
[null,""]
[null,""]
[null,""]
[null,""]
[null,""]
[null,""]
[null,""]
[null,""]
[null,""]
[null,""]
[null,""]
[null,""]
[null,""]
[null,""]
[null,""]
[null,""]
[null,""]
[null,{"$f":"IF(C1379=0,\"\",C1379-C1378)","v":""}]
[null,""]
[null,""]
[null,""]
[null,""]
[null,""]
[null,""]
[null,""]
[null,""]
[null,""]
[null,""]
[null,""]
[null,""]
[null,""]
[null,""]
[null,""]
[null,""]
[null,""]
[null,""]
[null,""]
[null,""]
[null,""]
[null,""]
[null,""]
[null,""]
[null,""]
[null,""]
[null,""]
[null,""]
[null,""]
[null,""]
[null,""]
[null,""]
[null,""]
[null,""]
[null,""]
[null,""]
[null,""]
[null,""]
[null,""]
[null,""]
[null,""]
[null,""]
[null,""]
[null,""]
[null,""]
[null,""]
[null,""]
[null,""]
[null,""]
[null,""]
[null,""]
[null,""]
[null,""]
[null,""]
[null,""]
[null,""]
[null,""]
[null,""]
[null,""]
[null,""]
[null,""]
[null,""]
[null,""]
[null,{"$f":"IF(C1443=0,\"\",C1443-C1442)","v":""}]
[null,""]
[null,""]
[null,""]
[null,""]
[null,""]
[null,""]
[null,""]
[null,""]
[null,""]
[null,""]
[null,""]
[null,""]
[null,""]
[null,""]
[null,""]
[null,""]
[null,""]
[null,""]
[null,""]
[null,""]
[null,""]
[null,""]
[null,""]
[null,""]
[null,""]
[null,""]
[null,""]
[null,""]
[null,""]
[null,""]
[null,""]
[null,""]
[null,""]
[null,""]
[null,""]
[null,""]
[null,""]
[null,""]
[null,""]
[null,""]
[null,""]
[null,""]
[null,""]
[null,""]
[null,""]
[null,""]
[null,""]
[null,""]
[null,""]
[null,""]
[null,""]
[null,""]
[null,""]
[null,""]
[null,""]
[null,""]
[null,""]
[null,""]
[null,""]
[null,""]
[null,""]
[null,""]
[null,""]
[null,{"$f":"IF(C1507=0,\"\",C1507-C1506)","v":""}]
[null,""]
[null,""]
[null,""]
[null,""]
[null,""]
[null,""]
[null,""]
[null,""]
[null,""]
[null,""]
[null,""]
[null,""]
[null,""]
[null,""]
[null,""]
[null,""]
[null,""]
[null,""]
[null,""]
[null,""]
[null,""]
[null,""]
[null,""]
[null,""]
[null,""]
[null,""]
[null,""]
[null,""]
[null,""]
[null,""]
[null,""]
[null,""]
[null,""]
[null,""]
[null,""]
[null,""]
[null,""]
[null,""]
[null,""]
[null,""]
[null,""]
[null,""]
[null,""]
[null,""]
[null,""]
[null,""]
[null,""]
[null,""]
[null,""]
[null,""]
[null,""]
[null,""]
[null,""]
[null,""]
[null,""]
[null,""]
[null,""]
[null,""]
[null,""]
[null,""]
[null,""]
[null,""]
[null,""]
[null,{"$f":"IF(C1571=0,\"\",C1571-C1570)","v":""}]
[null,""]
[null,""]
[null,""]
[null,""]
[null,""]
[null,""]
[null,""]
[null,""]
[null,""]
[null,""]
[null,""]
[null,""]
[null,""]
[null,""]
[null,""]
[null,""]
[null,""]
[null,""]
[null,""]
[null,""]
[null,""]
[null,""]
[null,""]
[null,""]
[null,""]
[null,""]
[null,""]
[null,""]
[null,""]
[null,""]
[null,""]
[null,""]
[null,""]
[null,""]
[null,""]
[null,""]
[null,""]
[null,""]
[null,""]
[null,""]
[null,""]
[null,""]
[null,""]
[null,""]
[null,""]
[null,""]
[null,""]
[null,""]
[null,""]
[null,""]
[null,""]
[null,""]
[null,""]
[null,""]
[null,""]
[null,""]
[null,""]
[null,""]
[null,""]
[null,""]
[null,""]
[null,""]
[null,""]
[null,{"$f":"IF(C1635=0,\"\",C1635-C1634)","v":""}]
[null,""]
[null,""]
[null,""]
[null,""]
[null,""]
[null,""]
[null,""]
[null,""]
[null,""]
[null,""]
[null,""]
[null,""]
[null,""]
[null,""]
[null,""]
[null,""]
[null,""]
[null,""]
[null,""]
[null,""]
[null,""]
[null,""]
[null,""]
[null,""]
[null,""]
[null,""]
[null,""]
[null,""]
[null,""]
[null,""]
[null,""]
[null,""]
[null,""]
[null,""]
[null,""]
[null,""]
[null,""]
[null,""]
[null,""]
[null,""]
[null,""]
[null,""]
[null,""]
[null,""]
[null,""]
[null,""]
[null,""]
[null,""]
[null,""]
[null,""]
[null,""]
[null,""]
[null,""]
[null,""]
[null,""]
[null,""]
[null,""]
[null,""]
[null,""]
[null,""]
[null,""]
[null,""]
[null,""]
[null,{"$f":"IF(C1699=0,\"\",C1699-C1698)","v":""}]
[null,""]
[null,""]
[null,""]
[null,""]
[null,""]
[null,""]
[null,""]
[null,""]
[null,""]
[null,""]
[null,""]
[null,""]
[null,""]
[null,""]
[null,""]
[null,""]
[null,""]
[null,""]
[null,""]
[null,""]
[null,""]
[null,""]
[null,""]
[null,""]
[null,""]
[null,""]
[null,""]
[null,""]
[null,""]
[null,""]
[null,""]
[null,""]
[null,""]
[null,""]
[null,""]
[null,""]
[null,""]
[null,""]
[null,""]
[null,""]
[null,""]
[null,""]
[null,""]
[null,""]
[null,""]
[null,""]
[null,""]
[null,""]
[null,""]
[null,""]
[null,""]
[null,""]
[null,""]
[null,""]
[null,""]
[null,""]
[null,""]
[null,""]
[null,""]
[null,""]
[null,""]
[null,""]
[null,""]
[null,{"$f":"IF(C1763=0,\"\",C1763-C1762)","v":""}]
[null,""]
[null,""]
[null,""]
[null,""]
[null,""]
[null,""]
[null,""]
[null,""]
[null,""]
[null,""]
[null,""]
[null,""]
[null,""]
[null,""]
[null,""]
[null,""]
[null,""]
[null,""]
[null,""]
[null,""]
[null,""]
[null,""]
[null,""]
[null,""]
[null,""]
[null,""]
[null,""]
[null,""]
[null,""]
[null,""]
[null,""]
[null,""]
[null,""]
[null,""]
[null,""]
[null,""]
[null,""]
[null,""]
[null,""]
[null,""]
[null,""]
[null,""]
[null,""]
[null,""]
[null,""]
[null,""]
[null,""]
[null,""]
[null,""]
[null,""]
[null,""]
[null,""]
[null,""]
[null,""]
[null,""]
[null,""]
[null,""]
[null,""]
[null,""]
[null,""]
[null,""]
[null,""]
[null,""]
[null,{"$f":"IF(C1827=0,\"\",C1827-C1826)","v":""}]
[null,""]
[null,""]
[null,""]
[null,""]
[null,""]
[null,""]
[null,""]
[null,""]
[null,""]
[null,""]
[null,""]
[null,""]
[null,""]
[null,""]
[null,""]
[null,""]
[null,""]
[null,""]
[null,""]
[null,""]
[null,""]
[null,""]
[null,""]
[null,""]
[null,""]
[null,""]
[null,""]
[null,""]
[null,""]
[null,""]
[null,""]
[null,""]
[null,""]
[null,""]
[null,""]
[null,""]
[null,""]
[null,""]
[null,""]
[null,""]
[null,""]
[null,""]
[null,""]
[null,""]
[null,""]
[null,""]
[null,""]
[null,""]
[null,""]
[null,""]
[null,""]
[null,""]
[null,""]
[null,""]
[null,""]
[null,""]
[null,""]
[null,""]
[null,""]
[null,""]
[null,""]
[null,""]
[null,""]
[null,{"$f":"IF(C1891=0,\"\",C1891-C1890)","v":""}]
[null,""]
[null,""]
[null,""]
[null,""]
[null,""]
[null,""]
[null,""]
[null,""]
[null,""]
[null,""]
[null,""]
[null,""]
[null,""]
[null,""]
[null,""]
[null,""]
[null,""]
[null,""]
[null,""]
[null,""]
[null,""]
[null,""]
[null,""]
[null,""]
[null,""]
[null,""]
[null,""]
[null,""]
[null,""]
[null,""]
[null,""]
[null,""]
[null,""]
[null,""]
[null,""]
[null,""]
[null,""]
[null,""]
[null,""]
[null,""]
[null,""]
[null,""]
[null,""]
[null,""]
[null,""]
[null,""]
[null,""]
[null,""]
[null,""]
[null,""]
[null,""]
[null,""]
[null,""]
[null,""]
[null,""]
[null,""]
[null,""]
[null,""]
[null,""]
[null,""]
[null,""]
[null,""]
[null,""]
[null,{"$f":"IF(C1955=0,\"\",C1955-C1954)","v":""}]
[null,""]
[null,""]
[null,""]
[null,""]
[null,""]
[null,""]
[null,""]
[null,""]
[null,""]
[null,""]
[null,""]
[null,""]
[null,""]
[null,""]
[null,""]
[null,""]
[null,""]
[null,""]
[null,""]
[null,""]
[null,""]
[null,""]
[null,""]
[null,""]
[null,""]
[null,""]
[null,""]
[null,""]
[null,""]
[null,""]
[null,""]
[null,""]
[null,""]
[null,""]
[null,""]
[null,""]
[null,""]
[null,""]
[null,""]
[null,""]
[null,""]
[null,""]
[null,""]
[null,""]
[null,""]
[null,""]
[null,""]
[null,""]
[null,""]
[null,""]
[null,""]
[null,""]
[null,""]
[null,""]
[null,""]
[null,""]
[null,""]
[null,""]
[null,""]
[null,""]
[null,""]
[null,""]
[null,""]
[null,{"$f":"IF(C2019=0,\"\",C2019-C2018)","v":""}]
[null,""]
[null,""]
[null,""]
[null,""]
[null,""]
[null,""]
[null,""]
[null,""]
[null,""]
[null,""]
[null,""]
[null,""]
[null,""]
[null,""]
[null,""]
[null,""]
[null,""]
[null,""]
[null,""]
[null,""]
[null,""]
[null,""]
[null,""]
[null,""]
[null,""]
[null,""]
[null,""]
[null,""]
[null,""]
[null,""]
[null,""]
[null,""]
[null,""]
[null,""]
[null,""]
[null,""]
[null,""]
[null,""]
[null,""]
[null,""]
[null,""]
[null,""]
[null,""]
[null,""]
[null,""]
[null,""]
[null,""]
[null,""]
[null,""]
[null,""]
[null,""]
[null,""]
[null,""]
[null,""]
[null,""]
[null,""]
[null,""]
[null,""]
[null,""]
[null,""]
[null,""]
[null,""]
[null,""]
[null,{"$f":"IF(C2083=0,\"\",C2083-C2082)","v":""}]
[null,""]
[null,""]
[null,""]
[null,""]
[null,""]
[null,""]
[null,""]
[null,""]
[null,""]
[null,""]
[null,""]
[null,""]
[null,""]
[null,""]
[null,""]
[null,""]
[null,""]
[null,""]
[null,""]
[null,""]
[null,""]
[null,""]
[null,""]
[null,""]
[null,""]
[null,""]
[null,""]
[null,""]
[null,""]
[null,""]
[null,""]
[null,""]
[null,""]
[null,""]
[null,""]
[null,""]
[null,""]
[null,""]
[null,""]
[null,""]
[null,""]
[null,""]
[null,""]
[null,""]
[null,""]
[null,""]
[null,""]
[null,""]
[null,""]
[null,""]
[null,""]
[null,""]
[null,""]
[null,""]
[null,""]
[null,""]
[null,""]
[null,""]
[null,""]
[null,""]
[null,""]
[null,""]
[null,""]
[null,{"$f":"IF(C2147=0,\"\",C2147-C2146)","v":""}]
[null,""]
[null,""]
[null,""]
[null,""]
[null,""]
[null,""]
[null,""]
[null,""]
[null,""]
[null,""]
[null,""]
[null,""]
[null,""]
[null,""]
[null,""]
[null,""]
[null,""]
[null,""]
[null,""]
[null,""]
[null,""]
[null,""]
[null,""]
[null,""]
[null,""]
[null,""]
[null,""]
[null,""]
[null,""]
[null,""]
[null,""]
[null,""]
[null,""]
[null,""]
[null,""]
[null,""]
[null,""]
[null,""]
[null,""]
[null,""]
[null,""]
[null,""]
[null,""]
[null,""]
[null,""]
[null,""]
[null,""]
[null,""]
[null,""]
[null,""]
[null,""]
[null,""]
[null,""]
[null,""]
[null,""]
[null,""]
[null,""]
[null,""]
[null,""]
[null,""]
[null,""]
[null,""]
[null,""]
[null,{"$f":"IF(C2211=0,\"\",C2211-C2210)","v":""}]
[null,""]
[null,""]
[null,""]
[null,""]
[null,""]
[null,""]
[null,""]
[null,""]
[null,""]
[null,""]
[null,""]
[null,""]
[null,""]
[null,""]
[null,""]
[null,""]
[null,""]
[null,""]
[null,""]
[null,""]
[null,""]
[null,""]
[null,""]
[null,""]
[null,""]
[null,""]
[null,""]
[null,""]
[null,""]
[null,""]
[null,""]
[null,""]
[null,""]
[null,""]
[null,""]
[null,""]
[null,""]
[null,""]
[null,""]
[null,""]
[null,""]
[null,""]
[null,""]
[null,""]
[null,""]
[null,""]
[null,""]
[null,""]
[null,""]
[null,""]
[null,""]
[null,""]
[null,""]
[null,""]
[null,""]
[null,""]
[null,""]
[null,""]
[null,""]
[null,""]
[null,""]
[null,""]
[null,""]
[null,{"$f":"IF(C2275=0,\"\",C2275-C2274)","v":""}]
[null,""]
[null,""]
[null,""]
[null,""]
[null,""]
[null,""]
[null,""]
[null,""]
[null,""]
[null,""]
[null,""]
[null,""]
[null,""]
[null,""]
[null,""]
[null,""]
[null,""]
[null,""]
[null,""]
[null,""]
[null,""]
[null,""]
[null,""]
[null,""]
[null,""]
[null,""]
[null,""]
[null,""]
[null,""]
[null,""]
[null,""]
[null,""]
[null,""]
[null,""]
[null,""]
[null,""]
[null,""]
[null,""]
[null,""]
[null,""]
[null,""]
[null,""]
[null,""]
[null,""]
[null,""]
[null,""]
[null,""]
[null,""]
[null,""]
[null,""]
[null,""]
[null,""]
[null,""]
[null,""]
[null,""]
[null,""]
[null,""]
[null,""]
[null,""]
[null,""]
[null,""]
[null,""]
[null,""]
[null,{"$f":"IF(C2339=0,\"\",C2339-C2338)","v":""}]
[null,""]
[null,""]
[null,""]
[null,""]
[null,""]
[null,""]
[null,""]
[null,""]
[null,""]
[null,""]
[null,""]
[null,""]
[null,""]
[null,""]
[null,""]
[null,""]
[null,""]
[null,""]
[null,""]
[null,""]
[null,""]
[null,""]
[null,""]
[null,""]
[null,""]
[null,""]
[null,""]
[null,""]
[null,""]
[null,""]
[null,""]
[null,""]
[null,""]
[null,""]
[null,""]
[null,""]
[null,""]
[null,""]
[null,""]
[null,""]
[null,""]
[null,""]
[null,""]
[null,""]
[null,""]
[null,""]
[null,""]
[null,""]
[null,""]
[null,""]
[null,""]
[null,""]
[null,""]
[null,""]
[null,""]
[null,""]
[null,""]
[null,""]
[null,""]
[null,""]
[null,""]
[null,""]
[null,""]
[null,{"$f":"IF(C2403=0,\"\",C2403-C2402)","v":""}]
[null,""]
[null,""]
[null,""]
[null,""]
[null,""]
[null,""]
[null,""]
[null,""]
[null,""]
[null,""]
[null,""]
[null,""]
[null,""]
[null,""]
[null,""]
[null,""]
[null,""]
[null,""]
[null,""]
[null,""]
[null,""]
[null,""]
[null,""]
[null,""]
[null,""]
[null,""]
[null,""]
[null,""]
[null,""]
[null,""]
[null,""]
[null,""]
[null,""]
[null,""]
[null,""]
[null,""]
[null,""]
[null,""]
[null,""]
[null,""]
[null,""]
[null,""]
[null,""]
[null,""]
[null,""]
[null,""]
[null,""]
[null,""]
[null,""]
[null,""]
[null,""]
[null,""]
[null,""]
[null,""]
[null,""]
[null,""]
[null,""]
[null,""]
[null,""]
[null,""]
[null,""]
[null,""]
[null,""]
[null,{"$f":"IF(C2467=0,\"\",C2467-C2466)","v":""}]
[null,""]
[null,""]
[null,""]
[null,""]
[null,""]
[null,""]
[null,""]
[null,""]
[null,""]
[null,""]
[null,""]
[null,""]
[null,""]
[null,""]
[null,""]
[null,""]
[null,""]
[null,""]
[null,""]
[null,""]
[null,""]
[null,""]
[null,""]
[null,""]
[null,""]
[null,""]
[null,""]
[null,""]
[null,""]
[null,""]
[null,""]
[null,""]
[null,""]
[null,""]
[null,""]
[null,""]
[null,""]
[null,""]
[null,""]
[null,""]
[null,""]
[null,""]
[null,""]
[null,""]
[null,""]
[null,""]
[null,""]
[null,""]
[null,""]
[null,""]
[null,""]
[null,""]
[null,""]
[null,""]
[null,""]
[null,""]
[null,""]
[null,""]
[null,""]
[null,""]
[null,""]
[null,""]
[null,""]
[null,{"$f":"IF(C2531=0,\"\",C2531-C2530)","v":""}]
[null,""]
[null,""]
[null,""]
[null,""]
[null,""]
[null,""]
[null,""]
[null,""]
[null,""]
[null,""]
[null,""]
[null,""]
[null,""]
[null,""]
[null,""]
[null,""]
[null,""]
[null,""]
[null,""]
[null,""]
[null,""]
[null,""]
[null,""]
[null,""]
[null,""]
[null,""]
[null,""]
[null,""]
[null,""]
[null,""]
[null,""]
[null,""]
[null,""]
[null,""]
[null,""]
[null,""]
[null,""]
[null,""]
[null,""]
[null,""]
[null,""]
[null,""]
[null,""]
[null,""]
[null,""]
[null,""]
[null,""]
[null,""]
[null,""]
[null,""]
[null,""]
[null,""]
[null,""]
[null,""]
[null,""]
[null,""]
[null,""]
[null,""]
[null,""]
[null,""]
[null,""]
[null,""]
[null,""]
[null,{"$f":"IF(C2595=0,\"\",C2595-C2594)","v":""}]
[null,""]
[null,""]
[null,""]
[null,""]
[null,""]
[null,""]
[null,""]
[null,""]
[null,""]
[null,""]
[null,""]
[null,""]
[null,""]
[null,""]
[null,""]
[null,""]
[null,""]
[null,""]
[null,""]
[null,""]
[null,""]
[null,""]
[null,""]
[null,""]
[null,""]
[null,""]
[null,""]
[null,""]
[null,""]
[null,""]
[null,""]
[null,""]
[null,""]
[null,""]
[null,""]
[null,""]
[null,""]
[null,""]
[null,""]
[null,""]
[null,""]
[null,""]
[null,""]
[null,""]
[null,""]
[null,""]
[null,""]
[null,""]
[null,""]
[null,""]
[null,""]
[null,""]
[null,""]
[null,""]
[null,""]
[null,""]
[null,""]
[null,""]
[null,""]
[null,""]
[null,""]
[null,""]
[null,""]
[null,{"$f":"IF(C2659=0,\"\",C2659-C2658)","v":""}]
[null,""]
[null,""]
[null,""]
[null,""]
[null,""]
[null,""]
[null,""]
[null,""]
[null,""]
[null,""]
[null,""]
[null,""]
[null,""]
[null,""]
[null,""]
[null,""]
[null,""]
[null,""]
[null,""]
[null,""]
[null,""]
[null,""]
[null,""]
[null,""]
[null,""]
[null,""]
[null,""]
[null,""]
[null,""]
[null,""]
[null,""]
[null,""]
[null,""]
[null,""]
[null,""]
[null,""]
[null,""]
[null,""]
[null,""]
[null,""]
[null,""]
[null,""]
[null,""]
[null,""]
[null,""]
[null,""]
[null,""]
[null,""]
[null,""]
[null,""]
[null,""]
[null,""]
[null,""]
[null,""]
[null,""]
[null,""]
[null,""]
[null,""]
[null,""]
[null,""]
[null,""]
[null,""]
[null,""]
[null,{"$f":"IF(C2723=0,\"\",C2723-C2722)","v":""}]
[null,""]
[null,""]
[null,""]
[null,""]
[null,""]
[null,""]
[null,""]
[null,""]
[null,""]
[null,""]
[null,""]
[null,""]
[null,""]
[null,""]
[null,""]
[null,""]
[null,""]
[null,""]
[null,""]
[null,""]
[null,""]
[null,""]
[null,""]
[null,""]
[null,""]
[null,""]
[null,""]
[null,""]
[null,""]
[null,""]
[null,""]
[null,""]
[null,""]
[null,""]
[null,""]
[null,""]
[null,""]
[null,""]
[null,""]
[null,""]
[null,""]
[null,""]
[null,""]
[null,""]
[null,""]
[null,""]
[null,""]
[null,""]
[null,""]
[null,""]
[null,""]
[null,""]
[null,""]
[null,""]
[null,""]
[null,""]
[null,""]
[null,""]
[null,""]
[null,""]
[null,""]
[null,""]
[null,""]
[null,{"$f":"IF(C2787=0,\"\",C2787-C2786)","v":""}]
[null,""]
[null,""]
[null,""]
[null,""]
[null,""]
[null,""]
[null,""]
[null,""]
[null,""]
[null,""]
[null,""]
[null,""]
[null,""]
[null,""]
[null,""]
[null,""]
[null,""]
[null,""]
[null,""]
[null,""]
[null,""]
[null,""]
[null,""]
[null,""]
[null,""]
[null,""]
[null,""]
[null,""]
[null,""]
[null,""]
[null,""]
[null,""]
[null,""]
[null,""]
[null,""]
[null,""]
[null,""]
[null,""]
[null,""]
[null,""]
[null,""]
[null,""]
[null,""]
[null,""]
[null,""]
[null,""]
[null,""]
[null,""]
[null,""]
[null,""]
[null,""]
[null,""]
[null,""]
[null,""]
[null,""]
[null,""]
[null,""]
[null,""]
[null,""]
[null,""]
[null,""]
[null,""]
[null,""]
[null,{"$f":"IF(C2851=0,\"\",C2851-C2850)","v":""}]
[null,""]
[null,""]
[null,""]
[null,""]
[null,""]
[null,""]
[null,""]
[null,""]
[null,""]
[null,""]
[null,""]
[null,""]
[null,""]
[null,""]
[null,""]
[null,""]
[null,""]
[null,""]
[null,""]
[null,""]
[null,""]
[null,""]
[null,""]
[null,""]
[null,""]
[null,""]
[null,""]
[null,""]
[null,""]
[null,""]
[null,""]
[null,""]
[null,""]
[null,""]
[null,""]
[null,""]
[null,""]
[null,""]
[null,""]
[null,""]
[null,""]
[null,""]
[null,""]
[null,""]
[null,""]
[null,""]
[null,""]
[null,""]
[null,""]
[null,""]
[null,""]
[null,""]
[null,""]
[null,""]
[null,""]
[null,""]
[null,""]
[null,""]
[null,""]
[null,""]
[null,""]
[null,""]
[null,""]
[null,{"$f":"IF(C2915=0,\"\",C2915-C2914)","v":""}]
[null,""]
[null,""]
[null,""]
[null,""]
[null,""]
[null,""]
[null,""]
[null,""]
[null,""]
[null,""]
[null,""]
[null,""]
[null,""]
[null,""]
[null,""]
[null,""]
[null,""]
[null,""]
[null,""]
[null,""]
[null,""]
[null,""]
[null,""]
[null,""]
[null,""]
[null,""]
[null,""]
[null,""]
[null,""]
[null,""]
[null,""]
[null,""]
[null,""]
[null,""]
[null,""]
[null,""]
[null,""]
[null,""]
[null,""]
[null,""]
[null,""]
[null,""]
[null,""]
[null,""]
[null,""]
[null,""]
[null,""]
[null,""]
[null,""]
[null,""]
[null,""]
[null,""]
[null,""]
[null,""]
[null,""]
[null,""]
[null,""]
[null,""]
[null,""]
[null,""]
[null,""]
[null,""]
[null,""]
[null,{"$f":"IF(C2979=0,\"\",C2979-C2978)","v":""}]
[null,""]
[null,""]
[null,""]
[null,""]
[null,""]
[null,""]
[null,""]
[null,""]
[null,""]
[null,""]
[null,""]
[null,""]
[null,""]
[null,""]
[null,""]
[null,""]
[null,""]
[null,""]
[null,""]
[null,""]
[null,""]
[null,""]
[null,""]
[null,""]
[null,""]
[null,""]
[null,""]
[null,""]
[null,""]
[null,""]
[null,""]
[null,""]
[null,""]
[null,""]
[null,""]
[null,""]
[null,""]
[null,""]
[null,""]
[null,""]
[null,""]
[null,""]
[null,""]
[null,""]
[null,""]
[null,""]
[null,""]
[null,""]
[null,""]
[null,""]
[null,""]
[null,""]
[null,""]
[null,""]
[null,""]
[null,""]
[null,""]
[null,""]
[null,""]
[null,""]
[null,""]
[null,""]
[null,""]
[null,{"$f":"IF(C3043=0,\"\",C3043-C3042)","v":""}]
[null,""]
[null,""]
[null,""]
[null,""]
[null,""]
[null,""]
[null,""]
[null,""]
[null,""]
[null,""]
[null,""]
[null,""]
[null,""]
[null,""]
[null,""]
[null,""]
[null,""]
[null,""]
[null,""]
[null,""]
[null,""]
[null,""]
[null,""]
[null,""]
[null,""]
[null,""]
[null,""]
[null,""]
[null,""]
[null,""]
[null,""]
[null,""]
[null,""]
[null,""]
[null,""]
[null,""]
[null,""]
[null,""]
[null,""]
[null,""]
[null,""]
[null,""]
[null,""]
[null,""]
[null,""]
[null,""]
[null,""]
[null,""]
[null,""]
[null,""]
[null,""]
[null,""]
[null,""]
[null,""]
[null,""]
[null,""]
[null,""]
[null,""]
[null,""]
[null,""]
[null,""]
[null,""]
[null,""]
[null,{"$f":"IF(C3107=0,\"\",C3107-C3106)","v":""}]
[null,""]
[null,""]
[null,""]
[null,""]
[null,""]
[null,""]
[null,""]
[null,""]
[null,""]
[null,""]
[null,""]
[null,""]
[null,""]
[null,""]
[null,""]
[null,""]
[null,""]
[null,""]
[null,""]
[null,""]
[null,""]
[null,""]
[null,""]
[null,""]
[null,""]
[null,""]
[null,""]
[null,""]
[null,""]
[null,""]
[null,""]
[null,""]
[null,""]
[null,""]
[null,""]
[null,""]
[null,""]
[null,""]
[null,""]
[null,""]
[null,""]
[null,""]
[null,""]
[null,""]
[null,""]
[null,""]
[null,""]
[null,""]
[null,""]
[null,""]
[null,""]
[null,""]
[null,""]
[null,""]
[null,""]
[null,""]
[null,""]
[null,""]
[null,""]
[null,""]
[null,""]
[null,""]
[null,""]
[null,{"$f":"IF(C3171=0,\"\",C3171-C3170)","v":""}]
[null,""]
[null,""]
[null,""]
[null,""]
[null,""]
[null,""]
[null,""]
[null,""]
[null,""]
[null,""]
[null,""]
[null,""]
[null,""]
[null,""]
[null,""]
[null,""]
[null,""]
[null,""]
[null,""]
[null,""]
[null,""]
[null,""]
[null,""]
[null,""]
[null,""]
[null,""]
[null,""]
[null,""]
[null,""]
[null,""]
[null,""]
[null,""]
[null,""]
[null,""]
[null,""]
[null,""]
[null,""]
[null,""]
[null,""]
[null,""]
[null,""]
[null,""]
[null,""]
[null,""]
[null,""]
[null,""]
[null,""]
[null,""]
[null,""]
[null,""]
[null,""]
[null,""]
[null,""]
[null,""]
[null,""]
[null,""]
[null,""]
[null,""]
[null,""]
[null,""]
[null,""]
[null,""]
[null,""]
[null,{"$f":"IF(C3235=0,\"\",C3235-C3234)","v":""}]
[null,""]
[null,""]
[null,""]
[null,""]
[null,""]
[null,""]
[null,""]
[null,""]
[null,""]
[null,""]
[null,""]
[null,""]
[null,""]
[null,""]
[null,""]
[null,""]
[null,""]
[null,""]
[null,""]
[null,""]
[null,""]
[null,""]
[null,""]
[null,""]
[null,""]
[null,""]
[null,""]
[null,""]
[null,""]
[null,""]
[null,""]
[null,""]
[null,""]
[null,""]
[null,""]
[null,""]
[null,""]
[null,""]
[null,""]
[null,""]
[null,""]
[null,""]
[null,""]
[null,""]
[null,""]
[null,""]
[null,""]
[null,""]
[null,""]
[null,""]
[null,""]
[null,""]
[null,""]
[null,""]
[null,""]
[null,""]
[null,""]
[null,""]
[null,""]
[null,""]
[null,""]
[null,""]
[null,""]
[null,{"$f":"IF(C3299=0,\"\",C3299-C3298)","v":""}]
[null,""]
[null,""]
[null,""]
[null,""]
[null,""]
[null,""]
[null,""]
[null,""]
[null,""]
[null,""]
[null,""]
[null,""]
[null,""]
[null,""]
[null,""]
[null,""]
[null,""]
[null,""]
[null,""]
[null,""]
[null,""]
[null,""]
[null,""]
[null,""]
[null,""]
[null,""]
[null,""]
[null,""]
[null,""]
[null,""]
[null,""]
[null,""]
[null,""]
[null,""]
[null,""]
[null,""]
[null,""]
[null,""]
[null,""]
[null,""]
[null,""]
[null,""]
[null,""]
[null,""]
[null,""]
[null,""]
[null,""]
[null,""]
[null,""]
[null,""]
[null,""]
[null,""]
[null,""]
[null,""]
[null,""]
[null,""]
[null,""]
[null,""]
[null,""]
[null,""]
[null,""]
[null,""]
[null,""]
[null,{"$f":"IF(C3363=0,\"\",C3363-C3362)","v":""}]
[null,""]
[null,""]
[null,""]
[null,""]
[null,""]
[null,""]
[null,""]
[null,""]
[null,""]
[null,""]
[null,""]
[null,""]
[null,""]
[null,""]
[null,""]
[null,""]
[null,""]
[null,""]
[null,""]
[null,""]
[null,""]
[null,""]
[null,""]
[null,""]
[null,""]
[null,""]
[null,""]
[null,""]
[null,""]
[null,""]
[null,""]
[null,""]
[null,""]
[null,""]
[null,""]
[null,""]
[null,""]
[null,""]
[null,""]
[null,""]
[null,""]
[null,""]
[null,""]
[null,""]
[null,""]
[null,""]
[null,""]
[null,""]
[null,""]
[null,""]
[null,""]
[null,""]
[null,""]
[null,""]
[null,""]
[null,""]
[null,""]
[null,""]
[null,""]
[null,""]
[null,""]
[null,""]
[null,""]
[null,{"$f":"IF(C3427=0,\"\",C3427-C3426)","v":""}]
[null,""]
[null,""]
[null,""]
[null,""]
[null,""]
[null,""]
[null,""]
[null,""]
[null,""]
[null,""]
[null,""]
[null,""]
[null,""]
[null,""]
[null,""]
[null,""]
[null,""]
[null,""]
[null,""]
[null,""]
[null,""]
[null,""]
[null,""]
[null,""]
[null,""]
[null,""]
[null,""]
[null,""]
[null,""]
[null,""]
[null,""]
[null,""]
[null,""]
[null,""]
[null,""]
[null,""]
[null,""]
[null,""]
[null,""]
[null,""]
[null,""]
[null,""]
[null,""]
[null,""]
[null,""]
[null,""]
[null,""]
[null,""]
[null,""]
[null,""]
[null,""]
[null,""]
[null,""]
[null,""]
[null,""]
[null,""]
[null,""]
[null,""]
[null,""]
[null,""]
[null,""]
[null,""]
[null,""]
[null,{"$f":"IF(C3491=0,\"\",C3491-C3490)","v":""}]
[null,""]
[null,""]
[null,""]
[null,""]
[null,""]
[null,""]
[null,""]
[null,""]
[null,""]
[null,""]
[null,""]
[null,""]
[null,""]
[null,""]
[null,""]
[null,""]
[null,""]
[null,""]
[null,""]
[null,""]
[null,""]
[null,""]
[null,""]
[null,""]
[null,""]
[null,""]
[null,""]
[null,""]
[null,""]
[null,""]
[null,""]
[null,""]
[null,""]
[null,""]
[null,""]
[null,""]
[null,""]
[null,""]
[null,""]
[null,""]
[null,""]
[null,""]
[null,""]
[null,""]
[null,""]
[null,""]
[null,""]
[null,""]
[null,""]
[null,""]
[null,""]
[null,""]
[null,""]
[null,""]
[null,""]
[null,""]
[null,""]
[null,""]
[null,""]
[null,""]
[null,""]
[null,""]
[null,""]
[null,{"$f":"IF(C3555=0,\"\",C3555-C3554)","v":""}]
[null,""]
[null,""]
[null,""]
[null,""]
[null,""]
[null,""]
[null,""]
[null,""]
[null,""]
[null,""]
[null,""]
[null,""]
[null,""]
[null,""]
[null,""]
[null,""]
[null,""]
[null,""]
[null,""]
[null,""]
[null,""]
[null,""]
[null,""]
[null,""]
[null,""]
[null,""]
[null,""]
[null,""]
[null,""]
[null,""]
[null,""]
[null,""]
[null,""]
[null,""]
[null,""]
[null,""]
[null,""]
[null,""]
[null,""]
[null,""]
[null,""]
[null,""]
[null,""]
[null,""]
[null,""]
[null,""]
[null,""]
[null,""]
[null,""]
[null,""]
[null,""]
[null,""]
[null,""]
[null,""]
[null,""]
[null,""]
[null,""]
[null,""]
[null,""]
[null,""]
[null,""]
[null,""]
[null,""]
[null,{"$f":"IF(C3619=0,\"\",C3619-C3618)","v":""}]
[null,""]
[null,""]
[null,""]
[null,""]
[null,""]
[null,""]
[null,""]
[null,""]
[null,""]
[null,""]
[null,""]
[null,""]
[null,""]
[null,""]
[null,""]
[null,""]
[null,""]
[null,""]
[null,""]
[null,""]
[null,""]
[null,""]
[null,""]
[null,""]
[null,""]
[null,""]
[null,""]
[null,""]
[null,""]
[null,""]
[null,""]
[null,""]
[null,""]
[null,""]
[null,""]
[null,""]
[null,""]
[null,""]
[null,""]
[null,""]
[null,""]
[null,""]
[null,""]
[null,""]
[null,""]
[null,""]
[null,""]
[null,""]
[null,""]
[null,""]
[null,""]
[null,""]
[null,""]
[null,""]
[null,""]
[null,""]
[null,""]
[null,""]
[null,""]
[null,""]
[null,""]
[null,""]
[null,""]
[null,{"$f":"IF(C3683=0,\"\",C3683-C3682)","v":""}]
[null,""]
[null,""]
[null,""]
[null,""]
[null,""]
[null,""]
[null,""]
[null,""]
[null,""]
[null,""]
[null,""]
[null,""]
[null,""]
[null,""]
[null,""]
[null,""]
[null,""]
[null,""]
[null,""]
[null,""]
[null,""]
[null,""]
[null,""]
[null,""]
[null,""]
[null,""]
[null,""]
[null,""]
[null,""]
[null,""]
[null,""]
[null,""]
[null,""]
[null,""]
[null,""]
[null,""]
[null,""]
[null,""]
[null,""]
[null,""]
[null,""]
[null,""]
[null,""]
[null,""]
[null,""]
[null,""]
[null,""]
[null,""]
[null,""]
[null,""]
[null,""]
[null,""]
[null,""]
[null,""]
[null,""]
[null,""]
[null,""]
[null,""]
[null,""]
[null,""]
[null,""]
[null,""]
[null,""]
[null,{"$f":"IF(C3747=0,\"\",C3747-C3746)","v":""}]
[null,""]
[null,""]
[null,""]
[null,""]
[null,""]
[null,""]
[null,""]
[null,""]
[null,""]
[null,""]
[null,""]
[null,""]
[null,""]
[null,""]
[null,""]
[null,""]
[null,""]
[null,""]
[null,""]
[null,""]
[null,""]
[null,""]
[null,""]
[null,""]
[null,""]
[null,""]
[null,""]
[null,""]
[null,""]
[null,""]
[null,""]
[null,""]
[null,""]
[null,""]
[null,""]
[null,""]
[null,""]
[null,""]
[null,""]
[null,""]
[null,""]
[null,""]
[null,""]
[null,""]
[null,""]
[null,""]
[null,""]
[null,""]
[null,""]
[null,""]
[null,""]
[null,""]
[null,""]
[null,""]
[null,""]
[null,""]
[null,""]
[null,""]
[null,""]
[null,""]
[null,""]
[null,""]
[null,""]
[null,{"$f":"IF(C3811=0,\"\",C3811-C3810)","v":""}]
[null,""]
[null,""]
[null,""]
[null,""]
[null,""]
[null,""]
[null,""]
[null,""]
[null,""]
[null,""]
[null,""]
[null,""]
[null,""]
[null,""]
[null,""]
[null,""]
[null,""]
[null,""]
[null,""]
[null,""]
[null,""]
[null,""]
[null,""]
[null,""]
[null,""]
[null,""]
[null,""]
[null,""]
[null,""]
[null,""]
[null,""]
[null,""]
[null,""]
[null,""]
[null,""]
[null,""]
[null,""]
[null,""]
[null,""]
[null,""]
[null,""]
[null,""]
[null,""]
[null,""]
[null,""]
[null,""]
[null,""]
[null,""]
[null,""]
[null,""]
[null,""]
[null,""]
[null,""]
[null,""]
[null,""]
[null,""]
[null,""]
[null,""]
[null,""]
[null,""]
[null,""]
[null,""]
[null,""]
[null,{"$f":"IF(C3875=0,\"\",C3875-C3874)","v":""}]
[null,""]
[null,""]
[null,""]
[null,""]
[null,""]
[null,""]
[null,""]
[null,""]
[null,""]
[null,""]
[null,""]
[null,""]
[null,""]
[null,""]
[null,""]
[null,""]
[null,""]
[null,""]
[null,""]
[null,""]
[null,""]
[null,""]
[null,""]
[null,""]
[null,""]
[null,""]
[null,""]
[null,""]
[null,""]
[null,""]
[null,""]
[null,""]
[null,""]
[null,""]
[null,""]
[null,""]
[null,""]
[null,""]
[null,""]
[null,""]
[null,""]
[null,""]
[null,""]
[null,""]
[null,""]
[null,""]
[null,""]
[null,""]
[null,""]
[null,""]
[null,""]
[null,""]
[null,""]
[null,""]
[null,""]
[null,""]
[null,""]
[null,""]
[null,""]
[null,""]
[null,""]
[null,""]
[null,""]
[null,{"$f":"IF(C3939=0,\"\",C3939-C3938)","v":""}]
[null,""]
[null,""]
[null,""]
[null,""]
[null,""]
[null,""]
[null,""]
[null,""]
[null,""]
[null,""]
[null,""]
[null,""]
[null,""]
[null,""]
[null,""]
[null,""]
[null,""]
[null,""]
[null,""]
[null,""]
[null,""]
[null,""]
[null,""]
[null,""]
[null,""]
[null,""]
[null,""]
[null,""]
[null,""]
[null,""]
[null,""]
[null,""]
[null,""]
[null,""]
[null,""]
[null,""]
[null,""]
[null,""]
[null,""]
[null,""]
[null,""]
[null,""]
[null,""]
[null,""]
[null,""]
[null,""]
[null,""]
[null,""]
[null,""]
[null,""]
[null,""]
[null,""]
[null,""]
[null,""]
[null,""]
[null,""]
[null,""]
[null,""]
[null,""]
[null,""]
[null,""]
[null,""]
[null,""]
[null,{"$f":"IF(C4003=0,\"\",C4003-C4002)","v":""}]
[null,""]
[null,""]
[null,""]
[null,""]
[null,""]
[null,""]
[null,""]
[null,""]
[null,""]
[null,""]
[null,""]
[null,""]
[null,""]
[null,""]
[null,""]
[null,""]
[null,""]
[null,""]
[null,""]
[null,""]
[null,""]
[null,""]
[null,""]
[null,""]
[null,""]
[null,""]
[null,""]
[null,""]
[null,""]
[null,""]
[null,""]
[null,""]
[null,""]
[null,""]
[null,""]
[null,""]
[null,""]
[null,""]
[null,""]
[null,""]
[null,""]
[null,""]
[null,""]
[null,""]
[null,""]
[null,""]
[null,""]
[null,""]
[null,""]
[null,""]
[null,""]
[null,""]
[null,""]
[null,""]
[null,""]
[null,""]
[null,""]
[null,""]
[null,""]
[null,""]
[null,""]
[null,""]
[null,""]
[null,{"$f":"IF(C4067=0,\"\",C4067-C4066)","v":""}]
[null,""]
[null,""]
[null,""]
[null,""]
[null,""]
[null,""]
[null,""]
[null,""]
[null,""]
[null,""]
[null,""]
[null,""]
[null,""]
[null,""]
[null,""]
[null,""]
[null,""]
[null,""]
[null,""]
[null,""]
[null,""]
[null,""]
[null,""]
[null,""]
[null,""]
[null,""]
[null,""]
[null,""]
[null,""]
[null,""]
[null,""]
[null,""]
[null,""]
[null,""]
[null,""]
[null,""]
[null,""]
[null,""]
[null,""]
[null,""]
[null,""]
[null,""]
[null,""]
[null,""]
[null,""]
[null,""]
[null,""]
[null,""]
[null,""]
[null,""]
[null,""]
[null,""]
[null,""]
[null,""]
[null,""]
[null,""]
[null,""]
[null,""]
[null,""]
[null,""]
[null,""]
[null,""]
[null,""]
[null,{"$f":"IF(C4131=0,\"\",C4131-C4130)","v":""}]
[null,""]
[null,""]
[null,""]
[null,""]
[null,""]
[null,""]
[null,""]
[null,""]
[null,""]
[null,""]
[null,""]
[null,""]
[null,""]
[null,""]
[null,""]
[null,""]
[null,""]
[null,""]
[null,""]
[null,""]
[null,""]
[null,""]
[null,""]
[null,""]
[null,""]
[null,""]
[null,""]
[null,""]
[null,""]
[null,""]
[null,""]
[null,""]
[null,""]
[null,""]
[null,""]
[null,""]
[null,""]
[null,""]
[null,""]
[null,""]
[null,""]
[null,""]
[null,""]
[null,""]
[null,""]
[null,""]
[null,""]
[null,""]
[null,""]
[null,""]
[null,""]
[null,""]
[null,""]
[null,""]
[null,""]
[null,""]
[null,""]
[null,""]
[null,""]
[null,""]
[null,""]
[null,""]
[null,""]
[null,{"$f":"IF(C4195=0,\"\",C4195-C4194)","v":""}]
[null,""]
[null,""]
[null,""]
[null,""]
[null,""]
[null,""]
[null,""]
[null,""]
[null,""]
[null,""]
[null,""]
[null,""]
[null,""]
[null,""]
[null,""]
[null,""]
[null,""]
[null,""]
[null,""]
[null,""]
[null,""]
[null,""]
[null,""]
[null,""]
[null,""]
[null,""]
[null,""]
[null,""]
[null,""]
[null,""]
[null,""]
[null,""]
[null,""]
[null,""]
[null,""]
[null,""]
[null,""]
[null,""]
[null,""]
[null,""]
[null,""]
[null,""]
[null,""]
[null,""]
[null,""]
[null,""]
[null,""]
[null,""]
[null,""]
[null,""]
[null,""]
[null,""]
[null,""]
[null,""]
[null,""]
[null,""]
[null,""]
[null,""]
[null,""]
[null,""]
[null,""]
[null,""]
[null,""]
[null,{"$f":"IF(C4259=0,\"\",C4259-C4258)","v":""}]
[null,""]
[null,""]
[null,""]
[null,""]
[null,""]
[null,""]
[null,""]
[null,""]
[null,""]
[null,""]
[null,""]
[null,""]
[null,""]
[null,""]
[null,""]
[null,""]
[null,""]
[null,""]
[null,""]
[null,""]
[null,""]
[null,""]
[null,""]
[null,""]
[null,""]
[null,""]
[null,""]
[null,""]
[null,""]
[null,""]
[null,""]
[null,""]
[null,""]
[null,""]
[null,""]
[null,""]
[null,""]
[null,""]
[null,""]
[null,""]
[null,""]
[null,""]
[null,""]
[null,""]
[null,""]
[null,""]
[null,""]
[null,""]
[null,""]
[null,""]
[null,""]
[null,""]
[null,""]
[null,""]
[null,""]
[null,""]
[null,""]
[null,""]
[null,""]
[null,""]
[null,""]
[null,""]
[null,""]
[null,{"$f":"IF(C4323=0,\"\",C4323-C4322)","v":""}]
[null,""]
[null,""]
[null,""]
[null,""]
[null,""]
[null,""]
[null,""]
[null,""]
[null,""]
[null,""]
[null,""]
[null,""]
[null,""]
[null,""]
[null,""]
[null,""]
[null,""]
[null,""]
[null,""]
[null,""]
[null,""]
[null,""]
[null,""]
[null,""]
[null,""]
[null,""]
[null,""]
[null,""]
[null,""]
[null,""]
[null,""]
[null,""]
[null,""]
[null,""]
[null,""]
[null,""]
[null,""]
[null,""]
[null,""]
[null,""]
[null,""]
[null,""]
[null,""]
[null,""]
[null,""]
[null,""]
[null,""]
[null,""]
[null,""]
[null,""]
[null,""]
[null,""]
[null,""]
[null,""]
[null,""]
[null,""]
[null,""]
[null,""]
[null,""]
[null,""]
[null,""]
[null,""]
[null,""]
[null,{"$f":"IF(C4387=0,\"\",C4387-C4386)","v":""}]
[null,""]
[null,""]
[null,""]
[null,""]
[null,""]
[null,""]
[null,""]
[null,""]
[null,""]
[null,""]
[null,""]
[null,""]
[null,""]
[null,""]
[null,""]
[null,""]
[null,""]
[null,""]
[null,""]
[null,""]
[null,""]
[null,""]
[null,""]
[null,""]
[null,""]
[null,""]
[null,""]
[null,""]
[null,""]
[null,""]
[null,""]
[null,""]
[null,""]
[null,""]
[null,""]
[null,""]
[null,""]
[null,""]
[null,""]
[null,""]
[null,""]
[null,""]
[null,""]
[null,""]
[null,""]
[null,""]
[null,""]
[null,""]
[null,""]
[null,""]
[null,""]
[null,""]
[null,""]
[null,""]
[null,""]
[null,""]
[null,""]
[null,""]
[null,""]
[null,""]
[null,""]
[null,""]
[null,""]
[null,{"$f":"IF(C4451=0,\"\",C4451-C4450)","v":""}]
[null,""]
[null,""]
[null,""]
[null,""]
[null,""]
[null,""]
[null,""]
[null,""]
[null,""]
[null,""]
[null,""]
[null,""]
[null,""]
[null,""]
[null,""]
[null,""]
[null,""]
[null,""]
[null,""]
[null,""]
[null,""]
[null,""]
[null,""]
[null,""]
[null,""]
[null,""]
[null,""]
[null,""]
[null,""]
[null,""]
[null,""]
[null,""]
[null,""]
[null,""]
[null,""]
[null,""]
[null,""]
[null,""]
[null,""]
[null,""]
[null,""]
[null,""]
[null,""]
[null,""]
[null,""]
[null,""]
[null,""]
[null,""]
[null,""]
[null,""]
[null,""]
[null,""]
[null,""]
[null,""]
[null,""]
[null,""]
[null,""]
[null,""]
[null,""]
[null,""]
[null,""]
[null,""]
[null,""]
[null,{"$f":"IF(C4515=0,\"\",C4515-C4514)","v":""}]
[null,""]
[null,""]
[null,""]
[null,""]
[null,""]
[null,""]
[null,""]
[null,""]
[null,""]
[null,""]
[null,""]
[null,""]
[null,""]
[null,""]
[null,""]
[null,""]
[null,""]
[null,""]
[null,""]
[null,""]
[null,""]
[null,""]
[null,""]
[null,""]
[null,""]
[null,""]
[null,""]
[null,""]
[null,""]
[null,""]
[null,""]
[null,""]
[null,""]
[null,""]
[null,""]
[null,""]
[null,""]
[null,""]
[null,""]
[null,""]
[null,""]
[null,""]
[null,""]
[null,""]
[null,""]
[null,""]
[null,""]
[null,""]
[null,""]
[null,""]
[null,""]
[null,""]
[null,""]
[null,""]
[null,""]
[null,""]
[null,""]
[null,""]
[null,""]
[null,""]
[null,""]
[null,""]
[null,""]
[null,{"$f":"IF(C4579=0,\"\",C4579-C4578)","v":""}]
[null,""]
[null,""]
[null,""]
[null,""]
[null,""]
[null,""]
[null,""]
[null,""]
[null,""]
[null,""]
[null,""]
[null,""]
[null,""]
[null,""]
[null,""]
[null,""]
[null,""]
[null,""]
[null,""]
[null,""]
[null,""]
[null,""]
[null,""]
[null,""]
[null,""]
[null,""]
[null,""]
[null,""]
[null,""]
[null,""]
[null,""]
[null,""]
[null,""]
[null,""]
[null,""]
[null,""]
[null,""]
[null,""]
[null,""]
[null,""]
[null,""]
[null,""]
[null,""]
[null,""]
[null,""]
[null,""]
[null,""]
[null,""]
[null,""]
[null,""]
[null,""]
[null,""]
[null,""]
[null,""]
[null,""]
[null,""]
[null,""]
[null,""]
[null,""]
[null,""]
[null,""]
[null,""]
[null,""]
[null,{"$f":"IF(C4643=0,\"\",C4643-C4642)","v":""}]
[null,""]
[null,""]
[null,""]
[null,""]
[null,""]
[null,""]
[null,""]
[null,""]
[null,""]
[null,""]
[null,""]
[null,""]
[null,""]
[null,""]
[null,""]
[null,""]
[null,""]
[null,""]
[null,""]
[null,""]
[null,""]
[null,""]
[null,""]
[null,""]
[null,""]
[null,""]
[null,""]
[null,""]
[null,""]
[null,""]
[null,""]
[null,""]
[null,""]
[null,""]
[null,""]
[null,""]
[null,""]
[null,""]
[null,""]
[null,""]
[null,""]
[null,""]
[null,""]
[null,""]
[null,""]
[null,""]
[null,""]
[null,""]
[null,""]
[null,""]
[null,""]
[null,""]
[null,""]
[null,""]
[null,""]
[null,""]
[null,""]
[null,""]
[null,""]
[null,""]
[null,""]
[null,""]
[null,""]
[null,{"$f":"IF(C4707=0,\"\",C4707-C4706)","v":""}]
[null,""]
[null,""]
[null,""]
[null,""]
[null,""]
[null,""]
[null,""]
[null,""]
[null,""]
[null,""]
[null,""]
[null,""]
[null,""]
[null,""]
[null,""]
[null,""]
[null,""]
[null,""]
[null,""]
[null,""]
[null,""]
[null,""]
[null,""]
[null,""]
[null,""]
[null,""]
[null,""]
[null,""]
[null,""]
[null,""]
[null,""]
[null,""]
[null,""]
[null,""]
[null,""]
[null,""]
[null,""]
[null,""]
[null,""]
[null,""]
[null,""]
[null,""]
[null,""]
[null,""]
[null,""]
[null,""]
[null,""]
[null,""]
[null,""]
[null,""]
[null,""]
[null,""]
[null,""]
[null,""]
[null,""]
[null,""]
[null,""]
[null,""]
[null,""]
[null,""]
[null,""]
[null,""]
[null,""]
[null,{"$f":"IF(C4771=0,\"\",C4771-C4770)","v":""}]
[null,""]
[null,""]
[null,""]
[null,""]
[null,""]
[null,""]
[null,""]
[null,""]
[null,""]
[null,""]
[null,""]
[null,""]
[null,""]
[null,""]
[null,""]
[null,""]
[null,""]
[null,""]
[null,""]
[null,""]
[null,""]
[null,""]
[null,""]
[null,""]
[null,""]
[null,""]
[null,""]
[null,""]
[null,""]
[null,""]
[null,""]
[null,""]
[null,""]
[null,""]
[null,""]
[null,""]
[null,""]
[null,""]
[null,""]
[null,""]
[null,""]
[null,""]
[null,""]
[null,""]
[null,""]
[null,""]
[null,""]
[null,""]
[null,""]
[null,""]
[null,""]
[null,""]
[null,""]
[null,""]
[null,""]
[null,""]
[null,""]
[null,""]
[null,""]
[null,""]
[null,""]
[null,""]
[null,""]
[null,{"$f":"IF(C4835=0,\"\",C4835-C4834)","v":""}]
[null,""]
[null,""]
[null,""]
[null,""]
[null,""]
[null,""]
[null,""]
[null,""]
[null,""]
[null,""]
[null,""]
[null,""]
[null,""]
[null,""]
[null,""]
[null,""]
[null,""]
[null,""]
[null,""]
[null,""]
[null,""]
[null,""]
[null,""]
[null,""]
[null,""]
[null,""]
[null,""]
[null,""]
[null,""]
[null,""]
[null,""]
[null,""]
[null,""]
[null,""]
[null,""]
[null,""]
[null,""]
[null,""]
[null,""]
[null,""]
[null,""]
[null,""]
[null,""]
[null,""]
[null,""]
[null,""]
[null,""]
[null,""]
[null,""]
[null,""]
[null,""]
[null,""]
[null,""]
[null,""]
[null,""]
[null,""]
[null,""]
[null,""]
[null,""]
[null,""]
[null,""]
[null,""]
[null,""]
[null,{"$f":"IF(C4899=0,\"\",C4899-C4898)","v":""}]
[null,""]
[null,""]
[null,""]
[null,""]
[null,""]
[null,""]
[null,""]
[null,""]
[null,""]
[null,""]
[null,""]
[null,""]
[null,""]
[null,""]
[null,""]
[null,""]
[null,""]
[null,""]
[null,""]
[null,""]
[null,""]
[null,""]
[null,""]
[null,""]
[null,""]
[null,""]
[null,""]
[null,""]
[null,""]
[null,""]
[null,""]
[null,""]
[null,""]
[null,""]
[null,""]
[null,""]
[null,""]
[null,""]
[null,""]
[null,""]
[null,""]
[null,""]
[null,""]
[null,""]
[null,""]
[null,""]
[null,""]
[null,""]
[null,""]
[null,""]
[null,""]
[null,""]
[null,""]
[null,""]
[null,""]
[null,""]
[null,""]
[null,""]
[null,""]
[null,""]
[null,""]
[null,""]
[null,""]
[null,{"$f":"IF(C4963=0,\"\",C4963-C4962)","v":""}]
[null,""]
[null,""]
[null,""]
[null,""]
[null,""]
[null,""]
[null,""]
[null,""]
[null,""]
[null,""]
[null,""]
[null,""]
[null,""]
[null,""]
[null,""]
[null,""]
[null,""]
[null,""]
[null,""]
[null,""]
[null,""]
[null,""]
[null,""]
[null,""]
[null,""]
[null,""]
[null,""]
[null,""]
[null,""]
[null,""]
[null,""]
[null,""]
[null,""]
[null,""]
[null,""]
[null,""]
[null,""]
[null,""]
[null,""]
[null,""]
[null,""]
[null,""]
[null,""]
[null,""]
[null,""]
[null,""]
[null,""]
[null,""]
[null,""]
[null,""]
[null,""]
[null,""]
[null,""]
[null,""]
[null,""]
[null,""]
[null,""]
[null,""]
[null,""]
[null,""]
[null,""]
[null,""]
[null,""]
[null,{"$f":"IF(C5027=0,\"\",C5027-C5026)","v":""}]
[null,""]
[null,""]
[null,""]
[null,""]
[null,""]
[null,""]
[null,""]
[null,""]
[null,""]
[null,""]
[null,""]
[null,""]
[null,""]
[null,""]
[null,""]
[null,""]
[null,""]
[null,""]
[null,""]
[null,""]
[null,""]
[null,""]
[null,""]
[null,""]
[null,""]
[null,""]
[null,""]
[null,""]
[null,""]
[null,""]
[null,""]
[null,""]
[null,""]
[null,""]
[null,""]
[null,""]
[null,""]
[null,""]
[null,""]
[null,""]
[null,""]
[null,""]
[null,""]
[null,""]
[null,""]
[null,""]
[null,""]
[null,""]
[null,""]
[null,""]
[null,""]
[null,""]
[null,""]
[null,""]
[null,""]
[null,""]
[null,""]
[null,""]
[null,""]
[null,""]
[null,""]
[null,""]
[null,""]
[null,{"$f":"IF(C5091=0,\"\",C5091-C5090)","v":""}]
[null,""]
[null,""]
[null,""]
[null,""]
[null,""]
[null,""]
[null,""]
[null,""]
[null,""]
[null,""]
[null,""]
[null,""]
[null,""]
[null,""]
[null,""]
[null,""]
[null,""]
[null,""]
[null,""]
[null,""]
[null,""]
[null,""]
[null,""]
[null,""]
[null,""]
[null,""]
[null,""]
[null,""]
[null,""]
[null,""]
[null,""]
[null,""]
[null,""]
[null,""]
[null,""]
[null,""]
[null,""]
[null,""]
[null,""]
[null,""]
[null,""]
[null,""]
[null,""]
[null,""]
[null,""]
[null,""]
[null,""]
[null,""]
[null,""]
[null,""]
[null,""]
[null,""]
[null,""]
[null,""]
[null,""]
[null,""]
[null,""]
[null,""]
[null,""]
[null,""]
[null,""]
[null,""]
[null,""]
[null,{"$f":"IF(C5155=0,\"\",C5155-C5154)","v":""}]
[null,""]
[null,""]
[null,""]
[null,""]
[null,""]
[null,""]
[null,""]
[null,""]
[null,""]
[null,""]
[null,""]
[null,""]
[null,""]
[null,""]
[null,""]
[null,""]
[null,""]
[null,""]
[null,""]
[null,""]
[null,""]
[null,""]
[null,""]
[null,""]
[null,""]
[null,""]
[null,""]
[null,""]
[null,""]
[null,""]
[null,""]
[null,""]
[null,""]
[null,""]
[null,""]
[null,""]
[null,""]
[null,""]
[null,""]
[null,""]
[null,""]
[null,""]
[null,""]
[null,""]
[null,""]
[null,""]
[null,""]
[null,""]
[null,""]
[null,""]
[null,""]
[null,""]
[null,""]
[null,""]
[null,""]
[null,""]
[null,""]
[null,""]
[null,""]
[null,""]
[null,""]
[null,""]
[null,""]
[null,{"$f":"IF(C5219=0,\"\",C5219-C5218)","v":""}]
[null,""]
[null,""]
[null,""]
[null,""]
[null,""]
[null,""]
[null,""]
[null,""]
[null,""]
[null,""]
[null,""]
[null,""]
[null,""]
[null,""]
[null,""]
[null,""]
[null,""]
[null,""]
[null,""]
[null,""]
[null,""]
[null,""]
[null,""]
[null,""]
[null,""]
[null,""]
[null,""]
[null,""]
[null,""]
[null,""]
[null,""]
[null,""]
[null,""]
[null,""]
[null,""]
[null,""]
[null,""]
[null,""]
[null,""]
[null,""]
[null,""]
[null,""]
[null,""]
[null,""]
[null,""]
[null,""]
[null,""]
[null,""]
[null,""]
[null,""]
[null,""]
[null,""]
[null,""]
[null,""]
[null,""]
[null,""]
[null,""]
[null,""]
[null,""]
[null,""]
[null,""]
[null,""]
[null,""]
[null,{"$f":"IF(C5283=0,\"\",C5283-C5282)","v":""}]
[null,""]
[null,""]
[null,""]
[null,""]
[null,""]
[null,""]
[null,""]
[null,""]
[null,""]
[null,""]
[null,""]
[null,""]
[null,""]
[null,""]
[null,""]
[null,""]
[null,""]
[null,""]
[null,""]
[null,""]
[null,""]
[null,""]
[null,""]
[null,""]
[null,""]
[null,""]
[null,""]
[null,""]
[null,""]
[null,""]
[null,""]
[null,""]
[null,""]
[null,""]
[null,""]
[null,""]
[null,""]
[null,""]
[null,""]
[null,""]
[null,""]
[null,""]
[null,""]
[null,""]
[null,""]
[null,""]
[null,""]
[null,""]
[null,""]
[null,""]
[null,""]
[null,""]
[null,""]
[null,""]
[null,""]
[null,""]
[null,""]
[null,""]
[null,""]
[null,""]
[null,""]
[null,""]
[null,""]
[null,{"$f":"IF(C5347=0,\"\",C5347-C5346)","v":""}]
[null,""]
[null,""]
[null,""]
[null,""]
[null,""]
[null,""]
[null,""]
[null,""]
[null,""]
[null,""]
[null,""]
[null,""]
[null,""]
[null,""]
[null,""]
[null,""]
[null,""]
[null,""]
[null,""]
[null,""]
[null,""]
[null,""]
[null,""]
[null,""]
[null,""]
[null,""]
[null,""]
[null,""]
[null,""]
[null,""]
[null,""]
[null,""]
[null,""]
[null,""]
[null,""]
[null,""]
[null,""]
[null,""]
[null,""]
[null,""]
[null,""]
[null,""]
[null,""]
[null,""]
[null,""]
[null,""]
[null,""]
[null,""]
[null,""]
[null,""]
[null,""]
[null,""]
[null,""]
[null,""]
[null,""]
[null,""]
[null,""]
[null,""]
[null,""]
[null,""]
[null,""]
[null,""]
[null,""]
[null,{"$f":"IF(C5411=0,\"\",C5411-C5410)","v":""}]
[null,""]
[null,""]
[null,""]
[null,""]
[null,""]
[null,""]
[null,""]
[null,""]
[null,""]
[null,""]
[null,""]
[null,""]
[null,""]
[null,""]
[null,""]
[null,""]
[null,""]
[null,""]
[null,""]
[null,""]
[null,""]
[null,""]
[null,""]
[null,""]
[null,""]
[null,""]
[null,""]
[null,""]
[null,""]
[null,""]
[null,""]
[null,""]
[null,""]
[null,""]
[null,""]
[null,""]
[null,""]
[null,""]
[null,""]
[null,""]
[null,""]
[null,""]
[null,""]
[null,""]
[null,""]
[null,""]
[null,""]
[null,""]
[null,""]
[null,""]
[null,""]
[null,""]
[null,""]
[null,""]
[null,""]
[null,""]
[null,""]
[null,""]
[null,""]
[null,""]
[null,""]
[null,""]
[null,""]
[null,{"$f":"IF(C5475=0,\"\",C5475-C5474)","v":""}]
[null,""]
[null,""]
[null,""]
[null,""]
[null,""]
[null,""]
[null,""]
[null,""]
[null,""]
[null,""]
[null,""]
[null,""]
[null,""]
[null,""]
[null,""]
[null,""]
[null,""]
[null,""]
[null,""]
[null,""]
[null,""]
[null,""]
[null,""]
[null,""]
[null,""]
[null,""]
[null,""]
[null,""]
[null,""]
[null,""]
[null,""]
[null,""]
[null,""]
[null,""]
[null,""]
[null,""]
[null,""]
[null,""]
[null,""]
[null,""]
[null,""]
[null,""]
[null,""]
[null,""]
[null,""]
[null,""]
[null,""]
[null,""]
[null,""]
[null,""]
[null,""]
[null,""]
[null,""]
[null,""]
[null,""]
[null,""]
[null,""]
[null,""]
[null,""]
[null,""]
[null,""]
[null,""]
[null,""]
[null,{"$f":"IF(C5539=0,\"\",C5539-C5538)","v":""}]
[null,""]
[null,""]
[null,""]
[null,""]
[null,""]
[null,""]
[null,""]
[null,""]
[null,""]
[null,""]
[null,""]
[null,""]
[null,""]
[null,""]
[null,""]
[null,""]
[null,""]
[null,""]
[null,""]
[null,""]
[null,""]
[null,""]
[null,""]
[null,""]
[null,""]
[null,""]
[null,""]
[null,""]
[null,""]
[null,""]
[null,""]
[null,""]
[null,""]
[null,""]
[null,""]
[null,""]
[null,""]
[null,""]
[null,""]
[null,""]
[null,""]
[null,""]
[null,""]
[null,""]
[null,""]
[null,""]
[null,""]
[null,""]
[null,""]
[null,""]
[null,""]
[null,""]
[null,""]
[null,""]
[null,""]
[null,""]
[null,""]
[null,""]
[null,""]
[null,""]
[null,""]
[null,""]
[null,""]
[null,{"$f":"IF(C5603=0,\"\",C5603-C5602)","v":""}]
[null,""]
[null,""]
[null,""]
[null,""]
[null,""]
[null,""]
[null,""]
[null,""]
[null,""]
[null,""]
[null,""]
[null,""]
[null,""]
[null,""]
[null,""]
[null,""]
[null,""]
[null,""]
[null,""]
[null,""]
[null,""]
[null,""]
[null,""]
[null,""]
[null,""]
[null,""]
[null,""]
[null,""]
[null,""]
[null,""]
[null,""]
[null,""]
[null,""]
[null,""]
[null,""]
[null,""]
[null,""]
[null,""]
[null,""]
[null,""]
[null,""]
[null,""]
[null,""]
[null,""]
[null,""]
[null,""]
[null,""]
[null,""]
[null,""]
[null,""]
[null,""]
[null,""]
[null,""]
[null,""]
[null,""]
[null,""]
[null,""]
[null,""]
[null,""]
[null,""]
[null,""]
[null,""]
[null,""]
[null,{"$f":"IF(C5667=0,\"\",C5667-C5666)","v":""}]
[null,""]
[null,""]
[null,""]
[null,""]
[null,""]
[null,""]
[null,""]
[null,""]
[null,""]
[null,""]
[null,""]
[null,""]
[null,""]
[null,""]
[null,""]
[null,""]
[null,""]
[null,""]
[null,""]
[null,""]
[null,""]
[null,""]
[null,""]
[null,""]
[null,""]
[null,""]
[null,""]
[null,""]
[null,""]
[null,""]
[null,""]
[null,""]
[null,""]
[null,""]
[null,""]
[null,""]
[null,""]
[null,""]
[null,""]
[null,""]
[null,""]
[null,""]
[null,""]
[null,""]
[null,""]
[null,""]
[null,""]
[null,""]
[null,""]
[null,""]
[null,""]
[null,""]
[null,""]
[null,""]
[null,""]
[null,""]
[null,""]
[null,""]
[null,""]
[null,""]
[null,""]
[null,""]
[null,""]
[null,{"$f":"IF(C5731=0,\"\",C5731-C5730)","v":""}]
[null,""]
[null,""]
[null,""]
[null,""]
[null,""]
[null,""]
[null,""]
[null,""]
[null,""]
[null,""]
[null,""]
[null,""]
[null,""]
[null,""]
[null,""]
[null,""]
[null,""]
[null,""]
[null,""]
[null,""]
[null,""]
[null,""]
[null,""]
[null,""]
[null,""]
[null,""]
[null,""]
[null,""]
[null,""]
[null,""]
[null,""]
[null,""]
[null,""]
[null,""]
[null,""]
[null,""]
[null,""]
[null,""]
[null,""]
[null,""]
[null,""]
[null,""]
[null,""]
[null,""]
[null,""]
[null,""]
[null,""]
[null,""]
[null,""]
[null,""]
[null,""]
[null,""]
[null,""]
[null,""]
[null,""]
[null,""]
[null,""]
[null,""]
[null,""]
[null,""]
[null,""]
[null,""]
[null,""]
[null,{"$f":"IF(C5795=0,\"\",C5795-C5794)","v":""}]
[null,""]
[null,""]
[null,""]
[null,""]
[null,""]
[null,""]
[null,""]
[null,""]
[null,""]
[null,""]
[null,""]
[null,""]
[null,""]
[null,""]
[null,""]
[null,""]
[null,""]
[null,""]
[null,""]
[null,""]
[null,""]
[null,""]
[null,""]
[null,""]
[null,""]
[null,""]
[null,""]
[null,""]
[null,""]
[null,""]
[null,""]
[null,""]
[null,""]
[null,""]
[null,""]
[null,""]
[null,""]
[null,""]
[null,""]
[null,""]
[null,""]
[null,""]
[null,""]
[null,""]
[null,""]
[null,""]
[null,""]
[null,""]
[null,""]
[null,""]
[null,""]
[null,""]
[null,""]
[null,""]
[null,""]
[null,""]
[null,""]
[null,""]
[null,""]
[null,""]
[null,""]
[null,""]
[null,""]
[null,{"$f":"IF(C5859=0,\"\",C5859-C5858)","v":""}]
[null,""]
[null,""]
[null,""]
[null,""]
[null,""]
[null,""]
[null,""]
[null,""]
[null,""]
[null,""]
[null,""]
[null,""]
[null,""]
[null,""]
[null,""]
[null,""]
[null,""]
[null,""]
[null,""]
[null,""]
[null,""]
[null,""]
[null,""]
[null,""]
[null,""]
[null,""]
[null,""]
[null,""]
[null,""]
[null,""]
[null,""]
[null,""]
[null,""]
[null,""]
[null,""]
[null,""]
[null,""]
[null,""]
[null,""]
[null,""]
[null,""]
[null,""]
[null,""]
[null,""]
[null,""]
[null,""]
[null,""]
[null,""]
[null,""]
[null,""]
[null,""]
[null,""]
[null,""]
[null,""]
[null,""]
[null,""]
[null,""]
[null,""]
[null,""]
[null,""]
[null,""]
[null,""]
[null,""]
[null,{"$f":"IF(C5923=0,\"\",C5923-C5922)","v":""}]
[null,""]
[null,""]
[null,""]
[null,""]
[null,""]
[null,""]
[null,""]
[null,""]
[null,""]
[null,""]
[null,""]
[null,""]
[null,""]
[null,""]
[null,""]
[null,""]
[null,""]
[null,""]
[null,""]
[null,""]
[null,""]
[null,""]
[null,""]
[null,""]
[null,""]
[null,""]
[null,""]
[null,""]
[null,""]
[null,""]
[null,""]
[null,""]
[null,""]
[null,""]
[null,""]
[null,""]
[null,""]
[null,""]
[null,""]
[null,""]
[null,""]
[null,""]
[null,""]
[null,""]
[null,""]
[null,""]
[null,""]
[null,""]
[null,""]
[null,""]
[null,""]
[null,""]
[null,""]
[null,""]
[null,""]
[null,""]
[null,""]
[null,""]
[null,""]
[null,""]
[null,""]
[null,""]
[null,""]
[null,{"$f":"IF(C5987=0,\"\",C5987-C5986)","v":""}]
[null,""]
[null,""]
[null,""]
[null,""]
[null,""]
[null,""]
[null,""]
[null,""]
[null,""]
[null,""]
[null,""]
[null,""]
[null,""]
[null,""]
[null,""]
[null,""]
[null,""]
[null,""]
[null,""]
[null,""]
[null,""]
[null,""]
[null,""]
[null,""]
[null,""]
[null,""]
[null,""]
[null,""]
[null,""]
[null,""]
[null,""]
[null,""]
[null,""]
[null,""]
[null,""]
[null,""]
[null,""]
[null,""]
[null,""]
[null,""]
[null,""]
[null,""]
[null,""]
[null,""]
[null,""]
[null,""]
[null,""]
[null,""]
[null,""]
[null,""]
[null,""]
[null,""]
[null,""]
[null,""]
[null,""]
[null,""]
[null,""]
[null,""]
[null,""]
[null,""]
[null,""]
[null,""]
[null,""]
[null,{"$f":"IF(C6051=0,\"\",C6051-C6050)","v":""}]
[null,""]
[null,""]
[null,""]
[null,""]
[null,""]
[null,""]
[null,""]
[null,""]
[null,""]
[null,""]
[null,""]
[null,""]
[null,""]
[null,""]
[null,""]
[null,""]
[null,""]
[null,""]
[null,""]
[null,""]
[null,""]
[null,""]
[null,""]
[null,""]
[null,""]
[null,""]
[null,""]
[null,""]
[null,""]
[null,""]
[null,""]
[null,""]
[null,""]
[null,""]
[null,""]
[null,""]
[null,""]
[null,""]
[null,""]
[null,""]
[null,""]
[null,""]
[null,""]
[null,""]
[null,""]
[null,""]
[null,""]
[null,""]
[null,""]
[null,""]
[null,""]
[null,""]
[null,""]
[null,""]
[null,""]
[null,""]
[null,""]
[null,""]
[null,""]
[null,""]
[null,""]
[null,""]
[null,""]
[null,{"$f":"IF(C6115=0,\"\",C6115-C6114)","v":""}]
[null,""]
[null,""]
[null,""]
[null,""]
[null,""]
[null,""]
[null,""]
[null,""]
[null,""]
[null,""]
[null,""]
[null,""]
[null,""]
[null,""]
[null,""]
[null,""]
[null,""]
[null,""]
[null,""]
[null,""]
[null,""]
[null,""]
[null,""]
[null,""]
[null,""]
[null,""]
[null,""]
[null,""]
[null,""]
[null,""]
[null,""]
[null,""]
[null,""]
[null,""]
[null,""]
[null,""]
[null,""]
[null,""]
[null,""]
[null,""]
[null,""]
[null,""]
[null,""]
[null,""]
[null,""]
[null,""]
[null,""]
[null,""]
[null,""]
[null,""]
[null,""]
[null,""]
[null,""]
[null,""]
[null,""]
[null,""]
[null,""]
[null,""]
[null,""]
[null,""]
[null,""]
[null,""]
[null,""]
[null,{"$f":"IF(C6179=0,\"\",C6179-C6178)","v":""}]
[null,""]
[null,""]
[null,""]
[null,""]
[null,""]
[null,""]
[null,""]
[null,""]
[null,""]
[null,""]
[null,""]
[null,""]
[null,""]
[null,""]
[null,""]
[null,""]
[null,""]
[null,""]
[null,""]
[null,""]
[null,""]
[null,""]
[null,""]
[null,""]
[null,""]
[null,""]
[null,""]
[null,""]
[null,""]
[null,""]
[null,""]
[null,""]
[null,""]
[null,""]
[null,""]
[null,""]
[null,""]
[null,""]
[null,""]
[null,""]
[null,""]
[null,""]
[null,""]
[null,""]
[null,""]
[null,""]
[null,""]
[null,""]
[null,""]
[null,""]
[null,""]
[null,""]
[null,""]
[null,""]
[null,""]
[null,""]
[null,""]
[null,""]
[null,""]
[null,""]
[null,""]
[null,""]
[null,""]
[null,{"$f":"IF(C6243=0,\"\",C6243-C6242)","v":""}]
[null,""]
[null,""]
[null,""]
[null,""]
[null,""]
[null,""]
[null,""]
[null,""]
[null,""]
[null,""]
[null,""]
[null,""]
[null,""]
[null,""]
[null,""]
[null,""]
[null,""]
[null,""]
[null,""]
[null,""]
[null,""]
[null,""]
[null,""]
[null,""]
[null,""]
[null,""]
[null,""]
[null,""]
[null,""]
[null,""]
[null,""]
[null,""]
[null,""]
[null,""]
[null,""]
[null,""]
[null,""]
[null,""]
[null,""]
[null,""]
[null,""]
[null,""]
[null,""]
[null,""]
[null,""]
[null,""]
[null,""]
[null,""]
[null,""]
[null,""]
[null,""]
[null,""]
[null,""]
[null,""]
[null,""]
[null,""]
[null,""]
[null,""]
[null,""]
[null,""]
[null,""]
[null,""]
[null,""]
[null,{"$f":"IF(C6307=0,\"\",C6307-C6306)","v":""}]
[null,""]
[null,""]
[null,""]
[null,""]
[null,""]
[null,""]
[null,""]
[null,""]
[null,""]
[null,""]
[null,""]
[null,""]
[null,""]
[null,""]
[null,""]
[null,""]
[null,""]
[null,""]
[null,""]
[null,""]
[null,""]
[null,""]
[null,""]
[null,""]
[null,""]
[null,""]
[null,""]
[null,""]
[null,""]
[null,""]
[null,""]
[null,""]
[null,""]
[null,""]
[null,""]
[null,""]
[null,""]
[null,""]
[null,""]
[null,""]
[null,""]
[null,""]
[null,""]
[null,""]
[null,""]
[null,""]
[null,""]
[null,""]
[null,""]
[null,""]
[null,""]
[null,""]
[null,""]
[null,""]
[null,""]
[null,""]
[null,""]
[null,""]
[null,""]
[null,""]
[null,""]
[null,""]
[null,""]
[null,{"$f":"IF(C6371=0,\"\",C6371-C6370)","v":""}]
[null,""]
[null,""]
[null,""]
[null,""]
[null,""]
[null,""]
[null,""]
[null,""]
[null,""]
[null,""]
[null,""]
[null,""]
[null,""]
[null,""]
[null,""]
[null,""]
[null,""]
[null,""]
[null,""]
[null,""]
[null,""]
[null,""]
[null,""]
[null,""]
[null,""]
[null,""]
[null,""]
[null,""]
[null,""]
[null,""]
[null,""]
[null,""]
[null,""]
[null,""]
[null,""]
[null,""]
[null,""]
[null,""]
[null,""]
[null,""]
[null,""]
[null,""]
[null,""]
[null,""]
[null,""]
[null,""]
[null,""]
[null,""]
[null,""]
[null,""]
[null,""]
[null,""]
[null,""]
[null,""]
[null,""]
[null,""]
[null,""]
[null,""]
[null,""]
[null,""]
[null,""]
[null,""]
[null,""]
[null,{"$f":"IF(C6435=0,\"\",C6435-C6434)","v":""}]
[null,""]
[null,""]
[null,""]
[null,""]
[null,""]
[null,""]
[null,""]
[null,""]
[null,""]
[null,""]
[null,""]
[null,""]
[null,""]
[null,""]
[null,""]
[null,""]
[null,""]
[null,""]
[null,""]
[null,""]
[null,""]
[null,""]
[null,""]
[null,""]
[null,""]
[null,""]
[null,""]
[null,""]
[null,""]
[null,""]
[null,""]
[null,""]
[null,""]
[null,""]
[null,""]
[null,""]
[null,""]
[null,""]
[null,""]
[null,""]
[null,""]
[null,""]
[null,""]
[null,""]
[null,""]
[null,""]
[null,""]
[null,""]
[null,""]
[null,""]
[null,""]
[null,""]
[null,""]
[null,""]
[null,""]
[null,""]
[null,""]
[null,""]
[null,""]
[null,""]
[null,""]
[null,""]
[null,""]
[null,{"$f":"IF(C6499=0,\"\",C6499-C6498)","v":""}]
[null,""]
[null,""]
[null,""]
[null,""]
[null,""]
[null,""]
[null,""]
[null,""]
[null,""]
[null,""]
[null,""]
[null,""]
[null,""]
[null,""]
[null,""]
[null,""]
[null,""]
[null,""]
[null,""]
[null,""]
[null,""]
[null,""]
[null,""]
[null,""]
[null,""]
[null,""]
[null,""]
[null,""]
[null,""]
[null,""]
[null,""]
[null,""]
[null,""]
[null,""]
[null,""]
[null,""]
[null,""]
[null,""]
[null,""]
[null,""]
[null,""]
[null,""]
[null,""]
[null,""]
[null,""]
[null,""]
[null,""]
[null,""]
[null,""]
[null,""]
[null,""]
[null,""]
[null,""]
[null,""]
[null,""]
[null,""]
[null,""]
[null,""]
[null,""]
[null,""]
[null,""]
[null,""]
[null,""]
[null,{"$f":"IF(C6563=0,\"\",C6563-C6562)","v":""}]
[null,""]
[null,""]
[null,""]
[null,""]
[null,""]
[null,""]
[null,""]
[null,""]
[null,""]
[null,""]
[null,""]
[null,""]
[null,""]
[null,""]
[null,""]
[null,""]
[null,""]
[null,""]
[null,""]
[null,""]
[null,""]
[null,""]
[null,""]
[null,""]
[null,""]
[null,""]
[null,""]
[null,""]
[null,""]
[null,""]
[null,""]
[null,""]
[null,""]
[null,""]
[null,""]
[null,""]
[null,""]
[null,""]
[null,""]
[null,""]
[null,""]
[null,""]
[null,""]
[null,""]
[null,""]
[null,""]
[null,""]
[null,""]
[null,""]
[null,""]
[null,""]
[null,""]
[null,""]
[null,""]
[null,""]
[null,""]
[null,""]
[null,""]
[null,""]
[null,""]
[null,""]
[null,""]
[null,""]
[null,{"$f":"IF(C6627=0,\"\",C6627-C6626)","v":""}]
[null,""]
[null,""]
[null,""]
[null,""]
[null,""]
[null,""]
[null,""]
[null,""]
[null,""]
[null,""]
[null,""]
[null,""]
[null,""]
[null,""]
[null,""]
[null,""]
[null,""]
[null,""]
[null,""]
[null,""]
[null,""]
[null,""]
[null,""]
[null,""]
[null,""]
[null,""]
[null,""]
[null,""]
[null,""]
[null,""]
[null,""]
[null,""]
[null,""]
[null,""]
[null,""]
[null,""]
[null,""]
[null,""]
[null,""]
[null,""]
[null,""]
[null,""]
[null,""]
[null,""]
[null,""]
[null,""]
[null,""]
[null,""]
[null,""]
[null,""]
[null,""]
[null,""]
[null,""]
[null,""]
[null,""]
[null,""]
[null,""]
[null,""]
[null,""]
[null,""]
[null,""]
[null,""]
[null,""]
[null,{"$f":"IF(C6691=0,\"\",C6691-C6690)","v":""}]
[null,""]
[null,""]
[null,""]
[null,""]
[null,""]
[null,""]
[null,""]
[null,""]
[null,""]
[null,""]
[null,""]
[null,""]
[null,""]
[null,""]
[null,""]
[null,""]
[null,""]
[null,""]
[null,""]
[null,""]
[null,""]
[null,""]
[null,""]
[null,""]
[null,""]
[null,""]
[null,""]
[null,""]
[null,""]
[null,""]
[null,""]
[null,""]
[null,""]
[null,""]
[null,""]
[null,""]
[null,""]
[null,""]
[null,""]
[null,""]
[null,""]
[null,""]
[null,""]
[null,""]
[null,""]
[null,""]
[null,""]
[null,""]
[null,""]
[null,""]
[null,""]
[null,""]
[null,""]
[null,""]
[null,""]
[null,""]
[null,""]
[null,""]
[null,""]
[null,""]
[null,""]
[null,""]
[null,""]
[null,{"$f":"IF(C6755=0,\"\",C6755-C6754)","v":""}]
[null,""]
[null,""]
[null,""]
[null,""]
[null,""]
[null,""]
[null,""]
[null,""]
[null,""]
[null,""]
[null,""]
[null,""]
[null,""]
[null,""]
[null,""]
[null,""]
[null,""]
[null,""]
[null,""]
[null,""]
[null,""]
[null,""]
[null,""]
[null,""]
[null,""]
[null,""]
[null,""]
[null,""]
[null,""]
[null,""]
[null,""]
[null,""]
[null,""]
[null,""]
[null,""]
[null,""]
[null,""]
[null,""]
[null,""]
[null,""]
[null,""]
[null,""]
[null,""]
[null,""]
[null,""]
[null,""]
[null,""]
[null,""]
[null,""]
[null,""]
[null,""]
[null,""]
[null,""]
[null,""]
[null,""]
[null,""]
[null,""]
[null,""]
[null,""]
[null,""]
[null,""]
[null,""]
[null,""]
[null,{"$f":"IF(C6819=0,\"\",C6819-C6818)","v":""}]
[null,""]
[null,""]
[null,""]
[null,""]
[null,""]
[null,""]
[null,""]
[null,""]
[null,""]
[null,""]
[null,""]
[null,""]
[null,""]
[null,""]
[null,""]
[null,""]
[null,""]
[null,""]
[null,""]
[null,""]
[null,""]
[null,""]
[null,""]
[null,""]
[null,""]
[null,""]
[null,""]
[null,""]
[null,""]
[null,""]
[null,""]
[null,""]
[null,""]
[null,""]
[null,""]
[null,""]
[null,""]
[null,""]
[null,""]
[null,""]
[null,""]
[null,""]
[null,""]
[null,""]
[null,""]
[null,""]
[null,""]
[null,""]
[null,""]
[null,""]
[null,""]
[null,""]
[null,""]
[null,""]
[null,""]
[null,""]
[null,""]
[null,""]
[null,""]
[null,""]
[null,""]
[null,""]
[null,""]
[null,{"$f":"IF(C6883=0,\"\",C6883-C6882)","v":""}]
[null,""]
[null,""]
[null,""]
[null,""]
[null,""]
[null,""]
[null,""]
[null,""]
[null,""]
[null,""]
[null,""]
[null,""]
[null,""]
[null,""]
[null,""]
[null,""]
[null,""]
[null,""]
[null,""]
[null,""]
[null,""]
[null,""]
[null,""]
[null,""]
[null,""]
[null,""]
[null,""]
[null,""]
[null,""]
[null,""]
[null,""]
[null,""]
[null,""]
[null,""]
[null,""]
[null,""]
[null,""]
[null,""]
[null,""]
[null,""]
[null,""]
[null,""]
[null,""]
[null,""]
[null,""]
[null,""]
[null,""]
[null,""]
[null,""]
[null,""]
[null,""]
[null,""]
[null,""]
[null,""]
[null,""]
[null,""]
[null,""]
[null,""]
[null,""]
[null,""]
[null,""]
[null,""]
[null,""]
[null,{"$f":"IF(C6947=0,\"\",C6947-C6946)","v":""}]
[null,""]
[null,""]
[null,""]
[null,""]
[null,""]
[null,""]
[null,""]
[null,""]
[null,""]
[null,""]
[null,""]
[null,""]
[null,""]
[null,""]
[null,""]
[null,""]
[null,""]
[null,""]
[null,""]
[null,""]
[null,""]
[null,""]
[null,""]
[null,""]
[null,""]
[null,""]
[null,""]
[null,""]
[null,""]
[null,""]
[null,""]
[null,""]
[null,""]
[null,""]
[null,""]
[null,""]
[null,""]
[null,""]
[null,""]
[null,""]
[null,""]
[null,""]
[null,""]
[null,""]
[null,""]
[null,""]
[null,""]
[null,""]
[null,""]
[null,""]
[null,""]
[null,""]
[null,""]
[null,""]
[null,""]
[null,""]
[null,""]
[null,""]
[null,""]
[null,""]
[null,""]
[null,""]
[null,""]
[null,{"$f":"IF(C7011=0,\"\",C7011-C7010)","v":""}]
[null,""]
[null,""]
[null,""]
[null,""]
[null,""]
[null,""]
[null,""]
[null,""]
[null,""]
[null,""]
[null,""]
[null,""]
[null,""]
[null,""]
[null,""]
[null,""]
[null,""]
[null,""]
[null,""]
[null,""]
[null,""]
[null,""]
[null,""]
[null,""]
[null,""]
[null,""]
[null,""]
[null,""]
[null,""]
[null,""]
[null,""]
[null,""]
[null,""]
[null,""]
[null,""]
[null,""]
[null,""]
[null,""]
[null,""]
[null,""]
[null,""]
[null,""]
[null,""]
[null,""]
[null,""]
[null,""]
[null,""]
[null,""]
[null,""]
[null,""]
[null,""]
[null,""]
[null,""]
[null,""]
[null,""]
[null,""]
[null,""]
[null,""]
[null,""]
[null,""]
[null,""]
[null,""]
[null,""]
[null,{"$f":"IF(C7075=0,\"\",C7075-C7074)","v":""}]
[null,""]
[null,""]
[null,""]
[null,""]
[null,""]
[null,""]
[null,""]
[null,""]
[null,""]
[null,""]
[null,""]
[null,""]
[null,""]
[null,""]
[null,""]
[null,""]
[null,""]
[null,""]
[null,""]
[null,""]
[null,""]
[null,""]
[null,""]
[null,""]
[null,""]
[null,""]
[null,""]
[null,""]
[null,""]
[null,""]
[null,""]
[null,""]
[null,""]
[null,""]
[null,""]
[null,""]
[null,""]
[null,""]
[null,""]
[null,""]
[null,""]
[null,""]
[null,""]
[null,""]
[null,""]
[null,""]
[null,""]
[null,""]
[null,""]
[null,""]
[null,""]
[null,""]
[null,""]
[null,""]
[null,""]
[null,""]
[null,""]
[null,""]
[null,""]
[null,""]
[null,""]
[null,""]
[null,""]
[null,{"$f":"IF(C7139=0,\"\",C7139-C7138)","v":""}]
[null,""]
[null,""]
[null,""]
[null,""]
[null,""]
[null,""]
[null,""]
[null,""]
[null,""]
[null,""]
[null,""]
[null,""]
[null,""]
[null,""]
[null,""]
[null,""]
[null,""]
[null,""]
[null,""]
[null,""]
[null,""]
[null,""]
[null,""]
[null,""]
[null,""]
[null,""]
[null,""]
[null,""]
[null,""]
[null,""]
[null,""]
[null,""]
[null,""]
[null,""]
[null,""]
[null,""]
[null,""]
[null,""]
[null,""]
[null,""]
[null,""]
[null,""]
[null,""]
[null,""]
[null,""]
[null,""]
[null,""]
[null,""]
[null,""]
[null,""]
[null,""]
[null,""]
[null,""]
[null,""]
[null,""]
[null,""]
[null,""]
[null,""]
[null,""]
[null,""]
[null,""]
[null,""]
[null,""]
[null,{"$f":"IF(C7203=0,\"\",C7203-C7202)","v":""}]
[null,""]
[null,""]
[null,""]
[null,""]
[null,""]
[null,""]
[null,""]
[null,""]
[null,""]
[null,""]
[null,""]
[null,""]
[null,""]
[null,""]
[null,""]
[null,""]
[null,""]
[null,""]
[null,""]
[null,""]
[null,""]
[null,""]
[null,""]
[null,""]
[null,""]
[null,""]
[null,""]
[null,""]
[null,""]
[null,""]
[null,""]
[null,""]
[null,""]
[null,""]
[null,""]
[null,""]
[null,""]
[null,""]
[null,""]
[null,""]
[null,""]
[null,""]
[null,""]
[null,""]
[null,""]
[null,""]
[null,""]
[null,""]
[null,""]
[null,""]
[null,""]
[null,""]
[null,""]
[null,""]
[null,""]
[null,""]
[null,""]
[null,""]
[null,""]
[null,""]
[null,""]
[null,""]
[null,""]
[null,{"$f":"IF(C7267=0,\"\",C7267-C7266)","v":""}]
[null,""]
[null,""]
[null,""]
[null,""]
[null,""]
[null,""]
[null,""]
[null,""]
[null,""]
[null,""]
[null,""]
[null,""]
[null,""]
[null,""]
[null,""]
[null,""]
[null,""]
[null,""]
[null,""]
[null,""]
[null,""]
[null,""]
[null,""]
[null,""]
[null,""]
[null,""]
[null,""]
[null,""]
[null,""]
[null,""]
[null,""]
[null,""]
[null,""]
[null,""]
[null,""]
[null,""]
[null,""]
[null,""]
[null,""]
[null,""]
[null,""]
[null,""]
[null,""]
[null,""]
[null,""]
[null,""]
[null,""]
[null,""]
[null,""]
[null,""]
[null,""]
[null,""]
[null,""]
[null,""]
[null,""]
[null,""]
[null,""]
[null,""]
[null,""]
[null,""]
[null,""]
[null,""]
[null,""]
[null,{"$f":"IF(C7331=0,\"\",C7331-C7330)","v":""}]
[null,""]
[null,""]
[null,""]
[null,""]
[null,""]
[null,""]
[null,""]
[null,""]
[null,""]
[null,""]
[null,""]
[null,""]
[null,""]
[null,""]
[null,""]
[null,""]
[null,""]
[null,""]
[null,""]
[null,""]
[null,""]
[null,""]
[null,""]
[null,""]
[null,""]
[null,""]
[null,""]
[null,""]
[null,""]
[null,""]
[null,""]
[null,""]
[null,""]
[null,""]
[null,""]
[null,""]
[null,""]
[null,""]
[null,""]
[null,""]
[null,""]
[null,""]
[null,""]
[null,""]
[null,""]
[null,""]
[null,""]
[null,""]
[null,""]
[null,""]
[null,""]
[null,""]
[null,""]
[null,""]
[null,""]
[null,""]
[null,""]
[null,""]
[null,""]
[null,""]
[null,""]
[null,""]
[null,""]
[null,{"$f":"IF(C7395=0,\"\",C7395-C7394)","v":""}]
[null,""]
[null,""]
[null,""]
[null,""]
[null,""]
[null,""]
[null,""]
[null,""]
[null,""]
[null,""]
[null,""]
[null,""]
[null,""]
[null,""]
[null,""]
[null,""]
[null,""]
[null,""]
[null,""]
[null,""]
[null,""]
[null,""]
[null,""]
[null,""]
[null,""]
[null,""]
[null,""]
[null,""]
[null,""]
[null,""]
[null,""]
[null,""]
[null,""]
[null,""]
[null,""]
[null,""]
[null,""]
[null,""]
[null,""]
[null,""]
[null,""]
[null,""]
[null,""]
[null,""]
[null,""]
[null,""]
[null,""]
[null,""]
[null,""]
[null,""]
[null,""]
[null,""]
[null,""]
[null,""]
[null,""]
[null,""]
[null,""]
[null,""]
[null,""]
[null,""]
[null,""]
[null,""]
[null,""]
[null,{"$f":"IF(C7459=0,\"\",C7459-C7458)","v":""}]
[null,""]
[null,""]
[null,""]
[null,""]
[null,""]
[null,""]
[null,""]
[null,""]
[null,""]
[null,""]
[null,""]
[null,""]
[null,""]
[null,""]
[null,""]
[null,""]
[null,""]
[null,""]
[null,""]
[null,""]
[null,""]
[null,""]
[null,""]
[null,""]
[null,""]
[null,""]
[null,""]
[null,""]
[null,""]
[null,""]
[null,""]
[null,""]
[null,""]
[null,""]
[null,""]
[null,""]
[null,""]
[null,""]
[null,""]
[null,""]
[null,""]
[null,""]
[null,""]
[null,""]
[null,""]
[null,""]
[null,""]
[null,""]
[null,""]
[null,""]
[null,""]
[null,""]
[null,""]
[null,""]
[null,""]
[null,""]
[null,""]
[null,""]
[null,""]
[null,""]
[null,""]
[null,""]
[null,""]
[null,{"$f":"IF(C7523=0,\"\",C7523-C7522)","v":""}]
[null,""]
[null,""]
[null,""]
[null,""]
[null,""]
[null,""]
[null,""]
[null,""]
[null,""]
[null,""]
[null,""]
[null,""]
[null,""]
[null,""]
[null,""]
[null,""]
[null,""]
[null,""]
[null,""]
[null,""]
[null,""]
[null,""]
[null,""]
[null,""]
[null,""]
[null,""]
[null,""]
[null,""]
[null,""]
[null,""]
[null,""]
[null,""]
[null,""]
[null,""]
[null,""]
[null,""]
[null,""]
[null,""]
[null,""]
[null,""]
[null,""]
[null,""]
[null,""]
[null,""]
[null,""]
[null,""]
[null,""]
[null,""]
[null,""]
[null,""]
[null,""]
[null,""]
[null,""]
[null,""]
[null,""]
[null,""]
[null,""]
[null,""]
[null,""]
[null,""]
[null,""]
[null,""]
[null,""]
[null,{"$f":"IF(C7587=0,\"\",C7587-C7586)","v":""}]
[null,""]
[null,""]
[null,""]
[null,""]
[null,""]
[null,""]
[null,""]
[null,""]
[null,""]
[null,""]
[null,""]
[null,""]
[null,""]
[null,""]
[null,""]
[null,""]
[null,""]
[null,""]
[null,""]
[null,""]
[null,""]
[null,""]
[null,""]
[null,""]
[null,""]
[null,""]
[null,""]
[null,""]
[null,""]
[null,""]
[null,""]
[null,""]
[null,""]
[null,""]
[null,""]
[null,""]
[null,""]
[null,""]
[null,""]
[null,""]
[null,""]
[null,""]
[null,""]
[null,""]
[null,""]
[null,""]
[null,""]
[null,""]
[null,""]
[null,""]
[null,""]
[null,""]
[null,""]
[null,""]
[null,""]
[null,""]
[null,""]
[null,""]
[null,""]
[null,""]
[null,""]
[null,""]
[null,""]
[null,{"$f":"IF(C7651=0,\"\",C7651-C7650)","v":""}]
[null,""]
[null,""]
[null,""]
[null,""]
[null,""]
[null,""]
[null,""]
[null,""]
[null,""]
[null,""]
[null,""]
[null,""]
[null,""]
[null,""]
[null,""]
[null,""]
[null,""]
[null,""]
[null,""]
[null,""]
[null,""]
[null,""]
[null,""]
[null,""]
[null,""]
[null,""]
[null,""]
[null,""]
[null,""]
[null,""]
[null,""]
[null,""]
[null,""]
[null,""]
[null,""]
[null,""]
[null,""]
[null,""]
[null,""]
[null,""]
[null,""]
[null,""]
[null,""]
[null,""]
[null,""]
[null,""]
[null,""]
[null,""]
[null,""]
[null,""]
[null,""]
[null,""]
[null,""]
[null,""]
[null,""]
[null,""]
[null,""]
[null,""]
[null,""]
[null,""]
[null,""]
[null,""]
[null,""]
[null,{"$f":"IF(C7715=0,\"\",C7715-C7714)","v":""}]
[null,""]
[null,""]
[null,""]
[null,""]
[null,""]
[null,""]
[null,""]
[null,""]
[null,""]
[null,""]
[null,""]
[null,""]
[null,""]
[null,""]
[null,""]
[null,""]
[null,""]
[null,""]
[null,""]
[null,""]
[null,""]
[null,""]
[null,""]
[null,""]
[null,""]
[null,""]
[null,""]
[null,""]
[null,""]
[null,""]
[null,""]
[null,""]
[null,""]
[null,""]
[null,""]
[null,""]
[null,""]
[null,""]
[null,""]
[null,""]
[null,""]
[null,""]
[null,""]
[null,""]
[null,""]
[null,""]
[null,""]
[null,""]
[null,""]
[null,""]
[null,""]
[null,""]
[null,""]
[null,""]
[null,""]
[null,""]
[null,""]
[null,""]
[null,""]
[null,""]
[null,""]
[null,""]
[null,""]
[null,{"$f":"IF(C7779=0,\"\",C7779-C7778)","v":""}]
[null,""]
[null,""]
[null,""]
[null,""]
[null,""]
[null,""]
[null,""]
[null,""]
[null,""]
[null,""]
[null,""]
[null,""]
[null,""]
[null,""]
[null,""]
[null,""]
[null,""]
[null,""]
[null,""]
[null,""]
[null,""]
[null,""]
[null,""]
[null,""]
[null,""]
[null,""]
[null,""]
[null,""]
[null,""]
[null,""]
[null,""]
[null,""]
[null,""]
[null,""]
[null,""]
[null,""]
[null,""]
[null,""]
[null,""]
[null,""]
[null,""]
[null,""]
[null,""]
[null,""]
[null,""]
[null,""]
[null,""]
[null,""]
[null,""]
[null,""]
[null,""]
[null,""]
[null,""]
[null,""]
[null,""]
[null,""]
[null,""]
[null,""]
[null,""]
[null,""]
[null,""]
[null,""]
[null,""]
[null,{"$f":"IF(C7843=0,\"\",C7843-C7842)","v":""}]
[null,""]
[null,""]
[null,""]
[null,""]
[null,""]
[null,""]
[null,""]
[null,""]
[null,""]
[null,""]
[null,""]
[null,""]
[null,""]
[null,""]
[null,""]
[null,""]
[null,""]
[null,""]
[null,""]
[null,""]
[null,""]
[null,""]
[null,""]
[null,""]
[null,""]
[null,""]
[null,""]
[null,""]
[null,""]
[null,""]
[null,""]
[null,""]
[null,""]
[null,""]
[null,""]
[null,""]
[null,""]
[null,""]
[null,""]
[null,""]
[null,""]
[null,""]
[null,""]
[null,""]
[null,""]
[null,""]
[null,""]
[null,""]
[null,""]
[null,""]
[null,""]
[null,""]
[null,""]
[null,""]
[null,""]
[null,""]
[null,""]
[null,""]
[null,""]
[null,""]
[null,""]
[null,""]
[null,""]
[null,{"$f":"IF(C7907=0,\"\",C7907-C7906)","v":""}]
[null,""]
[null,""]
[null,""]
[null,""]
[null,""]
[null,""]
[null,""]
[null,""]
[null,""]
[null,""]
[null,""]
[null,""]
[null,""]
[null,""]
[null,""]
[null,""]
[null,""]
[null,""]
[null,""]
[null,""]
[null,""]
[null,""]
[null,""]
[null,""]
[null,""]
[null,""]
[null,""]
[null,""]
[null,""]
[null,""]
[null,""]
[null,""]
[null,""]
[null,""]
[null,""]
[null,""]
[null,""]
[null,""]
[null,""]
[null,""]
[null,""]
[null,""]
[null,""]
[null,""]
[null,""]
[null,""]
[null,""]
[null,""]
[null,""]
[null,""]
[null,""]
[null,""]
[null,""]
[null,""]
[null,""]
[null,""]
[null,""]
[null,""]
[null,""]
[null,""]
[null,""]
[null,""]
[null,""]
[null,{"$f":"IF(C7971=0,\"\",C7971-C7970)","v":""}]
[null,""]
[null,""]
[null,""]
[null,""]
[null,""]
[null,""]
[null,""]
[null,""]
[null,""]
[null,""]
[null,""]
[null,""]
[null,""]
[null,""]
[null,""]
[null,""]
[null,""]
[null,""]
[null,""]
[null,""]
[null,""]
[null,""]
[null,""]
[null,""]
[null,""]
[null,""]
[null,""]
[null,""]
[null,""]
[null,""]
[null,""]
[null,""]
[null,""]
[null,""]
[null,""]
[null,""]
[null,""]
[null,""]
[null,""]
[null,""]
[null,""]
[null,""]
[null,""]
[null,""]
[null,""]
[null,""]
[null,""]
[null,""]
[null,""]
[null,""]
[null,""]
[null,""]
[null,""]
[null,""]
[null,""]
[null,""]
[null,""]
[null,""]
[null,""]
[null,""]
[null,""]
[null,""]
[null,""]
[null,{"$f":"IF(C8035=0,\"\",C8035-C8034)","v":""}]
[null,""]
[null,""]
[null,""]
[null,""]
[null,""]
[null,""]
[null,""]
[null,""]
[null,""]
[null,""]
[null,""]
[null,""]
[null,""]
[null,""]
[null,""]
[null,""]
[null,""]
[null,""]
[null,""]
[null,""]
[null,""]
[null,""]
[null,""]
[null,""]
[null,""]
[null,""]
[null,""]
[null,""]
[null,""]
[null,""]
[null,""]
[null,""]
[null,""]
[null,""]
[null,""]
[null,""]
[null,""]
[null,""]
[null,""]
[null,""]
[null,""]
[null,""]
[null,""]
[null,""]
[null,""]
[null,""]
[null,""]
[null,""]
[null,""]
[null,""]
[null,""]
[null,""]
[null,""]
[null,""]
[null,""]
[null,""]
[null,""]
[null,""]
[null,""]
[null,""]
[null,""]
[null,""]
[null,""]
[null,{"$f":"IF(C8099=0,\"\",C8099-C8098)","v":""}]
[null,""]
[null,""]
[null,""]
[null,""]
[null,""]
[null,""]
[null,""]
[null,""]
[null,""]
[null,""]
[null,""]
[null,""]
[null,""]
[null,""]
[null,""]
[null,""]
[null,""]
[null,""]
[null,""]
[null,""]
[null,""]
[null,""]
[null,""]
[null,""]
[null,""]
[null,""]
[null,""]
[null,""]
[null,""]
[null,""]
[null,""]
[null,""]
[null,""]
[null,""]
[null,""]
[null,""]
[null,""]
[null,""]
[null,""]
[null,""]
[null,""]
[null,""]
[null,""]
[null,""]
[null,""]
[null,""]
[null,""]
[null,""]
[null,""]
[null,""]
[null,""]
[null,""]
[null,""]
[null,""]
[null,""]
[null,""]
[null,""]
[null,""]
[null,""]
[null,""]
[null,""]
[null,""]
[null,""]
[null,{"$f":"IF(C8163=0,\"\",C8163-C8162)","v":""}]
[null,""]
[null,""]
[null,""]
[null,""]
[null,""]
[null,""]
[null,""]
[null,""]
[null,""]
[null,""]
[null,""]
[null,""]
[null,""]
[null,""]
[null,""]
[null,""]
[null,""]
[null,""]
[null,""]
[null,""]
[null,""]
[null,""]
[null,""]
[null,""]
[null,""]
[null,""]
[null,""]
[null,""]
[null,""]
[null,""]
[null,""]
[null,""]
[null,""]
[null,""]
[null,""]
[null,""]
[null,""]
[null,""]
[null,""]
[null,""]
[null,""]
[null,""]
[null,""]
[null,""]
[null,""]
[null,""]
[null,""]
[null,""]
[null,""]
[null,""]
[null,""]
[null,""]
[null,""]
[null,""]
[null,""]
[null,""]
[null,""]
[null,""]
[null,""]
[null,""]
[null,""]
[null,""]
[null,""]
[null,{"$f":"IF(C8227=0,\"\",C8227-C8226)","v":""}]
[null,""]
[null,""]
[null,""]
[null,""]
[null,""]
[null,""]
[null,""]
[null,""]
[null,""]
[null,""]
[null,""]
[null,""]
[null,""]
[null,""]
[null,""]
[null,""]
[null,""]
[null,""]
[null,""]
[null,""]
[null,""]
[null,""]
[null,""]
[null,""]
[null,""]
[null,""]
[null,""]
[null,""]
[null,""]
[null,""]
[null,""]
[null,""]
[null,""]
[null,""]
[null,""]
[null,""]
[null,""]
[null,""]
[null,""]
[null,""]
[null,""]
[null,""]
[null,""]
[null,""]
[null,""]
[null,""]
[null,""]
[null,""]
[null,""]
[null,""]
[null,""]
[null,""]
[null,""]
[null,""]
[null,""]
[null,""]
[null,""]
[null,""]
[null,""]
[null,""]
[null,""]
[null,""]
[null,""]
[null,{"$f":"IF(C8291=0,\"\",C8291-C8290)","v":""}]
[null,""]
[null,""]
[null,""]
[null,""]
[null,""]
[null,""]
[null,""]
[null,""]
[null,""]
[null,""]
[null,""]
[null,""]
[null,""]
[null,""]
[null,""]
[null,""]
[null,""]
[null,""]
[null,""]
[null,""]
[null,""]
[null,""]
[null,""]
[null,""]
[null,""]
[null,""]
[null,""]
[null,""]
[null,""]
[null,""]
[null,""]
[null,""]
[null,""]
[null,""]
[null,""]
[null,""]
[null,""]
[null,""]
[null,""]
[null,""]
[null,""]
[null,""]
[null,""]
[null,""]
[null,""]
[null,""]
[null,""]
[null,""]
[null,""]
[null,""]
[null,""]
[null,""]
[null,""]
[null,""]
[null,""]
[null,""]
[null,""]
[null,""]
[null,""]
[null,""]
[null,""]
[null,""]
[null,""]
[null,{"$f":"IF(C8355=0,\"\",C8355-C8354)","v":""}]
[null,""]
[null,""]
[null,""]
[null,""]
[null,""]
[null,""]
[null,""]
[null,""]
[null,""]
[null,""]
[null,""]
[null,""]
[null,""]
[null,""]
[null,""]
[null,""]
[null,""]
[null,""]
[null,""]
[null,""]
[null,""]
[null,""]
[null,""]
[null,""]
[null,""]
[null,""]
[null,""]
[null,""]
[null,""]
[null,""]
[null,""]
[null,""]
[null,""]
[null,""]
[null,""]
[null,""]
[null,""]
[null,""]
[null,""]
[null,""]
[null,""]
[null,""]
[null,""]
[null,""]
[null,""]
[null,""]
[null,""]
[null,""]
[null,""]
[null,""]
[null,""]
[null,""]
[null,""]
[null,""]
[null,""]
[null,""]
[null,""]
[null,""]
[null,""]
[null,""]
[null,""]
[null,""]
[null,""]
[null,{"$f":"IF(C8419=0,\"\",C8419-C8418)","v":""}]
[null,""]
[null,""]
[null,""]
[null,""]
[null,""]
[null,""]
[null,""]
[null,""]
[null,""]
[null,""]
[null,""]
[null,""]
[null,""]
[null,""]
[null,""]
[null,""]
[null,""]
[null,""]
[null,""]
[null,""]
[null,""]
[null,""]
[null,""]
[null,""]
[null,""]
[null,""]
[null,""]
[null,""]
[null,""]
[null,""]
[null,""]
[null,""]
[null,""]
[null,""]
[null,""]
[null,""]
[null,""]
[null,""]
[null,""]
[null,""]
[null,""]
[null,""]
[null,""]
[null,""]
[null,""]
[null,""]
[null,""]
[null,""]
[null,""]
[null,""]
[null,""]
[null,""]
[null,""]
[null,""]
[null,""]
[null,""]
[null,""]
[null,""]
[null,""]
[null,""]
[null,""]
[null,""]
[null,""]
[null,{"$f":"IF(C8483=0,\"\",C8483-C8482)","v":""}]
[null,""]
[null,""]
[null,""]
[null,""]
[null,""]
[null,""]
[null,""]
[null,""]
[null,""]
[null,""]
[null,""]
[null,""]
[null,""]
[null,""]
[null,""]
[null,""]
[null,""]
[null,""]
[null,""]
[null,""]
[null,""]
[null,""]
[null,""]
[null,""]
[null,""]
[null,""]
[null,""]
[null,""]
[null,""]
[null,""]
[null,""]
[null,""]
[null,""]
[null,""]
[null,""]
[null,""]
[null,""]
[null,""]
[null,""]
[null,""]
[null,""]
[null,""]
[null,""]
[null,""]
[null,""]
[null,""]
[null,""]
[null,""]
[null,""]
[null,""]
[null,""]
[null,""]
[null,""]
[null,""]
[null,""]
[null,""]
[null,""]
[null,""]
[null,""]
[null,""]
[null,""]
[null,""]
[null,""]
[null,{"$f":"IF(C8547=0,\"\",C8547-C8546)","v":""}]
[null,""]
[null,""]
[null,""]
[null,""]
[null,""]
[null,""]
[null,""]
[null,""]
[null,""]
[null,""]
[null,""]
[null,""]
[null,""]
[null,""]
[null,""]
[null,""]
[null,""]
[null,""]
[null,""]
[null,""]
[null,""]
[null,""]
[null,""]
[null,""]
[null,""]
[null,""]
[null,""]
[null,""]
[null,""]
[null,""]
[null,""]
[null,""]
[null,""]
[null,""]
[null,""]
[null,""]
[null,""]
[null,""]
[null,""]
[null,""]
[null,""]
[null,""]
[null,""]
[null,""]
[null,""]
[null,""]
[null,""]
[null,""]
[null,""]
[null,""]
[null,""]
[null,""]
[null,""]
[null,""]
[null,""]
[null,""]
[null,""]
[null,""]
[null,""]
[null,""]
[null,""]
[null,""]
[null,""]
[null,{"$f":"IF(C8611=0,\"\",C8611-C8610)","v":""}]
[null,""]
[null,""]
[null,""]
[null,""]
[null,""]
[null,""]
[null,""]
[null,""]
[null,""]
[null,""]
[null,""]
[null,""]
[null,""]
[null,""]
[null,""]
[null,""]
[null,""]
[null,""]
[null,""]
[null,""]
[null,""]
[null,""]
[null,""]
[null,""]
[null,""]
[null,""]
[null,""]
[null,""]
[null,""]
[null,""]
[null,""]
[null,""]
[null,""]
[null,""]
[null,""]
[null,""]
[null,""]
[null,""]
[null,""]
[null,""]
[null,""]
[null,""]
[null,""]
[null,""]
[null,""]
[null,""]
[null,""]
[null,""]
[null,""]
[null,""]
[null,""]
[null,""]
[null,""]
[null,""]
[null,""]
[null,""]
[null,""]
[null,""]
[null,""]
[null,""]
[null,""]
[null,""]
[null,""]
[null,{"$f":"IF(C8675=0,\"\",C8675-C8674)","v":""}]
[null,""]
[null,""]
[null,""]
[null,""]
[null,""]
[null,""]
[null,""]
[null,""]
[null,""]
[null,""]
[null,""]
[null,""]
[null,""]
[null,""]
[null,""]
[null,""]
[null,""]
[null,""]
[null,""]
[null,""]
[null,""]
[null,""]
[null,""]
[null,""]
[null,""]
[null,""]
[null,""]
[null,""]
[null,""]
[null,""]
[null,""]
[null,""]
[null,""]
[null,""]
[null,""]
[null,""]
[null,""]
[null,""]
[null,""]
[null,""]
[null,""]
[null,""]
[null,""]
[null,""]
[null,""]
[null,""]
[null,""]
[null,""]
[null,""]
[null,""]
[null,""]
[null,""]
[null,""]
[null,""]
[null,""]
[null,""]
[null,""]
[null,""]
[null,""]
[null,""]
[null,""]
[null,""]
[null,""]
[null,{"$f":"IF(C8739=0,\"\",C8739-C8738)","v":""}]
[null,""]
[null,""]
[null,""]
[null,""]
[null,""]
[null,""]
[null,""]
[null,""]
[null,""]
[null,""]
[null,""]
[null,""]
[null,""]
[null,""]
[null,""]
[null,""]
[null,""]
[null,""]
[null,""]
[null,""]
[null,""]
[null,""]
[null,""]
[null,""]
[null,""]
[null,""]
[null,""]
[null,""]
[null,""]
[null,""]
[null,""]
[null,""]
[null,""]
[null,""]
[null,""]
[null,""]
[null,""]
[null,""]
[null,""]
[null,""]
[null,""]
[null,""]
[null,""]
[null,""]
[null,""]
[null,""]
[null,""]
[null,""]
[null,""]
[null,""]
[null,""]
[null,""]
[null,""]
[null,""]
[null,""]
[null,""]
[null,""]
[null,""]
[null,""]
[null,""]
[null,""]
[null,""]
[null,""]
[null,{"$f":"IF(C8803=0,\"\",C8803-C8802)","v":""}]
[null,""]
[null,""]
[null,""]
[null,""]
[null,""]
[null,""]
[null,""]
[null,""]
[null,""]
[null,""]
[null,""]
[null,""]
[null,""]
[null,""]
[null,""]
[null,""]
[null,""]
[null,""]
[null,""]
[null,""]
[null,""]
[null,""]
[null,""]
[null,""]
[null,""]
[null,""]
[null,""]
[null,""]
[null,""]
[null,""]
[null,""]
[null,""]
[null,""]
[null,""]
[null,""]
[null,""]
[null,""]
[null,""]
[null,""]
[null,""]
[null,""]
[null,""]
[null,""]
[null,""]
[null,""]
[null,""]
[null,""]
[null,""]
[null,""]
[null,""]
[null,""]
[null,""]
[null,""]
[null,""]
[null,""]
[null,""]
[null,""]
[null,""]
[null,""]
[null,""]
[null,""]
[null,""]
[null,""]
[null,{"$f":"IF(C8867=0,\"\",C8867-C8866)","v":""}]
[null,""]
[null,""]
[null,""]
[null,""]
[null,""]
[null,""]
[null,""]
[null,""]
[null,""]
[null,""]
[null,""]
[null,""]
[null,""]
[null,""]
[null,""]
[null,""]
[null,""]
[null,""]
[null,""]
[null,""]
[null,""]
[null,""]
[null,""]
[null,""]
[null,""]
[null,""]
[null,""]
[null,""]
[null,""]
[null,""]
[null,""]
[null,""]
[null,""]
[null,""]
[null,""]
[null,""]
[null,""]
[null,""]
[null,""]
[null,""]
[null,""]
[null,""]
[null,""]
[null,""]
[null,""]
[null,""]
[null,""]
[null,""]
[null,""]
[null,""]
[null,""]
[null,""]
[null,""]
[null,""]
[null,""]
[null,""]
[null,""]
[null,""]
[null,""]
[null,""]
[null,""]
[null,""]
[null,""]
[null,{"$f":"IF(C8931=0,\"\",C8931-C8930)","v":""}]
[null,""]
[null,""]
[null,""]
[null,""]
[null,""]
[null,""]
[null,""]
[null,""]
[null,""]
[null,""]
[null,""]
[null,""]
[null,""]
[null,""]
[null,""]
[null,""]
[null,""]
[null,""]
[null,""]
[null,""]
[null,""]
[null,""]
[null,""]
[null,""]
[null,""]
[null,""]
[null,""]
[null,""]
[null,""]
[null,""]
[null,""]
[null,""]
[null,""]
[null,""]
[null,""]
[null,""]
[null,""]
[null,""]
[null,""]
[null,""]
[null,""]
[null,""]
[null,""]
[null,""]
[null,""]
[null,""]
[null,""]
[null,""]
[null,""]
[null,""]
[null,""]
[null,""]
[null,""]
[null,""]
[null,""]
[null,""]
[null,""]
[null,""]
[null,""]
[null,""]
[null,""]
[null,""]
[null,""]
[null,{"$f":"IF(C8995=0,\"\",C8995-C8994)","v":""}]
[null,""]
[null,""]
[null,""]
[null,""]
[null,""]
[null,""]
[null,""]
[null,""]
[null,""]
[null,""]
[null,""]
[null,""]
[null,""]
[null,""]
[null,""]
[null,""]
[null,""]
[null,""]
[null,""]
[null,""]
[null,""]
[null,""]
[null,""]
[null,""]
[null,""]
[null,""]
[null,""]
[null,""]
[null,""]
[null,""]
[null,""]
[null,""]
[null,""]
[null,""]
[null,""]
[null,""]
[null,""]
[null,""]
[null,""]
[null,""]
[null,""]
[null,""]
[null,""]
[null,""]
[null,""]
[null,""]
[null,""]
[null,""]
[null,""]
[null,""]
[null,""]
[null,""]
[null,""]
[null,""]
[null,""]
[null,""]
[null,""]
[null,""]
[null,""]
[null,""]
[null,""]
[null,""]
[null,""]
[null,{"$f":"IF(C9059=0,\"\",C9059-C9058)","v":""}]
[null,""]
[null,""]
[null,""]
[null,""]
[null,""]
[null,""]
[null,""]
[null,""]
[null,""]
[null,""]
[null,""]
[null,""]
[null,""]
[null,""]
[null,""]
[null,""]
[null,""]
[null,""]
[null,""]
[null,""]
[null,""]
[null,""]
[null,""]
[null,""]
[null,""]
[null,""]
[null,""]
[null,""]
[null,""]
[null,""]
[null,""]
[null,""]
[null,""]
[null,""]
[null,""]
[null,""]
[null,""]
[null,""]
[null,""]
[null,""]
[null,""]
[null,""]
[null,""]
[null,""]
[null,""]
[null,""]
[null,""]
[null,""]
[null,""]
[null,""]
[null,""]
[null,""]
[null,""]
[null,""]
[null,""]
[null,""]
[null,""]
[null,""]
[null,""]
[null,""]
[null,""]
[null,""]
[null,""]
[null,{"$f":"IF(C9123=0,\"\",C9123-C9122)","v":""}]
[null,""]
[null,""]
[null,""]
[null,""]
[null,""]
[null,""]
[null,""]
[null,""]
[null,""]
[null,""]
[null,""]
[null,""]
[null,""]
[null,""]
[null,""]
[null,""]
[null,""]
[null,""]
[null,""]
[null,""]
[null,""]
[null,""]
[null,""]
[null,""]
[null,""]
[null,""]
[null,""]
[null,""]
[null,""]
[null,""]
[null,""]
[null,""]
[null,""]
[null,""]
[null,""]
[null,""]
[null,""]
[null,""]
[null,""]
[null,""]
[null,""]
[null,""]
[null,""]
[null,""]
[null,""]
[null,""]
[null,""]
[null,""]
[null,""]
[null,""]
[null,""]
[null,""]
[null,""]
[null,""]
[null,""]
[null,""]
[null,""]
[null,""]
[null,""]
[null,""]
[null,""]
[null,""]
[null,""]
[null,{"$f":"IF(C9187=0,\"\",C9187-C9186)","v":""}]
[null,""]
[null,""]
[null,""]
[null,""]
[null,""]
[null,""]
[null,""]
[null,""]
[null,""]
[null,""]
[null,""]
[null,""]
[null,""]
[null,""]
[null,""]
[null,""]
[null,""]
[null,""]
[null,""]
[null,""]
[null,""]
[null,""]
[null,""]
[null,""]
[null,""]
[null,""]
[null,""]
[null,""]
[null,""]
[null,""]
[null,""]
[null,""]
[null,""]
[null,""]
[null,""]
[null,""]
[null,""]
[null,""]
[null,""]
[null,""]
[null,""]
[null,""]
[null,""]
[null,""]
[null,""]
[null,""]
[null,""]
[null,""]
[null,""]
[null,""]
[null,""]
[null,""]
[null,""]
[null,""]
[null,""]
[null,""]
[null,""]
[null,""]
[null,""]
[null,""]
[null,""]
[null,""]
[null,""]
[null,{"$f":"IF(C9251=0,\"\",C9251-C9250)","v":""}]
[null,""]
[null,""]
[null,""]
[null,""]
[null,""]
[null,""]
[null,""]
[null,""]
[null,""]
[null,""]
[null,""]
[null,""]
[null,""]
[null,""]
[null,""]
[null,""]
[null,""]
[null,""]
[null,""]
[null,""]
[null,""]
[null,""]
[null,""]
[null,""]
[null,""]
[null,""]
[null,""]
[null,""]
[null,""]
[null,""]
[null,""]
[null,""]
[null,""]
[null,""]
[null,""]
[null,""]
[null,""]
[null,""]
[null,""]
[null,""]
[null,""]
[null,""]
[null,""]
[null,""]
[null,""]
[null,""]
[null,""]
[null,""]
[null,""]
[null,""]
[null,""]
[null,""]
[null,""]
[null,""]
[null,""]
[null,""]
[null,""]
[null,""]
[null,""]
[null,""]
[null,""]
[null,""]
[null,""]
[null,{"$f":"IF(C9315=0,\"\",C9315-C9314)","v":""}]
[null,""]
[null,""]
[null,""]
[null,""]
[null,""]
[null,""]
[null,""]
[null,""]
[null,""]
[null,""]
[null,""]
[null,""]
[null,""]
[null,""]
[null,""]
[null,""]
[null,""]
[null,""]
[null,""]
[null,""]
[null,""]
[null,""]
[null,""]
[null,""]
[null,""]
[null,""]
[null,""]
[null,""]
[null,""]
[null,""]
[null,""]
[null,""]
[null,""]
[null,""]
[null,""]
[null,""]
[null,""]
[null,""]
[null,""]
[null,""]
[null,""]
[null,""]
[null,""]
[null,""]
[null,""]
[null,""]
[null,""]
[null,""]
[null,""]
[null,""]
[null,""]
[null,""]
[null,""]
[null,""]
[null,""]
[null,""]
[null,""]
[null,""]
[null,""]
[null,""]
[null,""]
[null,""]
[null,""]
[null,{"$f":"IF(C9379=0,\"\",C9379-C9378)","v":""}]
[null,""]
[null,""]
[null,""]
[null,""]
[null,""]
[null,""]
[null,""]
[null,""]
[null,""]
[null,""]
[null,""]
[null,""]
[null,""]
[null,""]
[null,""]
[null,""]
[null,""]
[null,""]
[null,""]
[null,""]
[null,""]
[null,""]
[null,""]
[null,""]
[null,""]
[null,""]
[null,""]
[null,""]
[null,""]
[null,""]
[null,""]
[null,""]
[null,""]
[null,""]
[null,""]
[null,""]
[null,""]
[null,""]
[null,""]
[null,""]
[null,""]
[null,""]
[null,""]
[null,""]
[null,""]
[null,""]
[null,""]
[null,""]
[null,""]
[null,""]
[null,""]
[null,""]
[null,""]
[null,""]
[null,""]
[null,""]
[null,""]
[null,""]
[null,""]
[null,""]
[null,""]
[null,""]
[null,""]
[null,{"$f":"IF(C9443=0,\"\",C9443-C9442)","v":""}]
[null,""]
[null,""]
[null,""]
[null,""]
[null,""]
[null,""]
[null,""]
[null,""]
[null,""]
[null,""]
[null,""]
[null,""]
[null,""]
[null,""]
[null,""]
[null,""]
[null,""]
[null,""]
[null,""]
[null,""]
[null,""]
[null,""]
[null,""]
[null,""]
[null,""]
[null,""]
[null,""]
[null,""]
[null,""]
[null,""]
[null,""]
[null,""]
[null,""]
[null,""]
[null,""]
[null,""]
[null,""]
[null,""]
[null,""]
[null,""]
[null,""]
[null,""]
[null,""]
[null,""]
[null,""]
[null,""]
[null,""]
[null,""]
[null,""]
[null,""]
[null,""]
[null,""]
[null,""]
[null,""]
[null,""]
[null,""]
[null,""]
[null,""]
[null,""]
[null,""]
[null,""]
[null,""]
[null,""]
[null,{"$f":"IF(C9507=0,\"\",C9507-C9506)","v":""}]
[null,""]
[null,""]
[null,""]
[null,""]
[null,""]
[null,""]
[null,""]
[null,""]
[null,""]
[null,""]
[null,""]
[null,""]
[null,""]
[null,""]
[null,""]
[null,""]
[null,""]
[null,""]
[null,""]
[null,""]
[null,""]
[null,""]
[null,""]
[null,""]
[null,""]
[null,""]
[null,""]
[null,""]
[null,""]
[null,""]
[null,""]
[null,""]
[null,""]
[null,""]
[null,""]
[null,""]
[null,""]
[null,""]
[null,""]
[null,""]
[null,""]
[null,""]
[null,""]
[null,""]
[null,""]
[null,""]
[null,""]
[null,""]
[null,""]
[null,""]
[null,""]
[null,""]
[null,""]
[null,""]
[null,""]
[null,""]
[null,""]
[null,""]
[null,""]
[null,""]
[null,""]
[null,""]
[null,""]
[null,{"$f":"IF(C9571=0,\"\",C9571-C9570)","v":""}]
[null,""]
[null,""]
[null,""]
[null,""]
[null,""]
[null,""]
[null,""]
[null,""]
[null,""]
[null,""]
[null,""]
[null,""]
[null,""]
[null,""]
[null,""]
[null,""]
[null,""]
[null,""]
[null,""]
[null,""]
[null,""]
[null,""]
[null,""]
[null,""]
[null,""]
[null,""]
[null,""]
[null,""]
[null,""]
[null,""]
[null,""]
[null,""]
[null,""]
[null,""]
[null,""]
[null,""]
[null,""]
[null,""]
[null,""]
[null,""]
[null,""]
[null,""]
[null,""]
[null,""]
[null,""]
[null,""]
[null,""]
[null,""]
[null,""]
[null,""]
[null,""]
[null,""]
[null,""]
[null,""]
[null,""]
[null,""]
[null,""]
[null,""]
[null,""]
[null,""]
[null,""]
[null,""]
[null,""]
[null,{"$f":"IF(C9635=0,\"\",C9635-C9634)","v":""}]
[null,""]
[null,""]
[null,""]
[null,""]
[null,""]
[null,""]
[null,""]
[null,""]
[null,""]
[null,""]
[null,""]
[null,""]
[null,""]
[null,""]
[null,""]
[null,""]
[null,""]
[null,""]
[null,""]
[null,""]
[null,""]
[null,""]
[null,""]
[null,""]
[null,""]
[null,""]
[null,""]
[null,""]
[null,""]
[null,""]
[null,""]
[null,""]
[null,""]
[null,""]
[null,""]
[null,""]
[null,""]
[null,""]
[null,""]
[null,""]
[null,""]
[null,""]
[null,""]
[null,""]
[null,""]
[null,""]
[null,""]
[null,""]
[null,""]
[null,""]
[null,""]
[null,""]
[null,""]
[null,""]
[null,""]
[null,""]
[null,""]
[null,""]
[null,""]
[null,""]
[null,""]
[null,""]
[null,""]
[null,{"$f":"IF(C9699=0,\"\",C9699-C9698)","v":""}]
[null,""]
[null,""]
[null,""]
[null,""]
[null,""]
[null,""]
[null,""]
[null,""]
[null,""]
[null,""]
[null,""]
[null,""]
[null,""]
[null,""]
[null,""]
[null,""]
[null,""]
[null,""]
[null,""]
[null,""]
[null,""]
[null,""]
[null,""]
[null,""]
[null,""]
[null,""]
[null,""]
[null,""]
[null,""]
[null,""]
[null,""]
[null,""]
[null,""]
[null,""]
[null,""]
[null,""]
[null,""]
[null,""]
[null,""]
[null,""]
[null,""]
[null,""]
[null,""]
[null,""]
[null,""]
[null,""]
[null,""]
[null,""]
[null,""]
[null,""]
[null,""]
[null,""]
[null,""]
[null,""]
[null,""]
[null,""]
[null,""]
[null,""]
[null,""]
[null,""]
[null,""]
[null,""]
[null,""]
[null,{"$f":"IF(C9763=0,\"\",C9763-C9762)","v":""}]
[null,""]
[null,""]
[null,""]
[null,""]
[null,""]
[null,""]
[null,""]
[null,""]
[null,""]
[null,""]
[null,""]
[null,""]
[null,""]
[null,""]
[null,""]
[null,""]
[null,""]
[null,""]
[null,""]
[null,""]
[null,""]
[null,""]
[null,""]
[null,""]
[null,""]
[null,""]
[null,""]
[null,""]
[null,""]
[null,""]
[null,""]
[null,""]
[null,""]
[null,""]
[null,""]
[null,""]
[null,""]
[null,""]
[null,""]
[null,""]
[null,""]
[null,""]
[null,""]
[null,""]
[null,""]
[null,""]
[null,""]
[null,""]
[null,""]
[null,""]
[null,""]
[null,""]
[null,""]
[null,""]
[null,""]
[null,""]
[null,""]
[null,""]
[null,""]
[null,""]
[null,""]
[null,""]
[null,""]
[null,{"$f":"IF(C9827=0,\"\",C9827-C9826)","v":""}]
[null,""]
[null,""]
[null,""]
[null,""]
[null,""]
[null,""]
[null,""]
[null,""]
[null,""]
[null,""]
[null,""]
[null,""]
[null,""]
[null,""]
[null,""]
[null,""]
[null,""]
[null,""]
[null,""]
[null,""]
[null,""]
[null,""]
[null,""]
[null,""]
[null,""]
[null,""]
[null,""]
[null,""]
[null,""]
[null,""]
[null,""]
[null,""]
[null,""]
[null,""]
[null,""]
[null,""]
[null,""]
[null,""]
[null,""]
[null,""]
[null,""]
[null,""]
[null,""]
[null,""]
[null,""]
[null,""]
[null,""]
[null,""]
[null,""]
[null,""]
[null,""]
[null,""]
[null,""]
[null,""]
[null,""]
[null,""]
[null,""]
[null,""]
[null,""]
[null,""]
[null,""]
[null,""]
[null,""]
[null,{"$f":"IF(C9891=0,\"\",C9891-C9890)","v":""}]
[null,""]
[null,""]
[null,""]
[null,""]
[null,""]
[null,""]
[null,""]
[null,""]
[null,""]
[null,""]
[null,""]
[null,""]
[null,""]
[null,""]
[null,""]
[null,""]
[null,""]
[null,""]
[null,""]
[null,""]
[null,""]
[null,""]
[null,""]
[null,""]
[null,""]
[null,""]
[null,""]
[null,""]
[null,""]
[null,""]
[null,""]
[null,""]
[null,""]
[null,""]
[null,""]
[null,""]
[null,""]
[null,""]
[null,""]
[null,""]
[null,""]
[null,""]
[null,""]
[null,""]
[null,""]
[null,""]
[null,""]
[null,""]
[null,""]
[null,""]
[null,""]
[null,""]
[null,""]
[null,""]
[null,""]
[null,""]
[null,""]
[null,""]
[null,""]
[null,""]
[null,""]
[null,""]
[null,""]
[null,{"$f":"IF(C9955=0,\"\",C9955-C9954)","v":""}]
[null,""]
[null,""]
[null,""]
[null,""]
[null,""]
[null,""]
[null,""]
[null,""]
[null,""]
[null,""]
[null,""]
[null,""]
[null,""]
[null,""]
[null,""]
[null,""]
[null,""]
[null,""]
[null,""]
[null,""]
[null,""]
[null,""]
[null,""]
[null,""]
[null,""]
[null,""]
[null,""]
[null,""]
[null,""]
[null,""]
[null,""]
[null,""]
[null,""]
[null,""]
[null,""]
[null,""]
[null,""]
[null,""]
[null,""]
[null,""]
[null,""]
[null,""]
[null,""]
[null,""]
[null,""]
[null,""]
[null,""]
[null,""]
[null,""]
[null,""]
[null,""]
[null,""]
[null,""]
[null,""]
[null,""]
[null,""]
[null,""]
[null,""]
[null,""]
[null,""]
[null,""]
[null,""]
[null,""]
[null,{"$f":"IF(C10019=0,\"\",C10019-C10018)","v":""}]
[null,""]
[null,""]
[null,""]
[null,""]
[null,""]
[null,""]
[null,""]
[null,""]
[null,""]
[null,""]
[null,""]
[null,""]
[null,""]
[null,""]
[null,""]
[null,""]
[null,""]
[null,""]
[null,""]
[null,""]
[null,""]
[null,""]
[null,""]
[null,""]
[null,""]
[null,""]
[null,""]
[null,""]
[null,""]
[null,""]
[null,""]
[null,""]
[null,""]
[null,""]
[null,""]
[null,""]
[null,""]
[null,""]
[null,""]
[null,""]
[null,""]
[null,""]
[null,""]
[null,""]
[null,""]
[null,""]
[null,""]
[null,""]
[null,""]
[null,""]
[null,""]
[null,""]
[null,""]
[null,""]
[null,""]
[null,""]
[null,""]
[null,""]
[null,""]
[null,""]
[null,""]
[null,""]
[null,""]
[null,{"$f":"IF(C10083=0,\"\",C10083-C10082)","v":""}]
[null,""]
[null,""]
[null,""]
[null,""]
[null,""]
[null,""]
[null,{"$f":"IF(C10090=0,\"\",C10090-C10089)","v":""}]

{"sheet":"Condition 7","index":11,"n_rows":10089,"n_cols":30,"rows_kept":10089,"cut":false,"hidden":true,"merged":[[205,0,205,3],[206,0,210,1],[206,2,206,3],[207,2,207,3],[208,2,208,3],[209,2,209,3],[210,2,210,3],[211,0,211,3],[212,0,216,1],[212,2,212,3],[213,2,213,3],[214,2,214,3],[215,2,215,3],[216,2,216,3],[193,0,193,3],[194,0,198,1],[194,2,194,3],[195,2,195,3],[196,2,196,3],[197,2,197,3],[198,2,198,3],[199,0,199,3],[200,0,204,1],[200,2,200,3],[201,2,201,3],[202,2,202,3],[203,2,203,3],[204,2,204,3],[181,0,181,3],[182,0,186,1],[182,2,182,3],[183,2,183,3],[184,2,184,3],[185,2,185,3],[186,2,186,3],[187,0,187,3],[188,0,192,1],[188,2,188,3],[189,2,189,3],[190,2,190,3],[191,2,191,3],[192,2,192,3],[169,0,169,3],[170,0,174,1],[170,2,170,3],[171,2,171,3],[172,2,172,3],[173,2,173,3],[174,2,174,3],[175,0,175,3],[176,0,180,1],[176,2,176,3],[177,2,177,3],[178,2,178,3],[179,2,179,3],[180,2,180,3],[159,2,159,3],[160,2,160,3],[161,2,161,3],[162,2,162,3],[163,0,163,3],[164,0,168,1],[164,2,164,3],[165,2,165,3],[166,2,166,3],[167,2,167,3],[168,2,168,3],[247,5,248,5],[247,8,248,8],[247,17,248,17],[225,0,225,3],[217,0,217,6],[218,0,218,3],[219,0,219,3],[151,0,151,3],[152,0,156,1],[152,2,152,3],[223,0,223,3],[224,0,224,3],[232,0,232,3],[239,0,239,6],[240,0,240,3],[241,0,241,3],[242,0,242,3],[243,0,243,3],[226,0,226,3],[230,0,230,3],[231,0,231,3],[157,0,157,3],[158,0,162,1],[158,2,158,3],[133,0,133,3],[134,0,138,1],[134,2,134,3],[135,2,135,3],[136,2,136,3],[137,2,137,3],[138,2,138,3],[156,2,156,3],[139,0,139,3],[140,0,144,1],[140,2,140,3],[141,2,141,3],[142,2,142,3],[143,2,143,3],[144,2,144,3],[145,0,145,3],[146,0,150,1],[146,2,146,3],[147,2,147,3],[148,2,148,3],[149,2,149,3],[150,2,150,3],[5,0,5,2],[5,3,5,6],[6,0,6,6],[7,0,8,0],[10,0,10,3],[0,0,0,6],[2,0,2,2],[2,3,2,6],[3,0,3,2],[3,3,3,6],[4,0,4,2],[4,3,4,6],[1,0,1,2],[1,3,1,6],[11,0,12,2],[13,0,14,2],[15,0,16,2],[17,0,18,2],[19,0,20,2],[21,0,22,1],[21,2,21,3],[22,2,22,3],[26,0,29,2],[44,0,45,0],[44,1,44,3],[45,1,45,3],[23,0,23,6],[24,0,24,3],[24,5,24,6],[25,0,25,3],[25,5,25,6],[26,5,26,6],[27,5,27,6],[28,5,28,6],[29,5,29,6],[37,0,37,3],[38,0,39,0],[38,1,38,3],[39,1,39,3],[40,0,41,0],[40,1,40,3],[41,1,41,3],[42,0,43,0],[42,1,42,3],[43,1,43,3],[35,0,35,3],[30,0,31,2],[30,5,30,6],[31,5,31,6],[32,0,32,6],[33,0,33,3],[34,0,34,3],[34,4,34,6],[36,0,36,3],[112,2,112,3],[113,2,113,3],[46,0,46,3],[47,0,47,3],[48,0,49,0],[48,1,48,3],[49,1,49,3],[50,0,51,0],[50,1,50,3],[51,1,51,3],[52,0,53,0],[52,1,52,3],[53,1,53,3],[54,0,55,0],[54,1,54,3],[55,1,55,3],[56,0,56,3],[97,0,97,3],[98,0,102,1],[98,2,98,3],[99,2,99,3],[100,2,100,3],[101,2,101,3],[102,2,102,3],[103,0,103,3],[104,0,108,1],[104,2,104,3],[105,2,105,3],[106,2,106,3],[107,2,107,3],[108,2,108,3],[246,27,246,29],[244,0,244,6],[245,3,245,12],[245,13,245,14],[245,15,245,29],[246,3,246,5],[246,6,246,8],[246,9,246,11],[246,15,246,17],[246,19,246,22],[246,23,246,26],[128,0,132,1],[128,2,128,3],[129,2,129,3],[130,2,130,3],[131,2,131,3],[132,2,132,3],[127,0,127,3],[57,0,57,3],[58,0,59,0],[58,1,58,3],[59,1,59,3],[60,0,61,0],[60,1,60,3],[61,1,61,3],[62,0,63,0],[62,1,62,3],[63,1,63,3],[114,2,114,3],[115,0,115,3],[116,0,120,1],[116,2,116,3],[117,2,117,3],[118,2,118,3],[96,0,96,3],[110,0,114,1],[120,2,120,3],[121,0,121,3],[122,0,126,1],[122,2,122,3],[123,2,123,3],[124,2,124,3],[125,2,125,3],[126,2,126,3],[119,2,119,3],[110,2,110,3],[111,2,111,3],[229,0,229,3],[220,0,220,3],[221,0,221,3],[222,0,222,3],[70,0,71,0],[70,1,70,3],[71,1,71,3],[72,0,73,0],[72,1,72,3],[73,1,73,3],[74,0,75,0],[76,0,76,3],[77,0,77,3],[78,0,79,0],[78,1,78,3],[79,1,79,3],[74,1,74,3],[75,1,75,3],[153,2,153,3],[154,2,154,3],[155,2,155,3],[227,0,227,3],[228,0,228,3],[109,0,109,3],[92,0,93,0],[92,1,92,3],[93,1,93,3],[64,0,65,0],[64,1,64,3],[65,1,65,3],[66,0,66,3],[67,0,67,3],[68,0,69,0],[68,1,68,3],[69,1,69,3],[88,1,88,3],[89,1,89,3],[90,0,91,0],[90,1,90,3],[91,1,91,3],[80,0,81,0],[80,1,80,3],[81,1,81,3],[82,0,83,0],[82,1,82,3],[83,1,83,3],[233,0,233,6],[234,0,234,3],[235,0,235,3],[236,0,236,3],[237,0,237,3],[238,0,238,3],[8,7,8,18],[10,7,10,9],[11,7,22,9],[10,10,10,12],[10,13,10,15],[10,16,10,18],[11,10,22,12],[11,13,22,15],[11,16,22,18],[94,0,95,0],[94,1,94,3],[95,1,95,3],[84,0,85,0],[84,1,84,3],[85,1,85,3],[86,0,86,3],[87,0,87,3],[88,0,89,0]]}
[{"$f":"'Test Plan'!$A$86","v":"Condition 7"}]
["AHRI Test Stand Inspection Number",null,null,{"$f":"IF('Test Plan'!$B$3=0,\" \",'Test Plan'!$B$2)","v":"FIACCL-230##-1"}]
["AHRI Test Number",null,null,{"$f":"IF('Test Plan'!$B$3=0,\" \",'Test Plan'!$B$3)","v":"ACCL-230##-1-A"}]
["Model Designation",{"$f":"IF('[2]WCCL-DS2'!B4:D4=0,\" \",'[2]WCCL-DS2'!B4:D4)","v":"DEF"},null,{"$f":"IF('Test Plan'!$B$4=0,\" \",'Test Plan'!$B$4)","v":" "}]
["Manufacturer",{"$f":"IF('[2]WCCL-DS2'!B5:D5=0,\" \",'[2]WCCL-DS2'!B5:D5)","v":43101},null,{"$f":"IF('Test Plan'!$B$5=0,\" \",'Test Plan'!$B$5)","v":" "}]
["Test Date",{"$f":"IF('[2]WCCL-DS2'!B6:D6=0,\" \",'[2]WCCL-DS2'!B6:D6)","v":{"$error":"#REF!"}}]
[]
["Measurement Time","Data Points","Units","Period (min)","Mean Intvl. (s)","Max. Intvl. (s)","Max. Intvl. for Avg. of Data (s)"]
[null,{"$f":"COUNTA(C258:C10089)","v":0},"h:mm:ss:ms",{"$f":"(INDEX(C258:C10089,$B$9)-C258)*24*60","v":{"$error":"#VALUE!"}},{"$f":"D9*60/(B9-1)","v":{"$error":"#VALUE!"}},{"$f":"MAX(B258:B10089)*60*60*24","v":0},{"$f":"D9*60/60","v":{"$error":"#VALUE!"}},"Photographs to confirm compliance with Appendix E of AHRI Standards 550/590 and 551/591"]
[]
["Air and Water Measurements",null,null,null,"Units","Evaporator","Condenser","Chiller Condenser Side 1",null,null,"Chiller Condenser Side 2",null,null,"Chiller Condenser Side 3",null,null,"Chiller Condenser Side 4"]
["Atmospheric Pressure",null,null,"Mean",{"$f":"'Test Plan'!$B$41","v":"kPa"},null,{"$f":"IF(O252=\"Yes\",$O$250,$O$256)","v":{"$error":"#DIV/0!"}},"Photo",null,null,"Photo",null,null,"Photo",null,null,"Photo"]
[null,null,null,"St. Dev.",{"$f":"'Test Plan'!$B$41","v":"kPa"},null,{"$f":"IF(O252=\"Yes\",\"Lab Data\",$O$257)","v":{"$error":"#DIV/0!"}}]
["Leaving Water Temperature",null,null,"Mean",{"$f":"'Test Conditions'!$B$18","v":"°C"},{"$f":"IF(F252=\"Yes\",$F$250,$F$256)","v":{"$error":"#DIV/0!"}}]
[null,null,null,"St. Dev.",{"$f":"'Test Conditions'!$B$18","v":"°C"},{"$f":"IF(F252=\"Yes\",\"Lab Data\",$F$257)","v":{"$error":"#DIV/0!"}}]
["Entering Db Air and Water Temperatures",null,null,"Mean",{"$f":"'Test Conditions'!$B$19","v":"°C"},{"$f":"IF(I252=\"Yes\",$I$250,$I$256)","v":{"$error":"#DIV/0!"}},{"$f":"IF(N252=\"Yes\",$N$250,$N$256)","v":{"$error":"#DIV/0!"}}]
[null,null,null,"St. Dev.",{"$f":"'Test Conditions'!$B$19","v":"°C"},{"$f":"IF(I252=\"Yes\",\"Lab Data\",$I$257)","v":{"$error":"#DIV/0!"}},{"$f":"IF(N252=\"Yes\",\"Lab Data\",$N$257)","v":{"$error":"#DIV/0!"}}]
["Water Flow Rate",null,null,"Mean",{"$f":"'Test Conditions'!$B$20","v":"m³/h"},{"$f":"$L$256","v":{"$error":"#DIV/0!"}}]
[null,null,null,"St. Dev.",{"$f":"'Test Conditions'!$B$20","v":"m³/h"},{"$f":"$L$257","v":{"$error":"#DIV/0!"}}]
["Water Pressure Drop",null,null,"Mean",{"$f":"'Test Plan'!$B$127","v":"kPa"},{"$f":"IF('Test Plan'!$B$19=\"I-P\",IF(M252=\"Yes\",$M$250/0.4331,$M$256/0.4331),IF(M252=\"Yes\",$M$250,$M$256))","v":{"$error":"#DIV/0!"}}]
[null,null,null,"St. Dev.",{"$f":"'Test Plan'!$B$127","v":"kPa"},{"$f":"IF(M252=\"Yes\",\"Lab Data\",IF('Test Plan'!$B$19=\"I-P\",$M$257/0.4331,$M$257))","v":{"$error":"#DIV/0!"}}]
[null,null,"Correction (∆padj)",null,{"$f":"'Test Plan'!$B$127","v":"kPa"}]
[null,null,"Corrected (∆pcorrected)",null,{"$f":"'Test Plan'!$B$127","v":"kPa"},{"$f":"F20-F22","v":{"$error":"#DIV/0!"}}]
[]
["Electrical Measurements",null,null,null,"Units","Total"]
["Power",null,null,null,"kW",{"$f":"IF(R252=\"Yes\",$R$250,$R$256)","v":{"$error":"#DIV/0!"}}]
["Voltage",null,null,"Mean","V",{"$f":"IF(R252=\"Yes\",\"Lab Data\",$S$256)","v":{"$error":"#DIV/0!"}}]
[null,null,null,"St. Dev.",{"$f":"E27","v":"V"},{"$f":"IF(R252=\"Yes\",\"Lab Data\",$S$257)","v":{"$error":"#DIV/0!"}}]
[null,null,null,"V1 Balance","%",{"$f":"IF(R252=\"Yes\",\"Lab Data\",ROUND(MAX(ABS($U$256-$T$256),ABS($V$256-$T$256),ABS($W$256-$T$256))/$T$256,4-(1+INT(LOG10(ABS(MAX(ABS($U$256-$T$256),ABS($V$256-$T$256),ABS($W$256-$T$256))/$T$256))))))","v":{"$error":"#DIV/0!"}}]
[null,null,null,"V2 Balance","%",{"$f":"IF(R252=\"Yes\",\"Lab Data\",ROUND(MAX(ABS($Y$256-$X$256),ABS($Z$256-$X$256),ABS($AA$256-$X$256))/$X$256,4-(1+INT(LOG10(ABS(MAX(ABS($Y$256-$X$256),ABS($Z$256-$X$256),ABS($AA$256-$X$256))/$X$256))))))","v":{"$error":"#DIV/0!"}}]
["Frequency",null,null,"Mean","Hz",{"$f":"IF(R252=\"Yes\",\"Lab Data\",$AB$256)","v":{"$error":"#DIV/0!"}}]
[null,null,null,"St. Dev.",{"$f":"E31","v":"Hz"},{"$f":"IF(R252=\"Yes\",\"Lab Data\",$AB$257)","v":{"$error":"#DIV/0!"}}]
[]
["Air Temperature Measurement",null,null,null,"Units",null,"Condenser"]
["Measurement Method"]
["# of Aspirating Psychrometers",null,null,null,"#"]
["Aspirating Psychrometer #1, Mean Air Temperature",null,null,null,{"$f":"'Test Conditions'!$B$19","v":"°C"}]
["# of Air Sampling Trees on Aspirating Psychrometer #1",null,null,null,"#",null,4]
["#1-A\nTemperatures","Air Sampling Tree Thermopile Grid",null,null,{"$f":"'Test Conditions'!$B$19","v":"°C"}]
[null,"Recirculation Thermocouple",null,null,{"$f":"'Test Conditions'!$B$19","v":"°C"}]
["#1-B\nTemperatures","Air Sampling Tree Thermopile Grid",null,null,{"$f":"'Test Conditions'!$B$19","v":"°C"}]
[null,"Recirculation Thermocouple",null,null,{"$f":"'Test Conditions'!$B$19","v":"°C"}]
["#1-C\nTemperatures","Air Sampling Tree Thermopile Grid",null,null,{"$f":"'Test Conditions'!$B$19","v":"°C"}]
[null,"Recirculation Thermocouple",null,null,{"$f":"'Test Conditions'!$B$19","v":"°C"}]
["#1-D\nTemperatures","Air Sampling Tree Thermopile Grid",null,null,{"$f":"'Test Conditions'!$B$19","v":"°C"}]
[null,"Recirculation Thermocouple",null,null,{"$f":"'Test Conditions'!$B$19","v":"°C"}]
["Aspirating Psychrometer #2, Mean Air Temperature",null,null,null,{"$f":"'Test Conditions'!$B$19","v":"°C"}]
["# of Air Sampling Trees on Aspirating Psychrometer #2",null,null,null,"#",null,4]
["#2-A\nTemperatures","Air Sampling Tree Thermopile Grid",null,null,{"$f":"'Test Conditions'!$B$19","v":"°C"}]
[null,"Recirculation Thermocouple",null,null,{"$f":"'Test Conditions'!$B$19","v":"°C"}]
["#2-B\nTemperatures","Air Sampling Tree Thermopile Grid",null,null,{"$f":"'Test Conditions'!$B$19","v":"°C"}]
[null,"Recirculation Thermocouple",null,null,{"$f":"'Test Conditions'!$B$19","v":"°C"}]
["#2-C\nTemperatures","Air Sampling Tree Thermopile Grid",null,null,{"$f":"'Test Conditions'!$B$19","v":"°C"}]
[null,"Recirculation Thermocouple",null,null,{"$f":"'Test Conditions'!$B$19","v":"°C"}]
["#2-D\nTemperatures","Air Sampling Tree Thermopile Grid",null,null,{"$f":"'Test Conditions'!$B$19","v":"°C"}]
[null,"Recirculation Thermocouple",null,null,{"$f":"'Test Conditions'!$B$19","v":"°C"}]
["Aspirating Psychrometer #3, Mean Air Temperature",null,null,null,{"$f":"'Test Conditions'!$B$19","v":"°C"}]
["# of Air Sampling Trees on Aspirating Psychrometer #3",null,null,null,"#",null,4]
["#3-A\nTemperatures","Air Sampling Tree Thermopile Grid",null,null,{"$f":"'Test Conditions'!$B$19","v":"°C"}]
[null,"Recirculation Thermocouple",null,null,{"$f":"'Test Conditions'!$B$19","v":"°C"}]
["#3-B\nTemperatures","Air Sampling Tree Thermopile Grid",null,null,{"$f":"'Test Conditions'!$B$19","v":"°C"}]
[null,"Recirculation Thermocouple",null,null,{"$f":"'Test Conditions'!$B$19","v":"°C"}]
["#3-C\nTemperatures","Air Sampling Tree Thermopile Grid",null,null,{"$f":"'Test Conditions'!$B$19","v":"°C"}]
[null,"Recirculation Thermocouple",null,null,{"$f":"'Test Conditions'!$B$19","v":"°C"}]
["#3-D\nTemperatures","Air Sampling Tree Thermopile Grid",null,null,{"$f":"'Test Conditions'!$B$19","v":"°C"}]
[null,"Recirculation Thermocouple",null,null,{"$f":"'Test Conditions'!$B$19","v":"°C"}]
["Aspirating Psychrometer #4, Mean Air Temperature",null,null,null,{"$f":"'Test Conditions'!$B$19","v":"°C"}]
["# of Air Sampling Trees on Aspirating Psychrometer #4",null,null,null,"#",null,4]
["#4-A\nTemperatures","Air Sampling Tree Thermopile Grid",null,null,{"$f":"'Test Conditions'!$B$19","v":"°C"}]
[null,"Recirculation Thermocouple",null,null,{"$f":"'Test Conditions'!$B$19","v":"°C"}]
["#4-B\nTemperatures","Air Sampling Tree Thermopile Grid",null,null,{"$f":"'Test Conditions'!$B$19","v":"°C"}]
[null,"Recirculation Thermocouple",null,null,{"$f":"'Test Conditions'!$B$19","v":"°C"}]
["#4-C\nTemperatures","Air Sampling Tree Thermopile Grid",null,null,{"$f":"'Test Conditions'!$B$19","v":"°C"}]
[null,"Recirculation Thermocouple",null,null,{"$f":"'Test Conditions'!$B$19","v":"°C"}]
["#4-D\nTemperatures","Air Sampling Tree Thermopile Grid",null,null,{"$f":"'Test Conditions'!$B$19","v":"°C"}]
[null,"Recirculation Thermocouple",null,null,{"$f":"'Test Conditions'!$B$19","v":"°C"}]
["Aspirating Psychrometer #5, Mean Air Temperature",null,null,null,{"$f":"'Test Conditions'!$B$19","v":"°C"}]
["# of Air Sampling Trees on Aspirating Psychrometer #5",null,null,null,"#",null,4]
["#5-A\nTemperatures","Air Sampling Tree Thermopile Grid",null,null,{"$f":"'Test Conditions'!$B$19","v":"°C"}]
[null,"Recirculation Thermocouple",null,null,{"$f":"'Test Conditions'!$B$19","v":"°C"}]
["#5-B\nTemperatures","Air Sampling Tree Thermopile Grid",null,null,{"$f":"'Test Conditions'!$B$19","v":"°C"}]
[null,"Recirculation Thermocouple",null,null,{"$f":"'Test Conditions'!$B$19","v":"°C"}]
["#5-C\nTemperatures","Air Sampling Tree Thermopile Grid",null,null,{"$f":"'Test Conditions'!$B$19","v":"°C"}]
[null,"Recirculation Thermocouple",null,null,{"$f":"'Test Conditions'!$B$19","v":"°C"}]
["#5-D\nTemperatures","Air Sampling Tree Thermopile Grid",null,null,{"$f":"'Test Conditions'!$B$19","v":"°C"}]
[null,"Recirculation Thermocouple",null,null,{"$f":"'Test Conditions'!$B$19","v":"°C"}]
["Aspirating Psychrometer #6, Mean Air Temperature",null,null,null,{"$f":"'Test Conditions'!$B$19","v":"°C"}]
["# of Air Sampling Trees on Aspirating Psychrometer #6",null,null,null,"#",null,4]
["#6-A\nTemperatures","Air Sampling Tree Thermopile Grid",null,null,{"$f":"'Test Conditions'!$B$19","v":"°C"}]
[null,"Recirculation Thermocouple",null,null,{"$f":"'Test Conditions'!$B$19","v":"°C"}]
["#6-B\nTemperatures","Air Sampling Tree Thermopile Grid",null,null,{"$f":"'Test Conditions'!$B$19","v":"°C"}]
[null,"Recirculation Thermocouple",null,null,{"$f":"'Test Conditions'!$B$19","v":"°C"}]
["#6-C\nTemperatures","Air Sampling Tree Thermopile Grid",null,null,{"$f":"'Test Conditions'!$B$19","v":"°C"}]
[null,"Recirculation Thermocouple",null,null,{"$f":"'Test Conditions'!$B$19","v":"°C"}]
["#6-D\nTemperatures","Air Sampling Tree Thermopile Grid",null,null,{"$f":"'Test Conditions'!$B$19","v":"°C"}]
[null,"Recirculation Thermocouple",null,null,{"$f":"'Test Conditions'!$B$19","v":"°C"}]
["# of Air Sampling Arrays",null,null,null,"#"]
["Air Sampling Array #1, Mean Air Temperature",null,null,null,{"$f":"'Test Conditions'!$B$19","v":"°C"},null,{"$f":"AVERAGE(G99:G102)","v":{"$error":"#DIV/0!"}}]
["Air Sampling Array Individual \nMeasurement Temperatures",null,"#1-A",null,{"$f":"'Test Conditions'!$B$19","v":"°C"}]
[null,null,"#1-B",null,{"$f":"'Test Conditions'!$B$19","v":"°C"}]
[null,null,"#1-C",null,{"$f":"'Test Conditions'!$B$19","v":"°C"}]
[null,null,"#1-D",null,{"$f":"'Test Conditions'!$B$19","v":"°C"}]
[null,null,"Recirculation Thermocouple",null,{"$f":"'Test Conditions'!$B$19","v":"°C"}]
["Air Sampling Array #2, Mean Air Temperature",null,null,null,{"$f":"'Test Conditions'!$B$19","v":"°C"},null,{"$f":"AVERAGE(G105:G108)","v":{"$error":"#DIV/0!"}}]
["Air Sampling Array Individual \nMeasurement Temperatures",null,"#2-A",null,{"$f":"'Test Conditions'!$B$19","v":"°C"}]
[null,null,"#2-B",null,{"$f":"'Test Conditions'!$B$19","v":"°C"}]
[null,null,"#2-C",null,{"$f":"'Test Conditions'!$B$19","v":"°C"}]
[null,null,"#2-D",null,{"$f":"'Test Conditions'!$B$19","v":"°C"}]
[null,null,"Recirculation Thermocouple",null,{"$f":"'Test Conditions'!$B$19","v":"°C"}]
["Air Sampling Array #3, Mean Air Temperature",null,null,null,{"$f":"'Test Conditions'!$B$19","v":"°C"},null,{"$f":"AVERAGE(G111:G114)","v":{"$error":"#DIV/0!"}}]
["Air Sampling Array Individual \nMeasurement Temperatures",null,"#3-A",null,{"$f":"'Test Conditions'!$B$19","v":"°C"}]
[null,null,"#3-B",null,{"$f":"'Test Conditions'!$B$19","v":"°C"}]
[null,null,"#3-C",null,{"$f":"'Test Conditions'!$B$19","v":"°C"}]
[null,null,"#3-D",null,{"$f":"'Test Conditions'!$B$19","v":"°C"}]
[null,null,"Recirculation Thermocouple",null,{"$f":"'Test Conditions'!$B$19","v":"°C"}]
["Air Sampling Array #4, Mean Air Temperature",null,null,null,{"$f":"'Test Conditions'!$B$19","v":"°C"},null,{"$f":"AVERAGE(G117:G120)","v":{"$error":"#DIV/0!"}}]
["Air Sampling Array Individual \nMeasurement Temperatures",null,"#4-A",null,{"$f":"'Test Conditions'!$B$19","v":"°C"}]
[null,null,"#4-B",null,{"$f":"'Test Conditions'!$B$19","v":"°C"}]
[null,null,"#4-C",null,{"$f":"'Test Conditions'!$B$19","v":"°C"}]
[null,null,"#4-D",null,{"$f":"'Test Conditions'!$B$19","v":"°C"}]
[null,null,"Recirculation Thermocouple",null,{"$f":"'Test Conditions'!$B$19","v":"°C"}]
["Air Sampling Array #5, Mean Air Temperature",null,null,null,{"$f":"'Test Conditions'!$B$19","v":"°C"},null,{"$f":"AVERAGE(G123:G126)","v":{"$error":"#DIV/0!"}}]
["Air Sampling Array Individual \nMeasurement Temperatures",null,"#5-A",null,{"$f":"'Test Conditions'!$B$19","v":"°C"}]
[null,null,"#5-B",null,{"$f":"'Test Conditions'!$B$19","v":"°C"}]
[null,null,"#5-C",null,{"$f":"'Test Conditions'!$B$19","v":"°C"}]
[null,null,"#5-D",null,{"$f":"'Test Conditions'!$B$19","v":"°C"}]
[null,null,"Recirculation Thermocouple",null,{"$f":"'Test Conditions'!$B$19","v":"°C"}]
["Air Sampling Array #6, Mean Air Temperature",null,null,null,{"$f":"'Test Conditions'!$B$19","v":"°C"},null,{"$f":"AVERAGE(G129:G132)","v":{"$error":"#DIV/0!"}}]
["Air Sampling Array Individual \nMeasurement Temperatures",null,"#6-A",null,{"$f":"'Test Conditions'!$B$19","v":"°C"}]
[null,null,"#6-B",null,{"$f":"'Test Conditions'!$B$19","v":"°C"}]
[null,null,"#6-C",null,{"$f":"'Test Conditions'!$B$19","v":"°C"}]
[null,null,"#6-D",null,{"$f":"'Test Conditions'!$B$19","v":"°C"}]
[null,null,"Recirculation Thermocouple",null,{"$f":"'Test Conditions'!$B$19","v":"°C"}]
["Air Sampling Array #7, Mean Air Temperature",null,null,null,{"$f":"'Test Conditions'!$B$19","v":"°C"},null,{"$f":"AVERAGE(G135:G138)","v":{"$error":"#DIV/0!"}}]
["Air Sampling Array Individual \nMeasurement Temperatures",null,"#7-A",null,{"$f":"'Test Conditions'!$B$19","v":"°C"}]
[null,null,"#7-B",null,{"$f":"'Test Conditions'!$B$19","v":"°C"}]
[null,null,"#7-C",null,{"$f":"'Test Conditions'!$B$19","v":"°C"}]
[null,null,"#7-D",null,{"$f":"'Test Conditions'!$B$19","v":"°C"}]
[null,null,"Recirculation Thermocouple",null,{"$f":"'Test Conditions'!$B$19","v":"°C"}]
["Air Sampling Array #8, Mean Air Temperature",null,null,null,{"$f":"'Test Conditions'!$B$19","v":"°C"},null,{"$f":"AVERAGE(G141:G144)","v":{"$error":"#DIV/0!"}}]
["Air Sampling Array Individual \nMeasurement Temperatures",null,"#8-A",null,{"$f":"'Test Conditions'!$B$19","v":"°C"}]
[null,null,"#8-B",null,{"$f":"'Test Conditions'!$B$19","v":"°C"}]
[null,null,"#8-C",null,{"$f":"'Test Conditions'!$B$19","v":"°C"}]
[null,null,"#8-D",null,{"$f":"'Test Conditions'!$B$19","v":"°C"}]
[null,null,"Recirculation Thermocouple",null,{"$f":"'Test Conditions'!$B$19","v":"°C"}]
["Air Sampling Array #9, Mean Air Temperature",null,null,null,{"$f":"'Test Conditions'!$B$19","v":"°C"},null,{"$f":"AVERAGE(G147:G150)","v":{"$error":"#DIV/0!"}}]
["Air Sampling Array Individual \nMeasurement Temperatures",null,"#9-A",null,{"$f":"'Test Conditions'!$B$19","v":"°C"}]
[null,null,"#9-B",null,{"$f":"'Test Conditions'!$B$19","v":"°C"}]
[null,null,"#9-C",null,{"$f":"'Test Conditions'!$B$19","v":"°C"}]
[null,null,"#9-D",null,{"$f":"'Test Conditions'!$B$19","v":"°C"}]
[null,null,"Recirculation Thermocouple",null,{"$f":"'Test Conditions'!$B$19","v":"°C"}]
["Air Sampling Array #10, Mean Air Temperature",null,null,null,{"$f":"'Test Conditions'!$B$19","v":"°C"},null,{"$f":"AVERAGE(G153:G156)","v":{"$error":"#DIV/0!"}}]
["Air Sampling Array Individual \nMeasurement Temperatures",null,"#10-A",null,{"$f":"'Test Conditions'!$B$19","v":"°C"}]
[null,null,"#10-B",null,{"$f":"'Test Conditions'!$B$19","v":"°C"}]
[null,null,"#10-C",null,{"$f":"'Test Conditions'!$B$19","v":"°C"}]
[null,null,"#10-D",null,{"$f":"'Test Conditions'!$B$19","v":"°C"}]
[null,null,"Recirculation Thermocouple",null,{"$f":"'Test Conditions'!$B$19","v":"°C"}]
["Air Sampling Array #11, Mean Air Temperature",null,null,null,{"$f":"'Test Conditions'!$B$19","v":"°C"},null,{"$f":"AVERAGE(G159:G162)","v":{"$error":"#DIV/0!"}}]
["Air Sampling Array Individual \nMeasurement Temperatures",null,"#11-A",null,{"$f":"'Test Conditions'!$B$19","v":"°C"}]
[null,null,"#11-B",null,{"$f":"'Test Conditions'!$B$19","v":"°C"}]
[null,null,"#11-C",null,{"$f":"'Test Conditions'!$B$19","v":"°C"}]
[null,null,"#11-D",null,{"$f":"'Test Conditions'!$B$19","v":"°C"}]
[null,null,"Recirculation Thermocouple",null,{"$f":"'Test Conditions'!$B$19","v":"°C"}]
["Air Sampling Array #12, Mean Air Temperature",null,null,null,{"$f":"'Test Conditions'!$B$19","v":"°C"},null,{"$f":"AVERAGE(G165:G168)","v":{"$error":"#DIV/0!"}}]
["Air Sampling Array Individual \nMeasurement Temperatures",null,"#12-A",null,{"$f":"'Test Conditions'!$B$19","v":"°C"}]
[null,null,"#12-B",null,{"$f":"'Test Conditions'!$B$19","v":"°C"}]
[null,null,"#12-C",null,{"$f":"'Test Conditions'!$B$19","v":"°C"}]
[null,null,"#12-D",null,{"$f":"'Test Conditions'!$B$19","v":"°C"}]
[null,null,"Recirculation Thermocouple",null,{"$f":"'Test Conditions'!$B$19","v":"°C"}]
["Air Sampling Array #13, Mean Air Temperature",null,null,null,{"$f":"'Test Conditions'!$B$19","v":"°C"},null,{"$f":"AVERAGE(G171:G174)","v":{"$error":"#DIV/0!"}}]
["Air Sampling Array Individual \nMeasurement Temperatures",null,"#13-A",null,{"$f":"'Test Conditions'!$B$19","v":"°C"}]
[null,null,"#13-B",null,{"$f":"'Test Conditions'!$B$19","v":"°C"}]
[null,null,"#13-C",null,{"$f":"'Test Conditions'!$B$19","v":"°C"}]
[null,null,"#13-D",null,{"$f":"'Test Conditions'!$B$19","v":"°C"}]
[null,null,"Recirculation Thermocouple",null,{"$f":"'Test Conditions'!$B$19","v":"°C"}]
["Air Sampling Array #14, Mean Air Temperature",null,null,null,{"$f":"'Test Conditions'!$B$19","v":"°C"},null,{"$f":"AVERAGE(G177:G180)","v":{"$error":"#DIV/0!"}}]
["Air Sampling Array Individual \nMeasurement Temperatures",null,"#14-A",null,{"$f":"'Test Conditions'!$B$19","v":"°C"}]
[null,null,"#14-B",null,{"$f":"'Test Conditions'!$B$19","v":"°C"}]
[null,null,"#14-C",null,{"$f":"'Test Conditions'!$B$19","v":"°C"}]
[null,null,"#14-D",null,{"$f":"'Test Conditions'!$B$19","v":"°C"}]
[null,null,"Recirculation Thermocouple",null,{"$f":"'Test Conditions'!$B$19","v":"°C"}]
["Air Sampling Array #15, Mean Air Temperature",null,null,null,{"$f":"'Test Conditions'!$B$19","v":"°C"},null,{"$f":"AVERAGE(G183:G186)","v":{"$error":"#DIV/0!"}}]
["Air Sampling Array Individual \nMeasurement Temperatures",null,"#15-A",null,{"$f":"'Test Conditions'!$B$19","v":"°C"}]
[null,null,"#15-B",null,{"$f":"'Test Conditions'!$B$19","v":"°C"}]
[null,null,"#15-C",null,{"$f":"'Test Conditions'!$B$19","v":"°C"}]
[null,null,"#15-D",null,{"$f":"'Test Conditions'!$B$19","v":"°C"}]
[null,null,"Recirculation Thermocouple",null,{"$f":"'Test Conditions'!$B$19","v":"°C"}]
["Air Sampling Array #16, Mean Air Temperature",null,null,null,{"$f":"'Test Conditions'!$B$19","v":"°C"},null,{"$f":"AVERAGE(G189:G192)","v":{"$error":"#DIV/0!"}}]
["Air Sampling Array Individual \nMeasurement Temperatures",null,"#16-A",null,{"$f":"'Test Conditions'!$B$19","v":"°C"}]
[null,null,"#16-B",null,{"$f":"'Test Conditions'!$B$19","v":"°C"}]
[null,null,"#16-C",null,{"$f":"'Test Conditions'!$B$19","v":"°C"}]
[null,null,"#16-D",null,{"$f":"'Test Conditions'!$B$19","v":"°C"}]
[null,null,"Recirculation Thermocouple",null,{"$f":"'Test Conditions'!$B$19","v":"°C"}]
["Air Sampling Array #17, Mean Air Temperature",null,null,null,{"$f":"'Test Conditions'!$B$19","v":"°C"},null,{"$f":"AVERAGE(G195:G198)","v":{"$error":"#DIV/0!"}}]
["Air Sampling Array Individual \nMeasurement Temperatures",null,"#17-A",null,{"$f":"'Test Conditions'!$B$19","v":"°C"}]
[null,null,"#17-B",null,{"$f":"'Test Conditions'!$B$19","v":"°C"}]
[null,null,"#17-C",null,{"$f":"'Test Conditions'!$B$19","v":"°C"}]
[null,null,"#17-D",null,{"$f":"'Test Conditions'!$B$19","v":"°C"}]
[null,null,"Recirculation Thermocouple",null,{"$f":"'Test Conditions'!$B$19","v":"°C"}]
["Air Sampling Array #18, Mean Air Temperature",null,null,null,{"$f":"'Test Conditions'!$B$19","v":"°C"},null,{"$f":"AVERAGE(G201:G204)","v":{"$error":"#DIV/0!"}}]
["Air Sampling Array Individual \nMeasurement Temperatures",null,"#18-A",null,{"$f":"'Test Conditions'!$B$19","v":"°C"}]
[null,null,"#18-B",null,{"$f":"'Test Conditions'!$B$19","v":"°C"}]
[null,null,"#18-C",null,{"$f":"'Test Conditions'!$B$19","v":"°C"}]
[null,null,"#18-D",null,{"$f":"'Test Conditions'!$B$19","v":"°C"}]
[null,null,"Recirculation Thermocouple",null,{"$f":"'Test Conditions'!$B$19","v":"°C"}]
["Air Sampling Array #19, Mean Air Temperature",null,null,null,{"$f":"'Test Conditions'!$B$19","v":"°C"},null,{"$f":"AVERAGE(G207:G210)","v":{"$error":"#DIV/0!"}}]
["Air Sampling Array Individual \nMeasurement Temperatures",null,"#19-A",null,{"$f":"'Test Conditions'!$B$19","v":"°C"}]
[null,null,"#19-B",null,{"$f":"'Test Conditions'!$B$19","v":"°C"}]
[null,null,"#19-C",null,{"$f":"'Test Conditions'!$B$19","v":"°C"}]
[null,null,"#19-D",null,{"$f":"'Test Conditions'!$B$19","v":"°C"}]
[null,null,"Recirculation Thermocouple",null,{"$f":"'Test Conditions'!$B$19","v":"°C"}]
["Air Sampling Array #20, Mean Air Temperature",null,null,null,{"$f":"'Test Conditions'!$B$19","v":"°C"},null,{"$f":"AVERAGE(G213:G216)","v":{"$error":"#DIV/0!"}}]
["Air Sampling Array Individual \nMeasurement Temperatures",null,"#20-A",null,{"$f":"'Test Conditions'!$B$19","v":"°C"}]
[null,null,"#20-B",null,{"$f":"'Test Conditions'!$B$19","v":"°C"}]
[null,null,"#20-C",null,{"$f":"'Test Conditions'!$B$19","v":"°C"}]
[null,null,"#20-D",null,{"$f":"'Test Conditions'!$B$19","v":"°C"}]
[null,null,"Recirculation Thermocouple",null,{"$f":"'Test Conditions'!$B$19","v":"°C"}]
[]
["Atmospheric Pressure Correction",null,null,null,"Units","Evaporator","Condenser"]
["Location of Water Flow Meter Relative to Chiller",null,null,null,"-"]
["Water Temperature (T) for Density",null,null,null,{"$f":"'Test Conditions'!$B$18","v":"°C"},{"$f":"IF($F$220=\"Entering\",$F$16,$F$14)","v":{"$error":"#DIV/0!"}}]
["Water Density (ρ)",null,null,null,{"$f":"IF('Test Plan'!$B$19=\"I-P\",'Unit Conversion'!$B$10,'Unit Conversion'!$C$10)","v":"kg/m³"},{"$f":"IF('Test Plan'!$B$19=\"I-P\",(-0.00000000074704*$F$221^4)+(0.00000052643*$F$221^3)+(-0.00018846*$F$221^2)+(0.012164*$F$221)+62.227,((-0.00000012556*$F$221^4)+(0.000040229*$F$221^3)+(-0.0073948*$F$221^2)+(0.046734*$F$221)+1000.2))","v":{"$error":"#DIV/0!"}}]
["Average Water Temperature (T) for Specific Heat & ∆pcorrected Density",null,null,null,{"$f":"'Test Conditions'!$B$18","v":"°C"},{"$f":"AVERAGE($F$14,$F$16)","v":{"$error":"#DIV/0!"}}]
["Water Specific Heat (cp)",null,null,null,{"$f":"IF('Test Plan'!$B$19=\"I-P\",'Unit Conversion'!$B$13,'Unit Conversion'!$C$13)","v":"kJ/kg·K"},{"$f":"IF('Test Plan'!$B$19=\"I-P\",(-0.00000000000040739*$F$223^5)+(0.00000000031031*$F$223^4)+(-0.000000092501*$F$223^3)+(0.000014071*$F$223^2)+(-0.0010677*$F$223)+1.0295,((-0.00000000003222*$F$223^5)+(0.00000001077*$F$223^4)+(-0.0000013901*$F$223^3)+(0.000094433*$F$223^2)+(-0.0031103*$F$223)+4.216))","v":{"$error":"#DIV/0!"}}]
["Water Density (ρ) for ∆pcorrected",null,null,null,{"$f":"IF('Test Plan'!$B$19=\"I-P\",'Unit Conversion'!$B$10,'Unit Conversion'!$C$10)","v":"kg/m³"},{"$f":"IF('Test Plan'!$B$19=\"I-P\",(-0.00000000074704*$F$223^4)+(0.00000052643*$F$223^3)+(-0.00018846*$F$223^2)+(0.012164*$F$223)+62.227,((-0.00000012556*$F$223^4)+(0.000040229*$F$223^3)+(-0.0073948*$F$223^2)+(0.046734*$F$223)+1000.2))","v":{"$error":"#DIV/0!"}}]
["Water Mass Flow Rate (mw)",null,null,null,{"$f":"IF('Test Plan'!$B$19=\"I-P\",'Unit Conversion'!$B$11,'Unit Conversion'!$C$11)","v":"kg/h"},{"$f":"IF('Test Plan'!$B$19=\"I-P\",$F$18*$F$222/0.124675,$F$18*$F$222)","v":{"$error":"#DIV/0!"}}]
["Gross Refrigeranting Capacity (Q'ev)",null,null,null,{"$f":"'Test Plan'!$B$125","v":"kW"},{"$f":"IF('Test Plan'!$B$19=\"I-P\",$F$226*($F$224*ABS($F$16-$F$14)+(0.18505*$F$23/$F$225*0.4331))/12000,$F$226*($F$224*ABS($F$16-$F$14)+($F$23/$F$225))/3600)","v":{"$error":"#DIV/0!"}}]
["Net Refrigerating Capacity (Qev)",null,null,null,{"$f":"'Test Plan'!$B$125","v":"kW"},{"$f":"IF('Test Plan'!$B$19=\"I-P\",$F$226*($F$224*ABS($F$16-$F$14))/12000,IF('Test Plan'!$B$17=\"EN 14511 and 14825\",$F$226*($F$224*ABS($F$16-$F$14))/3600-$F$238,$F$226*($F$224*ABS($F$16-$F$14))/3600))","v":{"$error":"#DIV/0!"}}]
["Cooling Energy Efficiency",null,null,null,{"$f":"'Test Plan'!$B$126","v":"kW/kW"},{"$f":"IF('Test Plan'!$B$19=\"I-P\",$F$26/$F$228,IF('Test Plan'!$B$17=\"EN 14511 and 14825\",$F$228/($F$26+$F$239),$F$228/$F$26))","v":{"$error":"#DIV/0!"}}]
["Coefficient Correction Factor (Capacity), DQ",null,null,null,"-",null,{"$f":"IF('Test Plan'!$B$19=\"I-P\",0.0011273*$G$12^2-0.041272*$G$12+1.36304,0.000023713*$G$12^2-0.005986*$G$12+1.36304)","v":{"$error":"#DIV/0!"}}]
["Coefficient Correction Factor (Efficiency), Dƞ",null,null,null,"-",null,{"$f":"IF('Test Plan'!$B$19=\"I-P\",0.0024308*$G$12^2-0.090075*$G$12+1.79872,0.000051135*$G$12^2-0.013064*$G$12+1.79872)","v":{"$error":"#DIV/0!"}}]
["Correction Factor (Capacity), CFQ",null,null,null,"-",null,{"$f":"IF('Test Plan'!$B$19=\"I-P\",1+($F$228/'100% Load Condition '!$F$228)*($G$230-1)*EXP(-0.35*(($G$231*(12/'100% Load Condition '!$F$229))-9.6)),1+($F$228/'100% Load Condition '!$F$228)*($G$230-1)*EXP(-0.35*((3.41214*$G$231*'100% Load Condition '!$F$229)-9.6)))","v":{"$error":"#DIV/0!"}}]
["Correction Factor (Efficiency), CFƞ",null,null,null,"-",null,{"$f":"IF('Test Plan'!$B$19=\"I-P\",1+($F$228/'100% Load Condition '!$F$228)*($G$231-1)*EXP(-0.35*(($G$231*(12/'100% Load Condition '!$F$229))-9.6)),1+($F$228/'100% Load Condition '!$F$228)*($G$231-1)*EXP(-0.35*((3.41214*$G$231*'100% Load Condition '!$F$229)-9.6)))","v":{"$error":"#DIV/0!"}}]
[]
["Pump Power Correction",null,null,null,"Units","Evaporator"]
["Hydraulic Pump Power (Phyd)",null,null,null,"W",{"$f":"($F$18/(60*60))*$F$23*1000","v":{"$error":"#DIV/0!"}}]
["Pump Efficiency (η)",null,null,null,"kW/kW",{"$f":"IF($F$236<=300,((0.35844*$F$236)/(1.7*$F$236+17*(1-EXP(-0.3*$F$236))))*(0.49/0.23),IF($F$236<=500,0.0721*$F$236^0.3183,0.092*LN($F$236)-0.0403))","v":{"$error":"#DIV/0!"}}]
["Pump Capacity Correction",null,null,null,"kW",{"$f":"IF($F$236<=0.3,($F$18/(60*60))*($F$23)*((1-$F$237)/$F$237),($F$18/(60*60))*($F$23)*((0.88-$F$237)/$F$237))","v":{"$error":"#DIV/0!"}}]
["Pump Power Correction",null,null,null,"kW",{"$f":"($F$18/(60*60))*($F$23)/$F$237","v":{"$error":"#DIV/0!"}}]
[]
["Test Result",null,null,null,"Units","Evaporator"]
["Corrected Net Refrigerating Capacity (Qev)",null,null,null,{"$f":"'Test Plan'!$B$125","v":"kW"},{"$f":"$F$228*$G$232","v":{"$error":"#DIV/0!"}}]
["Corrected Cooling Energy Efficiency",null,null,null,{"$f":"'Test Plan'!$B$126","v":"kW/kW"},{"$f":"IF('Test Plan'!$B$19=\"I-P\",$F$229/$G$233,$F$229*$G$233)","v":{"$error":"#DIV/0!"}}]
["Water Pressure Drop",null,null,null,{"$f":"'Test Plan'!$B$127","v":"kPa"},{"$f":"$F$23","v":{"$error":"#DIV/0!"}}]
[]
[null,null,null,"Evaporator Water",null,null,null,null,null,null,null,null,null,"Condenser Air",null,"Electrical"]
[null,null,null,"Lvg. Temp.",null,null,"Ent. Temp.",null,null,"Flow Rate",null,null,null,null,null,"Power",null,null,"Total Voltage","Voltage 1",null,null,null,"Voltage 2",null,null,null,"Frequency"]
["Laboratory Data","Start Time","Stop Time",null,null,{"$f":"'Test Conditions'!$B$18","v":"°C"},null,null,{"$f":"'Test Conditions'!$B$18","v":"°C"},null,null,null,"Press. Drop","Ent. Temp.","Atm Press.",null,null,"kW"]
["Unit",{"$f":"$C$9","v":"h:mm:ss:ms"},{"$f":"$C$9","v":"h:mm:ss:ms"},null,null,null,null,null,null,null,null,null,{"$f":"IF('Test Plan'!$B$19=\"I-P\",'Unit Conversion'!$B$9,'Unit Conversion'!$C$9)","v":"kPa"},{"$f":"'Test Conditions'!$B$19","v":"°C"},{"$f":"IF('Test Plan'!$B$19=\"I-P\",'Unit Conversion'!$B$7,'Unit Conversion'!$C$7)","v":"kPa"}]
["Mean"]
["Data Comparison",{"$f":"ABS(B250-Zero)*24*60*60","v":0},{"$f":"ABS(C250-INDEX(Zero:C10202,$B$10))*24*60*60","v":{"$error":"#VALUE!"}},null,null,{"$f":"ABS(F250-F256)","v":{"$error":"#DIV/0!"}},null,null,{"$f":"ABS(I250-I256)","v":{"$error":"#DIV/0!"}},null,null,null,{"$f":"ABS(M250-M256)","v":{"$error":"#DIV/0!"}},{"$f":"ABS(N250-N256)","v":{"$error":"#DIV/0!"}},{"$f":"ABS(O250-O256)/O256","v":{"$error":"#DIV/0!"}},null,null,{"$f":"ABS(R250-R256)/R256","v":{"$error":"#DIV/0!"}}]
["Use Lab Data?"]
["Test Stand Data","Time Interval","Time Stamp",1,2,"Avg.",1,2,"Avg.",1,2,"Avg.","Press. Drop","Ent. Temp.","Atm Press.",1,2,"Avg.","Avg","Avg."," A-B"," B-C"," C-A","Avg."," A-B"," B-C"," C-A","Avg.",1,2]
["Unit",{"$f":"$C$9","v":"h:mm:ss:ms"},{"$f":"$C$9","v":"h:mm:ss:ms"},{"$f":"'Test Conditions'!$B$18","v":"°C"},{"$f":"'Test Conditions'!$B$18","v":"°C"},{"$f":"'Test Conditions'!$B$18","v":"°C"},{"$f":"'Test Conditions'!$B$19","v":"°C"},{"$f":"'Test Conditions'!$B$19","v":"°C"},{"$f":"'Test Conditions'!$B$19","v":"°C"},{"$f":"'Test Conditions'!$B$20","v":"m³/h"},{"$f":"'Test Conditions'!$B$20","v":"m³/h"},{"$f":"'Test Conditions'!$B$20","v":"m³/h"},{"$f":"IF('Test Plan'!$B$19=\"I-P\",'Unit Conversion'!$B$9,'Unit Conversion'!$C$9)","v":"kPa"},{"$f":"'Test Conditions'!$B$19","v":"°C"},{"$f":"IF('Test Plan'!$B$19=\"I-P\",'Unit Conversion'!$B$7,'Unit Conversion'!$C$7)","v":"kPa"},"kW","kW","kW","V","V","V","V","V","V","V","V","V","Hz","Hz","Hz"]
["Rating","-","-",{"$f":"'Test Conditions'!$C$78","v":{"$error":"#VALUE!"}},{"$f":"'Test Conditions'!$C$78","v":{"$error":"#VALUE!"}},{"$f":"'Test Conditions'!$C$78","v":{"$error":"#VALUE!"}},{"$f":"'Test Plan'!$C$88","v":0},{"$f":"'Test Plan'!$C$88","v":0},{"$f":"'Test Plan'!$C$88","v":0},{"$f":"'Test Plan'!$C$90","v":0},{"$f":"'Test Plan'!$C$90","v":0},{"$f":"'Test Plan'!$C$90","v":0},{"$f":"IF('Test Plan'!$B$19=\"I-P\",'Test Plan'!$C$127*0.4331,'Test Plan'!$C$127)","v":0},{"$f":"'Test Conditions'!$D$79","v":0},{"$f":"'Test Plan'!$C$41","v":101.33},{"$f":"'Test Plan'!$C$92","v":""},{"$f":"'Test Plan'!$C$92","v":""},{"$f":"'Test Plan'!$C$92","v":""},{"$f":"'Test Plan'!$B$14","v":0},{"$f":"'Test Plan'!$B$14","v":0},{"$f":"'Test Plan'!$B$14","v":0},{"$f":"'Test Plan'!$B$14","v":0},{"$f":"'Test Plan'!$B$14","v":0},{"$f":"'Test Plan'!$B$14","v":0},{"$f":"'Test Plan'!$B$14","v":0},{"$f":"'Test Plan'!$B$14","v":0},{"$f":"'Test Plan'!$B$14","v":0},{"$f":"'Test Plan'!$D$14","v":0},{"$f":"'Test Plan'!$D$14","v":0},{"$f":"'Test Plan'!$D$14","v":0}]
["Mean","-","-",{"$f":"AVERAGE(D258:INDEX(D258:D10089,$B$9))","v":{"$error":"#DIV/0!"}},{"$f":"AVERAGE(E258:INDEX(E258:E10089,$B$9))","v":{"$error":"#DIV/0!"}},{"$f":"AVERAGE(D256:E256)","v":{"$error":"#DIV/0!"}},{"$f":"AVERAGE(G258:INDEX(G258:G10089,$B$9))","v":{"$error":"#DIV/0!"}},{"$f":"AVERAGE(H258:INDEX(H258:H10089,$B$9))","v":{"$error":"#DIV/0!"}},{"$f":"AVERAGE(G256:H256)","v":{"$error":"#DIV/0!"}},{"$f":"AVERAGE(J258:INDEX(J258:J10089,$B$9))","v":{"$error":"#DIV/0!"}},{"$f":"AVERAGE(K258:INDEX(K258:K10089,$B$9))","v":{"$error":"#DIV/0!"}},{"$f":"AVERAGE(J256:K256)","v":{"$error":"#DIV/0!"}},{"$f":"AVERAGE(M258:INDEX(M258:M10089,$B$9))","v":{"$error":"#DIV/0!"}},{"$f":"AVERAGE(N258:INDEX(N258:N10089,$B$9))","v":{"$error":"#DIV/0!"}},{"$f":"AVERAGE(O258:INDEX(O258:O10089,$B$9))","v":{"$error":"#DIV/0!"}},{"$f":"AVERAGE(P258:INDEX(P258:P10089,$B$9))","v":{"$error":"#DIV/0!"}},{"$f":"AVERAGE(Q258:INDEX(Q258:Q10089,$B$9))","v":{"$error":"#DIV/0!"}},{"$f":"AVERAGE(P256:Q256)","v":{"$error":"#DIV/0!"}},{"$f":"AVERAGE(T256,X256)","v":{"$error":"#DIV/0!"}},{"$f":"AVERAGE(T258:INDEX(T258:T10089,$B$9))","v":{"$error":"#DIV/0!"}},{"$f":"AVERAGE(U258:INDEX(U258:U10089,$B$9))","v":{"$error":"#DIV/0!"}},{"$f":"AVERAGE(V258:INDEX(V258:V10089,$B$9))","v":{"$error":"#DIV/0!"}},{"$f":"AVERAGE(W258:INDEX(W258:W10089,$B$9))","v":{"$error":"#DIV/0!"}},{"$f":"AVERAGE(X258:INDEX(X258:X10089,$B$9))","v":{"$error":"#DIV/0!"}},{"$f":"AVERAGE(Y258:INDEX(Y258:Y10089,$B$9))","v":{"$error":"#DIV/0!"}},{"$f":"AVERAGE(Z258:INDEX(Z258:Z10089,$B$9))","v":{"$error":"#DIV/0!"}},{"$f":"AVERAGE(AA258:INDEX(AA258:AA10089,$B$9))","v":{"$error":"#DIV/0!"}},{"$f":"AVERAGE(AC256:AD256)","v":{"$error":"#DIV/0!"}},{"$f":"AVERAGE(AC258:INDEX(AC258:AC10089,$B$9))","v":{"$error":"#DIV/0!"}},{"$f":"AVERAGE(AD258:INDEX(AD258:AD10089,$B$9))","v":{"$error":"#DIV/0!"}}]
["St. Dev.","-","-",{"$f":"_xlfn.STDEV.S(D258:INDEX(D258:D10089,$B$9))","v":{"$error":"#DIV/0!"}},{"$f":"_xlfn.STDEV.S(E258:INDEX(E258:E10089,$B$9))","v":{"$error":"#DIV/0!"}},{"$f":"SQRT((D257^2+E257^2)/2)","v":{"$error":"#DIV/0!"}},{"$f":"_xlfn.STDEV.S(G258:INDEX(G258:G10089,$B$9))","v":{"$error":"#DIV/0!"}},{"$f":"_xlfn.STDEV.S(H258:INDEX(H258:H10089,$B$9))","v":{"$error":"#DIV/0!"}},{"$f":"SQRT((G257^2+H257^2)/2)","v":{"$error":"#DIV/0!"}},{"$f":"_xlfn.STDEV.S(J258:INDEX(J258:J10089,$B$9))","v":{"$error":"#DIV/0!"}},{"$f":"_xlfn.STDEV.S(K258:INDEX(K258:K10089,$B$9))","v":{"$error":"#DIV/0!"}},{"$f":"SQRT((J257^2+K257^2)/2)","v":{"$error":"#DIV/0!"}},{"$f":"_xlfn.STDEV.S(M258:INDEX(M258:M10089,$B$9))","v":{"$error":"#DIV/0!"}},{"$f":"_xlfn.STDEV.S(N258:INDEX(N258:N10089,$B$9))","v":{"$error":"#DIV/0!"}},{"$f":"_xlfn.STDEV.S(O258:INDEX(O258:O10089,$B$9))","v":{"$error":"#DIV/0!"}},{"$f":"_xlfn.STDEV.S(P258:INDEX(P258:P10089,$B$9))","v":{"$error":"#DIV/0!"}},{"$f":"_xlfn.STDEV.S(Q258:INDEX(Q258:Q10089,$B$9))","v":{"$error":"#DIV/0!"}},{"$f":"SQRT((P257^2+Q257^2)/2)","v":{"$error":"#DIV/0!"}},{"$f":"SQRT((T257^2+X257^2)/2)","v":{"$error":"#DIV/0!"}},{"$f":"_xlfn.STDEV.S(T258:INDEX(T258:T10089,$B$9))","v":{"$error":"#DIV/0!"}},{"$f":"_xlfn.STDEV.S(U258:INDEX(U258:U10089,$B$9))","v":{"$error":"#DIV/0!"}},{"$f":"_xlfn.STDEV.S(V258:INDEX(V258:V10089,$B$9))","v":{"$error":"#DIV/0!"}},{"$f":"_xlfn.STDEV.S(W258:INDEX(W258:W10089,$B$9))","v":{"$error":"#DIV/0!"}},{"$f":"_xlfn.STDEV.S(X258:INDEX(X258:X10089,$B$9))","v":{"$error":"#DIV/0!"}},{"$f":"_xlfn.STDEV.S(Y258:INDEX(Y258:Y10089,$B$9))","v":{"$error":"#DIV/0!"}},{"$f":"_xlfn.STDEV.S(Z258:INDEX(Z258:Z10089,$B$9))","v":{"$error":"#DIV/0!"}},{"$f":"_xlfn.STDEV.S(AA258:INDEX(AA258:AA10089,$B$9))","v":{"$error":"#DIV/0!"}},{"$f":"SQRT((AC257^2+AD257^2)/2)","v":{"$error":"#DIV/0!"}},{"$f":"_xlfn.STDEV.S(AC258:INDEX(AC258:AC10089,$B$9))","v":{"$error":"#DIV/0!"}},{"$f":"_xlfn.STDEV.S(AD258:INDEX(AD258:AD10089,$B$9))","v":{"$error":"#DIV/0!"}}]
[null,{"$f":"C259-C258","v":"00:00:00"}]
[null,{"$f":"C260-C259","v":"00:00:00"}]
[null,{"$f":"C261-C260","v":"00:00:00"}]
[null,"00:00:00"]
[null,"00:00:00"]
[null,"00:00:00"]
[null,"00:00:00"]
[null,"00:00:00"]
[null,"00:00:00"]
[null,"00:00:00"]
[null,"00:00:00"]
[null,"00:00:00"]
[null,"00:00:00"]
[null,"00:00:00"]
[null,"00:00:00"]
[null,"00:00:00"]
[null,"00:00:00"]
[null,"00:00:00"]
[null,"00:00:00"]
[null,"00:00:00"]
[null,"00:00:00"]
[null,"00:00:00"]
[null,"00:00:00"]
[null,"00:00:00"]
[null,"00:00:00"]
[null,"00:00:00"]
[null,"00:00:00"]
[null,{"$f":"C286-C285","v":"00:00:00"}]
[null,{"$f":"C287-C286","v":"00:00:00"}]
[null,{"$f":"IF(C288=0,\"\",C288-C287)","v":""}]
[null,{"$f":"IF(C289=0,\"\",C289-C288)","v":""}]
[null,{"$f":"IF(C290=0,\"\",C290-C289)","v":""}]
[null,{"$f":"IF(C291=0,\"\",C291-C290)","v":""}]
[null,""]
[null,""]
[null,""]
[null,""]
[null,""]
[null,""]
[null,""]
[null,""]
[null,""]
[null,""]
[null,""]
[null,""]
[null,""]
[null,""]
[null,""]
[null,""]
[null,""]
[null,""]
[null,""]
[null,""]
[null,""]
[null,""]
[null,""]
[null,""]
[null,""]
[null,""]
[null,""]
[null,""]
[null,""]
[null,""]
[null,""]
[null,""]
[null,""]
[null,""]
[null,""]
[null,""]
[null,""]
[null,""]
[null,""]
[null,""]
[null,""]
[null,""]
[null,""]
[null,""]
[null,""]
[null,""]
[null,""]
[null,""]
[null,""]
[null,""]
[null,""]
[null,""]
[null,""]
[null,""]
[null,""]
[null,""]
[null,""]
[null,""]
[null,""]
[null,""]
[null,""]
[null,""]
[null,""]
[null,{"$f":"IF(C355=0,\"\",C355-C354)","v":""}]
[null,""]
[null,""]
[null,""]
[null,""]
[null,""]
[null,""]
[null,""]
[null,""]
[null,""]
[null,""]
[null,""]
[null,""]
[null,""]
[null,""]
[null,""]
[null,""]
[null,""]
[null,""]
[null,""]
[null,""]
[null,""]
[null,""]
[null,""]
[null,""]
[null,""]
[null,""]
[null,""]
[null,""]
[null,""]
[null,""]
[null,""]
[null,""]
[null,""]
[null,""]
[null,""]
[null,""]
[null,""]
[null,""]
[null,""]
[null,""]
[null,""]
[null,""]
[null,""]
[null,""]
[null,""]
[null,""]
[null,""]
[null,""]
[null,""]
[null,""]
[null,""]
[null,""]
[null,""]
[null,""]
[null,""]
[null,""]
[null,""]
[null,""]
[null,""]
[null,""]
[null,""]
[null,""]
[null,""]
[null,{"$f":"IF(C419=0,\"\",C419-C418)","v":""}]
[null,""]
[null,""]
[null,""]
[null,""]
[null,""]
[null,""]
[null,""]
[null,""]
[null,""]
[null,""]
[null,""]
[null,""]
[null,""]
[null,""]
[null,""]
[null,""]
[null,""]
[null,""]
[null,""]
[null,""]
[null,""]
[null,""]
[null,""]
[null,""]
[null,""]
[null,""]
[null,""]
[null,""]
[null,""]
[null,""]
[null,""]
[null,""]
[null,""]
[null,""]
[null,""]
[null,""]
[null,""]
[null,""]
[null,""]
[null,""]
[null,""]
[null,""]
[null,""]
[null,""]
[null,""]
[null,""]
[null,""]
[null,""]
[null,""]
[null,""]
[null,""]
[null,""]
[null,""]
[null,""]
[null,""]
[null,""]
[null,""]
[null,""]
[null,""]
[null,""]
[null,""]
[null,""]
[null,""]
[null,{"$f":"IF(C483=0,\"\",C483-C482)","v":""}]
[null,""]
[null,""]
[null,""]
[null,""]
[null,""]
[null,""]
[null,""]
[null,""]
[null,""]
[null,""]
[null,""]
[null,""]
[null,""]
[null,""]
[null,""]
[null,""]
[null,""]
[null,""]
[null,""]
[null,""]
[null,""]
[null,""]
[null,""]
[null,""]
[null,""]
[null,""]
[null,""]
[null,""]
[null,""]
[null,""]
[null,""]
[null,""]
[null,""]
[null,""]
[null,""]
[null,""]
[null,""]
[null,""]
[null,""]
[null,""]
[null,""]
[null,""]
[null,""]
[null,""]
[null,""]
[null,""]
[null,""]
[null,""]
[null,""]
[null,""]
[null,""]
[null,""]
[null,""]
[null,""]
[null,""]
[null,""]
[null,""]
[null,""]
[null,""]
[null,""]
[null,""]
[null,""]
[null,""]
[null,{"$f":"IF(C547=0,\"\",C547-C546)","v":""}]
[null,""]
[null,""]
[null,""]
[null,""]
[null,""]
[null,""]
[null,""]
[null,""]
[null,""]
[null,""]
[null,""]
[null,""]
[null,""]
[null,""]
[null,""]
[null,""]
[null,""]
[null,""]
[null,""]
[null,""]
[null,""]
[null,""]
[null,""]
[null,""]
[null,""]
[null,""]
[null,""]
[null,""]
[null,""]
[null,""]
[null,""]
[null,""]
[null,""]
[null,""]
[null,""]
[null,""]
[null,""]
[null,""]
[null,""]
[null,""]
[null,""]
[null,""]
[null,""]
[null,""]
[null,""]
[null,""]
[null,""]
[null,""]
[null,""]
[null,""]
[null,""]
[null,""]
[null,""]
[null,""]
[null,""]
[null,""]
[null,""]
[null,""]
[null,""]
[null,""]
[null,""]
[null,""]
[null,""]
[null,{"$f":"IF(C611=0,\"\",C611-C610)","v":""}]
[null,""]
[null,""]
[null,""]
[null,""]
[null,""]
[null,""]
[null,""]
[null,""]
[null,""]
[null,""]
[null,""]
[null,""]
[null,""]
[null,""]
[null,""]
[null,""]
[null,""]
[null,""]
[null,""]
[null,""]
[null,""]
[null,""]
[null,""]
[null,""]
[null,""]
[null,""]
[null,""]
[null,""]
[null,""]
[null,""]
[null,""]
[null,""]
[null,""]
[null,""]
[null,""]
[null,""]
[null,""]
[null,""]
[null,""]
[null,""]
[null,""]
[null,""]
[null,""]
[null,""]
[null,""]
[null,""]
[null,""]
[null,""]
[null,""]
[null,""]
[null,""]
[null,""]
[null,""]
[null,""]
[null,""]
[null,""]
[null,""]
[null,""]
[null,""]
[null,""]
[null,""]
[null,""]
[null,""]
[null,{"$f":"IF(C675=0,\"\",C675-C674)","v":""}]
[null,""]
[null,""]
[null,""]
[null,""]
[null,""]
[null,""]
[null,""]
[null,""]
[null,""]
[null,""]
[null,""]
[null,""]
[null,""]
[null,""]
[null,""]
[null,""]
[null,""]
[null,""]
[null,""]
[null,""]
[null,""]
[null,""]
[null,""]
[null,""]
[null,""]
[null,""]
[null,""]
[null,""]
[null,""]
[null,""]
[null,""]
[null,""]
[null,""]
[null,""]
[null,""]
[null,""]
[null,""]
[null,""]
[null,""]
[null,""]
[null,""]
[null,""]
[null,""]
[null,""]
[null,""]
[null,""]
[null,""]
[null,""]
[null,""]
[null,""]
[null,""]
[null,""]
[null,""]
[null,""]
[null,""]
[null,""]
[null,""]
[null,""]
[null,""]
[null,""]
[null,""]
[null,""]
[null,""]
[null,{"$f":"IF(C739=0,\"\",C739-C738)","v":""}]
[null,""]
[null,""]
[null,""]
[null,""]
[null,""]
[null,""]
[null,""]
[null,""]
[null,""]
[null,""]
[null,""]
[null,""]
[null,""]
[null,""]
[null,""]
[null,""]
[null,""]
[null,""]
[null,""]
[null,""]
[null,""]
[null,""]
[null,""]
[null,""]
[null,""]
[null,""]
[null,""]
[null,""]
[null,""]
[null,""]
[null,""]
[null,""]
[null,""]
[null,""]
[null,""]
[null,""]
[null,""]
[null,""]
[null,""]
[null,""]
[null,""]
[null,""]
[null,""]
[null,""]
[null,""]
[null,""]
[null,""]
[null,""]
[null,""]
[null,""]
[null,""]
[null,""]
[null,""]
[null,""]
[null,""]
[null,""]
[null,""]
[null,""]
[null,""]
[null,""]
[null,""]
[null,""]
[null,""]
[null,{"$f":"IF(C803=0,\"\",C803-C802)","v":""}]
[null,""]
[null,""]
[null,""]
[null,""]
[null,""]
[null,""]
[null,""]
[null,""]
[null,""]
[null,""]
[null,""]
[null,""]
[null,""]
[null,""]
[null,""]
[null,""]
[null,""]
[null,""]
[null,""]
[null,""]
[null,""]
[null,""]
[null,""]
[null,""]
[null,""]
[null,""]
[null,""]
[null,""]
[null,""]
[null,""]
[null,""]
[null,""]
[null,""]
[null,""]
[null,""]
[null,""]
[null,""]
[null,""]
[null,""]
[null,""]
[null,""]
[null,""]
[null,""]
[null,""]
[null,""]
[null,""]
[null,""]
[null,""]
[null,""]
[null,""]
[null,""]
[null,""]
[null,""]
[null,""]
[null,""]
[null,""]
[null,""]
[null,""]
[null,""]
[null,""]
[null,""]
[null,""]
[null,""]
[null,{"$f":"IF(C867=0,\"\",C867-C866)","v":""}]
[null,""]
[null,""]
[null,""]
[null,""]
[null,""]
[null,""]
[null,""]
[null,""]
[null,""]
[null,""]
[null,""]
[null,""]
[null,""]
[null,""]
[null,""]
[null,""]
[null,""]
[null,""]
[null,""]
[null,""]
[null,""]
[null,""]
[null,""]
[null,""]
[null,""]
[null,""]
[null,""]
[null,""]
[null,""]
[null,""]
[null,""]
[null,""]
[null,""]
[null,""]
[null,""]
[null,""]
[null,""]
[null,""]
[null,""]
[null,""]
[null,""]
[null,""]
[null,""]
[null,""]
[null,""]
[null,""]
[null,""]
[null,""]
[null,""]
[null,""]
[null,""]
[null,""]
[null,""]
[null,""]
[null,""]
[null,""]
[null,""]
[null,""]
[null,""]
[null,""]
[null,""]
[null,""]
[null,""]
[null,{"$f":"IF(C931=0,\"\",C931-C930)","v":""}]
[null,""]
[null,""]
[null,""]
[null,""]
[null,""]
[null,""]
[null,""]
[null,""]
[null,""]
[null,""]
[null,""]
[null,""]
[null,""]
[null,""]
[null,""]
[null,""]
[null,""]
[null,""]
[null,""]
[null,""]
[null,""]
[null,""]
[null,""]
[null,""]
[null,""]
[null,""]
[null,""]
[null,""]
[null,""]
[null,""]
[null,""]
[null,""]
[null,""]
[null,""]
[null,""]
[null,""]
[null,""]
[null,""]
[null,""]
[null,""]
[null,""]
[null,""]
[null,""]
[null,""]
[null,""]
[null,""]
[null,""]
[null,""]
[null,""]
[null,""]
[null,""]
[null,""]
[null,""]
[null,""]
[null,""]
[null,""]
[null,""]
[null,""]
[null,""]
[null,""]
[null,""]
[null,""]
[null,""]
[null,{"$f":"IF(C995=0,\"\",C995-C994)","v":""}]
[null,""]
[null,""]
[null,""]
[null,""]
[null,""]
[null,""]
[null,""]
[null,""]
[null,""]
[null,""]
[null,""]
[null,""]
[null,""]
[null,""]
[null,""]
[null,""]
[null,""]
[null,""]
[null,""]
[null,""]
[null,""]
[null,""]
[null,""]
[null,""]
[null,""]
[null,""]
[null,""]
[null,""]
[null,""]
[null,""]
[null,""]
[null,""]
[null,""]
[null,""]
[null,""]
[null,""]
[null,""]
[null,""]
[null,""]
[null,""]
[null,""]
[null,""]
[null,""]
[null,""]
[null,""]
[null,""]
[null,""]
[null,""]
[null,""]
[null,""]
[null,""]
[null,""]
[null,""]
[null,""]
[null,""]
[null,""]
[null,""]
[null,""]
[null,""]
[null,""]
[null,""]
[null,""]
[null,""]
[null,{"$f":"IF(C1059=0,\"\",C1059-C1058)","v":""}]
[null,""]
[null,""]
[null,""]
[null,""]
[null,""]
[null,""]
[null,""]
[null,""]
[null,""]
[null,""]
[null,""]
[null,""]
[null,""]
[null,""]
[null,""]
[null,""]
[null,""]
[null,""]
[null,""]
[null,""]
[null,""]
[null,""]
[null,""]
[null,""]
[null,""]
[null,""]
[null,""]
[null,""]
[null,""]
[null,""]
[null,""]
[null,""]
[null,""]
[null,""]
[null,""]
[null,""]
[null,""]
[null,""]
[null,""]
[null,""]
[null,""]
[null,""]
[null,""]
[null,""]
[null,""]
[null,""]
[null,""]
[null,""]
[null,""]
[null,""]
[null,""]
[null,""]
[null,""]
[null,""]
[null,""]
[null,""]
[null,""]
[null,""]
[null,""]
[null,""]
[null,""]
[null,""]
[null,""]
[null,{"$f":"IF(C1123=0,\"\",C1123-C1122)","v":""}]
[null,""]
[null,""]
[null,""]
[null,""]
[null,""]
[null,""]
[null,""]
[null,""]
[null,""]
[null,""]
[null,""]
[null,""]
[null,""]
[null,""]
[null,""]
[null,""]
[null,""]
[null,""]
[null,""]
[null,""]
[null,""]
[null,""]
[null,""]
[null,""]
[null,""]
[null,""]
[null,""]
[null,""]
[null,""]
[null,""]
[null,""]
[null,""]
[null,""]
[null,""]
[null,""]
[null,""]
[null,""]
[null,""]
[null,""]
[null,""]
[null,""]
[null,""]
[null,""]
[null,""]
[null,""]
[null,""]
[null,""]
[null,""]
[null,""]
[null,""]
[null,""]
[null,""]
[null,""]
[null,""]
[null,""]
[null,""]
[null,""]
[null,""]
[null,""]
[null,""]
[null,""]
[null,""]
[null,""]
[null,{"$f":"IF(C1187=0,\"\",C1187-C1186)","v":""}]
[null,""]
[null,""]
[null,""]
[null,""]
[null,""]
[null,""]
[null,""]
[null,""]
[null,""]
[null,""]
[null,""]
[null,""]
[null,""]
[null,""]
[null,""]
[null,""]
[null,""]
[null,""]
[null,""]
[null,""]
[null,""]
[null,""]
[null,""]
[null,""]
[null,""]
[null,""]
[null,""]
[null,""]
[null,""]
[null,""]
[null,""]
[null,""]
[null,""]
[null,""]
[null,""]
[null,""]
[null,""]
[null,""]
[null,""]
[null,""]
[null,""]
[null,""]
[null,""]
[null,""]
[null,""]
[null,""]
[null,""]
[null,""]
[null,""]
[null,""]
[null,""]
[null,""]
[null,""]
[null,""]
[null,""]
[null,""]
[null,""]
[null,""]
[null,""]
[null,""]
[null,""]
[null,""]
[null,""]
[null,{"$f":"IF(C1251=0,\"\",C1251-C1250)","v":""}]
[null,""]
[null,""]
[null,""]
[null,""]
[null,""]
[null,""]
[null,""]
[null,""]
[null,""]
[null,""]
[null,""]
[null,""]
[null,""]
[null,""]
[null,""]
[null,""]
[null,""]
[null,""]
[null,""]
[null,""]
[null,""]
[null,""]
[null,""]
[null,""]
[null,""]
[null,""]
[null,""]
[null,""]
[null,""]
[null,""]
[null,""]
[null,""]
[null,""]
[null,""]
[null,""]
[null,""]
[null,""]
[null,""]
[null,""]
[null,""]
[null,""]
[null,""]
[null,""]
[null,""]
[null,""]
[null,""]
[null,""]
[null,""]
[null,""]
[null,""]
[null,""]
[null,""]
[null,""]
[null,""]
[null,""]
[null,""]
[null,""]
[null,""]
[null,""]
[null,""]
[null,""]
[null,""]
[null,""]
[null,{"$f":"IF(C1315=0,\"\",C1315-C1314)","v":""}]
[null,""]
[null,""]
[null,""]
[null,""]
[null,""]
[null,""]
[null,""]
[null,""]
[null,""]
[null,""]
[null,""]
[null,""]
[null,""]
[null,""]
[null,""]
[null,""]
[null,""]
[null,""]
[null,""]
[null,""]
[null,""]
[null,""]
[null,""]
[null,""]
[null,""]
[null,""]
[null,""]
[null,""]
[null,""]
[null,""]
[null,""]
[null,""]
[null,""]
[null,""]
[null,""]
[null,""]
[null,""]
[null,""]
[null,""]
[null,""]
[null,""]
[null,""]
[null,""]
[null,""]
[null,""]
[null,""]
[null,""]
[null,""]
[null,""]
[null,""]
[null,""]
[null,""]
[null,""]
[null,""]
[null,""]
[null,""]
[null,""]
[null,""]
[null,""]
[null,""]
[null,""]
[null,""]
[null,""]
[null,{"$f":"IF(C1379=0,\"\",C1379-C1378)","v":""}]
[null,""]
[null,""]
[null,""]
[null,""]
[null,""]
[null,""]
[null,""]
[null,""]
[null,""]
[null,""]
[null,""]
[null,""]
[null,""]
[null,""]
[null,""]
[null,""]
[null,""]
[null,""]
[null,""]
[null,""]
[null,""]
[null,""]
[null,""]
[null,""]
[null,""]
[null,""]
[null,""]
[null,""]
[null,""]
[null,""]
[null,""]
[null,""]
[null,""]
[null,""]
[null,""]
[null,""]
[null,""]
[null,""]
[null,""]
[null,""]
[null,""]
[null,""]
[null,""]
[null,""]
[null,""]
[null,""]
[null,""]
[null,""]
[null,""]
[null,""]
[null,""]
[null,""]
[null,""]
[null,""]
[null,""]
[null,""]
[null,""]
[null,""]
[null,""]
[null,""]
[null,""]
[null,""]
[null,""]
[null,{"$f":"IF(C1443=0,\"\",C1443-C1442)","v":""}]
[null,""]
[null,""]
[null,""]
[null,""]
[null,""]
[null,""]
[null,""]
[null,""]
[null,""]
[null,""]
[null,""]
[null,""]
[null,""]
[null,""]
[null,""]
[null,""]
[null,""]
[null,""]
[null,""]
[null,""]
[null,""]
[null,""]
[null,""]
[null,""]
[null,""]
[null,""]
[null,""]
[null,""]
[null,""]
[null,""]
[null,""]
[null,""]
[null,""]
[null,""]
[null,""]
[null,""]
[null,""]
[null,""]
[null,""]
[null,""]
[null,""]
[null,""]
[null,""]
[null,""]
[null,""]
[null,""]
[null,""]
[null,""]
[null,""]
[null,""]
[null,""]
[null,""]
[null,""]
[null,""]
[null,""]
[null,""]
[null,""]
[null,""]
[null,""]
[null,""]
[null,""]
[null,""]
[null,""]
[null,{"$f":"IF(C1507=0,\"\",C1507-C1506)","v":""}]
[null,""]
[null,""]
[null,""]
[null,""]
[null,""]
[null,""]
[null,""]
[null,""]
[null,""]
[null,""]
[null,""]
[null,""]
[null,""]
[null,""]
[null,""]
[null,""]
[null,""]
[null,""]
[null,""]
[null,""]
[null,""]
[null,""]
[null,""]
[null,""]
[null,""]
[null,""]
[null,""]
[null,""]
[null,""]
[null,""]
[null,""]
[null,""]
[null,""]
[null,""]
[null,""]
[null,""]
[null,""]
[null,""]
[null,""]
[null,""]
[null,""]
[null,""]
[null,""]
[null,""]
[null,""]
[null,""]
[null,""]
[null,""]
[null,""]
[null,""]
[null,""]
[null,""]
[null,""]
[null,""]
[null,""]
[null,""]
[null,""]
[null,""]
[null,""]
[null,""]
[null,""]
[null,""]
[null,""]
[null,{"$f":"IF(C1571=0,\"\",C1571-C1570)","v":""}]
[null,""]
[null,""]
[null,""]
[null,""]
[null,""]
[null,""]
[null,""]
[null,""]
[null,""]
[null,""]
[null,""]
[null,""]
[null,""]
[null,""]
[null,""]
[null,""]
[null,""]
[null,""]
[null,""]
[null,""]
[null,""]
[null,""]
[null,""]
[null,""]
[null,""]
[null,""]
[null,""]
[null,""]
[null,""]
[null,""]
[null,""]
[null,""]
[null,""]
[null,""]
[null,""]
[null,""]
[null,""]
[null,""]
[null,""]
[null,""]
[null,""]
[null,""]
[null,""]
[null,""]
[null,""]
[null,""]
[null,""]
[null,""]
[null,""]
[null,""]
[null,""]
[null,""]
[null,""]
[null,""]
[null,""]
[null,""]
[null,""]
[null,""]
[null,""]
[null,""]
[null,""]
[null,""]
[null,""]
[null,{"$f":"IF(C1635=0,\"\",C1635-C1634)","v":""}]
[null,""]
[null,""]
[null,""]
[null,""]
[null,""]
[null,""]
[null,""]
[null,""]
[null,""]
[null,""]
[null,""]
[null,""]
[null,""]
[null,""]
[null,""]
[null,""]
[null,""]
[null,""]
[null,""]
[null,""]
[null,""]
[null,""]
[null,""]
[null,""]
[null,""]
[null,""]
[null,""]
[null,""]
[null,""]
[null,""]
[null,""]
[null,""]
[null,""]
[null,""]
[null,""]
[null,""]
[null,""]
[null,""]
[null,""]
[null,""]
[null,""]
[null,""]
[null,""]
[null,""]
[null,""]
[null,""]
[null,""]
[null,""]
[null,""]
[null,""]
[null,""]
[null,""]
[null,""]
[null,""]
[null,""]
[null,""]
[null,""]
[null,""]
[null,""]
[null,""]
[null,""]
[null,""]
[null,""]
[null,{"$f":"IF(C1699=0,\"\",C1699-C1698)","v":""}]
[null,""]
[null,""]
[null,""]
[null,""]
[null,""]
[null,""]
[null,""]
[null,""]
[null,""]
[null,""]
[null,""]
[null,""]
[null,""]
[null,""]
[null,""]
[null,""]
[null,""]
[null,""]
[null,""]
[null,""]
[null,""]
[null,""]
[null,""]
[null,""]
[null,""]
[null,""]
[null,""]
[null,""]
[null,""]
[null,""]
[null,""]
[null,""]
[null,""]
[null,""]
[null,""]
[null,""]
[null,""]
[null,""]
[null,""]
[null,""]
[null,""]
[null,""]
[null,""]
[null,""]
[null,""]
[null,""]
[null,""]
[null,""]
[null,""]
[null,""]
[null,""]
[null,""]
[null,""]
[null,""]
[null,""]
[null,""]
[null,""]
[null,""]
[null,""]
[null,""]
[null,""]
[null,""]
[null,""]
[null,{"$f":"IF(C1763=0,\"\",C1763-C1762)","v":""}]
[null,""]
[null,""]
[null,""]
[null,""]
[null,""]
[null,""]
[null,""]
[null,""]
[null,""]
[null,""]
[null,""]
[null,""]
[null,""]
[null,""]
[null,""]
[null,""]
[null,""]
[null,""]
[null,""]
[null,""]
[null,""]
[null,""]
[null,""]
[null,""]
[null,""]
[null,""]
[null,""]
[null,""]
[null,""]
[null,""]
[null,""]
[null,""]
[null,""]
[null,""]
[null,""]
[null,""]
[null,""]
[null,""]
[null,""]
[null,""]
[null,""]
[null,""]
[null,""]
[null,""]
[null,""]
[null,""]
[null,""]
[null,""]
[null,""]
[null,""]
[null,""]
[null,""]
[null,""]
[null,""]
[null,""]
[null,""]
[null,""]
[null,""]
[null,""]
[null,""]
[null,""]
[null,""]
[null,""]
[null,{"$f":"IF(C1827=0,\"\",C1827-C1826)","v":""}]
[null,""]
[null,""]
[null,""]
[null,""]
[null,""]
[null,""]
[null,""]
[null,""]
[null,""]
[null,""]
[null,""]
[null,""]
[null,""]
[null,""]
[null,""]
[null,""]
[null,""]
[null,""]
[null,""]
[null,""]
[null,""]
[null,""]
[null,""]
[null,""]
[null,""]
[null,""]
[null,""]
[null,""]
[null,""]
[null,""]
[null,""]
[null,""]
[null,""]
[null,""]
[null,""]
[null,""]
[null,""]
[null,""]
[null,""]
[null,""]
[null,""]
[null,""]
[null,""]
[null,""]
[null,""]
[null,""]
[null,""]
[null,""]
[null,""]
[null,""]
[null,""]
[null,""]
[null,""]
[null,""]
[null,""]
[null,""]
[null,""]
[null,""]
[null,""]
[null,""]
[null,""]
[null,""]
[null,""]
[null,{"$f":"IF(C1891=0,\"\",C1891-C1890)","v":""}]
[null,""]
[null,""]
[null,""]
[null,""]
[null,""]
[null,""]
[null,""]
[null,""]
[null,""]
[null,""]
[null,""]
[null,""]
[null,""]
[null,""]
[null,""]
[null,""]
[null,""]
[null,""]
[null,""]
[null,""]
[null,""]
[null,""]
[null,""]
[null,""]
[null,""]
[null,""]
[null,""]
[null,""]
[null,""]
[null,""]
[null,""]
[null,""]
[null,""]
[null,""]
[null,""]
[null,""]
[null,""]
[null,""]
[null,""]
[null,""]
[null,""]
[null,""]
[null,""]
[null,""]
[null,""]
[null,""]
[null,""]
[null,""]
[null,""]
[null,""]
[null,""]
[null,""]
[null,""]
[null,""]
[null,""]
[null,""]
[null,""]
[null,""]
[null,""]
[null,""]
[null,""]
[null,""]
[null,""]
[null,{"$f":"IF(C1955=0,\"\",C1955-C1954)","v":""}]
[null,""]
[null,""]
[null,""]
[null,""]
[null,""]
[null,""]
[null,""]
[null,""]
[null,""]
[null,""]
[null,""]
[null,""]
[null,""]
[null,""]
[null,""]
[null,""]
[null,""]
[null,""]
[null,""]
[null,""]
[null,""]
[null,""]
[null,""]
[null,""]
[null,""]
[null,""]
[null,""]
[null,""]
[null,""]
[null,""]
[null,""]
[null,""]
[null,""]
[null,""]
[null,""]
[null,""]
[null,""]
[null,""]
[null,""]
[null,""]
[null,""]
[null,""]
[null,""]
[null,""]
[null,""]
[null,""]
[null,""]
[null,""]
[null,""]
[null,""]
[null,""]
[null,""]
[null,""]
[null,""]
[null,""]
[null,""]
[null,""]
[null,""]
[null,""]
[null,""]
[null,""]
[null,""]
[null,""]
[null,{"$f":"IF(C2019=0,\"\",C2019-C2018)","v":""}]
[null,""]
[null,""]
[null,""]
[null,""]
[null,""]
[null,""]
[null,""]
[null,""]
[null,""]
[null,""]
[null,""]
[null,""]
[null,""]
[null,""]
[null,""]
[null,""]
[null,""]
[null,""]
[null,""]
[null,""]
[null,""]
[null,""]
[null,""]
[null,""]
[null,""]
[null,""]
[null,""]
[null,""]
[null,""]
[null,""]
[null,""]
[null,""]
[null,""]
[null,""]
[null,""]
[null,""]
[null,""]
[null,""]
[null,""]
[null,""]
[null,""]
[null,""]
[null,""]
[null,""]
[null,""]
[null,""]
[null,""]
[null,""]
[null,""]
[null,""]
[null,""]
[null,""]
[null,""]
[null,""]
[null,""]
[null,""]
[null,""]
[null,""]
[null,""]
[null,""]
[null,""]
[null,""]
[null,""]
[null,{"$f":"IF(C2083=0,\"\",C2083-C2082)","v":""}]
[null,""]
[null,""]
[null,""]
[null,""]
[null,""]
[null,""]
[null,""]
[null,""]
[null,""]
[null,""]
[null,""]
[null,""]
[null,""]
[null,""]
[null,""]
[null,""]
[null,""]
[null,""]
[null,""]
[null,""]
[null,""]
[null,""]
[null,""]
[null,""]
[null,""]
[null,""]
[null,""]
[null,""]
[null,""]
[null,""]
[null,""]
[null,""]
[null,""]
[null,""]
[null,""]
[null,""]
[null,""]
[null,""]
[null,""]
[null,""]
[null,""]
[null,""]
[null,""]
[null,""]
[null,""]
[null,""]
[null,""]
[null,""]
[null,""]
[null,""]
[null,""]
[null,""]
[null,""]
[null,""]
[null,""]
[null,""]
[null,""]
[null,""]
[null,""]
[null,""]
[null,""]
[null,""]
[null,""]
[null,{"$f":"IF(C2147=0,\"\",C2147-C2146)","v":""}]
[null,""]
[null,""]
[null,""]
[null,""]
[null,""]
[null,""]
[null,""]
[null,""]
[null,""]
[null,""]
[null,""]
[null,""]
[null,""]
[null,""]
[null,""]
[null,""]
[null,""]
[null,""]
[null,""]
[null,""]
[null,""]
[null,""]
[null,""]
[null,""]
[null,""]
[null,""]
[null,""]
[null,""]
[null,""]
[null,""]
[null,""]
[null,""]
[null,""]
[null,""]
[null,""]
[null,""]
[null,""]
[null,""]
[null,""]
[null,""]
[null,""]
[null,""]
[null,""]
[null,""]
[null,""]
[null,""]
[null,""]
[null,""]
[null,""]
[null,""]
[null,""]
[null,""]
[null,""]
[null,""]
[null,""]
[null,""]
[null,""]
[null,""]
[null,""]
[null,""]
[null,""]
[null,""]
[null,""]
[null,{"$f":"IF(C2211=0,\"\",C2211-C2210)","v":""}]
[null,""]
[null,""]
[null,""]
[null,""]
[null,""]
[null,""]
[null,""]
[null,""]
[null,""]
[null,""]
[null,""]
[null,""]
[null,""]
[null,""]
[null,""]
[null,""]
[null,""]
[null,""]
[null,""]
[null,""]
[null,""]
[null,""]
[null,""]
[null,""]
[null,""]
[null,""]
[null,""]
[null,""]
[null,""]
[null,""]
[null,""]
[null,""]
[null,""]
[null,""]
[null,""]
[null,""]
[null,""]
[null,""]
[null,""]
[null,""]
[null,""]
[null,""]
[null,""]
[null,""]
[null,""]
[null,""]
[null,""]
[null,""]
[null,""]
[null,""]
[null,""]
[null,""]
[null,""]
[null,""]
[null,""]
[null,""]
[null,""]
[null,""]
[null,""]
[null,""]
[null,""]
[null,""]
[null,""]
[null,{"$f":"IF(C2275=0,\"\",C2275-C2274)","v":""}]
[null,""]
[null,""]
[null,""]
[null,""]
[null,""]
[null,""]
[null,""]
[null,""]
[null,""]
[null,""]
[null,""]
[null,""]
[null,""]
[null,""]
[null,""]
[null,""]
[null,""]
[null,""]
[null,""]
[null,""]
[null,""]
[null,""]
[null,""]
[null,""]
[null,""]
[null,""]
[null,""]
[null,""]
[null,""]
[null,""]
[null,""]
[null,""]
[null,""]
[null,""]
[null,""]
[null,""]
[null,""]
[null,""]
[null,""]
[null,""]
[null,""]
[null,""]
[null,""]
[null,""]
[null,""]
[null,""]
[null,""]
[null,""]
[null,""]
[null,""]
[null,""]
[null,""]
[null,""]
[null,""]
[null,""]
[null,""]
[null,""]
[null,""]
[null,""]
[null,""]
[null,""]
[null,""]
[null,""]
[null,{"$f":"IF(C2339=0,\"\",C2339-C2338)","v":""}]
[null,""]
[null,""]
[null,""]
[null,""]
[null,""]
[null,""]
[null,""]
[null,""]
[null,""]
[null,""]
[null,""]
[null,""]
[null,""]
[null,""]
[null,""]
[null,""]
[null,""]
[null,""]
[null,""]
[null,""]
[null,""]
[null,""]
[null,""]
[null,""]
[null,""]
[null,""]
[null,""]
[null,""]
[null,""]
[null,""]
[null,""]
[null,""]
[null,""]
[null,""]
[null,""]
[null,""]
[null,""]
[null,""]
[null,""]
[null,""]
[null,""]
[null,""]
[null,""]
[null,""]
[null,""]
[null,""]
[null,""]
[null,""]
[null,""]
[null,""]
[null,""]
[null,""]
[null,""]
[null,""]
[null,""]
[null,""]
[null,""]
[null,""]
[null,""]
[null,""]
[null,""]
[null,""]
[null,""]
[null,{"$f":"IF(C2403=0,\"\",C2403-C2402)","v":""}]
[null,""]
[null,""]
[null,""]
[null,""]
[null,""]
[null,""]
[null,""]
[null,""]
[null,""]
[null,""]
[null,""]
[null,""]
[null,""]
[null,""]
[null,""]
[null,""]
[null,""]
[null,""]
[null,""]
[null,""]
[null,""]
[null,""]
[null,""]
[null,""]
[null,""]
[null,""]
[null,""]
[null,""]
[null,""]
[null,""]
[null,""]
[null,""]
[null,""]
[null,""]
[null,""]
[null,""]
[null,""]
[null,""]
[null,""]
[null,""]
[null,""]
[null,""]
[null,""]
[null,""]
[null,""]
[null,""]
[null,""]
[null,""]
[null,""]
[null,""]
[null,""]
[null,""]
[null,""]
[null,""]
[null,""]
[null,""]
[null,""]
[null,""]
[null,""]
[null,""]
[null,""]
[null,""]
[null,""]
[null,{"$f":"IF(C2467=0,\"\",C2467-C2466)","v":""}]
[null,""]
[null,""]
[null,""]
[null,""]
[null,""]
[null,""]
[null,""]
[null,""]
[null,""]
[null,""]
[null,""]
[null,""]
[null,""]
[null,""]
[null,""]
[null,""]
[null,""]
[null,""]
[null,""]
[null,""]
[null,""]
[null,""]
[null,""]
[null,""]
[null,""]
[null,""]
[null,""]
[null,""]
[null,""]
[null,""]
[null,""]
[null,""]
[null,""]
[null,""]
[null,""]
[null,""]
[null,""]
[null,""]
[null,""]
[null,""]
[null,""]
[null,""]
[null,""]
[null,""]
[null,""]
[null,""]
[null,""]
[null,""]
[null,""]
[null,""]
[null,""]
[null,""]
[null,""]
[null,""]
[null,""]
[null,""]
[null,""]
[null,""]
[null,""]
[null,""]
[null,""]
[null,""]
[null,""]
[null,{"$f":"IF(C2531=0,\"\",C2531-C2530)","v":""}]
[null,""]
[null,""]
[null,""]
[null,""]
[null,""]
[null,""]
[null,""]
[null,""]
[null,""]
[null,""]
[null,""]
[null,""]
[null,""]
[null,""]
[null,""]
[null,""]
[null,""]
[null,""]
[null,""]
[null,""]
[null,""]
[null,""]
[null,""]
[null,""]
[null,""]
[null,""]
[null,""]
[null,""]
[null,""]
[null,""]
[null,""]
[null,""]
[null,""]
[null,""]
[null,""]
[null,""]
[null,""]
[null,""]
[null,""]
[null,""]
[null,""]
[null,""]
[null,""]
[null,""]
[null,""]
[null,""]
[null,""]
[null,""]
[null,""]
[null,""]
[null,""]
[null,""]
[null,""]
[null,""]
[null,""]
[null,""]
[null,""]
[null,""]
[null,""]
[null,""]
[null,""]
[null,""]
[null,""]
[null,{"$f":"IF(C2595=0,\"\",C2595-C2594)","v":""}]
[null,""]
[null,""]
[null,""]
[null,""]
[null,""]
[null,""]
[null,""]
[null,""]
[null,""]
[null,""]
[null,""]
[null,""]
[null,""]
[null,""]
[null,""]
[null,""]
[null,""]
[null,""]
[null,""]
[null,""]
[null,""]
[null,""]
[null,""]
[null,""]
[null,""]
[null,""]
[null,""]
[null,""]
[null,""]
[null,""]
[null,""]
[null,""]
[null,""]
[null,""]
[null,""]
[null,""]
[null,""]
[null,""]
[null,""]
[null,""]
[null,""]
[null,""]
[null,""]
[null,""]
[null,""]
[null,""]
[null,""]
[null,""]
[null,""]
[null,""]
[null,""]
[null,""]
[null,""]
[null,""]
[null,""]
[null,""]
[null,""]
[null,""]
[null,""]
[null,""]
[null,""]
[null,""]
[null,""]
[null,{"$f":"IF(C2659=0,\"\",C2659-C2658)","v":""}]
[null,""]
[null,""]
[null,""]
[null,""]
[null,""]
[null,""]
[null,""]
[null,""]
[null,""]
[null,""]
[null,""]
[null,""]
[null,""]
[null,""]
[null,""]
[null,""]
[null,""]
[null,""]
[null,""]
[null,""]
[null,""]
[null,""]
[null,""]
[null,""]
[null,""]
[null,""]
[null,""]
[null,""]
[null,""]
[null,""]
[null,""]
[null,""]
[null,""]
[null,""]
[null,""]
[null,""]
[null,""]
[null,""]
[null,""]
[null,""]
[null,""]
[null,""]
[null,""]
[null,""]
[null,""]
[null,""]
[null,""]
[null,""]
[null,""]
[null,""]
[null,""]
[null,""]
[null,""]
[null,""]
[null,""]
[null,""]
[null,""]
[null,""]
[null,""]
[null,""]
[null,""]
[null,""]
[null,""]
[null,{"$f":"IF(C2723=0,\"\",C2723-C2722)","v":""}]
[null,""]
[null,""]
[null,""]
[null,""]
[null,""]
[null,""]
[null,""]
[null,""]
[null,""]
[null,""]
[null,""]
[null,""]
[null,""]
[null,""]
[null,""]
[null,""]
[null,""]
[null,""]
[null,""]
[null,""]
[null,""]
[null,""]
[null,""]
[null,""]
[null,""]
[null,""]
[null,""]
[null,""]
[null,""]
[null,""]
[null,""]
[null,""]
[null,""]
[null,""]
[null,""]
[null,""]
[null,""]
[null,""]
[null,""]
[null,""]
[null,""]
[null,""]
[null,""]
[null,""]
[null,""]
[null,""]
[null,""]
[null,""]
[null,""]
[null,""]
[null,""]
[null,""]
[null,""]
[null,""]
[null,""]
[null,""]
[null,""]
[null,""]
[null,""]
[null,""]
[null,""]
[null,""]
[null,""]
[null,{"$f":"IF(C2787=0,\"\",C2787-C2786)","v":""}]
[null,""]
[null,""]
[null,""]
[null,""]
[null,""]
[null,""]
[null,""]
[null,""]
[null,""]
[null,""]
[null,""]
[null,""]
[null,""]
[null,""]
[null,""]
[null,""]
[null,""]
[null,""]
[null,""]
[null,""]
[null,""]
[null,""]
[null,""]
[null,""]
[null,""]
[null,""]
[null,""]
[null,""]
[null,""]
[null,""]
[null,""]
[null,""]
[null,""]
[null,""]
[null,""]
[null,""]
[null,""]
[null,""]
[null,""]
[null,""]
[null,""]
[null,""]
[null,""]
[null,""]
[null,""]
[null,""]
[null,""]
[null,""]
[null,""]
[null,""]
[null,""]
[null,""]
[null,""]
[null,""]
[null,""]
[null,""]
[null,""]
[null,""]
[null,""]
[null,""]
[null,""]
[null,""]
[null,""]
[null,{"$f":"IF(C2851=0,\"\",C2851-C2850)","v":""}]
[null,""]
[null,""]
[null,""]
[null,""]
[null,""]
[null,""]
[null,""]
[null,""]
[null,""]
[null,""]
[null,""]
[null,""]
[null,""]
[null,""]
[null,""]
[null,""]
[null,""]
[null,""]
[null,""]
[null,""]
[null,""]
[null,""]
[null,""]
[null,""]
[null,""]
[null,""]
[null,""]
[null,""]
[null,""]
[null,""]
[null,""]
[null,""]
[null,""]
[null,""]
[null,""]
[null,""]
[null,""]
[null,""]
[null,""]
[null,""]
[null,""]
[null,""]
[null,""]
[null,""]
[null,""]
[null,""]
[null,""]
[null,""]
[null,""]
[null,""]
[null,""]
[null,""]
[null,""]
[null,""]
[null,""]
[null,""]
[null,""]
[null,""]
[null,""]
[null,""]
[null,""]
[null,""]
[null,""]
[null,{"$f":"IF(C2915=0,\"\",C2915-C2914)","v":""}]
[null,""]
[null,""]
[null,""]
[null,""]
[null,""]
[null,""]
[null,""]
[null,""]
[null,""]
[null,""]
[null,""]
[null,""]
[null,""]
[null,""]
[null,""]
[null,""]
[null,""]
[null,""]
[null,""]
[null,""]
[null,""]
[null,""]
[null,""]
[null,""]
[null,""]
[null,""]
[null,""]
[null,""]
[null,""]
[null,""]
[null,""]
[null,""]
[null,""]
[null,""]
[null,""]
[null,""]
[null,""]
[null,""]
[null,""]
[null,""]
[null,""]
[null,""]
[null,""]
[null,""]
[null,""]
[null,""]
[null,""]
[null,""]
[null,""]
[null,""]
[null,""]
[null,""]
[null,""]
[null,""]
[null,""]
[null,""]
[null,""]
[null,""]
[null,""]
[null,""]
[null,""]
[null,""]
[null,""]
[null,{"$f":"IF(C2979=0,\"\",C2979-C2978)","v":""}]
[null,""]
[null,""]
[null,""]
[null,""]
[null,""]
[null,""]
[null,""]
[null,""]
[null,""]
[null,""]
[null,""]
[null,""]
[null,""]
[null,""]
[null,""]
[null,""]
[null,""]
[null,""]
[null,""]
[null,""]
[null,""]
[null,""]
[null,""]
[null,""]
[null,""]
[null,""]
[null,""]
[null,""]
[null,""]
[null,""]
[null,""]
[null,""]
[null,""]
[null,""]
[null,""]
[null,""]
[null,""]
[null,""]
[null,""]
[null,""]
[null,""]
[null,""]
[null,""]
[null,""]
[null,""]
[null,""]
[null,""]
[null,""]
[null,""]
[null,""]
[null,""]
[null,""]
[null,""]
[null,""]
[null,""]
[null,""]
[null,""]
[null,""]
[null,""]
[null,""]
[null,""]
[null,""]
[null,""]
[null,{"$f":"IF(C3043=0,\"\",C3043-C3042)","v":""}]
[null,""]
[null,""]
[null,""]
[null,""]
[null,""]
[null,""]
[null,""]
[null,""]
[null,""]
[null,""]
[null,""]
[null,""]
[null,""]
[null,""]
[null,""]
[null,""]
[null,""]
[null,""]
[null,""]
[null,""]
[null,""]
[null,""]
[null,""]
[null,""]
[null,""]
[null,""]
[null,""]
[null,""]
[null,""]
[null,""]
[null,""]
[null,""]
[null,""]
[null,""]
[null,""]
[null,""]
[null,""]
[null,""]
[null,""]
[null,""]
[null,""]
[null,""]
[null,""]
[null,""]
[null,""]
[null,""]
[null,""]
[null,""]
[null,""]
[null,""]
[null,""]
[null,""]
[null,""]
[null,""]
[null,""]
[null,""]
[null,""]
[null,""]
[null,""]
[null,""]
[null,""]
[null,""]
[null,""]
[null,{"$f":"IF(C3107=0,\"\",C3107-C3106)","v":""}]
[null,""]
[null,""]
[null,""]
[null,""]
[null,""]
[null,""]
[null,""]
[null,""]
[null,""]
[null,""]
[null,""]
[null,""]
[null,""]
[null,""]
[null,""]
[null,""]
[null,""]
[null,""]
[null,""]
[null,""]
[null,""]
[null,""]
[null,""]
[null,""]
[null,""]
[null,""]
[null,""]
[null,""]
[null,""]
[null,""]
[null,""]
[null,""]
[null,""]
[null,""]
[null,""]
[null,""]
[null,""]
[null,""]
[null,""]
[null,""]
[null,""]
[null,""]
[null,""]
[null,""]
[null,""]
[null,""]
[null,""]
[null,""]
[null,""]
[null,""]
[null,""]
[null,""]
[null,""]
[null,""]
[null,""]
[null,""]
[null,""]
[null,""]
[null,""]
[null,""]
[null,""]
[null,""]
[null,""]
[null,{"$f":"IF(C3171=0,\"\",C3171-C3170)","v":""}]
[null,""]
[null,""]
[null,""]
[null,""]
[null,""]
[null,""]
[null,""]
[null,""]
[null,""]
[null,""]
[null,""]
[null,""]
[null,""]
[null,""]
[null,""]
[null,""]
[null,""]
[null,""]
[null,""]
[null,""]
[null,""]
[null,""]
[null,""]
[null,""]
[null,""]
[null,""]
[null,""]
[null,""]
[null,""]
[null,""]
[null,""]
[null,""]
[null,""]
[null,""]
[null,""]
[null,""]
[null,""]
[null,""]
[null,""]
[null,""]
[null,""]
[null,""]
[null,""]
[null,""]
[null,""]
[null,""]
[null,""]
[null,""]
[null,""]
[null,""]
[null,""]
[null,""]
[null,""]
[null,""]
[null,""]
[null,""]
[null,""]
[null,""]
[null,""]
[null,""]
[null,""]
[null,""]
[null,""]
[null,{"$f":"IF(C3235=0,\"\",C3235-C3234)","v":""}]
[null,""]
[null,""]
[null,""]
[null,""]
[null,""]
[null,""]
[null,""]
[null,""]
[null,""]
[null,""]
[null,""]
[null,""]
[null,""]
[null,""]
[null,""]
[null,""]
[null,""]
[null,""]
[null,""]
[null,""]
[null,""]
[null,""]
[null,""]
[null,""]
[null,""]
[null,""]
[null,""]
[null,""]
[null,""]
[null,""]
[null,""]
[null,""]
[null,""]
[null,""]
[null,""]
[null,""]
[null,""]
[null,""]
[null,""]
[null,""]
[null,""]
[null,""]
[null,""]
[null,""]
[null,""]
[null,""]
[null,""]
[null,""]
[null,""]
[null,""]
[null,""]
[null,""]
[null,""]
[null,""]
[null,""]
[null,""]
[null,""]
[null,""]
[null,""]
[null,""]
[null,""]
[null,""]
[null,""]
[null,{"$f":"IF(C3299=0,\"\",C3299-C3298)","v":""}]
[null,""]
[null,""]
[null,""]
[null,""]
[null,""]
[null,""]
[null,""]
[null,""]
[null,""]
[null,""]
[null,""]
[null,""]
[null,""]
[null,""]
[null,""]
[null,""]
[null,""]
[null,""]
[null,""]
[null,""]
[null,""]
[null,""]
[null,""]
[null,""]
[null,""]
[null,""]
[null,""]
[null,""]
[null,""]
[null,""]
[null,""]
[null,""]
[null,""]
[null,""]
[null,""]
[null,""]
[null,""]
[null,""]
[null,""]
[null,""]
[null,""]
[null,""]
[null,""]
[null,""]
[null,""]
[null,""]
[null,""]
[null,""]
[null,""]
[null,""]
[null,""]
[null,""]
[null,""]
[null,""]
[null,""]
[null,""]
[null,""]
[null,""]
[null,""]
[null,""]
[null,""]
[null,""]
[null,""]
[null,{"$f":"IF(C3363=0,\"\",C3363-C3362)","v":""}]
[null,""]
[null,""]
[null,""]
[null,""]
[null,""]
[null,""]
[null,""]
[null,""]
[null,""]
[null,""]
[null,""]
[null,""]
[null,""]
[null,""]
[null,""]
[null,""]
[null,""]
[null,""]
[null,""]
[null,""]
[null,""]
[null,""]
[null,""]
[null,""]
[null,""]
[null,""]
[null,""]
[null,""]
[null,""]
[null,""]
[null,""]
[null,""]
[null,""]
[null,""]
[null,""]
[null,""]
[null,""]
[null,""]
[null,""]
[null,""]
[null,""]
[null,""]
[null,""]
[null,""]
[null,""]
[null,""]
[null,""]
[null,""]
[null,""]
[null,""]
[null,""]
[null,""]
[null,""]
[null,""]
[null,""]
[null,""]
[null,""]
[null,""]
[null,""]
[null,""]
[null,""]
[null,""]
[null,""]
[null,{"$f":"IF(C3427=0,\"\",C3427-C3426)","v":""}]
[null,""]
[null,""]
[null,""]
[null,""]
[null,""]
[null,""]
[null,""]
[null,""]
[null,""]
[null,""]
[null,""]
[null,""]
[null,""]
[null,""]
[null,""]
[null,""]
[null,""]
[null,""]
[null,""]
[null,""]
[null,""]
[null,""]
[null,""]
[null,""]
[null,""]
[null,""]
[null,""]
[null,""]
[null,""]
[null,""]
[null,""]
[null,""]
[null,""]
[null,""]
[null,""]
[null,""]
[null,""]
[null,""]
[null,""]
[null,""]
[null,""]
[null,""]
[null,""]
[null,""]
[null,""]
[null,""]
[null,""]
[null,""]
[null,""]
[null,""]
[null,""]
[null,""]
[null,""]
[null,""]
[null,""]
[null,""]
[null,""]
[null,""]
[null,""]
[null,""]
[null,""]
[null,""]
[null,""]
[null,{"$f":"IF(C3491=0,\"\",C3491-C3490)","v":""}]
[null,""]
[null,""]
[null,""]
[null,""]
[null,""]
[null,""]
[null,""]
[null,""]
[null,""]
[null,""]
[null,""]
[null,""]
[null,""]
[null,""]
[null,""]
[null,""]
[null,""]
[null,""]
[null,""]
[null,""]
[null,""]
[null,""]
[null,""]
[null,""]
[null,""]
[null,""]
[null,""]
[null,""]
[null,""]
[null,""]
[null,""]
[null,""]
[null,""]
[null,""]
[null,""]
[null,""]
[null,""]
[null,""]
[null,""]
[null,""]
[null,""]
[null,""]
[null,""]
[null,""]
[null,""]
[null,""]
[null,""]
[null,""]
[null,""]
[null,""]
[null,""]
[null,""]
[null,""]
[null,""]
[null,""]
[null,""]
[null,""]
[null,""]
[null,""]
[null,""]
[null,""]
[null,""]
[null,""]
[null,{"$f":"IF(C3555=0,\"\",C3555-C3554)","v":""}]
[null,""]
[null,""]
[null,""]
[null,""]
[null,""]
[null,""]
[null,""]
[null,""]
[null,""]
[null,""]
[null,""]
[null,""]
[null,""]
[null,""]
[null,""]
[null,""]
[null,""]
[null,""]
[null,""]
[null,""]
[null,""]
[null,""]
[null,""]
[null,""]
[null,""]
[null,""]
[null,""]
[null,""]
[null,""]
[null,""]
[null,""]
[null,""]
[null,""]
[null,""]
[null,""]
[null,""]
[null,""]
[null,""]
[null,""]
[null,""]
[null,""]
[null,""]
[null,""]
[null,""]
[null,""]
[null,""]
[null,""]
[null,""]
[null,""]
[null,""]
[null,""]
[null,""]
[null,""]
[null,""]
[null,""]
[null,""]
[null,""]
[null,""]
[null,""]
[null,""]
[null,""]
[null,""]
[null,""]
[null,{"$f":"IF(C3619=0,\"\",C3619-C3618)","v":""}]
[null,""]
[null,""]
[null,""]
[null,""]
[null,""]
[null,""]
[null,""]
[null,""]
[null,""]
[null,""]
[null,""]
[null,""]
[null,""]
[null,""]
[null,""]
[null,""]
[null,""]
[null,""]
[null,""]
[null,""]
[null,""]
[null,""]
[null,""]
[null,""]
[null,""]
[null,""]
[null,""]
[null,""]
[null,""]
[null,""]
[null,""]
[null,""]
[null,""]
[null,""]
[null,""]
[null,""]
[null,""]
[null,""]
[null,""]
[null,""]
[null,""]
[null,""]
[null,""]
[null,""]
[null,""]
[null,""]
[null,""]
[null,""]
[null,""]
[null,""]
[null,""]
[null,""]
[null,""]
[null,""]
[null,""]
[null,""]
[null,""]
[null,""]
[null,""]
[null,""]
[null,""]
[null,""]
[null,""]
[null,{"$f":"IF(C3683=0,\"\",C3683-C3682)","v":""}]
[null,""]
[null,""]
[null,""]
[null,""]
[null,""]
[null,""]
[null,""]
[null,""]
[null,""]
[null,""]
[null,""]
[null,""]
[null,""]
[null,""]
[null,""]
[null,""]
[null,""]
[null,""]
[null,""]
[null,""]
[null,""]
[null,""]
[null,""]
[null,""]
[null,""]
[null,""]
[null,""]
[null,""]
[null,""]
[null,""]
[null,""]
[null,""]
[null,""]
[null,""]
[null,""]
[null,""]
[null,""]
[null,""]
[null,""]
[null,""]
[null,""]
[null,""]
[null,""]
[null,""]
[null,""]
[null,""]
[null,""]
[null,""]
[null,""]
[null,""]
[null,""]
[null,""]
[null,""]
[null,""]
[null,""]
[null,""]
[null,""]
[null,""]
[null,""]
[null,""]
[null,""]
[null,""]
[null,""]
[null,{"$f":"IF(C3747=0,\"\",C3747-C3746)","v":""}]
[null,""]
[null,""]
[null,""]
[null,""]
[null,""]
[null,""]
[null,""]
[null,""]
[null,""]
[null,""]
[null,""]
[null,""]
[null,""]
[null,""]
[null,""]
[null,""]
[null,""]
[null,""]
[null,""]
[null,""]
[null,""]
[null,""]
[null,""]
[null,""]
[null,""]
[null,""]
[null,""]
[null,""]
[null,""]
[null,""]
[null,""]
[null,""]
[null,""]
[null,""]
[null,""]
[null,""]
[null,""]
[null,""]
[null,""]
[null,""]
[null,""]
[null,""]
[null,""]
[null,""]
[null,""]
[null,""]
[null,""]
[null,""]
[null,""]
[null,""]
[null,""]
[null,""]
[null,""]
[null,""]
[null,""]
[null,""]
[null,""]
[null,""]
[null,""]
[null,""]
[null,""]
[null,""]
[null,""]
[null,{"$f":"IF(C3811=0,\"\",C3811-C3810)","v":""}]
[null,""]
[null,""]
[null,""]
[null,""]
[null,""]
[null,""]
[null,""]
[null,""]
[null,""]
[null,""]
[null,""]
[null,""]
[null,""]
[null,""]
[null,""]
[null,""]
[null,""]
[null,""]
[null,""]
[null,""]
[null,""]
[null,""]
[null,""]
[null,""]
[null,""]
[null,""]
[null,""]
[null,""]
[null,""]
[null,""]
[null,""]
[null,""]
[null,""]
[null,""]
[null,""]
[null,""]
[null,""]
[null,""]
[null,""]
[null,""]
[null,""]
[null,""]
[null,""]
[null,""]
[null,""]
[null,""]
[null,""]
[null,""]
[null,""]
[null,""]
[null,""]
[null,""]
[null,""]
[null,""]
[null,""]
[null,""]
[null,""]
[null,""]
[null,""]
[null,""]
[null,""]
[null,""]
[null,""]
[null,{"$f":"IF(C3875=0,\"\",C3875-C3874)","v":""}]
[null,""]
[null,""]
[null,""]
[null,""]
[null,""]
[null,""]
[null,""]
[null,""]
[null,""]
[null,""]
[null,""]
[null,""]
[null,""]
[null,""]
[null,""]
[null,""]
[null,""]
[null,""]
[null,""]
[null,""]
[null,""]
[null,""]
[null,""]
[null,""]
[null,""]
[null,""]
[null,""]
[null,""]
[null,""]
[null,""]
[null,""]
[null,""]
[null,""]
[null,""]
[null,""]
[null,""]
[null,""]
[null,""]
[null,""]
[null,""]
[null,""]
[null,""]
[null,""]
[null,""]
[null,""]
[null,""]
[null,""]
[null,""]
[null,""]
[null,""]
[null,""]
[null,""]
[null,""]
[null,""]
[null,""]
[null,""]
[null,""]
[null,""]
[null,""]
[null,""]
[null,""]
[null,""]
[null,""]
[null,{"$f":"IF(C3939=0,\"\",C3939-C3938)","v":""}]
[null,""]
[null,""]
[null,""]
[null,""]
[null,""]
[null,""]
[null,""]
[null,""]
[null,""]
[null,""]
[null,""]
[null,""]
[null,""]
[null,""]
[null,""]
[null,""]
[null,""]
[null,""]
[null,""]
[null,""]
[null,""]
[null,""]
[null,""]
[null,""]
[null,""]
[null,""]
[null,""]
[null,""]
[null,""]
[null,""]
[null,""]
[null,""]
[null,""]
[null,""]
[null,""]
[null,""]
[null,""]
[null,""]
[null,""]
[null,""]
[null,""]
[null,""]
[null,""]
[null,""]
[null,""]
[null,""]
[null,""]
[null,""]
[null,""]
[null,""]
[null,""]
[null,""]
[null,""]
[null,""]
[null,""]
[null,""]
[null,""]
[null,""]
[null,""]
[null,""]
[null,""]
[null,""]
[null,""]
[null,{"$f":"IF(C4003=0,\"\",C4003-C4002)","v":""}]
[null,""]
[null,""]
[null,""]
[null,""]
[null,""]
[null,""]
[null,""]
[null,""]
[null,""]
[null,""]
[null,""]
[null,""]
[null,""]
[null,""]
[null,""]
[null,""]
[null,""]
[null,""]
[null,""]
[null,""]
[null,""]
[null,""]
[null,""]
[null,""]
[null,""]
[null,""]
[null,""]
[null,""]
[null,""]
[null,""]
[null,""]
[null,""]
[null,""]
[null,""]
[null,""]
[null,""]
[null,""]
[null,""]
[null,""]
[null,""]
[null,""]
[null,""]
[null,""]
[null,""]
[null,""]
[null,""]
[null,""]
[null,""]
[null,""]
[null,""]
[null,""]
[null,""]
[null,""]
[null,""]
[null,""]
[null,""]
[null,""]
[null,""]
[null,""]
[null,""]
[null,""]
[null,""]
[null,""]
[null,{"$f":"IF(C4067=0,\"\",C4067-C4066)","v":""}]
[null,""]
[null,""]
[null,""]
[null,""]
[null,""]
[null,""]
[null,""]
[null,""]
[null,""]
[null,""]
[null,""]
[null,""]
[null,""]
[null,""]
[null,""]
[null,""]
[null,""]
[null,""]
[null,""]
[null,""]
[null,""]
[null,""]
[null,""]
[null,""]
[null,""]
[null,""]
[null,""]
[null,""]
[null,""]
[null,""]
[null,""]
[null,""]
[null,""]
[null,""]
[null,""]
[null,""]
[null,""]
[null,""]
[null,""]
[null,""]
[null,""]
[null,""]
[null,""]
[null,""]
[null,""]
[null,""]
[null,""]
[null,""]
[null,""]
[null,""]
[null,""]
[null,""]
[null,""]
[null,""]
[null,""]
[null,""]
[null,""]
[null,""]
[null,""]
[null,""]
[null,""]
[null,""]
[null,""]
[null,{"$f":"IF(C4131=0,\"\",C4131-C4130)","v":""}]
[null,""]
[null,""]
[null,""]
[null,""]
[null,""]
[null,""]
[null,""]
[null,""]
[null,""]
[null,""]
[null,""]
[null,""]
[null,""]
[null,""]
[null,""]
[null,""]
[null,""]
[null,""]
[null,""]
[null,""]
[null,""]
[null,""]
[null,""]
[null,""]
[null,""]
[null,""]
[null,""]
[null,""]
[null,""]
[null,""]
[null,""]
[null,""]
[null,""]
[null,""]
[null,""]
[null,""]
[null,""]
[null,""]
[null,""]
[null,""]
[null,""]
[null,""]
[null,""]
[null,""]
[null,""]
[null,""]
[null,""]
[null,""]
[null,""]
[null,""]
[null,""]
[null,""]
[null,""]
[null,""]
[null,""]
[null,""]
[null,""]
[null,""]
[null,""]
[null,""]
[null,""]
[null,""]
[null,""]
[null,{"$f":"IF(C4195=0,\"\",C4195-C4194)","v":""}]
[null,""]
[null,""]
[null,""]
[null,""]
[null,""]
[null,""]
[null,""]
[null,""]
[null,""]
[null,""]
[null,""]
[null,""]
[null,""]
[null,""]
[null,""]
[null,""]
[null,""]
[null,""]
[null,""]
[null,""]
[null,""]
[null,""]
[null,""]
[null,""]
[null,""]
[null,""]
[null,""]
[null,""]
[null,""]
[null,""]
[null,""]
[null,""]
[null,""]
[null,""]
[null,""]
[null,""]
[null,""]
[null,""]
[null,""]
[null,""]
[null,""]
[null,""]
[null,""]
[null,""]
[null,""]
[null,""]
[null,""]
[null,""]
[null,""]
[null,""]
[null,""]
[null,""]
[null,""]
[null,""]
[null,""]
[null,""]
[null,""]
[null,""]
[null,""]
[null,""]
[null,""]
[null,""]
[null,""]
[null,{"$f":"IF(C4259=0,\"\",C4259-C4258)","v":""}]
[null,""]
[null,""]
[null,""]
[null,""]
[null,""]
[null,""]
[null,""]
[null,""]
[null,""]
[null,""]
[null,""]
[null,""]
[null,""]
[null,""]
[null,""]
[null,""]
[null,""]
[null,""]
[null,""]
[null,""]
[null,""]
[null,""]
[null,""]
[null,""]
[null,""]
[null,""]
[null,""]
[null,""]
[null,""]
[null,""]
[null,""]
[null,""]
[null,""]
[null,""]
[null,""]
[null,""]
[null,""]
[null,""]
[null,""]
[null,""]
[null,""]
[null,""]
[null,""]
[null,""]
[null,""]
[null,""]
[null,""]
[null,""]
[null,""]
[null,""]
[null,""]
[null,""]
[null,""]
[null,""]
[null,""]
[null,""]
[null,""]
[null,""]
[null,""]
[null,""]
[null,""]
[null,""]
[null,""]
[null,{"$f":"IF(C4323=0,\"\",C4323-C4322)","v":""}]
[null,""]
[null,""]
[null,""]
[null,""]
[null,""]
[null,""]
[null,""]
[null,""]
[null,""]
[null,""]
[null,""]
[null,""]
[null,""]
[null,""]
[null,""]
[null,""]
[null,""]
[null,""]
[null,""]
[null,""]
[null,""]
[null,""]
[null,""]
[null,""]
[null,""]
[null,""]
[null,""]
[null,""]
[null,""]
[null,""]
[null,""]
[null,""]
[null,""]
[null,""]
[null,""]
[null,""]
[null,""]
[null,""]
[null,""]
[null,""]
[null,""]
[null,""]
[null,""]
[null,""]
[null,""]
[null,""]
[null,""]
[null,""]
[null,""]
[null,""]
[null,""]
[null,""]
[null,""]
[null,""]
[null,""]
[null,""]
[null,""]
[null,""]
[null,""]
[null,""]
[null,""]
[null,""]
[null,""]
[null,{"$f":"IF(C4387=0,\"\",C4387-C4386)","v":""}]
[null,""]
[null,""]
[null,""]
[null,""]
[null,""]
[null,""]
[null,""]
[null,""]
[null,""]
[null,""]
[null,""]
[null,""]
[null,""]
[null,""]
[null,""]
[null,""]
[null,""]
[null,""]
[null,""]
[null,""]
[null,""]
[null,""]
[null,""]
[null,""]
[null,""]
[null,""]
[null,""]
[null,""]
[null,""]
[null,""]
[null,""]
[null,""]
[null,""]
[null,""]
[null,""]
[null,""]
[null,""]
[null,""]
[null,""]
[null,""]
[null,""]
[null,""]
[null,""]
[null,""]
[null,""]
[null,""]
[null,""]
[null,""]
[null,""]
[null,""]
[null,""]
[null,""]
[null,""]
[null,""]
[null,""]
[null,""]
[null,""]
[null,""]
[null,""]
[null,""]
[null,""]
[null,""]
[null,""]
[null,{"$f":"IF(C4451=0,\"\",C4451-C4450)","v":""}]
[null,""]
[null,""]
[null,""]
[null,""]
[null,""]
[null,""]
[null,""]
[null,""]
[null,""]
[null,""]
[null,""]
[null,""]
[null,""]
[null,""]
[null,""]
[null,""]
[null,""]
[null,""]
[null,""]
[null,""]
[null,""]
[null,""]
[null,""]
[null,""]
[null,""]
[null,""]
[null,""]
[null,""]
[null,""]
[null,""]
[null,""]
[null,""]
[null,""]
[null,""]
[null,""]
[null,""]
[null,""]
[null,""]
[null,""]
[null,""]
[null,""]
[null,""]
[null,""]
[null,""]
[null,""]
[null,""]
[null,""]
[null,""]
[null,""]
[null,""]
[null,""]
[null,""]
[null,""]
[null,""]
[null,""]
[null,""]
[null,""]
[null,""]
[null,""]
[null,""]
[null,""]
[null,""]
[null,""]
[null,{"$f":"IF(C4515=0,\"\",C4515-C4514)","v":""}]
[null,""]
[null,""]
[null,""]
[null,""]
[null,""]
[null,""]
[null,""]
[null,""]
[null,""]
[null,""]
[null,""]
[null,""]
[null,""]
[null,""]
[null,""]
[null,""]
[null,""]
[null,""]
[null,""]
[null,""]
[null,""]
[null,""]
[null,""]
[null,""]
[null,""]
[null,""]
[null,""]
[null,""]
[null,""]
[null,""]
[null,""]
[null,""]
[null,""]
[null,""]
[null,""]
[null,""]
[null,""]
[null,""]
[null,""]
[null,""]
[null,""]
[null,""]
[null,""]
[null,""]
[null,""]
[null,""]
[null,""]
[null,""]
[null,""]
[null,""]
[null,""]
[null,""]
[null,""]
[null,""]
[null,""]
[null,""]
[null,""]
[null,""]
[null,""]
[null,""]
[null,""]
[null,""]
[null,""]
[null,{"$f":"IF(C4579=0,\"\",C4579-C4578)","v":""}]
[null,""]
[null,""]
[null,""]
[null,""]
[null,""]
[null,""]
[null,""]
[null,""]
[null,""]
[null,""]
[null,""]
[null,""]
[null,""]
[null,""]
[null,""]
[null,""]
[null,""]
[null,""]
[null,""]
[null,""]
[null,""]
[null,""]
[null,""]
[null,""]
[null,""]
[null,""]
[null,""]
[null,""]
[null,""]
[null,""]
[null,""]
[null,""]
[null,""]
[null,""]
[null,""]
[null,""]
[null,""]
[null,""]
[null,""]
[null,""]
[null,""]
[null,""]
[null,""]
[null,""]
[null,""]
[null,""]
[null,""]
[null,""]
[null,""]
[null,""]
[null,""]
[null,""]
[null,""]
[null,""]
[null,""]
[null,""]
[null,""]
[null,""]
[null,""]
[null,""]
[null,""]
[null,""]
[null,""]
[null,{"$f":"IF(C4643=0,\"\",C4643-C4642)","v":""}]
[null,""]
[null,""]
[null,""]
[null,""]
[null,""]
[null,""]
[null,""]
[null,""]
[null,""]
[null,""]
[null,""]
[null,""]
[null,""]
[null,""]
[null,""]
[null,""]
[null,""]
[null,""]
[null,""]
[null,""]
[null,""]
[null,""]
[null,""]
[null,""]
[null,""]
[null,""]
[null,""]
[null,""]
[null,""]
[null,""]
[null,""]
[null,""]
[null,""]
[null,""]
[null,""]
[null,""]
[null,""]
[null,""]
[null,""]
[null,""]
[null,""]
[null,""]
[null,""]
[null,""]
[null,""]
[null,""]
[null,""]
[null,""]
[null,""]
[null,""]
[null,""]
[null,""]
[null,""]
[null,""]
[null,""]
[null,""]
[null,""]
[null,""]
[null,""]
[null,""]
[null,""]
[null,""]
[null,""]
[null,{"$f":"IF(C4707=0,\"\",C4707-C4706)","v":""}]
[null,""]
[null,""]
[null,""]
[null,""]
[null,""]
[null,""]
[null,""]
[null,""]
[null,""]
[null,""]
[null,""]
[null,""]
[null,""]
[null,""]
[null,""]
[null,""]
[null,""]
[null,""]
[null,""]
[null,""]
[null,""]
[null,""]
[null,""]
[null,""]
[null,""]
[null,""]
[null,""]
[null,""]
[null,""]
[null,""]
[null,""]
[null,""]
[null,""]
[null,""]
[null,""]
[null,""]
[null,""]
[null,""]
[null,""]
[null,""]
[null,""]
[null,""]
[null,""]
[null,""]
[null,""]
[null,""]
[null,""]
[null,""]
[null,""]
[null,""]
[null,""]
[null,""]
[null,""]
[null,""]
[null,""]
[null,""]
[null,""]
[null,""]
[null,""]
[null,""]
[null,""]
[null,""]
[null,""]
[null,{"$f":"IF(C4771=0,\"\",C4771-C4770)","v":""}]
[null,""]
[null,""]
[null,""]
[null,""]
[null,""]
[null,""]
[null,""]
[null,""]
[null,""]
[null,""]
[null,""]
[null,""]
[null,""]
[null,""]
[null,""]
[null,""]
[null,""]
[null,""]
[null,""]
[null,""]
[null,""]
[null,""]
[null,""]
[null,""]
[null,""]
[null,""]
[null,""]
[null,""]
[null,""]
[null,""]
[null,""]
[null,""]
[null,""]
[null,""]
[null,""]
[null,""]
[null,""]
[null,""]
[null,""]
[null,""]
[null,""]
[null,""]
[null,""]
[null,""]
[null,""]
[null,""]
[null,""]
[null,""]
[null,""]
[null,""]
[null,""]
[null,""]
[null,""]
[null,""]
[null,""]
[null,""]
[null,""]
[null,""]
[null,""]
[null,""]
[null,""]
[null,""]
[null,""]
[null,{"$f":"IF(C4835=0,\"\",C4835-C4834)","v":""}]
[null,""]
[null,""]
[null,""]
[null,""]
[null,""]
[null,""]
[null,""]
[null,""]
[null,""]
[null,""]
[null,""]
[null,""]
[null,""]
[null,""]
[null,""]
[null,""]
[null,""]
[null,""]
[null,""]
[null,""]
[null,""]
[null,""]
[null,""]
[null,""]
[null,""]
[null,""]
[null,""]
[null,""]
[null,""]
[null,""]
[null,""]
[null,""]
[null,""]
[null,""]
[null,""]
[null,""]
[null,""]
[null,""]
[null,""]
[null,""]
[null,""]
[null,""]
[null,""]
[null,""]
[null,""]
[null,""]
[null,""]
[null,""]
[null,""]
[null,""]
[null,""]
[null,""]
[null,""]
[null,""]
[null,""]
[null,""]
[null,""]
[null,""]
[null,""]
[null,""]
[null,""]
[null,""]
[null,""]
[null,{"$f":"IF(C4899=0,\"\",C4899-C4898)","v":""}]
[null,""]
[null,""]
[null,""]
[null,""]
[null,""]
[null,""]
[null,""]
[null,""]
[null,""]
[null,""]
[null,""]
[null,""]
[null,""]
[null,""]
[null,""]
[null,""]
[null,""]
[null,""]
[null,""]
[null,""]
[null,""]
[null,""]
[null,""]
[null,""]
[null,""]
[null,""]
[null,""]
[null,""]
[null,""]
[null,""]
[null,""]
[null,""]
[null,""]
[null,""]
[null,""]
[null,""]
[null,""]
[null,""]
[null,""]
[null,""]
[null,""]
[null,""]
[null,""]
[null,""]
[null,""]
[null,""]
[null,""]
[null,""]
[null,""]
[null,""]
[null,""]
[null,""]
[null,""]
[null,""]
[null,""]
[null,""]
[null,""]
[null,""]
[null,""]
[null,""]
[null,""]
[null,""]
[null,""]
[null,{"$f":"IF(C4963=0,\"\",C4963-C4962)","v":""}]
[null,""]
[null,""]
[null,""]
[null,""]
[null,""]
[null,""]
[null,""]
[null,""]
[null,""]
[null,""]
[null,""]
[null,""]
[null,""]
[null,""]
[null,""]
[null,""]
[null,""]
[null,""]
[null,""]
[null,""]
[null,""]
[null,""]
[null,""]
[null,""]
[null,""]
[null,""]
[null,""]
[null,""]
[null,""]
[null,""]
[null,""]
[null,""]
[null,""]
[null,""]
[null,""]
[null,""]
[null,""]
[null,""]
[null,""]
[null,""]
[null,""]
[null,""]
[null,""]
[null,""]
[null,""]
[null,""]
[null,""]
[null,""]
[null,""]
[null,""]
[null,""]
[null,""]
[null,""]
[null,""]
[null,""]
[null,""]
[null,""]
[null,""]
[null,""]
[null,""]
[null,""]
[null,""]
[null,""]
[null,{"$f":"IF(C5027=0,\"\",C5027-C5026)","v":""}]
[null,""]
[null,""]
[null,""]
[null,""]
[null,""]
[null,""]
[null,""]
[null,""]
[null,""]
[null,""]
[null,""]
[null,""]
[null,""]
[null,""]
[null,""]
[null,""]
[null,""]
[null,""]
[null,""]
[null,""]
[null,""]
[null,""]
[null,""]
[null,""]
[null,""]
[null,""]
[null,""]
[null,""]
[null,""]
[null,""]
[null,""]
[null,""]
[null,""]
[null,""]
[null,""]
[null,""]
[null,""]
[null,""]
[null,""]
[null,""]
[null,""]
[null,""]
[null,""]
[null,""]
[null,""]
[null,""]
[null,""]
[null,""]
[null,""]
[null,""]
[null,""]
[null,""]
[null,""]
[null,""]
[null,""]
[null,""]
[null,""]
[null,""]
[null,""]
[null,""]
[null,""]
[null,""]
[null,""]
[null,{"$f":"IF(C5091=0,\"\",C5091-C5090)","v":""}]
[null,""]
[null,""]
[null,""]
[null,""]
[null,""]
[null,""]
[null,""]
[null,""]
[null,""]
[null,""]
[null,""]
[null,""]
[null,""]
[null,""]
[null,""]
[null,""]
[null,""]
[null,""]
[null,""]
[null,""]
[null,""]
[null,""]
[null,""]
[null,""]
[null,""]
[null,""]
[null,""]
[null,""]
[null,""]
[null,""]
[null,""]
[null,""]
[null,""]
[null,""]
[null,""]
[null,""]
[null,""]
[null,""]
[null,""]
[null,""]
[null,""]
[null,""]
[null,""]
[null,""]
[null,""]
[null,""]
[null,""]
[null,""]
[null,""]
[null,""]
[null,""]
[null,""]
[null,""]
[null,""]
[null,""]
[null,""]
[null,""]
[null,""]
[null,""]
[null,""]
[null,""]
[null,""]
[null,""]
[null,{"$f":"IF(C5155=0,\"\",C5155-C5154)","v":""}]
[null,""]
[null,""]
[null,""]
[null,""]
[null,""]
[null,""]
[null,""]
[null,""]
[null,""]
[null,""]
[null,""]
[null,""]
[null,""]
[null,""]
[null,""]
[null,""]
[null,""]
[null,""]
[null,""]
[null,""]
[null,""]
[null,""]
[null,""]
[null,""]
[null,""]
[null,""]
[null,""]
[null,""]
[null,""]
[null,""]
[null,""]
[null,""]
[null,""]
[null,""]
[null,""]
[null,""]
[null,""]
[null,""]
[null,""]
[null,""]
[null,""]
[null,""]
[null,""]
[null,""]
[null,""]
[null,""]
[null,""]
[null,""]
[null,""]
[null,""]
[null,""]
[null,""]
[null,""]
[null,""]
[null,""]
[null,""]
[null,""]
[null,""]
[null,""]
[null,""]
[null,""]
[null,""]
[null,""]
[null,{"$f":"IF(C5219=0,\"\",C5219-C5218)","v":""}]
[null,""]
[null,""]
[null,""]
[null,""]
[null,""]
[null,""]
[null,""]
[null,""]
[null,""]
[null,""]
[null,""]
[null,""]
[null,""]
[null,""]
[null,""]
[null,""]
[null,""]
[null,""]
[null,""]
[null,""]
[null,""]
[null,""]
[null,""]
[null,""]
[null,""]
[null,""]
[null,""]
[null,""]
[null,""]
[null,""]
[null,""]
[null,""]
[null,""]
[null,""]
[null,""]
[null,""]
[null,""]
[null,""]
[null,""]
[null,""]
[null,""]
[null,""]
[null,""]
[null,""]
[null,""]
[null,""]
[null,""]
[null,""]
[null,""]
[null,""]
[null,""]
[null,""]
[null,""]
[null,""]
[null,""]
[null,""]
[null,""]
[null,""]
[null,""]
[null,""]
[null,""]
[null,""]
[null,""]
[null,{"$f":"IF(C5283=0,\"\",C5283-C5282)","v":""}]
[null,""]
[null,""]
[null,""]
[null,""]
[null,""]
[null,""]
[null,""]
[null,""]
[null,""]
[null,""]
[null,""]
[null,""]
[null,""]
[null,""]
[null,""]
[null,""]
[null,""]
[null,""]
[null,""]
[null,""]
[null,""]
[null,""]
[null,""]
[null,""]
[null,""]
[null,""]
[null,""]
[null,""]
[null,""]
[null,""]
[null,""]
[null,""]
[null,""]
[null,""]
[null,""]
[null,""]
[null,""]
[null,""]
[null,""]
[null,""]
[null,""]
[null,""]
[null,""]
[null,""]
[null,""]
[null,""]
[null,""]
[null,""]
[null,""]
[null,""]
[null,""]
[null,""]
[null,""]
[null,""]
[null,""]
[null,""]
[null,""]
[null,""]
[null,""]
[null,""]
[null,""]
[null,""]
[null,""]
[null,{"$f":"IF(C5347=0,\"\",C5347-C5346)","v":""}]
[null,""]
[null,""]
[null,""]
[null,""]
[null,""]
[null,""]
[null,""]
[null,""]
[null,""]
[null,""]
[null,""]
[null,""]
[null,""]
[null,""]
[null,""]
[null,""]
[null,""]
[null,""]
[null,""]
[null,""]
[null,""]
[null,""]
[null,""]
[null,""]
[null,""]
[null,""]
[null,""]
[null,""]
[null,""]
[null,""]
[null,""]
[null,""]
[null,""]
[null,""]
[null,""]
[null,""]
[null,""]
[null,""]
[null,""]
[null,""]
[null,""]
[null,""]
[null,""]
[null,""]
[null,""]
[null,""]
[null,""]
[null,""]
[null,""]
[null,""]
[null,""]
[null,""]
[null,""]
[null,""]
[null,""]
[null,""]
[null,""]
[null,""]
[null,""]
[null,""]
[null,""]
[null,""]
[null,""]
[null,{"$f":"IF(C5411=0,\"\",C5411-C5410)","v":""}]
[null,""]
[null,""]
[null,""]
[null,""]
[null,""]
[null,""]
[null,""]
[null,""]
[null,""]
[null,""]
[null,""]
[null,""]
[null,""]
[null,""]
[null,""]
[null,""]
[null,""]
[null,""]
[null,""]
[null,""]
[null,""]
[null,""]
[null,""]
[null,""]
[null,""]
[null,""]
[null,""]
[null,""]
[null,""]
[null,""]
[null,""]
[null,""]
[null,""]
[null,""]
[null,""]
[null,""]
[null,""]
[null,""]
[null,""]
[null,""]
[null,""]
[null,""]
[null,""]
[null,""]
[null,""]
[null,""]
[null,""]
[null,""]
[null,""]
[null,""]
[null,""]
[null,""]
[null,""]
[null,""]
[null,""]
[null,""]
[null,""]
[null,""]
[null,""]
[null,""]
[null,""]
[null,""]
[null,""]
[null,{"$f":"IF(C5475=0,\"\",C5475-C5474)","v":""}]
[null,""]
[null,""]
[null,""]
[null,""]
[null,""]
[null,""]
[null,""]
[null,""]
[null,""]
[null,""]
[null,""]
[null,""]
[null,""]
[null,""]
[null,""]
[null,""]
[null,""]
[null,""]
[null,""]
[null,""]
[null,""]
[null,""]
[null,""]
[null,""]
[null,""]
[null,""]
[null,""]
[null,""]
[null,""]
[null,""]
[null,""]
[null,""]
[null,""]
[null,""]
[null,""]
[null,""]
[null,""]
[null,""]
[null,""]
[null,""]
[null,""]
[null,""]
[null,""]
[null,""]
[null,""]
[null,""]
[null,""]
[null,""]
[null,""]
[null,""]
[null,""]
[null,""]
[null,""]
[null,""]
[null,""]
[null,""]
[null,""]
[null,""]
[null,""]
[null,""]
[null,""]
[null,""]
[null,""]
[null,{"$f":"IF(C5539=0,\"\",C5539-C5538)","v":""}]
[null,""]
[null,""]
[null,""]
[null,""]
[null,""]
[null,""]
[null,""]
[null,""]
[null,""]
[null,""]
[null,""]
[null,""]
[null,""]
[null,""]
[null,""]
[null,""]
[null,""]
[null,""]
[null,""]
[null,""]
[null,""]
[null,""]
[null,""]
[null,""]
[null,""]
[null,""]
[null,""]
[null,""]
[null,""]
[null,""]
[null,""]
[null,""]
[null,""]
[null,""]
[null,""]
[null,""]
[null,""]
[null,""]
[null,""]
[null,""]
[null,""]
[null,""]
[null,""]
[null,""]
[null,""]
[null,""]
[null,""]
[null,""]
[null,""]
[null,""]
[null,""]
[null,""]
[null,""]
[null,""]
[null,""]
[null,""]
[null,""]
[null,""]
[null,""]
[null,""]
[null,""]
[null,""]
[null,""]
[null,{"$f":"IF(C5603=0,\"\",C5603-C5602)","v":""}]
[null,""]
[null,""]
[null,""]
[null,""]
[null,""]
[null,""]
[null,""]
[null,""]
[null,""]
[null,""]
[null,""]
[null,""]
[null,""]
[null,""]
[null,""]
[null,""]
[null,""]
[null,""]
[null,""]
[null,""]
[null,""]
[null,""]
[null,""]
[null,""]
[null,""]
[null,""]
[null,""]
[null,""]
[null,""]
[null,""]
[null,""]
[null,""]
[null,""]
[null,""]
[null,""]
[null,""]
[null,""]
[null,""]
[null,""]
[null,""]
[null,""]
[null,""]
[null,""]
[null,""]
[null,""]
[null,""]
[null,""]
[null,""]
[null,""]
[null,""]
[null,""]
[null,""]
[null,""]
[null,""]
[null,""]
[null,""]
[null,""]
[null,""]
[null,""]
[null,""]
[null,""]
[null,""]
[null,""]
[null,{"$f":"IF(C5667=0,\"\",C5667-C5666)","v":""}]
[null,""]
[null,""]
[null,""]
[null,""]
[null,""]
[null,""]
[null,""]
[null,""]
[null,""]
[null,""]
[null,""]
[null,""]
[null,""]
[null,""]
[null,""]
[null,""]
[null,""]
[null,""]
[null,""]
[null,""]
[null,""]
[null,""]
[null,""]
[null,""]
[null,""]
[null,""]
[null,""]
[null,""]
[null,""]
[null,""]
[null,""]
[null,""]
[null,""]
[null,""]
[null,""]
[null,""]
[null,""]
[null,""]
[null,""]
[null,""]
[null,""]
[null,""]
[null,""]
[null,""]
[null,""]
[null,""]
[null,""]
[null,""]
[null,""]
[null,""]
[null,""]
[null,""]
[null,""]
[null,""]
[null,""]
[null,""]
[null,""]
[null,""]
[null,""]
[null,""]
[null,""]
[null,""]
[null,""]
[null,{"$f":"IF(C5731=0,\"\",C5731-C5730)","v":""}]
[null,""]
[null,""]
[null,""]
[null,""]
[null,""]
[null,""]
[null,""]
[null,""]
[null,""]
[null,""]
[null,""]
[null,""]
[null,""]
[null,""]
[null,""]
[null,""]
[null,""]
[null,""]
[null,""]
[null,""]
[null,""]
[null,""]
[null,""]
[null,""]
[null,""]
[null,""]
[null,""]
[null,""]
[null,""]
[null,""]
[null,""]
[null,""]
[null,""]
[null,""]
[null,""]
[null,""]
[null,""]
[null,""]
[null,""]
[null,""]
[null,""]
[null,""]
[null,""]
[null,""]
[null,""]
[null,""]
[null,""]
[null,""]
[null,""]
[null,""]
[null,""]
[null,""]
[null,""]
[null,""]
[null,""]
[null,""]
[null,""]
[null,""]
[null,""]
[null,""]
[null,""]
[null,""]
[null,""]
[null,{"$f":"IF(C5795=0,\"\",C5795-C5794)","v":""}]
[null,""]
[null,""]
[null,""]
[null,""]
[null,""]
[null,""]
[null,""]
[null,""]
[null,""]
[null,""]
[null,""]
[null,""]
[null,""]
[null,""]
[null,""]
[null,""]
[null,""]
[null,""]
[null,""]
[null,""]
[null,""]
[null,""]
[null,""]
[null,""]
[null,""]
[null,""]
[null,""]
[null,""]
[null,""]
[null,""]
[null,""]
[null,""]
[null,""]
[null,""]
[null,""]
[null,""]
[null,""]
[null,""]
[null,""]
[null,""]
[null,""]
[null,""]
[null,""]
[null,""]
[null,""]
[null,""]
[null,""]
[null,""]
[null,""]
[null,""]
[null,""]
[null,""]
[null,""]
[null,""]
[null,""]
[null,""]
[null,""]
[null,""]
[null,""]
[null,""]
[null,""]
[null,""]
[null,""]
[null,{"$f":"IF(C5859=0,\"\",C5859-C5858)","v":""}]
[null,""]
[null,""]
[null,""]
[null,""]
[null,""]
[null,""]
[null,""]
[null,""]
[null,""]
[null,""]
[null,""]
[null,""]
[null,""]
[null,""]
[null,""]
[null,""]
[null,""]
[null,""]
[null,""]
[null,""]
[null,""]
[null,""]
[null,""]
[null,""]
[null,""]
[null,""]
[null,""]
[null,""]
[null,""]
[null,""]
[null,""]
[null,""]
[null,""]
[null,""]
[null,""]
[null,""]
[null,""]
[null,""]
[null,""]
[null,""]
[null,""]
[null,""]
[null,""]
[null,""]
[null,""]
[null,""]
[null,""]
[null,""]
[null,""]
[null,""]
[null,""]
[null,""]
[null,""]
[null,""]
[null,""]
[null,""]
[null,""]
[null,""]
[null,""]
[null,""]
[null,""]
[null,""]
[null,""]
[null,{"$f":"IF(C5923=0,\"\",C5923-C5922)","v":""}]
[null,""]
[null,""]
[null,""]
[null,""]
[null,""]
[null,""]
[null,""]
[null,""]
[null,""]
[null,""]
[null,""]
[null,""]
[null,""]
[null,""]
[null,""]
[null,""]
[null,""]
[null,""]
[null,""]
[null,""]
[null,""]
[null,""]
[null,""]
[null,""]
[null,""]
[null,""]
[null,""]
[null,""]
[null,""]
[null,""]
[null,""]
[null,""]
[null,""]
[null,""]
[null,""]
[null,""]
[null,""]
[null,""]
[null,""]
[null,""]
[null,""]
[null,""]
[null,""]
[null,""]
[null,""]
[null,""]
[null,""]
[null,""]
[null,""]
[null,""]
[null,""]
[null,""]
[null,""]
[null,""]
[null,""]
[null,""]
[null,""]
[null,""]
[null,""]
[null,""]
[null,""]
[null,""]
[null,""]
[null,{"$f":"IF(C5987=0,\"\",C5987-C5986)","v":""}]
[null,""]
[null,""]
[null,""]
[null,""]
[null,""]
[null,""]
[null,""]
[null,""]
[null,""]
[null,""]
[null,""]
[null,""]
[null,""]
[null,""]
[null,""]
[null,""]
[null,""]
[null,""]
[null,""]
[null,""]
[null,""]
[null,""]
[null,""]
[null,""]
[null,""]
[null,""]
[null,""]
[null,""]
[null,""]
[null,""]
[null,""]
[null,""]
[null,""]
[null,""]
[null,""]
[null,""]
[null,""]
[null,""]
[null,""]
[null,""]
[null,""]
[null,""]
[null,""]
[null,""]
[null,""]
[null,""]
[null,""]
[null,""]
[null,""]
[null,""]
[null,""]
[null,""]
[null,""]
[null,""]
[null,""]
[null,""]
[null,""]
[null,""]
[null,""]
[null,""]
[null,""]
[null,""]
[null,""]
[null,{"$f":"IF(C6051=0,\"\",C6051-C6050)","v":""}]
[null,""]
[null,""]
[null,""]
[null,""]
[null,""]
[null,""]
[null,""]
[null,""]
[null,""]
[null,""]
[null,""]
[null,""]
[null,""]
[null,""]
[null,""]
[null,""]
[null,""]
[null,""]
[null,""]
[null,""]
[null,""]
[null,""]
[null,""]
[null,""]
[null,""]
[null,""]
[null,""]
[null,""]
[null,""]
[null,""]
[null,""]
[null,""]
[null,""]
[null,""]
[null,""]
[null,""]
[null,""]
[null,""]
[null,""]
[null,""]
[null,""]
[null,""]
[null,""]
[null,""]
[null,""]
[null,""]
[null,""]
[null,""]
[null,""]
[null,""]
[null,""]
[null,""]
[null,""]
[null,""]
[null,""]
[null,""]
[null,""]
[null,""]
[null,""]
[null,""]
[null,""]
[null,""]
[null,""]
[null,{"$f":"IF(C6115=0,\"\",C6115-C6114)","v":""}]
[null,""]
[null,""]
[null,""]
[null,""]
[null,""]
[null,""]
[null,""]
[null,""]
[null,""]
[null,""]
[null,""]
[null,""]
[null,""]
[null,""]
[null,""]
[null,""]
[null,""]
[null,""]
[null,""]
[null,""]
[null,""]
[null,""]
[null,""]
[null,""]
[null,""]
[null,""]
[null,""]
[null,""]
[null,""]
[null,""]
[null,""]
[null,""]
[null,""]
[null,""]
[null,""]
[null,""]
[null,""]
[null,""]
[null,""]
[null,""]
[null,""]
[null,""]
[null,""]
[null,""]
[null,""]
[null,""]
[null,""]
[null,""]
[null,""]
[null,""]
[null,""]
[null,""]
[null,""]
[null,""]
[null,""]
[null,""]
[null,""]
[null,""]
[null,""]
[null,""]
[null,""]
[null,""]
[null,""]
[null,{"$f":"IF(C6179=0,\"\",C6179-C6178)","v":""}]
[null,""]
[null,""]
[null,""]
[null,""]
[null,""]
[null,""]
[null,""]
[null,""]
[null,""]
[null,""]
[null,""]
[null,""]
[null,""]
[null,""]
[null,""]
[null,""]
[null,""]
[null,""]
[null,""]
[null,""]
[null,""]
[null,""]
[null,""]
[null,""]
[null,""]
[null,""]
[null,""]
[null,""]
[null,""]
[null,""]
[null,""]
[null,""]
[null,""]
[null,""]
[null,""]
[null,""]
[null,""]
[null,""]
[null,""]
[null,""]
[null,""]
[null,""]
[null,""]
[null,""]
[null,""]
[null,""]
[null,""]
[null,""]
[null,""]
[null,""]
[null,""]
[null,""]
[null,""]
[null,""]
[null,""]
[null,""]
[null,""]
[null,""]
[null,""]
[null,""]
[null,""]
[null,""]
[null,""]
[null,{"$f":"IF(C6243=0,\"\",C6243-C6242)","v":""}]
[null,""]
[null,""]
[null,""]
[null,""]
[null,""]
[null,""]
[null,""]
[null,""]
[null,""]
[null,""]
[null,""]
[null,""]
[null,""]
[null,""]
[null,""]
[null,""]
[null,""]
[null,""]
[null,""]
[null,""]
[null,""]
[null,""]
[null,""]
[null,""]
[null,""]
[null,""]
[null,""]
[null,""]
[null,""]
[null,""]
[null,""]
[null,""]
[null,""]
[null,""]
[null,""]
[null,""]
[null,""]
[null,""]
[null,""]
[null,""]
[null,""]
[null,""]
[null,""]
[null,""]
[null,""]
[null,""]
[null,""]
[null,""]
[null,""]
[null,""]
[null,""]
[null,""]
[null,""]
[null,""]
[null,""]
[null,""]
[null,""]
[null,""]
[null,""]
[null,""]
[null,""]
[null,""]
[null,""]
[null,{"$f":"IF(C6307=0,\"\",C6307-C6306)","v":""}]
[null,""]
[null,""]
[null,""]
[null,""]
[null,""]
[null,""]
[null,""]
[null,""]
[null,""]
[null,""]
[null,""]
[null,""]
[null,""]
[null,""]
[null,""]
[null,""]
[null,""]
[null,""]
[null,""]
[null,""]
[null,""]
[null,""]
[null,""]
[null,""]
[null,""]
[null,""]
[null,""]
[null,""]
[null,""]
[null,""]
[null,""]
[null,""]
[null,""]
[null,""]
[null,""]
[null,""]
[null,""]
[null,""]
[null,""]
[null,""]
[null,""]
[null,""]
[null,""]
[null,""]
[null,""]
[null,""]
[null,""]
[null,""]
[null,""]
[null,""]
[null,""]
[null,""]
[null,""]
[null,""]
[null,""]
[null,""]
[null,""]
[null,""]
[null,""]
[null,""]
[null,""]
[null,""]
[null,""]
[null,{"$f":"IF(C6371=0,\"\",C6371-C6370)","v":""}]
[null,""]
[null,""]
[null,""]
[null,""]
[null,""]
[null,""]
[null,""]
[null,""]
[null,""]
[null,""]
[null,""]
[null,""]
[null,""]
[null,""]
[null,""]
[null,""]
[null,""]
[null,""]
[null,""]
[null,""]
[null,""]
[null,""]
[null,""]
[null,""]
[null,""]
[null,""]
[null,""]
[null,""]
[null,""]
[null,""]
[null,""]
[null,""]
[null,""]
[null,""]
[null,""]
[null,""]
[null,""]
[null,""]
[null,""]
[null,""]
[null,""]
[null,""]
[null,""]
[null,""]
[null,""]
[null,""]
[null,""]
[null,""]
[null,""]
[null,""]
[null,""]
[null,""]
[null,""]
[null,""]
[null,""]
[null,""]
[null,""]
[null,""]
[null,""]
[null,""]
[null,""]
[null,""]
[null,""]
[null,{"$f":"IF(C6435=0,\"\",C6435-C6434)","v":""}]
[null,""]
[null,""]
[null,""]
[null,""]
[null,""]
[null,""]
[null,""]
[null,""]
[null,""]
[null,""]
[null,""]
[null,""]
[null,""]
[null,""]
[null,""]
[null,""]
[null,""]
[null,""]
[null,""]
[null,""]
[null,""]
[null,""]
[null,""]
[null,""]
[null,""]
[null,""]
[null,""]
[null,""]
[null,""]
[null,""]
[null,""]
[null,""]
[null,""]
[null,""]
[null,""]
[null,""]
[null,""]
[null,""]
[null,""]
[null,""]
[null,""]
[null,""]
[null,""]
[null,""]
[null,""]
[null,""]
[null,""]
[null,""]
[null,""]
[null,""]
[null,""]
[null,""]
[null,""]
[null,""]
[null,""]
[null,""]
[null,""]
[null,""]
[null,""]
[null,""]
[null,""]
[null,""]
[null,""]
[null,{"$f":"IF(C6499=0,\"\",C6499-C6498)","v":""}]
[null,""]
[null,""]
[null,""]
[null,""]
[null,""]
[null,""]
[null,""]
[null,""]
[null,""]
[null,""]
[null,""]
[null,""]
[null,""]
[null,""]
[null,""]
[null,""]
[null,""]
[null,""]
[null,""]
[null,""]
[null,""]
[null,""]
[null,""]
[null,""]
[null,""]
[null,""]
[null,""]
[null,""]
[null,""]
[null,""]
[null,""]
[null,""]
[null,""]
[null,""]
[null,""]
[null,""]
[null,""]
[null,""]
[null,""]
[null,""]
[null,""]
[null,""]
[null,""]
[null,""]
[null,""]
[null,""]
[null,""]
[null,""]
[null,""]
[null,""]
[null,""]
[null,""]
[null,""]
[null,""]
[null,""]
[null,""]
[null,""]
[null,""]
[null,""]
[null,""]
[null,""]
[null,""]
[null,""]
[null,{"$f":"IF(C6563=0,\"\",C6563-C6562)","v":""}]
[null,""]
[null,""]
[null,""]
[null,""]
[null,""]
[null,""]
[null,""]
[null,""]
[null,""]
[null,""]
[null,""]
[null,""]
[null,""]
[null,""]
[null,""]
[null,""]
[null,""]
[null,""]
[null,""]
[null,""]
[null,""]
[null,""]
[null,""]
[null,""]
[null,""]
[null,""]
[null,""]
[null,""]
[null,""]
[null,""]
[null,""]
[null,""]
[null,""]
[null,""]
[null,""]
[null,""]
[null,""]
[null,""]
[null,""]
[null,""]
[null,""]
[null,""]
[null,""]
[null,""]
[null,""]
[null,""]
[null,""]
[null,""]
[null,""]
[null,""]
[null,""]
[null,""]
[null,""]
[null,""]
[null,""]
[null,""]
[null,""]
[null,""]
[null,""]
[null,""]
[null,""]
[null,""]
[null,""]
[null,{"$f":"IF(C6627=0,\"\",C6627-C6626)","v":""}]
[null,""]
[null,""]
[null,""]
[null,""]
[null,""]
[null,""]
[null,""]
[null,""]
[null,""]
[null,""]
[null,""]
[null,""]
[null,""]
[null,""]
[null,""]
[null,""]
[null,""]
[null,""]
[null,""]
[null,""]
[null,""]
[null,""]
[null,""]
[null,""]
[null,""]
[null,""]
[null,""]
[null,""]
[null,""]
[null,""]
[null,""]
[null,""]
[null,""]
[null,""]
[null,""]
[null,""]
[null,""]
[null,""]
[null,""]
[null,""]
[null,""]
[null,""]
[null,""]
[null,""]
[null,""]
[null,""]
[null,""]
[null,""]
[null,""]
[null,""]
[null,""]
[null,""]
[null,""]
[null,""]
[null,""]
[null,""]
[null,""]
[null,""]
[null,""]
[null,""]
[null,""]
[null,""]
[null,""]
[null,{"$f":"IF(C6691=0,\"\",C6691-C6690)","v":""}]
[null,""]
[null,""]
[null,""]
[null,""]
[null,""]
[null,""]
[null,""]
[null,""]
[null,""]
[null,""]
[null,""]
[null,""]
[null,""]
[null,""]
[null,""]
[null,""]
[null,""]
[null,""]
[null,""]
[null,""]
[null,""]
[null,""]
[null,""]
[null,""]
[null,""]
[null,""]
[null,""]
[null,""]
[null,""]
[null,""]
[null,""]
[null,""]
[null,""]
[null,""]
[null,""]
[null,""]
[null,""]
[null,""]
[null,""]
[null,""]
[null,""]
[null,""]
[null,""]
[null,""]
[null,""]
[null,""]
[null,""]
[null,""]
[null,""]
[null,""]
[null,""]
[null,""]
[null,""]
[null,""]
[null,""]
[null,""]
[null,""]
[null,""]
[null,""]
[null,""]
[null,""]
[null,""]
[null,""]
[null,{"$f":"IF(C6755=0,\"\",C6755-C6754)","v":""}]
[null,""]
[null,""]
[null,""]
[null,""]
[null,""]
[null,""]
[null,""]
[null,""]
[null,""]
[null,""]
[null,""]
[null,""]
[null,""]
[null,""]
[null,""]
[null,""]
[null,""]
[null,""]
[null,""]
[null,""]
[null,""]
[null,""]
[null,""]
[null,""]
[null,""]
[null,""]
[null,""]
[null,""]
[null,""]
[null,""]
[null,""]
[null,""]
[null,""]
[null,""]
[null,""]
[null,""]
[null,""]
[null,""]
[null,""]
[null,""]
[null,""]
[null,""]
[null,""]
[null,""]
[null,""]
[null,""]
[null,""]
[null,""]
[null,""]
[null,""]
[null,""]
[null,""]
[null,""]
[null,""]
[null,""]
[null,""]
[null,""]
[null,""]
[null,""]
[null,""]
[null,""]
[null,""]
[null,""]
[null,{"$f":"IF(C6819=0,\"\",C6819-C6818)","v":""}]
[null,""]
[null,""]
[null,""]
[null,""]
[null,""]
[null,""]
[null,""]
[null,""]
[null,""]
[null,""]
[null,""]
[null,""]
[null,""]
[null,""]
[null,""]
[null,""]
[null,""]
[null,""]
[null,""]
[null,""]
[null,""]
[null,""]
[null,""]
[null,""]
[null,""]
[null,""]
[null,""]
[null,""]
[null,""]
[null,""]
[null,""]
[null,""]
[null,""]
[null,""]
[null,""]
[null,""]
[null,""]
[null,""]
[null,""]
[null,""]
[null,""]
[null,""]
[null,""]
[null,""]
[null,""]
[null,""]
[null,""]
[null,""]
[null,""]
[null,""]
[null,""]
[null,""]
[null,""]
[null,""]
[null,""]
[null,""]
[null,""]
[null,""]
[null,""]
[null,""]
[null,""]
[null,""]
[null,""]
[null,{"$f":"IF(C6883=0,\"\",C6883-C6882)","v":""}]
[null,""]
[null,""]
[null,""]
[null,""]
[null,""]
[null,""]
[null,""]
[null,""]
[null,""]
[null,""]
[null,""]
[null,""]
[null,""]
[null,""]
[null,""]
[null,""]
[null,""]
[null,""]
[null,""]
[null,""]
[null,""]
[null,""]
[null,""]
[null,""]
[null,""]
[null,""]
[null,""]
[null,""]
[null,""]
[null,""]
[null,""]
[null,""]
[null,""]
[null,""]
[null,""]
[null,""]
[null,""]
[null,""]
[null,""]
[null,""]
[null,""]
[null,""]
[null,""]
[null,""]
[null,""]
[null,""]
[null,""]
[null,""]
[null,""]
[null,""]
[null,""]
[null,""]
[null,""]
[null,""]
[null,""]
[null,""]
[null,""]
[null,""]
[null,""]
[null,""]
[null,""]
[null,""]
[null,""]
[null,{"$f":"IF(C6947=0,\"\",C6947-C6946)","v":""}]
[null,""]
[null,""]
[null,""]
[null,""]
[null,""]
[null,""]
[null,""]
[null,""]
[null,""]
[null,""]
[null,""]
[null,""]
[null,""]
[null,""]
[null,""]
[null,""]
[null,""]
[null,""]
[null,""]
[null,""]
[null,""]
[null,""]
[null,""]
[null,""]
[null,""]
[null,""]
[null,""]
[null,""]
[null,""]
[null,""]
[null,""]
[null,""]
[null,""]
[null,""]
[null,""]
[null,""]
[null,""]
[null,""]
[null,""]
[null,""]
[null,""]
[null,""]
[null,""]
[null,""]
[null,""]
[null,""]
[null,""]
[null,""]
[null,""]
[null,""]
[null,""]
[null,""]
[null,""]
[null,""]
[null,""]
[null,""]
[null,""]
[null,""]
[null,""]
[null,""]
[null,""]
[null,""]
[null,""]
[null,{"$f":"IF(C7011=0,\"\",C7011-C7010)","v":""}]
[null,""]
[null,""]
[null,""]
[null,""]
[null,""]
[null,""]
[null,""]
[null,""]
[null,""]
[null,""]
[null,""]
[null,""]
[null,""]
[null,""]
[null,""]
[null,""]
[null,""]
[null,""]
[null,""]
[null,""]
[null,""]
[null,""]
[null,""]
[null,""]
[null,""]
[null,""]
[null,""]
[null,""]
[null,""]
[null,""]
[null,""]
[null,""]
[null,""]
[null,""]
[null,""]
[null,""]
[null,""]
[null,""]
[null,""]
[null,""]
[null,""]
[null,""]
[null,""]
[null,""]
[null,""]
[null,""]
[null,""]
[null,""]
[null,""]
[null,""]
[null,""]
[null,""]
[null,""]
[null,""]
[null,""]
[null,""]
[null,""]
[null,""]
[null,""]
[null,""]
[null,""]
[null,""]
[null,""]
[null,{"$f":"IF(C7075=0,\"\",C7075-C7074)","v":""}]
[null,""]
[null,""]
[null,""]
[null,""]
[null,""]
[null,""]
[null,""]
[null,""]
[null,""]
[null,""]
[null,""]
[null,""]
[null,""]
[null,""]
[null,""]
[null,""]
[null,""]
[null,""]
[null,""]
[null,""]
[null,""]
[null,""]
[null,""]
[null,""]
[null,""]
[null,""]
[null,""]
[null,""]
[null,""]
[null,""]
[null,""]
[null,""]
[null,""]
[null,""]
[null,""]
[null,""]
[null,""]
[null,""]
[null,""]
[null,""]
[null,""]
[null,""]
[null,""]
[null,""]
[null,""]
[null,""]
[null,""]
[null,""]
[null,""]
[null,""]
[null,""]
[null,""]
[null,""]
[null,""]
[null,""]
[null,""]
[null,""]
[null,""]
[null,""]
[null,""]
[null,""]
[null,""]
[null,""]
[null,{"$f":"IF(C7139=0,\"\",C7139-C7138)","v":""}]
[null,""]
[null,""]
[null,""]
[null,""]
[null,""]
[null,""]
[null,""]
[null,""]
[null,""]
[null,""]
[null,""]
[null,""]
[null,""]
[null,""]
[null,""]
[null,""]
[null,""]
[null,""]
[null,""]
[null,""]
[null,""]
[null,""]
[null,""]
[null,""]
[null,""]
[null,""]
[null,""]
[null,""]
[null,""]
[null,""]
[null,""]
[null,""]
[null,""]
[null,""]
[null,""]
[null,""]
[null,""]
[null,""]
[null,""]
[null,""]
[null,""]
[null,""]
[null,""]
[null,""]
[null,""]
[null,""]
[null,""]
[null,""]
[null,""]
[null,""]
[null,""]
[null,""]
[null,""]
[null,""]
[null,""]
[null,""]
[null,""]
[null,""]
[null,""]
[null,""]
[null,""]
[null,""]
[null,""]
[null,{"$f":"IF(C7203=0,\"\",C7203-C7202)","v":""}]
[null,""]
[null,""]
[null,""]
[null,""]
[null,""]
[null,""]
[null,""]
[null,""]
[null,""]
[null,""]
[null,""]
[null,""]
[null,""]
[null,""]
[null,""]
[null,""]
[null,""]
[null,""]
[null,""]
[null,""]
[null,""]
[null,""]
[null,""]
[null,""]
[null,""]
[null,""]
[null,""]
[null,""]
[null,""]
[null,""]
[null,""]
[null,""]
[null,""]
[null,""]
[null,""]
[null,""]
[null,""]
[null,""]
[null,""]
[null,""]
[null,""]
[null,""]
[null,""]
[null,""]
[null,""]
[null,""]
[null,""]
[null,""]
[null,""]
[null,""]
[null,""]
[null,""]
[null,""]
[null,""]
[null,""]
[null,""]
[null,""]
[null,""]
[null,""]
[null,""]
[null,""]
[null,""]
[null,""]
[null,{"$f":"IF(C7267=0,\"\",C7267-C7266)","v":""}]
[null,""]
[null,""]
[null,""]
[null,""]
[null,""]
[null,""]
[null,""]
[null,""]
[null,""]
[null,""]
[null,""]
[null,""]
[null,""]
[null,""]
[null,""]
[null,""]
[null,""]
[null,""]
[null,""]
[null,""]
[null,""]
[null,""]
[null,""]
[null,""]
[null,""]
[null,""]
[null,""]
[null,""]
[null,""]
[null,""]
[null,""]
[null,""]
[null,""]
[null,""]
[null,""]
[null,""]
[null,""]
[null,""]
[null,""]
[null,""]
[null,""]
[null,""]
[null,""]
[null,""]
[null,""]
[null,""]
[null,""]
[null,""]
[null,""]
[null,""]
[null,""]
[null,""]
[null,""]
[null,""]
[null,""]
[null,""]
[null,""]
[null,""]
[null,""]
[null,""]
[null,""]
[null,""]
[null,""]
[null,{"$f":"IF(C7331=0,\"\",C7331-C7330)","v":""}]
[null,""]
[null,""]
[null,""]
[null,""]
[null,""]
[null,""]
[null,""]
[null,""]
[null,""]
[null,""]
[null,""]
[null,""]
[null,""]
[null,""]
[null,""]
[null,""]
[null,""]
[null,""]
[null,""]
[null,""]
[null,""]
[null,""]
[null,""]
[null,""]
[null,""]
[null,""]
[null,""]
[null,""]
[null,""]
[null,""]
[null,""]
[null,""]
[null,""]
[null,""]
[null,""]
[null,""]
[null,""]
[null,""]
[null,""]
[null,""]
[null,""]
[null,""]
[null,""]
[null,""]
[null,""]
[null,""]
[null,""]
[null,""]
[null,""]
[null,""]
[null,""]
[null,""]
[null,""]
[null,""]
[null,""]
[null,""]
[null,""]
[null,""]
[null,""]
[null,""]
[null,""]
[null,""]
[null,""]
[null,{"$f":"IF(C7395=0,\"\",C7395-C7394)","v":""}]
[null,""]
[null,""]
[null,""]
[null,""]
[null,""]
[null,""]
[null,""]
[null,""]
[null,""]
[null,""]
[null,""]
[null,""]
[null,""]
[null,""]
[null,""]
[null,""]
[null,""]
[null,""]
[null,""]
[null,""]
[null,""]
[null,""]
[null,""]
[null,""]
[null,""]
[null,""]
[null,""]
[null,""]
[null,""]
[null,""]
[null,""]
[null,""]
[null,""]
[null,""]
[null,""]
[null,""]
[null,""]
[null,""]
[null,""]
[null,""]
[null,""]
[null,""]
[null,""]
[null,""]
[null,""]
[null,""]
[null,""]
[null,""]
[null,""]
[null,""]
[null,""]
[null,""]
[null,""]
[null,""]
[null,""]
[null,""]
[null,""]
[null,""]
[null,""]
[null,""]
[null,""]
[null,""]
[null,""]
[null,{"$f":"IF(C7459=0,\"\",C7459-C7458)","v":""}]
[null,""]
[null,""]
[null,""]
[null,""]
[null,""]
[null,""]
[null,""]
[null,""]
[null,""]
[null,""]
[null,""]
[null,""]
[null,""]
[null,""]
[null,""]
[null,""]
[null,""]
[null,""]
[null,""]
[null,""]
[null,""]
[null,""]
[null,""]
[null,""]
[null,""]
[null,""]
[null,""]
[null,""]
[null,""]
[null,""]
[null,""]
[null,""]
[null,""]
[null,""]
[null,""]
[null,""]
[null,""]
[null,""]
[null,""]
[null,""]
[null,""]
[null,""]
[null,""]
[null,""]
[null,""]
[null,""]
[null,""]
[null,""]
[null,""]
[null,""]
[null,""]
[null,""]
[null,""]
[null,""]
[null,""]
[null,""]
[null,""]
[null,""]
[null,""]
[null,""]
[null,""]
[null,""]
[null,""]
[null,{"$f":"IF(C7523=0,\"\",C7523-C7522)","v":""}]
[null,""]
[null,""]
[null,""]
[null,""]
[null,""]
[null,""]
[null,""]
[null,""]
[null,""]
[null,""]
[null,""]
[null,""]
[null,""]
[null,""]
[null,""]
[null,""]
[null,""]
[null,""]
[null,""]
[null,""]
[null,""]
[null,""]
[null,""]
[null,""]
[null,""]
[null,""]
[null,""]
[null,""]
[null,""]
[null,""]
[null,""]
[null,""]
[null,""]
[null,""]
[null,""]
[null,""]
[null,""]
[null,""]
[null,""]
[null,""]
[null,""]
[null,""]
[null,""]
[null,""]
[null,""]
[null,""]
[null,""]
[null,""]
[null,""]
[null,""]
[null,""]
[null,""]
[null,""]
[null,""]
[null,""]
[null,""]
[null,""]
[null,""]
[null,""]
[null,""]
[null,""]
[null,""]
[null,""]
[null,{"$f":"IF(C7587=0,\"\",C7587-C7586)","v":""}]
[null,""]
[null,""]
[null,""]
[null,""]
[null,""]
[null,""]
[null,""]
[null,""]
[null,""]
[null,""]
[null,""]
[null,""]
[null,""]
[null,""]
[null,""]
[null,""]
[null,""]
[null,""]
[null,""]
[null,""]
[null,""]
[null,""]
[null,""]
[null,""]
[null,""]
[null,""]
[null,""]
[null,""]
[null,""]
[null,""]
[null,""]
[null,""]
[null,""]
[null,""]
[null,""]
[null,""]
[null,""]
[null,""]
[null,""]
[null,""]
[null,""]
[null,""]
[null,""]
[null,""]
[null,""]
[null,""]
[null,""]
[null,""]
[null,""]
[null,""]
[null,""]
[null,""]
[null,""]
[null,""]
[null,""]
[null,""]
[null,""]
[null,""]
[null,""]
[null,""]
[null,""]
[null,""]
[null,""]
[null,{"$f":"IF(C7651=0,\"\",C7651-C7650)","v":""}]
[null,""]
[null,""]
[null,""]
[null,""]
[null,""]
[null,""]
[null,""]
[null,""]
[null,""]
[null,""]
[null,""]
[null,""]
[null,""]
[null,""]
[null,""]
[null,""]
[null,""]
[null,""]
[null,""]
[null,""]
[null,""]
[null,""]
[null,""]
[null,""]
[null,""]
[null,""]
[null,""]
[null,""]
[null,""]
[null,""]
[null,""]
[null,""]
[null,""]
[null,""]
[null,""]
[null,""]
[null,""]
[null,""]
[null,""]
[null,""]
[null,""]
[null,""]
[null,""]
[null,""]
[null,""]
[null,""]
[null,""]
[null,""]
[null,""]
[null,""]
[null,""]
[null,""]
[null,""]
[null,""]
[null,""]
[null,""]
[null,""]
[null,""]
[null,""]
[null,""]
[null,""]
[null,""]
[null,""]
[null,{"$f":"IF(C7715=0,\"\",C7715-C7714)","v":""}]
[null,""]
[null,""]
[null,""]
[null,""]
[null,""]
[null,""]
[null,""]
[null,""]
[null,""]
[null,""]
[null,""]
[null,""]
[null,""]
[null,""]
[null,""]
[null,""]
[null,""]
[null,""]
[null,""]
[null,""]
[null,""]
[null,""]
[null,""]
[null,""]
[null,""]
[null,""]
[null,""]
[null,""]
[null,""]
[null,""]
[null,""]
[null,""]
[null,""]
[null,""]
[null,""]
[null,""]
[null,""]
[null,""]
[null,""]
[null,""]
[null,""]
[null,""]
[null,""]
[null,""]
[null,""]
[null,""]
[null,""]
[null,""]
[null,""]
[null,""]
[null,""]
[null,""]
[null,""]
[null,""]
[null,""]
[null,""]
[null,""]
[null,""]
[null,""]
[null,""]
[null,""]
[null,""]
[null,""]
[null,{"$f":"IF(C7779=0,\"\",C7779-C7778)","v":""}]
[null,""]
[null,""]
[null,""]
[null,""]
[null,""]
[null,""]
[null,""]
[null,""]
[null,""]
[null,""]
[null,""]
[null,""]
[null,""]
[null,""]
[null,""]
[null,""]
[null,""]
[null,""]
[null,""]
[null,""]
[null,""]
[null,""]
[null,""]
[null,""]
[null,""]
[null,""]
[null,""]
[null,""]
[null,""]
[null,""]
[null,""]
[null,""]
[null,""]
[null,""]
[null,""]
[null,""]
[null,""]
[null,""]
[null,""]
[null,""]
[null,""]
[null,""]
[null,""]
[null,""]
[null,""]
[null,""]
[null,""]
[null,""]
[null,""]
[null,""]
[null,""]
[null,""]
[null,""]
[null,""]
[null,""]
[null,""]
[null,""]
[null,""]
[null,""]
[null,""]
[null,""]
[null,""]
[null,""]
[null,{"$f":"IF(C7843=0,\"\",C7843-C7842)","v":""}]
[null,""]
[null,""]
[null,""]
[null,""]
[null,""]
[null,""]
[null,""]
[null,""]
[null,""]
[null,""]
[null,""]
[null,""]
[null,""]
[null,""]
[null,""]
[null,""]
[null,""]
[null,""]
[null,""]
[null,""]
[null,""]
[null,""]
[null,""]
[null,""]
[null,""]
[null,""]
[null,""]
[null,""]
[null,""]
[null,""]
[null,""]
[null,""]
[null,""]
[null,""]
[null,""]
[null,""]
[null,""]
[null,""]
[null,""]
[null,""]
[null,""]
[null,""]
[null,""]
[null,""]
[null,""]
[null,""]
[null,""]
[null,""]
[null,""]
[null,""]
[null,""]
[null,""]
[null,""]
[null,""]
[null,""]
[null,""]
[null,""]
[null,""]
[null,""]
[null,""]
[null,""]
[null,""]
[null,""]
[null,{"$f":"IF(C7907=0,\"\",C7907-C7906)","v":""}]
[null,""]
[null,""]
[null,""]
[null,""]
[null,""]
[null,""]
[null,""]
[null,""]
[null,""]
[null,""]
[null,""]
[null,""]
[null,""]
[null,""]
[null,""]
[null,""]
[null,""]
[null,""]
[null,""]
[null,""]
[null,""]
[null,""]
[null,""]
[null,""]
[null,""]
[null,""]
[null,""]
[null,""]
[null,""]
[null,""]
[null,""]
[null,""]
[null,""]
[null,""]
[null,""]
[null,""]
[null,""]
[null,""]
[null,""]
[null,""]
[null,""]
[null,""]
[null,""]
[null,""]
[null,""]
[null,""]
[null,""]
[null,""]
[null,""]
[null,""]
[null,""]
[null,""]
[null,""]
[null,""]
[null,""]
[null,""]
[null,""]
[null,""]
[null,""]
[null,""]
[null,""]
[null,""]
[null,""]
[null,{"$f":"IF(C7971=0,\"\",C7971-C7970)","v":""}]
[null,""]
[null,""]
[null,""]
[null,""]
[null,""]
[null,""]
[null,""]
[null,""]
[null,""]
[null,""]
[null,""]
[null,""]
[null,""]
[null,""]
[null,""]
[null,""]
[null,""]
[null,""]
[null,""]
[null,""]
[null,""]
[null,""]
[null,""]
[null,""]
[null,""]
[null,""]
[null,""]
[null,""]
[null,""]
[null,""]
[null,""]
[null,""]
[null,""]
[null,""]
[null,""]
[null,""]
[null,""]
[null,""]
[null,""]
[null,""]
[null,""]
[null,""]
[null,""]
[null,""]
[null,""]
[null,""]
[null,""]
[null,""]
[null,""]
[null,""]
[null,""]
[null,""]
[null,""]
[null,""]
[null,""]
[null,""]
[null,""]
[null,""]
[null,""]
[null,""]
[null,""]
[null,""]
[null,""]
[null,{"$f":"IF(C8035=0,\"\",C8035-C8034)","v":""}]
[null,""]
[null,""]
[null,""]
[null,""]
[null,""]
[null,""]
[null,""]
[null,""]
[null,""]
[null,""]
[null,""]
[null,""]
[null,""]
[null,""]
[null,""]
[null,""]
[null,""]
[null,""]
[null,""]
[null,""]
[null,""]
[null,""]
[null,""]
[null,""]
[null,""]
[null,""]
[null,""]
[null,""]
[null,""]
[null,""]
[null,""]
[null,""]
[null,""]
[null,""]
[null,""]
[null,""]
[null,""]
[null,""]
[null,""]
[null,""]
[null,""]
[null,""]
[null,""]
[null,""]
[null,""]
[null,""]
[null,""]
[null,""]
[null,""]
[null,""]
[null,""]
[null,""]
[null,""]
[null,""]
[null,""]
[null,""]
[null,""]
[null,""]
[null,""]
[null,""]
[null,""]
[null,""]
[null,""]
[null,{"$f":"IF(C8099=0,\"\",C8099-C8098)","v":""}]
[null,""]
[null,""]
[null,""]
[null,""]
[null,""]
[null,""]
[null,""]
[null,""]
[null,""]
[null,""]
[null,""]
[null,""]
[null,""]
[null,""]
[null,""]
[null,""]
[null,""]
[null,""]
[null,""]
[null,""]
[null,""]
[null,""]
[null,""]
[null,""]
[null,""]
[null,""]
[null,""]
[null,""]
[null,""]
[null,""]
[null,""]
[null,""]
[null,""]
[null,""]
[null,""]
[null,""]
[null,""]
[null,""]
[null,""]
[null,""]
[null,""]
[null,""]
[null,""]
[null,""]
[null,""]
[null,""]
[null,""]
[null,""]
[null,""]
[null,""]
[null,""]
[null,""]
[null,""]
[null,""]
[null,""]
[null,""]
[null,""]
[null,""]
[null,""]
[null,""]
[null,""]
[null,""]
[null,""]
[null,{"$f":"IF(C8163=0,\"\",C8163-C8162)","v":""}]
[null,""]
[null,""]
[null,""]
[null,""]
[null,""]
[null,""]
[null,""]
[null,""]
[null,""]
[null,""]
[null,""]
[null,""]
[null,""]
[null,""]
[null,""]
[null,""]
[null,""]
[null,""]
[null,""]
[null,""]
[null,""]
[null,""]
[null,""]
[null,""]
[null,""]
[null,""]
[null,""]
[null,""]
[null,""]
[null,""]
[null,""]
[null,""]
[null,""]
[null,""]
[null,""]
[null,""]
[null,""]
[null,""]
[null,""]
[null,""]
[null,""]
[null,""]
[null,""]
[null,""]
[null,""]
[null,""]
[null,""]
[null,""]
[null,""]
[null,""]
[null,""]
[null,""]
[null,""]
[null,""]
[null,""]
[null,""]
[null,""]
[null,""]
[null,""]
[null,""]
[null,""]
[null,""]
[null,""]
[null,{"$f":"IF(C8227=0,\"\",C8227-C8226)","v":""}]
[null,""]
[null,""]
[null,""]
[null,""]
[null,""]
[null,""]
[null,""]
[null,""]
[null,""]
[null,""]
[null,""]
[null,""]
[null,""]
[null,""]
[null,""]
[null,""]
[null,""]
[null,""]
[null,""]
[null,""]
[null,""]
[null,""]
[null,""]
[null,""]
[null,""]
[null,""]
[null,""]
[null,""]
[null,""]
[null,""]
[null,""]
[null,""]
[null,""]
[null,""]
[null,""]
[null,""]
[null,""]
[null,""]
[null,""]
[null,""]
[null,""]
[null,""]
[null,""]
[null,""]
[null,""]
[null,""]
[null,""]
[null,""]
[null,""]
[null,""]
[null,""]
[null,""]
[null,""]
[null,""]
[null,""]
[null,""]
[null,""]
[null,""]
[null,""]
[null,""]
[null,""]
[null,""]
[null,""]
[null,{"$f":"IF(C8291=0,\"\",C8291-C8290)","v":""}]
[null,""]
[null,""]
[null,""]
[null,""]
[null,""]
[null,""]
[null,""]
[null,""]
[null,""]
[null,""]
[null,""]
[null,""]
[null,""]
[null,""]
[null,""]
[null,""]
[null,""]
[null,""]
[null,""]
[null,""]
[null,""]
[null,""]
[null,""]
[null,""]
[null,""]
[null,""]
[null,""]
[null,""]
[null,""]
[null,""]
[null,""]
[null,""]
[null,""]
[null,""]
[null,""]
[null,""]
[null,""]
[null,""]
[null,""]
[null,""]
[null,""]
[null,""]
[null,""]
[null,""]
[null,""]
[null,""]
[null,""]
[null,""]
[null,""]
[null,""]
[null,""]
[null,""]
[null,""]
[null,""]
[null,""]
[null,""]
[null,""]
[null,""]
[null,""]
[null,""]
[null,""]
[null,""]
[null,""]
[null,{"$f":"IF(C8355=0,\"\",C8355-C8354)","v":""}]
[null,""]
[null,""]
[null,""]
[null,""]
[null,""]
[null,""]
[null,""]
[null,""]
[null,""]
[null,""]
[null,""]
[null,""]
[null,""]
[null,""]
[null,""]
[null,""]
[null,""]
[null,""]
[null,""]
[null,""]
[null,""]
[null,""]
[null,""]
[null,""]
[null,""]
[null,""]
[null,""]
[null,""]
[null,""]
[null,""]
[null,""]
[null,""]
[null,""]
[null,""]
[null,""]
[null,""]
[null,""]
[null,""]
[null,""]
[null,""]
[null,""]
[null,""]
[null,""]
[null,""]
[null,""]
[null,""]
[null,""]
[null,""]
[null,""]
[null,""]
[null,""]
[null,""]
[null,""]
[null,""]
[null,""]
[null,""]
[null,""]
[null,""]
[null,""]
[null,""]
[null,""]
[null,""]
[null,""]
[null,{"$f":"IF(C8419=0,\"\",C8419-C8418)","v":""}]
[null,""]
[null,""]
[null,""]
[null,""]
[null,""]
[null,""]
[null,""]
[null,""]
[null,""]
[null,""]
[null,""]
[null,""]
[null,""]
[null,""]
[null,""]
[null,""]
[null,""]
[null,""]
[null,""]
[null,""]
[null,""]
[null,""]
[null,""]
[null,""]
[null,""]
[null,""]
[null,""]
[null,""]
[null,""]
[null,""]
[null,""]
[null,""]
[null,""]
[null,""]
[null,""]
[null,""]
[null,""]
[null,""]
[null,""]
[null,""]
[null,""]
[null,""]
[null,""]
[null,""]
[null,""]
[null,""]
[null,""]
[null,""]
[null,""]
[null,""]
[null,""]
[null,""]
[null,""]
[null,""]
[null,""]
[null,""]
[null,""]
[null,""]
[null,""]
[null,""]
[null,""]
[null,""]
[null,""]
[null,{"$f":"IF(C8483=0,\"\",C8483-C8482)","v":""}]
[null,""]
[null,""]
[null,""]
[null,""]
[null,""]
[null,""]
[null,""]
[null,""]
[null,""]
[null,""]
[null,""]
[null,""]
[null,""]
[null,""]
[null,""]
[null,""]
[null,""]
[null,""]
[null,""]
[null,""]
[null,""]
[null,""]
[null,""]
[null,""]
[null,""]
[null,""]
[null,""]
[null,""]
[null,""]
[null,""]
[null,""]
[null,""]
[null,""]
[null,""]
[null,""]
[null,""]
[null,""]
[null,""]
[null,""]
[null,""]
[null,""]
[null,""]
[null,""]
[null,""]
[null,""]
[null,""]
[null,""]
[null,""]
[null,""]
[null,""]
[null,""]
[null,""]
[null,""]
[null,""]
[null,""]
[null,""]
[null,""]
[null,""]
[null,""]
[null,""]
[null,""]
[null,""]
[null,""]
[null,{"$f":"IF(C8547=0,\"\",C8547-C8546)","v":""}]
[null,""]
[null,""]
[null,""]
[null,""]
[null,""]
[null,""]
[null,""]
[null,""]
[null,""]
[null,""]
[null,""]
[null,""]
[null,""]
[null,""]
[null,""]
[null,""]
[null,""]
[null,""]
[null,""]
[null,""]
[null,""]
[null,""]
[null,""]
[null,""]
[null,""]
[null,""]
[null,""]
[null,""]
[null,""]
[null,""]
[null,""]
[null,""]
[null,""]
[null,""]
[null,""]
[null,""]
[null,""]
[null,""]
[null,""]
[null,""]
[null,""]
[null,""]
[null,""]
[null,""]
[null,""]
[null,""]
[null,""]
[null,""]
[null,""]
[null,""]
[null,""]
[null,""]
[null,""]
[null,""]
[null,""]
[null,""]
[null,""]
[null,""]
[null,""]
[null,""]
[null,""]
[null,""]
[null,""]
[null,{"$f":"IF(C8611=0,\"\",C8611-C8610)","v":""}]
[null,""]
[null,""]
[null,""]
[null,""]
[null,""]
[null,""]
[null,""]
[null,""]
[null,""]
[null,""]
[null,""]
[null,""]
[null,""]
[null,""]
[null,""]
[null,""]
[null,""]
[null,""]
[null,""]
[null,""]
[null,""]
[null,""]
[null,""]
[null,""]
[null,""]
[null,""]
[null,""]
[null,""]
[null,""]
[null,""]
[null,""]
[null,""]
[null,""]
[null,""]
[null,""]
[null,""]
[null,""]
[null,""]
[null,""]
[null,""]
[null,""]
[null,""]
[null,""]
[null,""]
[null,""]
[null,""]
[null,""]
[null,""]
[null,""]
[null,""]
[null,""]
[null,""]
[null,""]
[null,""]
[null,""]
[null,""]
[null,""]
[null,""]
[null,""]
[null,""]
[null,""]
[null,""]
[null,""]
[null,{"$f":"IF(C8675=0,\"\",C8675-C8674)","v":""}]
[null,""]
[null,""]
[null,""]
[null,""]
[null,""]
[null,""]
[null,""]
[null,""]
[null,""]
[null,""]
[null,""]
[null,""]
[null,""]
[null,""]
[null,""]
[null,""]
[null,""]
[null,""]
[null,""]
[null,""]
[null,""]
[null,""]
[null,""]
[null,""]
[null,""]
[null,""]
[null,""]
[null,""]
[null,""]
[null,""]
[null,""]
[null,""]
[null,""]
[null,""]
[null,""]
[null,""]
[null,""]
[null,""]
[null,""]
[null,""]
[null,""]
[null,""]
[null,""]
[null,""]
[null,""]
[null,""]
[null,""]
[null,""]
[null,""]
[null,""]
[null,""]
[null,""]
[null,""]
[null,""]
[null,""]
[null,""]
[null,""]
[null,""]
[null,""]
[null,""]
[null,""]
[null,""]
[null,""]
[null,{"$f":"IF(C8739=0,\"\",C8739-C8738)","v":""}]
[null,""]
[null,""]
[null,""]
[null,""]
[null,""]
[null,""]
[null,""]
[null,""]
[null,""]
[null,""]
[null,""]
[null,""]
[null,""]
[null,""]
[null,""]
[null,""]
[null,""]
[null,""]
[null,""]
[null,""]
[null,""]
[null,""]
[null,""]
[null,""]
[null,""]
[null,""]
[null,""]
[null,""]
[null,""]
[null,""]
[null,""]
[null,""]
[null,""]
[null,""]
[null,""]
[null,""]
[null,""]
[null,""]
[null,""]
[null,""]
[null,""]
[null,""]
[null,""]
[null,""]
[null,""]
[null,""]
[null,""]
[null,""]
[null,""]
[null,""]
[null,""]
[null,""]
[null,""]
[null,""]
[null,""]
[null,""]
[null,""]
[null,""]
[null,""]
[null,""]
[null,""]
[null,""]
[null,""]
[null,{"$f":"IF(C8803=0,\"\",C8803-C8802)","v":""}]
[null,""]
[null,""]
[null,""]
[null,""]
[null,""]
[null,""]
[null,""]
[null,""]
[null,""]
[null,""]
[null,""]
[null,""]
[null,""]
[null,""]
[null,""]
[null,""]
[null,""]
[null,""]
[null,""]
[null,""]
[null,""]
[null,""]
[null,""]
[null,""]
[null,""]
[null,""]
[null,""]
[null,""]
[null,""]
[null,""]
[null,""]
[null,""]
[null,""]
[null,""]
[null,""]
[null,""]
[null,""]
[null,""]
[null,""]
[null,""]
[null,""]
[null,""]
[null,""]
[null,""]
[null,""]
[null,""]
[null,""]
[null,""]
[null,""]
[null,""]
[null,""]
[null,""]
[null,""]
[null,""]
[null,""]
[null,""]
[null,""]
[null,""]
[null,""]
[null,""]
[null,""]
[null,""]
[null,""]
[null,{"$f":"IF(C8867=0,\"\",C8867-C8866)","v":""}]
[null,""]
[null,""]
[null,""]
[null,""]
[null,""]
[null,""]
[null,""]
[null,""]
[null,""]
[null,""]
[null,""]
[null,""]
[null,""]
[null,""]
[null,""]
[null,""]
[null,""]
[null,""]
[null,""]
[null,""]
[null,""]
[null,""]
[null,""]
[null,""]
[null,""]
[null,""]
[null,""]
[null,""]
[null,""]
[null,""]
[null,""]
[null,""]
[null,""]
[null,""]
[null,""]
[null,""]
[null,""]
[null,""]
[null,""]
[null,""]
[null,""]
[null,""]
[null,""]
[null,""]
[null,""]
[null,""]
[null,""]
[null,""]
[null,""]
[null,""]
[null,""]
[null,""]
[null,""]
[null,""]
[null,""]
[null,""]
[null,""]
[null,""]
[null,""]
[null,""]
[null,""]
[null,""]
[null,""]
[null,{"$f":"IF(C8931=0,\"\",C8931-C8930)","v":""}]
[null,""]
[null,""]
[null,""]
[null,""]
[null,""]
[null,""]
[null,""]
[null,""]
[null,""]
[null,""]
[null,""]
[null,""]
[null,""]
[null,""]
[null,""]
[null,""]
[null,""]
[null,""]
[null,""]
[null,""]
[null,""]
[null,""]
[null,""]
[null,""]
[null,""]
[null,""]
[null,""]
[null,""]
[null,""]
[null,""]
[null,""]
[null,""]
[null,""]
[null,""]
[null,""]
[null,""]
[null,""]
[null,""]
[null,""]
[null,""]
[null,""]
[null,""]
[null,""]
[null,""]
[null,""]
[null,""]
[null,""]
[null,""]
[null,""]
[null,""]
[null,""]
[null,""]
[null,""]
[null,""]
[null,""]
[null,""]
[null,""]
[null,""]
[null,""]
[null,""]
[null,""]
[null,""]
[null,""]
[null,{"$f":"IF(C8995=0,\"\",C8995-C8994)","v":""}]
[null,""]
[null,""]
[null,""]
[null,""]
[null,""]
[null,""]
[null,""]
[null,""]
[null,""]
[null,""]
[null,""]
[null,""]
[null,""]
[null,""]
[null,""]
[null,""]
[null,""]
[null,""]
[null,""]
[null,""]
[null,""]
[null,""]
[null,""]
[null,""]
[null,""]
[null,""]
[null,""]
[null,""]
[null,""]
[null,""]
[null,""]
[null,""]
[null,""]
[null,""]
[null,""]
[null,""]
[null,""]
[null,""]
[null,""]
[null,""]
[null,""]
[null,""]
[null,""]
[null,""]
[null,""]
[null,""]
[null,""]
[null,""]
[null,""]
[null,""]
[null,""]
[null,""]
[null,""]
[null,""]
[null,""]
[null,""]
[null,""]
[null,""]
[null,""]
[null,""]
[null,""]
[null,""]
[null,""]
[null,{"$f":"IF(C9059=0,\"\",C9059-C9058)","v":""}]
[null,""]
[null,""]
[null,""]
[null,""]
[null,""]
[null,""]
[null,""]
[null,""]
[null,""]
[null,""]
[null,""]
[null,""]
[null,""]
[null,""]
[null,""]
[null,""]
[null,""]
[null,""]
[null,""]
[null,""]
[null,""]
[null,""]
[null,""]
[null,""]
[null,""]
[null,""]
[null,""]
[null,""]
[null,""]
[null,""]
[null,""]
[null,""]
[null,""]
[null,""]
[null,""]
[null,""]
[null,""]
[null,""]
[null,""]
[null,""]
[null,""]
[null,""]
[null,""]
[null,""]
[null,""]
[null,""]
[null,""]
[null,""]
[null,""]
[null,""]
[null,""]
[null,""]
[null,""]
[null,""]
[null,""]
[null,""]
[null,""]
[null,""]
[null,""]
[null,""]
[null,""]
[null,""]
[null,""]
[null,{"$f":"IF(C9123=0,\"\",C9123-C9122)","v":""}]
[null,""]
[null,""]
[null,""]
[null,""]
[null,""]
[null,""]
[null,""]
[null,""]
[null,""]
[null,""]
[null,""]
[null,""]
[null,""]
[null,""]
[null,""]
[null,""]
[null,""]
[null,""]
[null,""]
[null,""]
[null,""]
[null,""]
[null,""]
[null,""]
[null,""]
[null,""]
[null,""]
[null,""]
[null,""]
[null,""]
[null,""]
[null,""]
[null,""]
[null,""]
[null,""]
[null,""]
[null,""]
[null,""]
[null,""]
[null,""]
[null,""]
[null,""]
[null,""]
[null,""]
[null,""]
[null,""]
[null,""]
[null,""]
[null,""]
[null,""]
[null,""]
[null,""]
[null,""]
[null,""]
[null,""]
[null,""]
[null,""]
[null,""]
[null,""]
[null,""]
[null,""]
[null,""]
[null,""]
[null,{"$f":"IF(C9187=0,\"\",C9187-C9186)","v":""}]
[null,""]
[null,""]
[null,""]
[null,""]
[null,""]
[null,""]
[null,""]
[null,""]
[null,""]
[null,""]
[null,""]
[null,""]
[null,""]
[null,""]
[null,""]
[null,""]
[null,""]
[null,""]
[null,""]
[null,""]
[null,""]
[null,""]
[null,""]
[null,""]
[null,""]
[null,""]
[null,""]
[null,""]
[null,""]
[null,""]
[null,""]
[null,""]
[null,""]
[null,""]
[null,""]
[null,""]
[null,""]
[null,""]
[null,""]
[null,""]
[null,""]
[null,""]
[null,""]
[null,""]
[null,""]
[null,""]
[null,""]
[null,""]
[null,""]
[null,""]
[null,""]
[null,""]
[null,""]
[null,""]
[null,""]
[null,""]
[null,""]
[null,""]
[null,""]
[null,""]
[null,""]
[null,""]
[null,""]
[null,{"$f":"IF(C9251=0,\"\",C9251-C9250)","v":""}]
[null,""]
[null,""]
[null,""]
[null,""]
[null,""]
[null,""]
[null,""]
[null,""]
[null,""]
[null,""]
[null,""]
[null,""]
[null,""]
[null,""]
[null,""]
[null,""]
[null,""]
[null,""]
[null,""]
[null,""]
[null,""]
[null,""]
[null,""]
[null,""]
[null,""]
[null,""]
[null,""]
[null,""]
[null,""]
[null,""]
[null,""]
[null,""]
[null,""]
[null,""]
[null,""]
[null,""]
[null,""]
[null,""]
[null,""]
[null,""]
[null,""]
[null,""]
[null,""]
[null,""]
[null,""]
[null,""]
[null,""]
[null,""]
[null,""]
[null,""]
[null,""]
[null,""]
[null,""]
[null,""]
[null,""]
[null,""]
[null,""]
[null,""]
[null,""]
[null,""]
[null,""]
[null,""]
[null,""]
[null,{"$f":"IF(C9315=0,\"\",C9315-C9314)","v":""}]
[null,""]
[null,""]
[null,""]
[null,""]
[null,""]
[null,""]
[null,""]
[null,""]
[null,""]
[null,""]
[null,""]
[null,""]
[null,""]
[null,""]
[null,""]
[null,""]
[null,""]
[null,""]
[null,""]
[null,""]
[null,""]
[null,""]
[null,""]
[null,""]
[null,""]
[null,""]
[null,""]
[null,""]
[null,""]
[null,""]
[null,""]
[null,""]
[null,""]
[null,""]
[null,""]
[null,""]
[null,""]
[null,""]
[null,""]
[null,""]
[null,""]
[null,""]
[null,""]
[null,""]
[null,""]
[null,""]
[null,""]
[null,""]
[null,""]
[null,""]
[null,""]
[null,""]
[null,""]
[null,""]
[null,""]
[null,""]
[null,""]
[null,""]
[null,""]
[null,""]
[null,""]
[null,""]
[null,""]
[null,{"$f":"IF(C9379=0,\"\",C9379-C9378)","v":""}]
[null,""]
[null,""]
[null,""]
[null,""]
[null,""]
[null,""]
[null,""]
[null,""]
[null,""]
[null,""]
[null,""]
[null,""]
[null,""]
[null,""]
[null,""]
[null,""]
[null,""]
[null,""]
[null,""]
[null,""]
[null,""]
[null,""]
[null,""]
[null,""]
[null,""]
[null,""]
[null,""]
[null,""]
[null,""]
[null,""]
[null,""]
[null,""]
[null,""]
[null,""]
[null,""]
[null,""]
[null,""]
[null,""]
[null,""]
[null,""]
[null,""]
[null,""]
[null,""]
[null,""]
[null,""]
[null,""]
[null,""]
[null,""]
[null,""]
[null,""]
[null,""]
[null,""]
[null,""]
[null,""]
[null,""]
[null,""]
[null,""]
[null,""]
[null,""]
[null,""]
[null,""]
[null,""]
[null,""]
[null,{"$f":"IF(C9443=0,\"\",C9443-C9442)","v":""}]
[null,""]
[null,""]
[null,""]
[null,""]
[null,""]
[null,""]
[null,""]
[null,""]
[null,""]
[null,""]
[null,""]
[null,""]
[null,""]
[null,""]
[null,""]
[null,""]
[null,""]
[null,""]
[null,""]
[null,""]
[null,""]
[null,""]
[null,""]
[null,""]
[null,""]
[null,""]
[null,""]
[null,""]
[null,""]
[null,""]
[null,""]
[null,""]
[null,""]
[null,""]
[null,""]
[null,""]
[null,""]
[null,""]
[null,""]
[null,""]
[null,""]
[null,""]
[null,""]
[null,""]
[null,""]
[null,""]
[null,""]
[null,""]
[null,""]
[null,""]
[null,""]
[null,""]
[null,""]
[null,""]
[null,""]
[null,""]
[null,""]
[null,""]
[null,""]
[null,""]
[null,""]
[null,""]
[null,""]
[null,{"$f":"IF(C9507=0,\"\",C9507-C9506)","v":""}]
[null,""]
[null,""]
[null,""]
[null,""]
[null,""]
[null,""]
[null,""]
[null,""]
[null,""]
[null,""]
[null,""]
[null,""]
[null,""]
[null,""]
[null,""]
[null,""]
[null,""]
[null,""]
[null,""]
[null,""]
[null,""]
[null,""]
[null,""]
[null,""]
[null,""]
[null,""]
[null,""]
[null,""]
[null,""]
[null,""]
[null,""]
[null,""]
[null,""]
[null,""]
[null,""]
[null,""]
[null,""]
[null,""]
[null,""]
[null,""]
[null,""]
[null,""]
[null,""]
[null,""]
[null,""]
[null,""]
[null,""]
[null,""]
[null,""]
[null,""]
[null,""]
[null,""]
[null,""]
[null,""]
[null,""]
[null,""]
[null,""]
[null,""]
[null,""]
[null,""]
[null,""]
[null,""]
[null,""]
[null,{"$f":"IF(C9571=0,\"\",C9571-C9570)","v":""}]
[null,""]
[null,""]
[null,""]
[null,""]
[null,""]
[null,""]
[null,""]
[null,""]
[null,""]
[null,""]
[null,""]
[null,""]
[null,""]
[null,""]
[null,""]
[null,""]
[null,""]
[null,""]
[null,""]
[null,""]
[null,""]
[null,""]
[null,""]
[null,""]
[null,""]
[null,""]
[null,""]
[null,""]
[null,""]
[null,""]
[null,""]
[null,""]
[null,""]
[null,""]
[null,""]
[null,""]
[null,""]
[null,""]
[null,""]
[null,""]
[null,""]
[null,""]
[null,""]
[null,""]
[null,""]
[null,""]
[null,""]
[null,""]
[null,""]
[null,""]
[null,""]
[null,""]
[null,""]
[null,""]
[null,""]
[null,""]
[null,""]
[null,""]
[null,""]
[null,""]
[null,""]
[null,""]
[null,""]
[null,{"$f":"IF(C9635=0,\"\",C9635-C9634)","v":""}]
[null,""]
[null,""]
[null,""]
[null,""]
[null,""]
[null,""]
[null,""]
[null,""]
[null,""]
[null,""]
[null,""]
[null,""]
[null,""]
[null,""]
[null,""]
[null,""]
[null,""]
[null,""]
[null,""]
[null,""]
[null,""]
[null,""]
[null,""]
[null,""]
[null,""]
[null,""]
[null,""]
[null,""]
[null,""]
[null,""]
[null,""]
[null,""]
[null,""]
[null,""]
[null,""]
[null,""]
[null,""]
[null,""]
[null,""]
[null,""]
[null,""]
[null,""]
[null,""]
[null,""]
[null,""]
[null,""]
[null,""]
[null,""]
[null,""]
[null,""]
[null,""]
[null,""]
[null,""]
[null,""]
[null,""]
[null,""]
[null,""]
[null,""]
[null,""]
[null,""]
[null,""]
[null,""]
[null,""]
[null,{"$f":"IF(C9699=0,\"\",C9699-C9698)","v":""}]
[null,""]
[null,""]
[null,""]
[null,""]
[null,""]
[null,""]
[null,""]
[null,""]
[null,""]
[null,""]
[null,""]
[null,""]
[null,""]
[null,""]
[null,""]
[null,""]
[null,""]
[null,""]
[null,""]
[null,""]
[null,""]
[null,""]
[null,""]
[null,""]
[null,""]
[null,""]
[null,""]
[null,""]
[null,""]
[null,""]
[null,""]
[null,""]
[null,""]
[null,""]
[null,""]
[null,""]
[null,""]
[null,""]
[null,""]
[null,""]
[null,""]
[null,""]
[null,""]
[null,""]
[null,""]
[null,""]
[null,""]
[null,""]
[null,""]
[null,""]
[null,""]
[null,""]
[null,""]
[null,""]
[null,""]
[null,""]
[null,""]
[null,""]
[null,""]
[null,""]
[null,""]
[null,""]
[null,""]
[null,{"$f":"IF(C9763=0,\"\",C9763-C9762)","v":""}]
[null,""]
[null,""]
[null,""]
[null,""]
[null,""]
[null,""]
[null,""]
[null,""]
[null,""]
[null,""]
[null,""]
[null,""]
[null,""]
[null,""]
[null,""]
[null,""]
[null,""]
[null,""]
[null,""]
[null,""]
[null,""]
[null,""]
[null,""]
[null,""]
[null,""]
[null,""]
[null,""]
[null,""]
[null,""]
[null,""]
[null,""]
[null,""]
[null,""]
[null,""]
[null,""]
[null,""]
[null,""]
[null,""]
[null,""]
[null,""]
[null,""]
[null,""]
[null,""]
[null,""]
[null,""]
[null,""]
[null,""]
[null,""]
[null,""]
[null,""]
[null,""]
[null,""]
[null,""]
[null,""]
[null,""]
[null,""]
[null,""]
[null,""]
[null,""]
[null,""]
[null,""]
[null,""]
[null,""]
[null,{"$f":"IF(C9827=0,\"\",C9827-C9826)","v":""}]
[null,""]
[null,""]
[null,""]
[null,""]
[null,""]
[null,""]
[null,""]
[null,""]
[null,""]
[null,""]
[null,""]
[null,""]
[null,""]
[null,""]
[null,""]
[null,""]
[null,""]
[null,""]
[null,""]
[null,""]
[null,""]
[null,""]
[null,""]
[null,""]
[null,""]
[null,""]
[null,""]
[null,""]
[null,""]
[null,""]
[null,""]
[null,""]
[null,""]
[null,""]
[null,""]
[null,""]
[null,""]
[null,""]
[null,""]
[null,""]
[null,""]
[null,""]
[null,""]
[null,""]
[null,""]
[null,""]
[null,""]
[null,""]
[null,""]
[null,""]
[null,""]
[null,""]
[null,""]
[null,""]
[null,""]
[null,""]
[null,""]
[null,""]
[null,""]
[null,""]
[null,""]
[null,""]
[null,""]
[null,{"$f":"IF(C9891=0,\"\",C9891-C9890)","v":""}]
[null,""]
[null,""]
[null,""]
[null,""]
[null,""]
[null,""]
[null,""]
[null,""]
[null,""]
[null,""]
[null,""]
[null,""]
[null,""]
[null,""]
[null,""]
[null,""]
[null,""]
[null,""]
[null,""]
[null,""]
[null,""]
[null,""]
[null,""]
[null,""]
[null,""]
[null,""]
[null,""]
[null,""]
[null,""]
[null,""]
[null,""]
[null,""]
[null,""]
[null,""]
[null,""]
[null,""]
[null,""]
[null,""]
[null,""]
[null,""]
[null,""]
[null,""]
[null,""]
[null,""]
[null,""]
[null,""]
[null,""]
[null,""]
[null,""]
[null,""]
[null,""]
[null,""]
[null,""]
[null,""]
[null,""]
[null,""]
[null,""]
[null,""]
[null,""]
[null,""]
[null,""]
[null,""]
[null,""]
[null,{"$f":"IF(C9955=0,\"\",C9955-C9954)","v":""}]
[null,""]
[null,""]
[null,""]
[null,""]
[null,""]
[null,""]
[null,""]
[null,""]
[null,""]
[null,""]
[null,""]
[null,""]
[null,""]
[null,""]
[null,""]
[null,""]
[null,""]
[null,""]
[null,""]
[null,""]
[null,""]
[null,""]
[null,""]
[null,""]
[null,""]
[null,""]
[null,""]
[null,""]
[null,""]
[null,""]
[null,""]
[null,""]
[null,""]
[null,""]
[null,""]
[null,""]
[null,""]
[null,""]
[null,""]
[null,""]
[null,""]
[null,""]
[null,""]
[null,""]
[null,""]
[null,""]
[null,""]
[null,""]
[null,""]
[null,""]
[null,""]
[null,""]
[null,""]
[null,""]
[null,""]
[null,""]
[null,""]
[null,""]
[null,""]
[null,""]
[null,""]
[null,""]
[null,""]
[null,{"$f":"IF(C10019=0,\"\",C10019-C10018)","v":""}]
[null,""]
[null,""]
[null,""]
[null,""]
[null,""]
[null,""]
[null,""]
[null,""]
[null,""]
[null,""]
[null,""]
[null,""]
[null,""]
[null,""]
[null,""]
[null,""]
[null,""]
[null,""]
[null,""]
[null,""]
[null,""]
[null,""]
[null,""]
[null,""]
[null,""]
[null,""]
[null,""]
[null,""]
[null,""]
[null,""]
[null,""]
[null,""]
[null,""]
[null,""]
[null,""]
[null,""]
[null,""]
[null,""]
[null,""]
[null,""]
[null,""]
[null,""]
[null,""]
[null,""]
[null,""]
[null,""]
[null,""]
[null,""]
[null,""]
[null,""]
[null,""]
[null,""]
[null,""]
[null,""]
[null,""]
[null,""]
[null,""]
[null,""]
[null,""]
[null,""]
[null,""]
[null,""]
[null,""]
[null,{"$f":"IF(C10083=0,\"\",C10083-C10082)","v":""}]
[null,""]
[null,""]
[null,""]
[null,""]
[null,""]
[null,""]
[null,{"$f":"IF(C10090=0,\"\",C10090-C10089)","v":""}]

{"sheet":"IPLV","index":12,"n_rows":68,"n_cols":10,"rows_kept":68,"cut":false,"hidden":false,"merged":[[0,0,0,6],[1,0,1,2],[1,3,1,6],[18,0,18,1],[19,0,19,1],[16,0,17,1],[2,3,2,6],[3,3,3,6],[4,3,4,6],[2,0,2,2],[3,0,3,2],[4,0,4,2],[6,0,7,1],[8,0,8,1],[9,0,9,1],[10,0,10,1],[14,0,14,1],[16,2,17,2],[34,0,34,1],[35,0,35,1],[38,0,38,8],[28,0,28,1],[29,0,29,8],[30,0,31,1],[30,2,31,2],[30,7,30,8],[16,9,17,9],[16,7,17,7],[5,0,5,9],[32,0,32,1],[33,0,33,1],[23,0,23,8],[24,0,24,1],[25,0,25,1],[26,0,26,1],[27,0,27,1],[16,8,17,8],[20,0,20,1],[21,0,21,1],[11,0,11,1],[12,0,12,1],[13,0,13,1]]}
[{"$f":"IF('Test Plan'!$B$17=\"EN 14511 and 14825\",\"SEER\",\"IPLV\")","v":"IPLV"}]
["AHRI Test Number",null,null,{"$f":"IF('Test Plan'!$B$3=0,\" \",'Test Plan'!$B$3)","v":"ACCL-230##-1-A"}]
["Model Designation",{"$f":"IF('[2]WCCL-DS2'!B4:D4=0,\" \",'[2]WCCL-DS2'!B4:D4)","v":"DEF"},null,{"$f":"IF('Test Plan'!$B$4=0,\" \",'Test Plan'!$B$4)","v":" "}]
["Manufacturer",{"$f":"IF('[2]WCCL-DS2'!B5:D5=0,\" \",'[2]WCCL-DS2'!B5:D5)","v":43101},null,{"$f":"IF('Test Plan'!$B$5=0,\" \",'Test Plan'!$B$5)","v":" "}]
["Date",{"$f":"IF('[2]WCCL-DS2'!B6:D6=0,\" \",'[2]WCCL-DS2'!B6:D6)","v":{"$error":"#REF!"}},null,{"$f":"IF('Test Plan'!$B$6=0,\" \",'Test Plan'!$B$6)","v":" "}]
[]
["Test Conditions",null,"Capacity","Efficiency","Condenser EWT","PCon","PCoff"]
[null,null,{"$f":"IF('Test Plan'!$B$19=\"I-P\",'Unit Conversion'!$B$4,'Unit Conversion'!$C$4)","v":"kW"},{"$f":"IF('Test Plan'!$B$19=\"I-P\",'Unit Conversion'!$B$14,'Unit Conversion'!$C$14)","v":"kW/kW"},{"$f":"IF('Test Plan'!$B$19=\"I-P\",'Unit Conversion'!$B$5,'Unit Conversion'!$C$5)","v":"°C"},"kW","kW"]
[{"$f":"'Test Plan'!$A$44","v":"100% Load Condition "},null,{"$f":"IFERROR('100% Load Condition '!$F$242,0)","v":0},{"$f":"IFERROR('100% Load Condition '!$F$243,0)","v":0},{"$f":"IFERROR('100% Load Condition '!$G$16,0)","v":0},{"$f":"IFERROR('100% Load Condition '!$F$24,0)","v":0},0]
[{"$f":"'Test Plan'!$A$51","v":"Condition 2"},null,{"$f":"IFERROR('Condition 2'!$F$242,0)","v":0},{"$f":"IFERROR('Condition 2'!$F$243,0)","v":0},{"$f":"IFERROR('Condition 2'!$G$16,0)","v":0},{"$f":"IFERROR('Condition 2'!$F$24,0)","v":0},0]
[{"$f":"'Test Plan'!$A$58","v":"Condition 3"},null,{"$f":"IFERROR('Condition 3'!$F$242,0)","v":0},{"$f":"IFERROR('Condition 3'!$F$243,0)","v":0},{"$f":"IFERROR('Condition 3'!$G$16,0)","v":0},{"$f":"IFERROR('Condition 3'!$F$24,0)","v":0},0]
[{"$f":"'Test Plan'!$A$65","v":"Condition 4"},null,{"$f":"IFERROR('Condition 4'!$F$242,0)","v":0},{"$f":"IFERROR('Condition 4'!$F$243,0)","v":0},{"$f":"IFERROR('Condition 4'!$G$16,0)","v":0},{"$f":"IFERROR('Condition 4'!$F$24,0)","v":0},0]
[{"$f":"'Test Plan'!$A$72","v":"Condition 5"},null,{"$f":"IFERROR('Condition 5'!$F$242,0)","v":0},{"$f":"IFERROR('Condition 5'!$F$243,0)","v":0},{"$f":"IFERROR('Condition 5'!$G$16,0)","v":0},{"$f":"IFERROR('Condition 5'!$F$24,0)","v":0},0]
[{"$f":"'Test Plan'!$A$79","v":"Condition 6"},null,{"$f":"IFERROR('Condition 6'!$F$242,0)","v":0},{"$f":"IFERROR('Condition 6'!$F$243,0)","v":0},{"$f":"IFERROR('Condition 6'!$G$16,0)","v":0},{"$f":"IFERROR('Condition 6'!$F$24,0)","v":0},0]
[{"$f":"'Test Plan'!$A$86","v":"Condition 7"},null,{"$f":"IFERROR('Condition 7'!$F$242,0)","v":0},{"$f":"IFERROR('Condition 7'!$F$243,0)","v":0},{"$f":"IFERROR('Condition 7'!$G$16,0)","v":0},{"$f":"IFERROR('Condition 7'!$F$24,0)","v":0},0]
[]
["IPLV Conditions",null,"IPLV Type","Capacity","Efficiency","Load factor","Degradation Factor","Select Tested or Degraded Point","Select Interpolation Lower Test Point","Select Interpolation Upper Test \nPoint"]
[null,null,null,{"$f":"IF('Test Plan'!$B$19=\"I-P\",'Unit Conversion'!$B$4,'Unit Conversion'!$C$4)","v":"kW"},{"$f":"IF('Test Plan'!$B$19=\"I-P\",'Unit Conversion'!$B$14,'Unit Conversion'!$C$14)","v":"kW/kW"},"LF","CD"]
["100% Load Condition ",null,"Tested",{"$f":"$C$9","v":0},{"$f":"$D$9","v":0},"-","-","-","-","-"]
["75% Load Condition ",null,null,{"$f":"IF(C20=\"Tested\",VLOOKUP(H20,$A$10:$C$15,3,FALSE),'Test Plan'!$C$44*0.75)","v":0},{"$f":"IF(C20=\"Tested\",VLOOKUP(D20,$C$9:$D$15,2,FALSE),\n\nIF(C20=\"Interpolated\",POWER(10,LOG10(VLOOKUP(I20,$A$9:$D$15,4,FALSE))+(0.75-VLOOKUP(I20,$A$9:$D$15,3,FALSE)/'Test Plan'!$C$44)*(LOG10(VLOOKUP(J20,$A$9:$D$15,4,FALSE))-LOG10(VLOOKUP(I20,$A$9:$D$15,4,FALSE)))/(VLOOKUP(J20,$A$9:$D$15,3,FALSE)/'Test Plan'!$C$44-VLOOKUP(I20,$A$9:$D$15,3,FALSE)/'Test Plan'!$C$44)),\n\nIF(C20=\"Degredated\",IF('Test Plan'!$B$19=\"I-P\",VLOOKUP(H20,$A$9:$D$15,4,FALSE)*G20,VLOOKUP(H20,$A9:$D$15,4,FALSE)/G20),\"-\")))","v":"-"},{"$f":"IF(C20=\"Degredated\",0.75*'Test Plan'!$C$44/VLOOKUP(H20,$A$9:$C$15,3,FALSE),\"-\")","v":"-"},{"$f":"IF(C20=\"Degredated\",(-0.13*F20)+1.13,\"-\")","v":"-"},{"$f":"IF(OR(C20=\"Tested\",C20=\"Degredated\"),\"\",\"-\")","v":"-"},{"$f":"IF(C20=\"Interpolated\",\"\",\"-\")","v":"-"},{"$f":"IF(C20=\"Interpolated\",\"\",\"-\")","v":"-"}]
["50% Load Condition ",null,null,{"$f":"IF(C21=\"Tested\",VLOOKUP(H21,$A$10:$C$15,3,FALSE),'Test Plan'!$C$44*0.5)","v":0},{"$f":"IF(C21=\"Tested\",VLOOKUP(D21,$C$9:$D$15,2,FALSE),\n\nIF(C21=\"Interpolated\",POWER(10,LOG10(VLOOKUP(I21,$A$9:$D$15,4,FALSE))+(0.5-VLOOKUP(I21,$A$9:$D$15,3,FALSE)/'Test Plan'!$C$44)*(LOG10(VLOOKUP(J21,$A$9:$D$15,4,FALSE))-LOG10(VLOOKUP(I21,$A$9:$D$15,4,FALSE)))/(VLOOKUP(J21,$A$9:$D$15,3,FALSE)/'Test Plan'!$C$44-VLOOKUP(I21,$A$9:$D$15,3,FALSE)/'Test Plan'!$C$44)),\n\nIF(C21=\"Degredated\",IF('Test Plan'!$B$19=\"I-P\",VLOOKUP(H21,$A$9:$D$15,4,FALSE)*G21,VLOOKUP(H21,$A10:$D$15,4,FALSE)/G21),\"-\")))","v":"-"},{"$f":"IF(C21=\"Degredated\",0.5*'Test Plan'!$C$44/VLOOKUP(H21,$A$9:$C$15,3,FALSE),\"-\")","v":"-"},{"$f":"IF(C21=\"Degredated\",(-0.13*F21)+1.13,\"-\")","v":"-"},{"$f":"IF(OR(C21=\"Tested\",C21=\"Degredated\"),\"\",\"-\")","v":"-"},{"$f":"IF(C21=\"Interpolated\",\"\",\"-\")","v":"-"},{"$f":"IF(C21=\"Interpolated\",\"\",\"-\")","v":"-"}]
["25% Load Condition ",null,null,{"$f":"IF(C22=\"Tested\",VLOOKUP(H22,$A$10:$C$15,3,FALSE),'Test Plan'!$C$44*0.25)","v":0},{"$f":"IF(C22=\"Tested\",VLOOKUP(D22,$C$9:$D$15,2,FALSE),\n\nIF(C22=\"Interpolated\",POWER(10,LOG10(VLOOKUP(I22,$A$9:$D$15,4,FALSE))+(0.25-VLOOKUP(I22,$A$9:$D$15,3,FALSE)/'Test Plan'!$C$44)*(LOG10(VLOOKUP(J22,$A$9:$D$15,4,FALSE))-LOG10(VLOOKUP(I22,$A$9:$D$15,4,FALSE)))/(VLOOKUP(J22,$A$9:$D$15,3,FALSE)/'Test Plan'!$C$44-VLOOKUP(I22,$A$9:$D$15,3,FALSE)/'Test Plan'!$C$44)),\n\nIF(C22=\"Degredated\",IF('Test Plan'!$B$19=\"I-P\",VLOOKUP(H22,$A$9:$D$15,4,FALSE)*G22,VLOOKUP(H22,$A11:$D$15,4,FALSE)/G22),\"-\")))","v":"-"},{"$f":"IF(C22=\"Degredated\",0.25*'Test Plan'!$C$44/VLOOKUP(H22,$A$9:$C$15,3,FALSE),\"-\")","v":"-"},{"$f":"IF(C22=\"Degredated\",(-0.13*F22)+1.13,\"-\")","v":"-"},{"$f":"IF(OR(C22=\"Tested\",C22=\"Degredated\"),\"\",\"-\")","v":"-"},{"$f":"IF(C22=\"Interpolated\",\"\",\"-\")","v":"-"},{"$f":"IF(C22=\"Interpolated\",\"\",\"-\")","v":"-"}]
[null,null,null,"IPLV:",{"$f":"IF('Test Plan'!$B$19=\"I-P\",((0.01/$E$19)+(0.42/$E$20)+(0.45/$E$21)+(0.12/$E$22))^-1,(0.01*$E$19)+(0.42*$E$20)+(0.45*$E$21)+(0.12*$E$22))","v":{"$error":"#VALUE!"}}]
[]
["Auxiliary Mode Conditions",null,"kW","Hours"]
["Thermostat-off mode",null,null,659]
["Standby",null,null,1377]
["Off mode",null,null,0]
["Crankcase heater",null,null,2036]
[]
["SEER Conditions",null,"SEER type","Test Capacity","SEER Capacity","Efficiency","Capacity ratio","Degredation Factor"]
[null,null,null,{"$f":"IF('Test Plan'!$B$19=\"I-P\",'Unit Conversion'!$B$4,'Unit Conversion'!$C$4)","v":"kW"},{"$f":"IF('Test Plan'!$B$19=\"I-P\",'Unit Conversion'!$B$4,'Unit Conversion'!$C$4)","v":"kW"},{"$f":"IF('Test Plan'!$B$19=\"I-P\",'Unit Conversion'!$B$14,'Unit Conversion'!$C$14)","v":"kW/kW"},"CR","Type","CD"]
["Condition A",null,"Tested",{"$f":"$C$9","v":0},{"$f":"'Test Plan'!$C$43","v":0},{"$f":"$D$9","v":0},"-","-","-"]
["Condition B",null,null,{"$f":"IF(C34=\"Tested\",\nIF(ABS(INDEX($C$9:$C$15,MATCH(((30-16)/(35-16))*'Test Plan'!$C$43,$C$9:$C$15,-1)+1)-((30-16)/(35-16))*'Test Plan'!$C$43)<ABS(INDEX($C$9:$C$15,MATCH(((30-16)/(35-16))*'Test Plan'!$C$43,$C$9:$C$15,-1))-((30-16)/(35-16))*'Test Plan'!$C$43),\nINDEX($C$9:$C$15,MATCH(((30-16)/(35-16))*'Test Plan'!$C$43,$C$9:$C$15,-1)+1),\nINDEX($C$9:$C$15,MATCH(((30-16)/(35-16))*'Test Plan'!$C$43,$C$9:$C$15,-1))),\nIF(C34=\"Interpolated\",((30-16)/(35-16))*'Test Plan'!$C$43,\nINDEX($C$9:$C$15,MAX('Test Plan'!$B$18-2,2))))","v":0},{"$f":"((30-16)/(35-16))*'Test Plan'!$C$43","v":0},{"$f":"IF(C34=\"Tested\",VLOOKUP(D34,$C$9:$D$15,2,FALSE),IF(C34=\"Interpolated\",IF('Test Plan'!$B$19=\"I-P\",12/(((12/INDEX($D$9:$D$15,MATCH(0.7368*'Test Plan'!$C$43,$C$9:$C$15,-1)+1)-12/INDEX($D$9:$D$15,MATCH(0.7368*'Test Plan'!$C$43,$C$9:$C$15,-1)))*(0.7368*'Test Plan'!$C$43-INDEX($C$9:$C$15,MATCH(0.7368*'Test Plan'!$C$43,$C$9:$C$15,-1)))/(INDEX($C$9:$C$15,MATCH(0.7368*'Test Plan'!$C$43,$C$9:$C$15,-1)+1)-INDEX($C$9:$C$15,MATCH(0.7368*'Test Plan'!$C$43,$C$9:$C$15,-1))))+12/INDEX($D$9:$D$15,MATCH(0.7368*'Test Plan'!$C$43,$C$9:$C$15,-1))),(((INDEX($D$9:$D$15,MATCH(0.7368*'Test Plan'!$C$43,$C$9:$C$15,-1)+1)-INDEX($D$9:$D$15,MATCH(0.7368*'Test Plan'!$C$43,$C$9:$C$15,-1)))*(0.7368*'Test Plan'!$C$43-INDEX($C$9:$C$15,MATCH(0.7368*'Test Plan'!$C$43,$C$9:$C$15,-1)))/(INDEX($C$9:$C$15,MATCH(0.7368*'Test Plan'!$C$43,$C$9:$C$15,-1)+1)-INDEX($C$9:$C$15,MATCH(0.7368*'Test Plan'!$C$43,$C$9:$C$15,-1))))+INDEX($D$9:$D$15,MATCH(0.7368*'Test Plan'!$C$43,$C$9:$C$15,-1)))),\n\nIF(C34=\"Degredated\",IF('Test Plan'!$B$19=\"I-P\",VLOOKUP(D34,$C$9:$D$15,2,FALSE)*G34/(I34*G34+(1-I34)),VLOOKUP(D34,$C$9:$D$15,2,FALSE)*G34/(I34*G34+(1-I34))),\"-\")))","v":"-"},{"$f":"IF(C34=\"Degredated\",($E$57/100)*$E$33/$D$34,\"-\")","v":"-"},"Default",{"$f":"IF(C34=\"Interpolated\",\"-\",IF(H34=\"Default\",0.9,1-G10/F10))","v":0.9}]
["Condition C",null,null,{"$f":"IF(C35=\"Tested\",\nIF(ABS(INDEX($C$9:$C$15,MATCH(((25-16)/(35-16))*'Test Plan'!$C$43,$C$9:$C$15,-1)+1)-((25-16)/(35-16))*'Test Plan'!$C$43)<ABS(INDEX($C$9:$C$15,MATCH(((25-16)/(35-16))*'Test Plan'!$C$43,$C$9:$C$15,-1))-((25-16)/(35-16))*'Test Plan'!$C$43),\nINDEX($C$9:$C$15,MATCH(((25-16)/(35-16))*'Test Plan'!$C$43,$C$9:$C$15,-1)+1),\nINDEX($C$9:$C$15,MATCH(((25-16)/(35-16))*'Test Plan'!$C$43,$C$9:$C$15,-1))),\nIF(C35=\"Interpolated\",((25-16)/(35-16))*'Test Plan'!$C$43,\nINDEX($C$9:$C$15,MAX('Test Plan'!$B$18-1,3))))","v":0},{"$f":"((25-16)/(35-16))*'Test Plan'!$C$43","v":0},{"$f":"IF(C35=\"Tested\",VLOOKUP(D35,$C$9:$D$15,2,FALSE),IF(C35=\"Interpolated\",IF('Test Plan'!$B$19=\"I-P\",12/(((12/INDEX($D$9:$D$15,MATCH(0.4737*'Test Plan'!$C$43,$C$9:$C$15,-1)+1)-12/INDEX($D$9:$D$15,MATCH(0.4737*'Test Plan'!$C$43,$C$9:$C$15,-1)))*(0.4737*'Test Plan'!$C$43-INDEX($C$9:$C$15,MATCH(0.4737*'Test Plan'!$C$43,$C$9:$C$15,-1)))/(INDEX($C$9:$C$15,MATCH(0.4737*'Test Plan'!$C$43,$C$9:$C$15,-1)+1)-INDEX($C$9:$C$15,MATCH(0.4737*'Test Plan'!$C$43,$C$9:$C$15,-1))))+12/INDEX($D$9:$D$15,MATCH(0.4737*'Test Plan'!$C$43,$C$9:$C$15,-1))),(((INDEX($D$9:$D$15,MATCH(0.4737*'Test Plan'!$C$43,$C$9:$C$15,-1)+1)-INDEX($D$9:$D$15,MATCH(0.4737*'Test Plan'!$C$43,$C$9:$C$15,-1)))*(0.4737*'Test Plan'!$C$43-INDEX($C$9:$C$15,MATCH(0.4737*'Test Plan'!$C$43,$C$9:$C$15,-1)))/(INDEX($C$9:$C$15,MATCH(0.4737*'Test Plan'!$C$43,$C$9:$C$15,-1)+1)-INDEX($C$9:$C$15,MATCH(0.4737*'Test Plan'!$C$43,$C$9:$C$15,-1))))+INDEX($D$9:$D$15,MATCH(0.4737*'Test Plan'!$C$43,$C$9:$C$15,-1)))),\n\nIF(C35=\"Degredated\",IF('Test Plan'!$B$19=\"I-P\",VLOOKUP(D35,$C$9:$D$15,2,FALSE)*G35/(I35*G35+(1-I35)),VLOOKUP(D35,$C$9:$D$15,2,FALSE)*G35/(I35*G35+(1-I35))),\"-\")))","v":"-"},{"$f":"IF(C35=\"Degredated\",($E$52/100)*$E$33/$D$35,\"-\")","v":"-"},"Default",{"$f":"IF(C35=\"Interpolated\",\"-\",IF(H35=\"Default\",0.9,1-G11/F11))","v":0.9}]
["Condition D",null,null,{"$f":"IF(C36=\"Tested\",\nIF(ABS(INDEX($C$9:$C$15,MATCH(((20-16)/(35-16))*'Test Plan'!$C$43,$C$9:$C$15,-1)+1)-((20-16)/(35-16))*'Test Plan'!$C$43)<ABS(INDEX($C$9:$C$15,MATCH(((20-16)/(35-16))*'Test Plan'!$C$43,$C$9:$C$15,-1))-((20-16)/(35-16))*'Test Plan'!$C$43),\nINDEX($C$9:$C$15,MATCH(((20-16)/(35-16))*'Test Plan'!$C$43,$C$9:$C$15,-1)+1),\nINDEX($C$9:$C$15,MATCH(((20-16)/(35-16))*'Test Plan'!$C$43,$C$9:$C$15,-1))),\nIF(C36=\"Interpolated\",((20-16)/(35-16))*'Test Plan'!$C$43,\nINDEX($C$9:$C$15,MAX('Test Plan'!$B$18,4))))","v":0},{"$f":"((20-16)/(35-16))*'Test Plan'!$C$43","v":0},{"$f":"IF(C36=\"Tested\",VLOOKUP(D36,$C$9:$D$15,2,FALSE),IF(C36=\"Interpolated\",IF('Test Plan'!$B$19=\"I-P\",12/(((12/INDEX($D$9:$D$15,MATCH(0.2105*'Test Plan'!$C$43,$C$9:$C$15,-1)+1)-12/INDEX($D$9:$D$15,MATCH(0.2105*'Test Plan'!$C$43,$C$9:$C$15,-1)))*(0.2105*'Test Plan'!$C$43-INDEX($C$9:$C$15,MATCH(0.2105*'Test Plan'!$C$43,$C$9:$C$15,-1)))/(INDEX($C$9:$C$15,MATCH(0.2105*'Test Plan'!$C$43,$C$9:$C$15,-1)+1)-INDEX($C$9:$C$15,MATCH(0.2105*'Test Plan'!$C$43,$C$9:$C$15,-1))))+12/INDEX($D$9:$D$15,MATCH(0.2105*'Test Plan'!$C$43,$C$9:$C$15,-1))),(((INDEX($D$9:$D$15,MATCH(0.2105*'Test Plan'!$C$43,$C$9:$C$15,-1)+1)-INDEX($D$9:$D$15,MATCH(0.2105*'Test Plan'!$C$43,$C$9:$C$15,-1)))*(0.2105*'Test Plan'!$C$43-INDEX($C$9:$C$15,MATCH(0.2105*'Test Plan'!$C$43,$C$9:$C$15,-1)))/(INDEX($C$9:$C$15,MATCH(0.2105*'Test Plan'!$C$43,$C$9:$C$15,-1)+1)-INDEX($C$9:$C$15,MATCH(0.2105*'Test Plan'!$C$43,$C$9:$C$15,-1))))+INDEX($D$9:$D$15,MATCH(0.2105*'Test Plan'!$C$43,$C$9:$C$15,-1)))),\n\nIF(C36=\"Degredated\",IF('Test Plan'!$B$19=\"I-P\",VLOOKUP(D36,$C$9:$D$15,2,FALSE)*G36/(I36*G36+(1-I36)),VLOOKUP(D36,$C$9:$D$15,2,FALSE)*G36/(I36*G36+(1-I36))),\"-\")))","v":"-"},{"$f":"IF(C36=\"Degredated\",($E$47/100)*$E$33/$D$36,\"-\")","v":"-"},"Default",{"$f":"IF(C36=\"Interpolated\",\"-\",IF(H36=\"Default\",0.9,1-G12/F12))","v":0.9}]
[null,null,null,null,"SEERon",{"$f":"H68/I68","v":{"$error":"#VALUE!"}}]
[null,null,null,null,"SEER",{"$f":"(E33*600)/(((E33*600)/F37)+(D26*C26)+(D27*C27)+(D28*C28)+(D29*C29))","v":{"$error":"#VALUE!"}}]
[]
["SEER Calculation"]
["Condition","Bin ","Outdoor air temp.","Hours ","Part load","Cooling Load (kW)","EER(Tj)","Annual cooling demand","Annual power input"]
[null,"j","Tj","hj","ratio","Pc(tj)",null,"hj * Pc(Tj)","hj*(Pc(Tj)/EER(Tj)"]
["-","-","°C","-","%","kW","-","kWh","kWh"]
[null,1,17,205,{"$f":"100*(C44-16)/(35-16)","v":5.2631578947368425},{"$f":"E44/100*$E$33","v":0},{"$f":"$G$47","v":"-"},{"$f":"D44*F44","v":0},{"$f":"H44/G44","v":{"$error":"#VALUE!"}}]
[null,{"$f":"1+B44","v":2},18,227,{"$f":"100*(C45-16)/(35-16)","v":10.526315789473685},0,{"$f":"$G$47","v":"-"},{"$f":"D45*F45","v":0},{"$f":"H45/G45","v":{"$error":"#VALUE!"}}]
[null,{"$f":"1+B45","v":3},19,225,15.789473684210526,{"$f":"E46/100*$E$33","v":0},{"$f":"$G$47","v":"-"},0,{"$f":"H46/G46","v":{"$error":"#VALUE!"}}]
["TD",{"$f":"1+B46","v":4},20,225,{"$f":"100*(C47-16)/(35-16)","v":21.05263157894737},{"$f":"E36","v":0},{"$f":"F36","v":"-"},0,{"$error":"#VALUE!"}]
[null,5,21,216,26.315789473684209,{"$f":"$F$47+(C48-$C$47)*($F$52-$F$47)/($C$52-$C$47)","v":0},{"$f":"$G$47+(C48-$C$47)*($G$52-$G$47)/($C$52-$C$47)","v":{"$error":"#VALUE!"}},0,{"$f":"H48/G48","v":{"$error":"#VALUE!"}}]
[null,6,22,215,31.578947368421051,{"$f":"$F$47+(C49-$C$47)*($F$52-$F$47)/($C$52-$C$47)","v":0},{"$f":"$G$47+(C49-$C$47)*($G$52-$G$47)/($C$52-$C$47)","v":{"$error":"#VALUE!"}},0,{"$error":"#VALUE!"}]
[null,7,23,218,36.842105263157897,{"$f":"$F$47+(C50-$C$47)*($F$52-$F$47)/($C$52-$C$47)","v":0},{"$f":"$G$47+(C50-$C$47)*($G$52-$G$47)/($C$52-$C$47)","v":{"$error":"#VALUE!"}},0,{"$error":"#VALUE!"}]
[null,8,24,197,42.10526315789474,{"$f":"$F$47+(C51-$C$47)*($F$52-$F$47)/($C$52-$C$47)","v":0},{"$f":"$G$47+(C51-$C$47)*($G$52-$G$47)/($C$52-$C$47)","v":{"$error":"#VALUE!"}},0,{"$error":"#VALUE!"}]
["TC",9,25,178,47.368421052631582,{"$f":"E35","v":0},{"$f":"F35","v":"-"},{"$f":"D52*F52","v":0},{"$f":"H52/G52","v":{"$error":"#VALUE!"}}]
[null,10,26,158,52.631578947368418,{"$f":"$F$52+(C53-$C$52)*($F$57-$F$52)/($C$57-$C$52)","v":0},{"$f":"$G$52+(C53-$C$52)*($G$57-$G$52)/($C$57-$C$52)","v":{"$error":"#VALUE!"}},0,{"$error":"#VALUE!"}]
[null,11,27,137,57.89473684210526,{"$f":"$F$52+(C54-$C$52)*($F$57-$F$52)/($C$57-$C$52)","v":0},{"$f":"$G$52+(C54-$C$52)*($G$57-$G$52)/($C$57-$C$52)","v":{"$error":"#VALUE!"}},0,{"$error":"#VALUE!"}]
[null,12,28,109,63.157894736842103,{"$f":"$F$52+(C55-$C$52)*($F$57-$F$52)/($C$57-$C$52)","v":0},{"$f":"$G$52+(C55-$C$52)*($G$57-$G$52)/($C$57-$C$52)","v":{"$error":"#VALUE!"}},0,{"$error":"#VALUE!"}]
[null,13,29,88,68.421052631578945,{"$f":"$F$52+(C56-$C$52)*($F$57-$F$52)/($C$57-$C$52)","v":0},{"$f":"$G$52+(C56-$C$52)*($G$57-$G$52)/($C$57-$C$52)","v":{"$error":"#VALUE!"}},0,{"$error":"#VALUE!"}]
["TB",14,30,63,73.684210526315795,{"$f":"E34","v":0},{"$f":"F34","v":"-"},{"$f":"D57*F57","v":0},{"$error":"#VALUE!"}]
[null,15,31,39,78.94736842105263,{"$f":"$F$57+(C58-$C$57)*($F$62-$F$57)/($C$62-$C$57)","v":0},{"$f":"$G$57+(C58-$C$57)*($G$62-$G$57)/($C$62-$C$57)","v":{"$error":"#VALUE!"}},0,{"$error":"#VALUE!"}]
[null,16,32,31,84.21052631578948,{"$f":"$F$57+(C59-$C$57)*($F$62-$F$57)/($C$62-$C$57)","v":0},{"$f":"$G$57+(C59-$C$57)*($G$62-$G$57)/($C$62-$C$57)","v":{"$error":"#VALUE!"}},0,{"$error":"#VALUE!"}]
[null,17,33,24,89.473684210526315,{"$f":"$F$57+(C60-$C$57)*($F$62-$F$57)/($C$62-$C$57)","v":0},{"$f":"$G$57+(C60-$C$57)*($G$62-$G$57)/($C$62-$C$57)","v":{"$error":"#VALUE!"}},0,{"$error":"#VALUE!"}]
[null,18,34,17,94.736842105263165,{"$f":"$F$57+(C61-$C$57)*($F$62-$F$57)/($C$62-$C$57)","v":0},{"$f":"$G$57+(C61-$C$57)*($G$62-$G$57)/($C$62-$C$57)","v":{"$error":"#VALUE!"}},0,{"$error":"#VALUE!"}]
["TA",19,35,13,100,{"$f":"E33","v":0},{"$f":"F33","v":0},{"$f":"D62*F62","v":0},{"$error":"#DIV/0!"}]
[null,20,36,9,105.26315789473684,{"$f":"$F$57+(C63-$C$57)*($F$62-$F$57)/($C$62-$C$57)","v":0},{"$f":"$G$62","v":0},0,{"$error":"#DIV/0!"}]
[null,21,37,4,110.52631578947368,{"$f":"$F$57+(C64-$C$57)*($F$62-$F$57)/($C$62-$C$57)","v":0},{"$f":"$G$62","v":0},0,{"$error":"#DIV/0!"}]
[null,22,38,3,115.78947368421052,{"$f":"$F$57+(C65-$C$57)*($F$62-$F$57)/($C$62-$C$57)","v":0},{"$f":"$G$62","v":0},0,{"$error":"#DIV/0!"}]
[null,23,39,1,121.05263157894737,{"$f":"$F$57+(C66-$C$57)*($F$62-$F$57)/($C$62-$C$57)","v":0},{"$f":"$G$62","v":0},0,{"$error":"#DIV/0!"}]
[null,24,40,0,126.31578947368421,{"$f":"$F$57+(C67-$C$57)*($F$62-$F$57)/($C$62-$C$57)","v":0},{"$f":"$G$62","v":0},0,{"$error":"#DIV/0!"}]
[null,null,null,null,null,null,"Sum:",{"$f":"SUM(H44:H67)","v":0},{"$f":"SUM(I44:I67)","v":{"$error":"#VALUE!"}}]

{"sheet":"AHRI Selected Condition","index":13,"n_rows":10083,"n_cols":30,"rows_kept":10083,"cut":false,"hidden":false,"merged":[[205,0,205,3],[206,0,210,1],[206,2,206,3],[207,2,207,3],[208,2,208,3],[209,2,209,3],[210,2,210,3],[211,0,211,3],[212,0,216,1],[212,2,212,3],[213,2,213,3],[214,2,214,3],[215,2,215,3],[216,2,216,3],[193,0,193,3],[194,0,198,1],[194,2,194,3],[195,2,195,3],[196,2,196,3],[197,2,197,3],[198,2,198,3],[199,0,199,3],[200,0,204,1],[200,2,200,3],[201,2,201,3],[202,2,202,3],[203,2,203,3],[204,2,204,3],[181,0,181,3],[182,0,186,1],[182,2,182,3],[183,2,183,3],[184,2,184,3],[185,2,185,3],[186,2,186,3],[187,0,187,3],[188,0,192,1],[188,2,188,3],[189,2,189,3],[190,2,190,3],[191,2,191,3],[192,2,192,3],[169,0,169,3],[170,0,174,1],[170,2,170,3],[171,2,171,3],[172,2,172,3],[173,2,173,3],[174,2,174,3],[175,0,175,3],[176,0,180,1],[176,2,176,3],[177,2,177,3],[178,2,178,3],[179,2,179,3],[180,2,180,3],[157,0,157,3],[158,0,162,1],[158,2,158,3],[159,2,159,3],[160,2,160,3],[161,2,161,3],[162,2,162,3],[163,0,163,3],[164,0,168,1],[164,2,164,3],[165,2,165,3],[166,2,166,3],[167,2,167,3],[168,2,168,3],[241,5,242,5],[241,8,242,8],[241,17,242,17],[10,7,10,9],[10,10,10,12],[10,13,10,15],[10,16,10,18],[11,7,22,9],[11,10,22,12],[11,13,22,15],[11,16,22,18],[15,0,16,2],[17,0,18,2],[19,0,20,2],[221,0,221,3],[222,0,222,3],[223,0,223,3],[224,0,224,3],[231,0,231,3],[220,0,220,3],[152,0,156,1],[152,2,152,3],[153,2,153,3],[136,2,136,3],[137,2,137,3],[138,2,138,3],[154,2,154,3],[155,2,155,3],[139,0,139,3],[140,0,144,1],[140,2,140,3],[141,2,141,3],[142,2,142,3],[143,2,143,3],[144,2,144,3],[21,0,22,1],[21,2,21,3],[22,2,22,3],[26,0,29,2],[44,0,45,0],[44,1,44,3],[45,1,45,3],[23,0,23,6],[24,0,24,3],[24,5,24,6],[25,0,25,3],[25,5,25,6],[26,5,26,6],[27,5,27,6],[28,5,28,6],[29,5,29,6],[37,0,37,3],[38,0,39,0],[38,1,38,3],[39,1,39,3],[40,0,41,0],[40,1,40,3],[41,1,41,3],[42,0,43,0],[0,0,0,6],[2,0,2,2],[2,3,2,6],[3,0,3,2],[3,3,3,6],[4,0,4,2],[4,3,4,6],[11,0,12,2],[13,0,14,2],[1,0,1,2],[1,3,1,6],[5,0,5,2],[5,3,5,6],[6,0,6,6],[7,0,8,0],[9,0,9,6],[10,0,10,3],[42,1,42,3],[43,1,43,3],[35,0,35,3],[30,0,31,2],[30,5,30,6],[31,5,31,6],[32,0,32,6],[33,0,33,3],[34,0,34,3],[34,4,34,6],[36,0,36,3],[121,0,121,3],[122,0,126,1],[122,2,122,3],[123,2,123,3],[124,2,124,3],[125,2,125,3],[126,2,126,3],[96,0,96,3],[97,0,97,3],[98,0,102,1],[98,2,98,3],[99,2,99,3],[100,2,100,3],[101,2,101,3],[102,2,102,3],[103,0,103,3],[104,0,108,1],[104,2,104,3],[105,2,105,3],[106,2,106,3],[107,2,107,3],[108,2,108,3],[111,2,111,3],[112,2,112,3],[113,2,113,3],[114,2,114,3],[132,2,132,3],[133,0,133,3],[134,0,138,1],[240,27,240,29],[238,0,238,6],[239,3,239,12],[239,13,239,14],[239,15,239,29],[240,3,240,5],[240,6,240,8],[240,9,240,11],[240,15,240,17],[240,19,240,22],[240,23,240,26],[235,0,235,3],[236,0,236,3],[237,0,237,3],[225,0,225,3],[217,0,217,6],[218,0,218,3],[219,0,219,3],[151,0,151,3],[54,0,55,0],[54,1,54,3],[55,1,55,3],[56,0,56,3],[57,0,57,3],[58,0,59,0],[58,1,58,3],[59,1,59,3],[60,0,61,0],[60,1,60,3],[61,1,61,3],[46,0,46,3],[47,0,47,3],[48,0,49,0],[48,1,48,3],[49,1,49,3],[50,0,51,0],[50,1,50,3],[51,1,51,3],[52,0,53,0],[52,1,52,3],[53,1,53,3],[70,0,71,0],[70,1,70,3],[71,1,71,3],[62,0,63,0],[62,1,62,3],[63,1,63,3],[64,0,65,0],[64,1,64,3],[65,1,65,3],[66,0,66,3],[67,0,67,3],[68,0,69,0],[68,1,68,3],[69,1,69,3],[115,0,115,3],[116,0,120,1],[116,2,116,3],[117,2,117,3],[118,2,118,3],[119,2,119,3],[120,2,120,3],[72,0,73,0],[72,1,72,3],[73,1,73,3],[74,0,75,0],[74,1,74,3],[75,1,75,3],[109,0,109,3],[110,0,114,1],[110,2,110,3],[76,0,76,3],[77,0,77,3],[78,0,79,0],[78,1,78,3],[79,1,79,3],[80,0,81,0],[80,1,80,3],[81,1,81,3],[232,0,232,3],[233,0,233,6],[234,0,234,3],[226,0,226,3],[227,0,227,3],[228,0,228,3],[229,0,229,3],[156,2,156,3],[127,0,127,3],[230,0,230,3],[128,0,132,1],[128,2,128,3],[129,2,129,3],[130,2,130,3],[131,2,131,3],[134,2,134,3],[135,2,135,3],[145,0,145,3],[146,0,150,1],[146,2,146,3],[147,2,147,3],[148,2,148,3],[149,2,149,3],[150,2,150,3],[82,0,83,0],[82,1,82,3],[83,1,83,3],[92,0,93,0],[92,1,92,3],[93,1,93,3],[94,0,95,0],[94,1,94,3],[95,1,95,3],[84,0,85,0],[84,1,84,3],[85,1,85,3],[86,0,86,3],[87,0,87,3],[88,0,89,0],[88,1,88,3],[89,1,89,3],[90,0,91,0],[90,1,90,3],[91,1,91,3]]}
[{"$f":"'Test Plan'!$A$93","v":"AHRI Selected Condition"}]
["AHRI Test Stand Inspection Number",null,null,{"$f":"IF('Test Plan'!$B$3=0,\" \",'Test Plan'!$B$2)","v":"FIACCL-230##-1"}]
["AHRI Test Number",null,null,{"$f":"IF('Test Plan'!$B$3=0,\" \",'Test Plan'!$B$3)","v":"ACCL-230##-1-A"}]
["Model Designation",{"$f":"IF('[2]WCCL-DS2'!B4:D4=0,\" \",'[2]WCCL-DS2'!B4:D4)","v":"DEF"},null,{"$f":"IF('Test Plan'!$B$4=0,\" \",'Test Plan'!$B$4)","v":" "}]
["Manufacturer",{"$f":"IF('[2]WCCL-DS2'!B5:D5=0,\" \",'[2]WCCL-DS2'!B5:D5)","v":43101},null,{"$f":"IF('Test Plan'!$B$5=0,\" \",'Test Plan'!$B$5)","v":" "}]
["Test Date",{"$f":"IF('[2]WCCL-DS2'!B6:D6=0,\" \",'[2]WCCL-DS2'!B6:D6)","v":{"$error":"#REF!"}}]
[]
["Measurement Time","Data Points","Units","Period (min)","Mean Intvl. (s)","Max. Intvl. (s)","Max. Intvl. for Avg. of Data (s)"]
[null,{"$f":"COUNTA(C252:C10083)","v":0},"h:mm:ss:ms",{"$f":"(INDEX(C252:C10083,$B$9)-C252)*24*60","v":{"$error":"#VALUE!"}},{"$f":"D9*60/(B9-1)","v":{"$error":"#VALUE!"}},{"$f":"MAX(B252:B10083)*60*60*24","v":0},{"$f":"D9*60/60","v":{"$error":"#VALUE!"}}]
[]
["Air and Water Measurements",null,null,null,"Units","Evaporator","Condenser","Chiller Condenser Side 1",null,null,"Chiller Condenser Side 2",null,null,"Chiller Condenser Side 3",null,null,"Chiller Condenser Side 4"]
["Atmospheric Pressure",null,null,"Mean",{"$f":"'Test Plan'!$B$41","v":"kPa"},null,{"$f":"IF(O246=\"Yes\",$O$244,$O$250)","v":{"$error":"#DIV/0!"}},"Photo",null,null,"Photo",null,null,"Photo",null,null,"Photo"]
[null,null,null,"St. Dev.",{"$f":"'Test Plan'!$B$41","v":"kPa"},null,{"$f":"IF(O246=\"Yes\",\"Lab Data\",$O$251)","v":{"$error":"#DIV/0!"}}]
["Leaving Water Temperature",null,null,"Mean",{"$f":"'Test Conditions'!$B$18","v":"°C"},{"$f":"IF(F246=\"Yes\",$F$244,$F$250)","v":{"$error":"#DIV/0!"}}]
[null,null,null,"St. Dev.",{"$f":"'Test Conditions'!$B$18","v":"°C"},{"$f":"IF(F246=\"Yes\",\"Lab Data\",$F$251)","v":{"$error":"#DIV/0!"}}]
["Entering Db Air and Water Temperatures",null,null,"Mean",{"$f":"'Test Conditions'!$B$19","v":"°C"},{"$f":"IF(I246=\"Yes\",$I$244,$I$250)","v":{"$error":"#DIV/0!"}},{"$f":"IF(N246=\"Yes\",$N$244,$N$250)","v":{"$error":"#DIV/0!"}}]
[null,null,null,"St. Dev.",{"$f":"'Test Conditions'!$B$19","v":"°C"},{"$f":"IF(I246=\"Yes\",\"Lab Data\",$I$251)","v":{"$error":"#DIV/0!"}},{"$f":"IF(N246=\"Yes\",\"Lab Data\",$N$251)","v":{"$error":"#DIV/0!"}}]
["Water Flow Rate",null,null,"Mean",{"$f":"'Test Conditions'!$B$20","v":"m³/h"},{"$f":"$L$250","v":{"$error":"#DIV/0!"}}]
[null,null,null,"St. Dev.",{"$f":"'Test Conditions'!$B$20","v":"m³/h"},{"$f":"$L$251","v":{"$error":"#DIV/0!"}}]
["Water Pressure Drop",null,null,"Mean",{"$f":"'Test Plan'!$B$127","v":"kPa"},{"$f":"IF('Test Plan'!$B$19=\"I-P\",IF(M246=\"Yes\",$M$244/0.4331,$M$250/0.4331),IF(M246=\"Yes\",$M$244,$M$250))","v":{"$error":"#DIV/0!"}}]
[null,null,null,"St. Dev.",{"$f":"'Test Plan'!$B$127","v":"kPa"},{"$f":"IF(M246=\"Yes\",\"Lab Data\",IF('Test Plan'!$B$19=\"I-P\",$M$251/0.4331,$M$251))","v":{"$error":"#DIV/0!"}}]
[null,null,"Correction (∆padj)",null,{"$f":"'Test Plan'!$B$127","v":"kPa"}]
[null,null,"Corrected (∆pcorrected)",null,{"$f":"'Test Plan'!$B$127","v":"kPa"},{"$f":"F20-F22","v":{"$error":"#DIV/0!"}}]
[]
["Electrical Measurements",null,null,null,"Units","Total"]
["Power",null,null,null,"kW",{"$f":"IF(R246=\"Yes\",$R$244,$R$250)","v":{"$error":"#DIV/0!"}}]
["Voltage",null,null,"Mean","V",{"$f":"IF(R246=\"Yes\",\"Lab Data\",$S$250)","v":{"$error":"#DIV/0!"}}]
[null,null,null,"St. Dev.",{"$f":"E27","v":"V"},{"$f":"IF(R246=\"Yes\",\"Lab Data\",$S$251)","v":{"$error":"#DIV/0!"}}]
[null,null,null,"V1 Balance","%",{"$f":"IF(R246=\"Yes\",\"Lab Data\",ROUND(MAX(ABS($U$250-$T$250),ABS($V$250-$T$250),ABS($W$250-$T$250))/$T$250,4-(1+INT(LOG10(ABS(MAX(ABS($U$250-$T$250),ABS($V$250-$T$250),ABS($W$250-$T$250))/$T$250))))))","v":{"$error":"#DIV/0!"}}]
[null,null,null,"V2 Balance","%",{"$f":"IF(R246=\"Yes\",\"Lab Data\",ROUND(MAX(ABS($Y$250-$X$250),ABS($Z$250-$X$250),ABS($AA$250-$X$250))/$X$250,4-(1+INT(LOG10(ABS(MAX(ABS($Y$250-$X$250),ABS($Z$250-$X$250),ABS($AA$250-$X$250))/$X$250))))))","v":{"$error":"#DIV/0!"}}]
["Frequency",null,null,"Mean","Hz",{"$f":"IF(R246=\"Yes\",\"Lab Data\",$AB$250)","v":{"$error":"#DIV/0!"}}]
[null,null,null,"St. Dev.",{"$f":"E31","v":"Hz"},{"$f":"IF(R246=\"Yes\",\"Lab Data\",$AB$251)","v":{"$error":"#DIV/0!"}}]
[]
["Air Temperature Measurement",null,null,null,"Units",null,"Condenser"]
["Measurement Method"]
["# of Aspirating Psychrometers",null,null,null,"#"]
["Aspirating Psychrometer #1, Mean Air Temperature",null,null,null,{"$f":"'Test Conditions'!$B$19","v":"°C"}]
["# of Air Sampling Trees on Aspirating Psychrometer #1",null,null,null,"#",null,4]
["#1-A\nTemperatures","Air Sampling Tree Thermopile Grid",null,null,{"$f":"'Test Conditions'!$B$19","v":"°C"}]
[null,"Recirculation Thermocouple",null,null,{"$f":"'Test Conditions'!$B$19","v":"°C"}]
["#1-B\nTemperatures","Air Sampling Tree Thermopile Grid",null,null,{"$f":"'Test Conditions'!$B$19","v":"°C"}]
[null,"Recirculation Thermocouple",null,null,{"$f":"'Test Conditions'!$B$19","v":"°C"}]
["#1-C\nTemperatures","Air Sampling Tree Thermopile Grid",null,null,{"$f":"'Test Conditions'!$B$19","v":"°C"}]
[null,"Recirculation Thermocouple",null,null,{"$f":"'Test Conditions'!$B$19","v":"°C"}]
["#1-D\nTemperatures","Air Sampling Tree Thermopile Grid",null,null,{"$f":"'Test Conditions'!$B$19","v":"°C"}]
[null,"Recirculation Thermocouple",null,null,{"$f":"'Test Conditions'!$B$19","v":"°C"}]
["Aspirating Psychrometer #2, Mean Air Temperature",null,null,null,{"$f":"'Test Conditions'!$B$19","v":"°C"}]
["# of Air Sampling Trees on Aspirating Psychrometer #2",null,null,null,"#",null,4]
["#2-A\nTemperatures","Air Sampling Tree Thermopile Grid",null,null,{"$f":"'Test Conditions'!$B$19","v":"°C"}]
[null,"Recirculation Thermocouple",null,null,{"$f":"'Test Conditions'!$B$19","v":"°C"}]
["#2-B\nTemperatures","Air Sampling Tree Thermopile Grid",null,null,{"$f":"'Test Conditions'!$B$19","v":"°C"}]
[null,"Recirculation Thermocouple",null,null,{"$f":"'Test Conditions'!$B$19","v":"°C"}]
["#2-C\nTemperatures","Air Sampling Tree Thermopile Grid",null,null,{"$f":"'Test Conditions'!$B$19","v":"°C"}]
[null,"Recirculation Thermocouple",null,null,{"$f":"'Test Conditions'!$B$19","v":"°C"}]
["#2-D\nTemperatures","Air Sampling Tree Thermopile Grid",null,null,{"$f":"'Test Conditions'!$B$19","v":"°C"}]
[null,"Recirculation Thermocouple",null,null,{"$f":"'Test Conditions'!$B$19","v":"°C"}]
["Aspirating Psychrometer #3, Mean Air Temperature",null,null,null,{"$f":"'Test Conditions'!$B$19","v":"°C"}]
["# of Air Sampling Trees on Aspirating Psychrometer #3",null,null,null,"#",null,4]
["#3-A\nTemperatures","Air Sampling Tree Thermopile Grid",null,null,{"$f":"'Test Conditions'!$B$19","v":"°C"}]
[null,"Recirculation Thermocouple",null,null,{"$f":"'Test Conditions'!$B$19","v":"°C"}]
["#3-B\nTemperatures","Air Sampling Tree Thermopile Grid",null,null,{"$f":"'Test Conditions'!$B$19","v":"°C"}]
[null,"Recirculation Thermocouple",null,null,{"$f":"'Test Conditions'!$B$19","v":"°C"}]
["#3-C\nTemperatures","Air Sampling Tree Thermopile Grid",null,null,{"$f":"'Test Conditions'!$B$19","v":"°C"}]
[null,"Recirculation Thermocouple",null,null,{"$f":"'Test Conditions'!$B$19","v":"°C"}]
["#3-D\nTemperatures","Air Sampling Tree Thermopile Grid",null,null,{"$f":"'Test Conditions'!$B$19","v":"°C"}]
[null,"Recirculation Thermocouple",null,null,{"$f":"'Test Conditions'!$B$19","v":"°C"}]
["Aspirating Psychrometer #4, Mean Air Temperature",null,null,null,{"$f":"'Test Conditions'!$B$19","v":"°C"}]
["# of Air Sampling Trees on Aspirating Psychrometer #4",null,null,null,"#",null,4]
["#4-A\nTemperatures","Air Sampling Tree Thermopile Grid",null,null,{"$f":"'Test Conditions'!$B$19","v":"°C"}]
[null,"Recirculation Thermocouple",null,null,{"$f":"'Test Conditions'!$B$19","v":"°C"}]
["#4-B\nTemperatures","Air Sampling Tree Thermopile Grid",null,null,{"$f":"'Test Conditions'!$B$19","v":"°C"}]
[null,"Recirculation Thermocouple",null,null,{"$f":"'Test Conditions'!$B$19","v":"°C"}]
["#4-C\nTemperatures","Air Sampling Tree Thermopile Grid",null,null,{"$f":"'Test Conditions'!$B$19","v":"°C"}]
[null,"Recirculation Thermocouple",null,null,{"$f":"'Test Conditions'!$B$19","v":"°C"}]
["#4-D\nTemperatures","Air Sampling Tree Thermopile Grid",null,null,{"$f":"'Test Conditions'!$B$19","v":"°C"}]
[null,"Recirculation Thermocouple",null,null,{"$f":"'Test Conditions'!$B$19","v":"°C"}]
["Aspirating Psychrometer #5, Mean Air Temperature",null,null,null,{"$f":"'Test Conditions'!$B$19","v":"°C"}]
["# of Air Sampling Trees on Aspirating Psychrometer #5",null,null,null,"#",null,4]
["#5-A\nTemperatures","Air Sampling Tree Thermopile Grid",null,null,{"$f":"'Test Conditions'!$B$19","v":"°C"}]
[null,"Recirculation Thermocouple",null,null,{"$f":"'Test Conditions'!$B$19","v":"°C"}]
["#5-B\nTemperatures","Air Sampling Tree Thermopile Grid",null,null,{"$f":"'Test Conditions'!$B$19","v":"°C"}]
[null,"Recirculation Thermocouple",null,null,{"$f":"'Test Conditions'!$B$19","v":"°C"}]
["#5-C\nTemperatures","Air Sampling Tree Thermopile Grid",null,null,{"$f":"'Test Conditions'!$B$19","v":"°C"}]
[null,"Recirculation Thermocouple",null,null,{"$f":"'Test Conditions'!$B$19","v":"°C"}]
["#5-D\nTemperatures","Air Sampling Tree Thermopile Grid",null,null,{"$f":"'Test Conditions'!$B$19","v":"°C"}]
[null,"Recirculation Thermocouple",null,null,{"$f":"'Test Conditions'!$B$19","v":"°C"}]
["Aspirating Psychrometer #6, Mean Air Temperature",null,null,null,{"$f":"'Test Conditions'!$B$19","v":"°C"}]
["# of Air Sampling Trees on Aspirating Psychrometer #6",null,null,null,"#",null,4]
["#6-A\nTemperatures","Air Sampling Tree Thermopile Grid",null,null,{"$f":"'Test Conditions'!$B$19","v":"°C"}]
[null,"Recirculation Thermocouple",null,null,{"$f":"'Test Conditions'!$B$19","v":"°C"}]
["#6-B\nTemperatures","Air Sampling Tree Thermopile Grid",null,null,{"$f":"'Test Conditions'!$B$19","v":"°C"}]
[null,"Recirculation Thermocouple",null,null,{"$f":"'Test Conditions'!$B$19","v":"°C"}]
["#6-C\nTemperatures","Air Sampling Tree Thermopile Grid",null,null,{"$f":"'Test Conditions'!$B$19","v":"°C"}]
[null,"Recirculation Thermocouple",null,null,{"$f":"'Test Conditions'!$B$19","v":"°C"}]
["#6-D\nTemperatures","Air Sampling Tree Thermopile Grid",null,null,{"$f":"'Test Conditions'!$B$19","v":"°C"}]
[null,"Recirculation Thermocouple",null,null,{"$f":"'Test Conditions'!$B$19","v":"°C"}]
["# of Air Sampling Arrays",null,null,null,"#"]
["Air Sampling Array #1, Mean Air Temperature",null,null,null,{"$f":"'Test Conditions'!$B$19","v":"°C"},null,{"$f":"AVERAGE(G99:G102)","v":{"$error":"#DIV/0!"}}]
["Air Sampling Array Individual \nMeasurement Temperatures",null,"#1-A",null,{"$f":"'Test Conditions'!$B$19","v":"°C"}]
[null,null,"#1-B",null,{"$f":"'Test Conditions'!$B$19","v":"°C"}]
[null,null,"#1-C",null,{"$f":"'Test Conditions'!$B$19","v":"°C"}]
[null,null,"#1-D",null,{"$f":"'Test Conditions'!$B$19","v":"°C"}]
[null,null,"Recirculation Thermocouple",null,{"$f":"'Test Conditions'!$B$19","v":"°C"}]
["Air Sampling Array #2, Mean Air Temperature",null,null,null,{"$f":"'Test Conditions'!$B$19","v":"°C"},null,{"$f":"AVERAGE(G105:G108)","v":{"$error":"#DIV/0!"}}]
["Air Sampling Array Individual \nMeasurement Temperatures",null,"#2-A",null,{"$f":"'Test Conditions'!$B$19","v":"°C"}]
[null,null,"#2-B",null,{"$f":"'Test Conditions'!$B$19","v":"°C"}]
[null,null,"#2-C",null,{"$f":"'Test Conditions'!$B$19","v":"°C"}]
[null,null,"#2-D",null,{"$f":"'Test Conditions'!$B$19","v":"°C"}]
[null,null,"Recirculation Thermocouple",null,{"$f":"'Test Conditions'!$B$19","v":"°C"}]
["Air Sampling Array #3, Mean Air Temperature",null,null,null,{"$f":"'Test Conditions'!$B$19","v":"°C"},null,{"$f":"AVERAGE(G111:G114)","v":{"$error":"#DIV/0!"}}]
["Air Sampling Array Individual \nMeasurement Temperatures",null,"#3-A",null,{"$f":"'Test Conditions'!$B$19","v":"°C"}]
[null,null,"#3-B",null,{"$f":"'Test Conditions'!$B$19","v":"°C"}]
[null,null,"#3-C",null,{"$f":"'Test Conditions'!$B$19","v":"°C"}]
[null,null,"#3-D",null,{"$f":"'Test Conditions'!$B$19","v":"°C"}]
[null,null,"Recirculation Thermocouple",null,{"$f":"'Test Conditions'!$B$19","v":"°C"}]
["Air Sampling Array #4, Mean Air Temperature",null,null,null,{"$f":"'Test Conditions'!$B$19","v":"°C"},null,{"$f":"AVERAGE(G117:G120)","v":{"$error":"#DIV/0!"}}]
["Air Sampling Array Individual \nMeasurement Temperatures",null,"#4-A",null,{"$f":"'Test Conditions'!$B$19","v":"°C"}]
[null,null,"#4-B",null,{"$f":"'Test Conditions'!$B$19","v":"°C"}]
[null,null,"#4-C",null,{"$f":"'Test Conditions'!$B$19","v":"°C"}]
[null,null,"#4-D",null,{"$f":"'Test Conditions'!$B$19","v":"°C"}]
[null,null,"Recirculation Thermocouple",null,{"$f":"'Test Conditions'!$B$19","v":"°C"}]
["Air Sampling Array #5, Mean Air Temperature",null,null,null,{"$f":"'Test Conditions'!$B$19","v":"°C"},null,{"$f":"AVERAGE(G123:G126)","v":{"$error":"#DIV/0!"}}]
["Air Sampling Array Individual \nMeasurement Temperatures",null,"#5-A",null,{"$f":"'Test Conditions'!$B$19","v":"°C"}]
[null,null,"#5-B",null,{"$f":"'Test Conditions'!$B$19","v":"°C"}]
[null,null,"#5-C",null,{"$f":"'Test Conditions'!$B$19","v":"°C"}]
[null,null,"#5-D",null,{"$f":"'Test Conditions'!$B$19","v":"°C"}]
[null,null,"Recirculation Thermocouple",null,{"$f":"'Test Conditions'!$B$19","v":"°C"}]
["Air Sampling Array #6, Mean Air Temperature",null,null,null,{"$f":"'Test Conditions'!$B$19","v":"°C"},null,{"$f":"AVERAGE(G129:G132)","v":{"$error":"#DIV/0!"}}]
["Air Sampling Array Individual \nMeasurement Temperatures",null,"#6-A",null,{"$f":"'Test Conditions'!$B$19","v":"°C"}]
[null,null,"#6-B",null,{"$f":"'Test Conditions'!$B$19","v":"°C"}]
[null,null,"#6-C",null,{"$f":"'Test Conditions'!$B$19","v":"°C"}]
[null,null,"#6-D",null,{"$f":"'Test Conditions'!$B$19","v":"°C"}]
[null,null,"Recirculation Thermocouple",null,{"$f":"'Test Conditions'!$B$19","v":"°C"}]
["Air Sampling Array #7, Mean Air Temperature",null,null,null,{"$f":"'Test Conditions'!$B$19","v":"°C"},null,{"$f":"AVERAGE(G135:G138)","v":{"$error":"#DIV/0!"}}]
["Air Sampling Array Individual \nMeasurement Temperatures",null,"#7-A",null,{"$f":"'Test Conditions'!$B$19","v":"°C"}]
[null,null,"#7-B",null,{"$f":"'Test Conditions'!$B$19","v":"°C"}]
[null,null,"#7-C",null,{"$f":"'Test Conditions'!$B$19","v":"°C"}]
[null,null,"#7-D",null,{"$f":"'Test Conditions'!$B$19","v":"°C"}]
[null,null,"Recirculation Thermocouple",null,{"$f":"'Test Conditions'!$B$19","v":"°C"}]
["Air Sampling Array #8, Mean Air Temperature",null,null,null,{"$f":"'Test Conditions'!$B$19","v":"°C"},null,{"$f":"AVERAGE(G141:G144)","v":{"$error":"#DIV/0!"}}]
["Air Sampling Array Individual \nMeasurement Temperatures",null,"#8-A",null,{"$f":"'Test Conditions'!$B$19","v":"°C"}]
[null,null,"#8-B",null,{"$f":"'Test Conditions'!$B$19","v":"°C"}]
[null,null,"#8-C",null,{"$f":"'Test Conditions'!$B$19","v":"°C"}]
[null,null,"#8-D",null,{"$f":"'Test Conditions'!$B$19","v":"°C"}]
[null,null,"Recirculation Thermocouple",null,{"$f":"'Test Conditions'!$B$19","v":"°C"}]
["Air Sampling Array #9, Mean Air Temperature",null,null,null,{"$f":"'Test Conditions'!$B$19","v":"°C"},null,{"$f":"AVERAGE(G147:G150)","v":{"$error":"#DIV/0!"}}]
["Air Sampling Array Individual \nMeasurement Temperatures",null,"#9-A",null,{"$f":"'Test Conditions'!$B$19","v":"°C"}]
[null,null,"#9-B",null,{"$f":"'Test Conditions'!$B$19","v":"°C"}]
[null,null,"#9-C",null,{"$f":"'Test Conditions'!$B$19","v":"°C"}]
[null,null,"#9-D",null,{"$f":"'Test Conditions'!$B$19","v":"°C"}]
[null,null,"Recirculation Thermocouple",null,{"$f":"'Test Conditions'!$B$19","v":"°C"}]
["Air Sampling Array #10, Mean Air Temperature",null,null,null,{"$f":"'Test Conditions'!$B$19","v":"°C"},null,{"$f":"AVERAGE(G153:G156)","v":{"$error":"#DIV/0!"}}]
["Air Sampling Array Individual \nMeasurement Temperatures",null,"#10-A",null,{"$f":"'Test Conditions'!$B$19","v":"°C"}]
[null,null,"#10-B",null,{"$f":"'Test Conditions'!$B$19","v":"°C"}]
[null,null,"#10-C",null,{"$f":"'Test Conditions'!$B$19","v":"°C"}]
[null,null,"#10-D",null,{"$f":"'Test Conditions'!$B$19","v":"°C"}]
[null,null,"Recirculation Thermocouple",null,{"$f":"'Test Conditions'!$B$19","v":"°C"}]
["Air Sampling Array #11, Mean Air Temperature",null,null,null,{"$f":"'Test Conditions'!$B$19","v":"°C"},null,{"$f":"AVERAGE(G159:G162)","v":{"$error":"#DIV/0!"}}]
["Air Sampling Array Individual \nMeasurement Temperatures",null,"#11-A",null,{"$f":"'Test Conditions'!$B$19","v":"°C"}]
[null,null,"#11-B",null,{"$f":"'Test Conditions'!$B$19","v":"°C"}]
[null,null,"#11-C",null,{"$f":"'Test Conditions'!$B$19","v":"°C"}]
[null,null,"#11-D",null,{"$f":"'Test Conditions'!$B$19","v":"°C"}]
[null,null,"Recirculation Thermocouple",null,{"$f":"'Test Conditions'!$B$19","v":"°C"}]
["Air Sampling Array #12, Mean Air Temperature",null,null,null,{"$f":"'Test Conditions'!$B$19","v":"°C"},null,{"$f":"AVERAGE(G165:G168)","v":{"$error":"#DIV/0!"}}]
["Air Sampling Array Individual \nMeasurement Temperatures",null,"#12-A",null,{"$f":"'Test Conditions'!$B$19","v":"°C"}]
[null,null,"#12-B",null,{"$f":"'Test Conditions'!$B$19","v":"°C"}]
[null,null,"#12-C",null,{"$f":"'Test Conditions'!$B$19","v":"°C"}]
[null,null,"#12-D",null,{"$f":"'Test Conditions'!$B$19","v":"°C"}]
[null,null,"Recirculation Thermocouple",null,{"$f":"'Test Conditions'!$B$19","v":"°C"}]
["Air Sampling Array #13, Mean Air Temperature",null,null,null,{"$f":"'Test Conditions'!$B$19","v":"°C"},null,{"$f":"AVERAGE(G171:G174)","v":{"$error":"#DIV/0!"}}]
["Air Sampling Array Individual \nMeasurement Temperatures",null,"#13-A",null,{"$f":"'Test Conditions'!$B$19","v":"°C"}]
[null,null,"#13-B",null,{"$f":"'Test Conditions'!$B$19","v":"°C"}]
[null,null,"#13-C",null,{"$f":"'Test Conditions'!$B$19","v":"°C"}]
[null,null,"#13-D",null,{"$f":"'Test Conditions'!$B$19","v":"°C"}]
[null,null,"Recirculation Thermocouple",null,{"$f":"'Test Conditions'!$B$19","v":"°C"}]
["Air Sampling Array #14, Mean Air Temperature",null,null,null,{"$f":"'Test Conditions'!$B$19","v":"°C"},null,{"$f":"AVERAGE(G177:G180)","v":{"$error":"#DIV/0!"}}]
["Air Sampling Array Individual \nMeasurement Temperatures",null,"#14-A",null,{"$f":"'Test Conditions'!$B$19","v":"°C"}]
[null,null,"#14-B",null,{"$f":"'Test Conditions'!$B$19","v":"°C"}]
[null,null,"#14-C",null,{"$f":"'Test Conditions'!$B$19","v":"°C"}]
[null,null,"#14-D",null,{"$f":"'Test Conditions'!$B$19","v":"°C"}]
[null,null,"Recirculation Thermocouple",null,{"$f":"'Test Conditions'!$B$19","v":"°C"}]
["Air Sampling Array #15, Mean Air Temperature",null,null,null,{"$f":"'Test Conditions'!$B$19","v":"°C"},null,{"$f":"AVERAGE(G183:G186)","v":{"$error":"#DIV/0!"}}]
["Air Sampling Array Individual \nMeasurement Temperatures",null,"#15-A",null,{"$f":"'Test Conditions'!$B$19","v":"°C"}]
[null,null,"#15-B",null,{"$f":"'Test Conditions'!$B$19","v":"°C"}]
[null,null,"#15-C",null,{"$f":"'Test Conditions'!$B$19","v":"°C"}]
[null,null,"#15-D",null,{"$f":"'Test Conditions'!$B$19","v":"°C"}]
[null,null,"Recirculation Thermocouple",null,{"$f":"'Test Conditions'!$B$19","v":"°C"}]
["Air Sampling Array #16, Mean Air Temperature",null,null,null,{"$f":"'Test Conditions'!$B$19","v":"°C"},null,{"$f":"AVERAGE(G189:G192)","v":{"$error":"#DIV/0!"}}]
["Air Sampling Array Individual \nMeasurement Temperatures",null,"#16-A",null,{"$f":"'Test Conditions'!$B$19","v":"°C"}]
[null,null,"#16-B",null,{"$f":"'Test Conditions'!$B$19","v":"°C"}]
[null,null,"#16-C",null,{"$f":"'Test Conditions'!$B$19","v":"°C"}]
[null,null,"#16-D",null,{"$f":"'Test Conditions'!$B$19","v":"°C"}]
[null,null,"Recirculation Thermocouple",null,{"$f":"'Test Conditions'!$B$19","v":"°C"}]
["Air Sampling Array #17, Mean Air Temperature",null,null,null,{"$f":"'Test Conditions'!$B$19","v":"°C"},null,{"$f":"AVERAGE(G195:G198)","v":{"$error":"#DIV/0!"}}]
["Air Sampling Array Individual \nMeasurement Temperatures",null,"#17-A",null,{"$f":"'Test Conditions'!$B$19","v":"°C"}]
[null,null,"#17-B",null,{"$f":"'Test Conditions'!$B$19","v":"°C"}]
[null,null,"#17-C",null,{"$f":"'Test Conditions'!$B$19","v":"°C"}]
[null,null,"#17-D",null,{"$f":"'Test Conditions'!$B$19","v":"°C"}]
[null,null,"Recirculation Thermocouple",null,{"$f":"'Test Conditions'!$B$19","v":"°C"}]
["Air Sampling Array #18, Mean Air Temperature",null,null,null,{"$f":"'Test Conditions'!$B$19","v":"°C"},null,{"$f":"AVERAGE(G201:G204)","v":{"$error":"#DIV/0!"}}]
["Air Sampling Array Individual \nMeasurement Temperatures",null,"#18-A",null,{"$f":"'Test Conditions'!$B$19","v":"°C"}]
[null,null,"#18-B",null,{"$f":"'Test Conditions'!$B$19","v":"°C"}]
[null,null,"#18-C",null,{"$f":"'Test Conditions'!$B$19","v":"°C"}]
[null,null,"#18-D",null,{"$f":"'Test Conditions'!$B$19","v":"°C"}]
[null,null,"Recirculation Thermocouple",null,{"$f":"'Test Conditions'!$B$19","v":"°C"}]
["Air Sampling Array #19, Mean Air Temperature",null,null,null,{"$f":"'Test Conditions'!$B$19","v":"°C"},null,{"$f":"AVERAGE(G207:G210)","v":{"$error":"#DIV/0!"}}]
["Air Sampling Array Individual \nMeasurement Temperatures",null,"#19-A",null,{"$f":"'Test Conditions'!$B$19","v":"°C"}]
[null,null,"#19-B",null,{"$f":"'Test Conditions'!$B$19","v":"°C"}]
[null,null,"#19-C",null,{"$f":"'Test Conditions'!$B$19","v":"°C"}]
[null,null,"#19-D",null,{"$f":"'Test Conditions'!$B$19","v":"°C"}]
[null,null,"Recirculation Thermocouple",null,{"$f":"'Test Conditions'!$B$19","v":"°C"}]
["Air Sampling Array #20, Mean Air Temperature",null,null,null,{"$f":"'Test Conditions'!$B$19","v":"°C"},null,{"$f":"AVERAGE(G213:G216)","v":{"$error":"#DIV/0!"}}]
["Air Sampling Array Individual \nMeasurement Temperatures",null,"#20-A",null,{"$f":"'Test Conditions'!$B$19","v":"°C"}]
[null,null,"#20-B",null,{"$f":"'Test Conditions'!$B$19","v":"°C"}]
[null,null,"#20-C",null,{"$f":"'Test Conditions'!$B$19","v":"°C"}]
[null,null,"#20-D",null,{"$f":"'Test Conditions'!$B$19","v":"°C"}]
[null,null,"Recirculation Thermocouple",null,{"$f":"'Test Conditions'!$B$19","v":"°C"}]
[]
["Atmospheric Pressure Correction",null,null,null,"Units","Evaporator","Condenser"]
["Location of Water Flow Meter Relative to Chiller",null,null,null,"-"]
["Water Temperature (T) for Density",null,null,null,{"$f":"'Test Conditions'!$B$18","v":"°C"},{"$f":"IF($F$220=\"Entering\",$F$16,$F$14)","v":{"$error":"#DIV/0!"}}]
["Water Density (ρ)",null,null,null,{"$f":"IF('Test Plan'!$B$19=\"I-P\",'Unit Conversion'!$B$10,'Unit Conversion'!$C$10)","v":"kg/m³"},{"$f":"IF('Test Plan'!$B$19=\"I-P\",(-0.00000000074704*$F$221^4)+(0.00000052643*$F$221^3)+(-0.00018846*$F$221^2)+(0.012164*$F$221)+62.227,((-0.00000012556*$F$221^4)+(0.000040229*$F$221^3)+(-0.0073948*$F$221^2)+(0.046734*$F$221)+1000.2))","v":{"$error":"#DIV/0!"}}]
["Average Water Temperature (T) for Specific Heat & ∆pcorrected Density",null,null,null,{"$f":"'Test Conditions'!$B$18","v":"°C"},{"$f":"AVERAGE($F$14,$F$16)","v":{"$error":"#DIV/0!"}}]
["Water Specific Heat (cp)",null,null,null,{"$f":"IF('Test Plan'!$B$19=\"I-P\",'Unit Conversion'!$B$13,'Unit Conversion'!$C$13)","v":"kJ/kg·K"},{"$f":"IF('Test Plan'!$B$19=\"I-P\",(-0.00000000000040739*$F$223^5)+(0.00000000031031*$F$223^4)+(-0.000000092501*$F$223^3)+(0.000014071*$F$223^2)+(-0.0010677*$F$223)+1.0295,((-0.00000000003222*$F$223^5)+(0.00000001077*$F$223^4)+(-0.0000013901*$F$223^3)+(0.000094433*$F$223^2)+(-0.0031103*$F$223)+4.216))","v":{"$error":"#DIV/0!"}}]
["Water Density (ρ) for ∆pcorrected",null,null,null,{"$f":"IF('Test Plan'!$B$19=\"I-P\",'Unit Conversion'!$B$10,'Unit Conversion'!$C$10)","v":"kg/m³"},{"$f":"IF('Test Plan'!$B$19=\"I-P\",(-0.00000000074704*$F$223^4)+(0.00000052643*$F$223^3)+(-0.00018846*$F$223^2)+(0.012164*$F$223)+62.227,((-0.00000012556*$F$223^4)+(0.000040229*$F$223^3)+(-0.0073948*$F$223^2)+(0.046734*$F$223)+1000.2))","v":{"$error":"#DIV/0!"}}]
["Water Mass Flow Rate (mw)",null,null,null,{"$f":"IF('Test Plan'!$B$19=\"I-P\",'Unit Conversion'!$B$11,'Unit Conversion'!$C$11)","v":"kg/h"},{"$f":"IF('Test Plan'!$B$19=\"I-P\",$F$18*$F$222/0.124675,$F$18*$F$222)","v":{"$error":"#DIV/0!"}}]
["Gross Refrigeranting Capacity (Q'ev)",null,null,null,{"$f":"'Test Plan'!$B$125","v":"kW"},{"$f":"IF('Test Plan'!$B$19=\"I-P\",$F$226*($F$224*ABS($F$16-$F$14)+(0.18505*$F$23/$F$225*0.4331))/12000,$F$226*($F$224*ABS($F$16-$F$14)+($F$23/$F$225))/3600)","v":{"$error":"#DIV/0!"}}]
["Net Refrigerating Capacity (Qev)",null,null,null,{"$f":"'Test Plan'!$B$125","v":"kW"},{"$f":"IF('Test Plan'!$B$19=\"I-P\",$F$226*($F$224*ABS($F$16-$F$14))/12000,$F$226*($F$224*ABS($F$16-$F$14))/3600)","v":{"$error":"#DIV/0!"}}]
["Cooling Energy Efficiency",null,null,null,{"$f":"'Test Plan'!$B$126","v":"kW/kW"},{"$f":"IF('Test Plan'!$B$19=\"I-P\",$F$26/$F$228,$F$228/$F$26)","v":{"$error":"#DIV/0!"}}]
["Coefficient Correction Factor (Capacity), DQ",null,null,null,"-",null,{"$f":"IF('Test Plan'!$B$19=\"I-P\",0.0011273*$G$12^2-0.041272*$G$12+1.36304,0.000023713*$G$12^2-0.005986*$G$12+1.36304)","v":{"$error":"#DIV/0!"}}]
["Coefficient Correction Factor (Efficiency), Dƞ",null,null,null,"-",null,{"$f":"IF('Test Plan'!$B$19=\"I-P\",0.0024308*$G$12^2-0.090075*$G$12+1.79872,0.000051135*$G$12^2-0.013064*$G$12+1.79872)","v":{"$error":"#DIV/0!"}}]
["Correction Factor (Capacity), CFQ",null,null,null,"-",null,{"$f":"IF('Test Plan'!$B$19=\"I-P\",1+($F$228/'100% Load Condition '!$F$228)*($G$230-1)*EXP(-0.35*(($G$231*(12/'100% Load Condition '!$F$229))-9.6)),1+($F$228/'100% Load Condition '!$F$228)*($G$230-1)*EXP(-0.35*((3.41214*$G$231*'100% Load Condition '!$F$229)-9.6)))","v":{"$error":"#DIV/0!"}}]
["Correction Factor (Efficiency), CFƞ",null,null,null,"-",null,{"$f":"IF('Test Plan'!$B$19=\"I-P\",1+($F$228/'100% Load Condition '!$F$228)*($G$231-1)*EXP(-0.35*(($G$231*(12/'100% Load Condition '!$F$229))-9.6)),1+($F$228/'100% Load Condition '!$F$228)*($G$231-1)*EXP(-0.35*((3.41214*$G$231*'100% Load Condition '!$F$229)-9.6)))","v":{"$error":"#DIV/0!"}}]
[]
["Test Result",null,null,null,"Units","Evaporator"]
["Corrected Net Refrigerating Capacity (Qev)",null,null,null,{"$f":"'Test Plan'!$B$125","v":"kW"},{"$f":"$F$228*$G$232","v":{"$error":"#DIV/0!"}}]
["Corrected Cooling Energy Efficiency",null,null,null,{"$f":"'Test Plan'!$B$126","v":"kW/kW"},{"$f":"IF('Test Plan'!$B$19=\"I-P\",$F$229/$G$233,$F$229*$G$233)","v":{"$error":"#DIV/0!"}}]
["Water Pressure Drop",null,null,null,{"$f":"'Test Plan'!$B$127","v":"kPa"},{"$f":"$F$23","v":{"$error":"#DIV/0!"}}]
[]
[null,null,null,"Evaporator Water",null,null,null,null,null,null,null,null,null,"Condenser Air",null,"Electrical"]
[null,null,null,"Lvg. Temp.",null,null,"Ent. Temp.",null,null,"Flow Rate",null,null,null,null,null,"Power",null,null,"Total Voltage","Voltage 1",null,null,null,"Voltage 2",null,null,null,"Frequency"]
["Laboratory Data","Start Time","Stop Time",null,null,{"$f":"'Test Conditions'!$B$18","v":"°C"},null,null,{"$f":"'Test Conditions'!$B$18","v":"°C"},null,null,null,"Press. Drop","Ent. Temp.","Atm Press.",null,null,"kW"]
["Unit",{"$f":"$C$9","v":"h:mm:ss:ms"},{"$f":"$C$9","v":"h:mm:ss:ms"},null,null,null,null,null,null,null,null,null,{"$f":"IF('Test Plan'!$B$19=\"I-P\",'Unit Conversion'!$B$9,'Unit Conversion'!$C$9)","v":"kPa"},{"$f":"'Test Conditions'!$B$19","v":"°C"},{"$f":"IF('Test Plan'!$B$19=\"I-P\",'Unit Conversion'!$B$7,'Unit Conversion'!$C$7)","v":"kPa"}]
["Mean"]
["Data Comparison",{"$f":"ABS(B244-Zero)*24*60*60","v":0},{"$f":"ABS(C244-INDEX(Zero:C10196,$B$10))*24*60*60","v":{"$error":"#VALUE!"}},null,null,{"$f":"ABS(F244-F250)","v":{"$error":"#DIV/0!"}},null,null,{"$f":"ABS(I244-I250)","v":{"$error":"#DIV/0!"}},null,null,null,{"$f":"ABS(M244-M250)","v":{"$error":"#DIV/0!"}},{"$f":"ABS(N244-N250)","v":{"$error":"#DIV/0!"}},{"$f":"ABS(O244-O250)/O250","v":{"$error":"#DIV/0!"}},null,null,{"$f":"ABS(R244-R250)/R250","v":{"$error":"#DIV/0!"}}]
["Use Lab Data?"]
["Test Stand Data","Time Interval","Time Stamp",1,2,"Avg.",1,2,"Avg.",1,2,"Avg.","Press. Drop","Ent. Temp.","Atm Press.",1,2,"Avg.","Avg","Avg."," A-B"," B-C"," C-A","Avg."," A-B"," B-C"," C-A","Avg.",1,2]
["Unit",{"$f":"$C$9","v":"h:mm:ss:ms"},{"$f":"$C$9","v":"h:mm:ss:ms"},{"$f":"'Test Conditions'!$B$18","v":"°C"},{"$f":"'Test Conditions'!$B$18","v":"°C"},{"$f":"'Test Conditions'!$B$18","v":"°C"},{"$f":"'Test Conditions'!$B$19","v":"°C"},{"$f":"'Test Conditions'!$B$19","v":"°C"},{"$f":"'Test Conditions'!$B$19","v":"°C"},{"$f":"'Test Conditions'!$B$20","v":"m³/h"},{"$f":"'Test Conditions'!$B$20","v":"m³/h"},{"$f":"'Test Conditions'!$B$20","v":"m³/h"},{"$f":"IF('Test Plan'!$B$19=\"I-P\",'Unit Conversion'!$B$9,'Unit Conversion'!$C$9)","v":"kPa"},{"$f":"'Test Conditions'!$B$19","v":"°C"},{"$f":"IF('Test Plan'!$B$19=\"I-P\",'Unit Conversion'!$B$7,'Unit Conversion'!$C$7)","v":"kPa"},"kW","kW","kW","V","V","V","V","V","V","V","V","V","Hz","Hz","Hz"]
["Rating","-","-",{"$f":"'Test Conditions'!$C$88","v":0},{"$f":"'Test Conditions'!$C$88","v":0},{"$f":"'Test Conditions'!$C$88","v":0},{"$f":"'Test Plan'!$C$95","v":0},{"$f":"'Test Plan'!$C$95","v":0},{"$f":"'Test Plan'!$C$95","v":0},{"$f":"'Test Plan'!$C$97","v":0},{"$f":"'Test Plan'!$C$97","v":0},{"$f":"'Test Plan'!$C$97","v":0},{"$f":"IF('Test Plan'!$B$19=\"I-P\",'Test Plan'!$D$127*0.4331,'Test Plan'!$D$127)","v":0},{"$f":"'Test Conditions'!$D$89","v":0},{"$f":"'Test Plan'!$C$41","v":101.33},{"$f":"'Test Plan'!$C$101","v":0},{"$f":"'Test Plan'!$C$101","v":0},{"$f":"'Test Plan'!$C$101","v":0},{"$f":"'Test Plan'!$B$14","v":0},{"$f":"'Test Plan'!$B$14","v":0},{"$f":"'Test Plan'!$B$14","v":0},{"$f":"'Test Plan'!$B$14","v":0},{"$f":"'Test Plan'!$B$14","v":0},{"$f":"'Test Plan'!$B$14","v":0},{"$f":"'Test Plan'!$B$14","v":0},{"$f":"'Test Plan'!$B$14","v":0},{"$f":"'Test Plan'!$B$14","v":0},{"$f":"'Test Plan'!$D$14","v":0},{"$f":"'Test Plan'!$D$14","v":0},{"$f":"'Test Plan'!$D$14","v":0}]
["Mean","-","-",{"$f":"AVERAGE(D252:INDEX(D252:D10083,$B$9))","v":{"$error":"#DIV/0!"}},{"$f":"AVERAGE(E252:INDEX(E252:E10083,$B$9))","v":{"$error":"#DIV/0!"}},{"$f":"AVERAGE(D250:E250)","v":{"$error":"#DIV/0!"}},{"$f":"AVERAGE(G252:INDEX(G252:G10083,$B$9))","v":{"$error":"#DIV/0!"}},{"$f":"AVERAGE(H252:INDEX(H252:H10083,$B$9))","v":{"$error":"#DIV/0!"}},{"$f":"AVERAGE(G250:H250)","v":{"$error":"#DIV/0!"}},{"$f":"AVERAGE(J252:INDEX(J252:J10083,$B$9))","v":{"$error":"#DIV/0!"}},{"$f":"AVERAGE(K252:INDEX(K252:K10083,$B$9))","v":{"$error":"#DIV/0!"}},{"$f":"AVERAGE(J250:K250)","v":{"$error":"#DIV/0!"}},{"$f":"AVERAGE(M252:INDEX(M252:M10083,$B$9))","v":{"$error":"#DIV/0!"}},{"$f":"AVERAGE(N252:INDEX(N252:N10083,$B$9))","v":{"$error":"#DIV/0!"}},{"$f":"AVERAGE(O252:INDEX(O252:O10083,$B$9))","v":{"$error":"#DIV/0!"}},{"$f":"AVERAGE(P252:INDEX(P252:P10083,$B$9))","v":{"$error":"#DIV/0!"}},{"$f":"AVERAGE(Q252:INDEX(Q252:Q10083,$B$9))","v":{"$error":"#DIV/0!"}},{"$f":"AVERAGE(P250:Q250)","v":{"$error":"#DIV/0!"}},{"$f":"AVERAGE(T250,X250)","v":{"$error":"#DIV/0!"}},{"$f":"AVERAGE(T252:INDEX(T252:T10083,$B$9))","v":{"$error":"#DIV/0!"}},{"$f":"AVERAGE(U252:INDEX(U252:U10083,$B$9))","v":{"$error":"#DIV/0!"}},{"$f":"AVERAGE(V252:INDEX(V252:V10083,$B$9))","v":{"$error":"#DIV/0!"}},{"$f":"AVERAGE(W252:INDEX(W252:W10083,$B$9))","v":{"$error":"#DIV/0!"}},{"$f":"AVERAGE(X252:INDEX(X252:X10083,$B$9))","v":{"$error":"#DIV/0!"}},{"$f":"AVERAGE(Y252:INDEX(Y252:Y10083,$B$9))","v":{"$error":"#DIV/0!"}},{"$f":"AVERAGE(Z252:INDEX(Z252:Z10083,$B$9))","v":{"$error":"#DIV/0!"}},{"$f":"AVERAGE(AA252:INDEX(AA252:AA10083,$B$9))","v":{"$error":"#DIV/0!"}},{"$f":"AVERAGE(AC250:AD250)","v":{"$error":"#DIV/0!"}},{"$f":"AVERAGE(AC252:INDEX(AC252:AC10083,$B$9))","v":{"$error":"#DIV/0!"}},{"$f":"AVERAGE(AD252:INDEX(AD252:AD10083,$B$9))","v":{"$error":"#DIV/0!"}}]
["St. Dev.","-","-",{"$f":"_xlfn.STDEV.S(D252:INDEX(D252:D10083,$B$9))","v":{"$error":"#DIV/0!"}},{"$f":"_xlfn.STDEV.S(E252:INDEX(E252:E10083,$B$9))","v":{"$error":"#DIV/0!"}},{"$f":"SQRT((D251^2+E251^2)/2)","v":{"$error":"#DIV/0!"}},{"$f":"_xlfn.STDEV.S(G252:INDEX(G252:G10083,$B$9))","v":{"$error":"#DIV/0!"}},{"$f":"_xlfn.STDEV.S(H252:INDEX(H252:H10083,$B$9))","v":{"$error":"#DIV/0!"}},{"$f":"SQRT((G251^2+H251^2)/2)","v":{"$error":"#DIV/0!"}},{"$f":"_xlfn.STDEV.S(J252:INDEX(J252:J10083,$B$9))","v":{"$error":"#DIV/0!"}},{"$f":"_xlfn.STDEV.S(K252:INDEX(K252:K10083,$B$9))","v":{"$error":"#DIV/0!"}},{"$f":"SQRT((J251^2+K251^2)/2)","v":{"$error":"#DIV/0!"}},{"$f":"_xlfn.STDEV.S(M252:INDEX(M252:M10083,$B$9))","v":{"$error":"#DIV/0!"}},{"$f":"_xlfn.STDEV.S(N252:INDEX(N252:N10083,$B$9))","v":{"$error":"#DIV/0!"}},{"$f":"_xlfn.STDEV.S(O252:INDEX(O252:O10083,$B$9))","v":{"$error":"#DIV/0!"}},{"$f":"_xlfn.STDEV.S(P252:INDEX(P252:P10083,$B$9))","v":{"$error":"#DIV/0!"}},{"$f":"_xlfn.STDEV.S(Q252:INDEX(Q252:Q10083,$B$9))","v":{"$error":"#DIV/0!"}},{"$f":"SQRT((P251^2+Q251^2)/2)","v":{"$error":"#DIV/0!"}},{"$f":"SQRT((T251^2+X251^2)/2)","v":{"$error":"#DIV/0!"}},{"$f":"_xlfn.STDEV.S(T252:INDEX(T252:T10083,$B$9))","v":{"$error":"#DIV/0!"}},{"$f":"_xlfn.STDEV.S(U252:INDEX(U252:U10083,$B$9))","v":{"$error":"#DIV/0!"}},{"$f":"_xlfn.STDEV.S(V252:INDEX(V252:V10083,$B$9))","v":{"$error":"#DIV/0!"}},{"$f":"_xlfn.STDEV.S(W252:INDEX(W252:W10083,$B$9))","v":{"$error":"#DIV/0!"}},{"$f":"_xlfn.STDEV.S(X252:INDEX(X252:X10083,$B$9))","v":{"$error":"#DIV/0!"}},{"$f":"_xlfn.STDEV.S(Y252:INDEX(Y252:Y10083,$B$9))","v":{"$error":"#DIV/0!"}},{"$f":"_xlfn.STDEV.S(Z252:INDEX(Z252:Z10083,$B$9))","v":{"$error":"#DIV/0!"}},{"$f":"_xlfn.STDEV.S(AA252:INDEX(AA252:AA10083,$B$9))","v":{"$error":"#DIV/0!"}},{"$f":"SQRT((AC251^2+AD251^2)/2)","v":{"$error":"#DIV/0!"}},{"$f":"_xlfn.STDEV.S(AC252:INDEX(AC252:AC10083,$B$9))","v":{"$error":"#DIV/0!"}},{"$f":"_xlfn.STDEV.S(AD252:INDEX(AD252:AD10083,$B$9))","v":{"$error":"#DIV/0!"}}]
[null,{"$f":"C253-C252","v":"00:00:00"}]
[null,{"$f":"C254-C253","v":"00:00:00"}]
[null,{"$f":"C255-C254","v":"00:00:00"}]
[null,"00:00:00"]
[null,"00:00:00"]
[null,"00:00:00"]
[null,"00:00:00"]
[null,"00:00:00"]
[null,"00:00:00"]
[null,"00:00:00"]
[null,"00:00:00"]
[null,"00:00:00"]
[null,"00:00:00"]
[null,"00:00:00"]
[null,"00:00:00"]
[null,"00:00:00"]
[null,"00:00:00"]
[null,"00:00:00"]
[null,"00:00:00"]
[null,"00:00:00"]
[null,"00:00:00"]
[null,"00:00:00"]
[null,"00:00:00"]
[null,"00:00:00"]
[null,"00:00:00"]
[null,"00:00:00"]
[null,"00:00:00"]
[null,{"$f":"C280-C279","v":"00:00:00"}]
[null,{"$f":"C281-C280","v":"00:00:00"}]
[null,"00:00:00"]
[null,{"$f":"IF(C283=0,\"\",C283-C282)","v":""}]
[null,{"$f":"IF(C284=0,\"\",C284-C283)","v":""}]
[null,{"$f":"IF(C285=0,\"\",C285-C284)","v":""}]
[null,""]
[null,""]
[null,""]
[null,""]
[null,""]
[null,""]
[null,""]
[null,""]
[null,""]
[null,""]
[null,""]
[null,""]
[null,""]
[null,""]
[null,""]
[null,""]
[null,""]
[null,""]
[null,""]
[null,""]
[null,""]
[null,""]
[null,""]
[null,""]
[null,""]
[null,""]
[null,""]
[null,""]
[null,""]
[null,""]
[null,""]
[null,""]
[null,""]
[null,""]
[null,""]
[null,""]
[null,""]
[null,""]
[null,""]
[null,""]
[null,""]
[null,""]
[null,""]
[null,""]
[null,""]
[null,""]
[null,""]
[null,""]
[null,""]
[null,""]
[null,""]
[null,""]
[null,""]
[null,""]
[null,""]
[null,""]
[null,""]
[null,""]
[null,""]
[null,""]
[null,""]
[null,""]
[null,""]
[null,{"$f":"IF(C349=0,\"\",C349-C348)","v":""}]
[null,""]
[null,""]
[null,""]
[null,""]
[null,""]
[null,""]
[null,""]
[null,""]
[null,""]
[null,""]
[null,""]
[null,""]
[null,""]
[null,""]
[null,""]
[null,""]
[null,""]
[null,""]
[null,""]
[null,""]
[null,""]
[null,""]
[null,""]
[null,""]
[null,""]
[null,""]
[null,""]
[null,""]
[null,""]
[null,""]
[null,""]
[null,""]
[null,""]
[null,""]
[null,""]
[null,""]
[null,""]
[null,""]
[null,""]
[null,""]
[null,""]
[null,""]
[null,""]
[null,""]
[null,""]
[null,""]
[null,""]
[null,""]
[null,""]
[null,""]
[null,""]
[null,""]
[null,""]
[null,""]
[null,""]
[null,""]
[null,""]
[null,""]
[null,""]
[null,""]
[null,""]
[null,""]
[null,""]
[null,{"$f":"IF(C413=0,\"\",C413-C412)","v":""}]
[null,""]
[null,""]
[null,""]
[null,""]
[null,""]
[null,""]
[null,""]
[null,""]
[null,""]
[null,""]
[null,""]
[null,""]
[null,""]
[null,""]
[null,""]
[null,""]
[null,""]
[null,""]
[null,""]
[null,""]
[null,""]
[null,""]
[null,""]
[null,""]
[null,""]
[null,""]
[null,""]
[null,""]
[null,""]
[null,""]
[null,""]
[null,""]
[null,""]
[null,""]
[null,""]
[null,""]
[null,""]
[null,""]
[null,""]
[null,""]
[null,""]
[null,""]
[null,""]
[null,""]
[null,""]
[null,""]
[null,""]
[null,""]
[null,""]
[null,""]
[null,""]
[null,""]
[null,""]
[null,""]
[null,""]
[null,""]
[null,""]
[null,""]
[null,""]
[null,""]
[null,""]
[null,""]
[null,""]
[null,{"$f":"IF(C477=0,\"\",C477-C476)","v":""}]
[null,""]
[null,""]
[null,""]
[null,""]
[null,""]
[null,""]
[null,""]
[null,""]
[null,""]
[null,""]
[null,""]
[null,""]
[null,""]
[null,""]
[null,""]
[null,""]
[null,""]
[null,""]
[null,""]
[null,""]
[null,""]
[null,""]
[null,""]
[null,""]
[null,""]
[null,""]
[null,""]
[null,""]
[null,""]
[null,""]
[null,""]
[null,""]
[null,""]
[null,""]
[null,""]
[null,""]
[null,""]
[null,""]
[null,""]
[null,""]
[null,""]
[null,""]
[null,""]
[null,""]
[null,""]
[null,""]
[null,""]
[null,""]
[null,""]
[null,""]
[null,""]
[null,""]
[null,""]
[null,""]
[null,""]
[null,""]
[null,""]
[null,""]
[null,""]
[null,""]
[null,""]
[null,""]
[null,""]
[null,{"$f":"IF(C541=0,\"\",C541-C540)","v":""}]
[null,""]
[null,""]
[null,""]
[null,""]
[null,""]
[null,""]
[null,""]
[null,""]
[null,""]
[null,""]
[null,""]
[null,""]
[null,""]
[null,""]
[null,""]
[null,""]
[null,""]
[null,""]
[null,""]
[null,""]
[null,""]
[null,""]
[null,""]
[null,""]
[null,""]
[null,""]
[null,""]
[null,""]
[null,""]
[null,""]
[null,""]
[null,""]
[null,""]
[null,""]
[null,""]
[null,""]
[null,""]
[null,""]
[null,""]
[null,""]
[null,""]
[null,""]
[null,""]
[null,""]
[null,""]
[null,""]
[null,""]
[null,""]
[null,""]
[null,""]
[null,""]
[null,""]
[null,""]
[null,""]
[null,""]
[null,""]
[null,""]
[null,""]
[null,""]
[null,""]
[null,""]
[null,""]
[null,""]
[null,{"$f":"IF(C605=0,\"\",C605-C604)","v":""}]
[null,""]
[null,""]
[null,""]
[null,""]
[null,""]
[null,""]
[null,""]
[null,""]
[null,""]
[null,""]
[null,""]
[null,""]
[null,""]
[null,""]
[null,""]
[null,""]
[null,""]
[null,""]
[null,""]
[null,""]
[null,""]
[null,""]
[null,""]
[null,""]
[null,""]
[null,""]
[null,""]
[null,""]
[null,""]
[null,""]
[null,""]
[null,""]
[null,""]
[null,""]
[null,""]
[null,""]
[null,""]
[null,""]
[null,""]
[null,""]
[null,""]
[null,""]
[null,""]
[null,""]
[null,""]
[null,""]
[null,""]
[null,""]
[null,""]
[null,""]
[null,""]
[null,""]
[null,""]
[null,""]
[null,""]
[null,""]
[null,""]
[null,""]
[null,""]
[null,""]
[null,""]
[null,""]
[null,""]
[null,{"$f":"IF(C669=0,\"\",C669-C668)","v":""}]
[null,""]
[null,""]
[null,""]
[null,""]
[null,""]
[null,""]
[null,""]
[null,""]
[null,""]
[null,""]
[null,""]
[null,""]
[null,""]
[null,""]
[null,""]
[null,""]
[null,""]
[null,""]
[null,""]
[null,""]
[null,""]
[null,""]
[null,""]
[null,""]
[null,""]
[null,""]
[null,""]
[null,""]
[null,""]
[null,""]
[null,""]
[null,""]
[null,""]
[null,""]
[null,""]
[null,""]
[null,""]
[null,""]
[null,""]
[null,""]
[null,""]
[null,""]
[null,""]
[null,""]
[null,""]
[null,""]
[null,""]
[null,""]
[null,""]
[null,""]
[null,""]
[null,""]
[null,""]
[null,""]
[null,""]
[null,""]
[null,""]
[null,""]
[null,""]
[null,""]
[null,""]
[null,""]
[null,""]
[null,{"$f":"IF(C733=0,\"\",C733-C732)","v":""}]
[null,""]
[null,""]
[null,""]
[null,""]
[null,""]
[null,""]
[null,""]
[null,""]
[null,""]
[null,""]
[null,""]
[null,""]
[null,""]
[null,""]
[null,""]
[null,""]
[null,""]
[null,""]
[null,""]
[null,""]
[null,""]
[null,""]
[null,""]
[null,""]
[null,""]
[null,""]
[null,""]
[null,""]
[null,""]
[null,""]
[null,""]
[null,""]
[null,""]
[null,""]
[null,""]
[null,""]
[null,""]
[null,""]
[null,""]
[null,""]
[null,""]
[null,""]
[null,""]
[null,""]
[null,""]
[null,""]
[null,""]
[null,""]
[null,""]
[null,""]
[null,""]
[null,""]
[null,""]
[null,""]
[null,""]
[null,""]
[null,""]
[null,""]
[null,""]
[null,""]
[null,""]
[null,""]
[null,""]
[null,{"$f":"IF(C797=0,\"\",C797-C796)","v":""}]
[null,""]
[null,""]
[null,""]
[null,""]
[null,""]
[null,""]
[null,""]
[null,""]
[null,""]
[null,""]
[null,""]
[null,""]
[null,""]
[null,""]
[null,""]
[null,""]
[null,""]
[null,""]
[null,""]
[null,""]
[null,""]
[null,""]
[null,""]
[null,""]
[null,""]
[null,""]
[null,""]
[null,""]
[null,""]
[null,""]
[null,""]
[null,""]
[null,""]
[null,""]
[null,""]
[null,""]
[null,""]
[null,""]
[null,""]
[null,""]
[null,""]
[null,""]
[null,""]
[null,""]
[null,""]
[null,""]
[null,""]
[null,""]
[null,""]
[null,""]
[null,""]
[null,""]
[null,""]
[null,""]
[null,""]
[null,""]
[null,""]
[null,""]
[null,""]
[null,""]
[null,""]
[null,""]
[null,""]
[null,{"$f":"IF(C861=0,\"\",C861-C860)","v":""}]
[null,""]
[null,""]
[null,""]
[null,""]
[null,""]
[null,""]
[null,""]
[null,""]
[null,""]
[null,""]
[null,""]
[null,""]
[null,""]
[null,""]
[null,""]
[null,""]
[null,""]
[null,""]
[null,""]
[null,""]
[null,""]
[null,""]
[null,""]
[null,""]
[null,""]
[null,""]
[null,""]
[null,""]
[null,""]
[null,""]
[null,""]
[null,""]
[null,""]
[null,""]
[null,""]
[null,""]
[null,""]
[null,""]
[null,""]
[null,""]
[null,""]
[null,""]
[null,""]
[null,""]
[null,""]
[null,""]
[null,""]
[null,""]
[null,""]
[null,""]
[null,""]
[null,""]
[null,""]
[null,""]
[null,""]
[null,""]
[null,""]
[null,""]
[null,""]
[null,""]
[null,""]
[null,""]
[null,""]
[null,{"$f":"IF(C925=0,\"\",C925-C924)","v":""}]
[null,""]
[null,""]
[null,""]
[null,""]
[null,""]
[null,""]
[null,""]
[null,""]
[null,""]
[null,""]
[null,""]
[null,""]
[null,""]
[null,""]
[null,""]
[null,""]
[null,""]
[null,""]
[null,""]
[null,""]
[null,""]
[null,""]
[null,""]
[null,""]
[null,""]
[null,""]
[null,""]
[null,""]
[null,""]
[null,""]
[null,""]
[null,""]
[null,""]
[null,""]
[null,""]
[null,""]
[null,""]
[null,""]
[null,""]
[null,""]
[null,""]
[null,""]
[null,""]
[null,""]
[null,""]
[null,""]
[null,""]
[null,""]
[null,""]
[null,""]
[null,""]
[null,""]
[null,""]
[null,""]
[null,""]
[null,""]
[null,""]
[null,""]
[null,""]
[null,""]
[null,""]
[null,""]
[null,""]
[null,{"$f":"IF(C989=0,\"\",C989-C988)","v":""}]
[null,""]
[null,""]
[null,""]
[null,""]
[null,""]
[null,""]
[null,""]
[null,""]
[null,""]
[null,""]
[null,""]
[null,""]
[null,""]
[null,""]
[null,""]
[null,""]
[null,""]
[null,""]
[null,""]
[null,""]
[null,""]
[null,""]
[null,""]
[null,""]
[null,""]
[null,""]
[null,""]
[null,""]
[null,""]
[null,""]
[null,""]
[null,""]
[null,""]
[null,""]
[null,""]
[null,""]
[null,""]
[null,""]
[null,""]
[null,""]
[null,""]
[null,""]
[null,""]
[null,""]
[null,""]
[null,""]
[null,""]
[null,""]
[null,""]
[null,""]
[null,""]
[null,""]
[null,""]
[null,""]
[null,""]
[null,""]
[null,""]
[null,""]
[null,""]
[null,""]
[null,""]
[null,""]
[null,""]
[null,{"$f":"IF(C1053=0,\"\",C1053-C1052)","v":""}]
[null,""]
[null,""]
[null,""]
[null,""]
[null,""]
[null,""]
[null,""]
[null,""]
[null,""]
[null,""]
[null,""]
[null,""]
[null,""]
[null,""]
[null,""]
[null,""]
[null,""]
[null,""]
[null,""]
[null,""]
[null,""]
[null,""]
[null,""]
[null,""]
[null,""]
[null,""]
[null,""]
[null,""]
[null,""]
[null,""]
[null,""]
[null,""]
[null,""]
[null,""]
[null,""]
[null,""]
[null,""]
[null,""]
[null,""]
[null,""]
[null,""]
[null,""]
[null,""]
[null,""]
[null,""]
[null,""]
[null,""]
[null,""]
[null,""]
[null,""]
[null,""]
[null,""]
[null,""]
[null,""]
[null,""]
[null,""]
[null,""]
[null,""]
[null,""]
[null,""]
[null,""]
[null,""]
[null,""]
[null,{"$f":"IF(C1117=0,\"\",C1117-C1116)","v":""}]
[null,""]
[null,""]
[null,""]
[null,""]
[null,""]
[null,""]
[null,""]
[null,""]
[null,""]
[null,""]
[null,""]
[null,""]
[null,""]
[null,""]
[null,""]
[null,""]
[null,""]
[null,""]
[null,""]
[null,""]
[null,""]
[null,""]
[null,""]
[null,""]
[null,""]
[null,""]
[null,""]
[null,""]
[null,""]
[null,""]
[null,""]
[null,""]
[null,""]
[null,""]
[null,""]
[null,""]
[null,""]
[null,""]
[null,""]
[null,""]
[null,""]
[null,""]
[null,""]
[null,""]
[null,""]
[null,""]
[null,""]
[null,""]
[null,""]
[null,""]
[null,""]
[null,""]
[null,""]
[null,""]
[null,""]
[null,""]
[null,""]
[null,""]
[null,""]
[null,""]
[null,""]
[null,""]
[null,""]
[null,{"$f":"IF(C1181=0,\"\",C1181-C1180)","v":""}]
[null,""]
[null,""]
[null,""]
[null,""]
[null,""]
[null,""]
[null,""]
[null,""]
[null,""]
[null,""]
[null,""]
[null,""]
[null,""]
[null,""]
[null,""]
[null,""]
[null,""]
[null,""]
[null,""]
[null,""]
[null,""]
[null,""]
[null,""]
[null,""]
[null,""]
[null,""]
[null,""]
[null,""]
[null,""]
[null,""]
[null,""]
[null,""]
[null,""]
[null,""]
[null,""]
[null,""]
[null,""]
[null,""]
[null,""]
[null,""]
[null,""]
[null,""]
[null,""]
[null,""]
[null,""]
[null,""]
[null,""]
[null,""]
[null,""]
[null,""]
[null,""]
[null,""]
[null,""]
[null,""]
[null,""]
[null,""]
[null,""]
[null,""]
[null,""]
[null,""]
[null,""]
[null,""]
[null,""]
[null,{"$f":"IF(C1245=0,\"\",C1245-C1244)","v":""}]
[null,""]
[null,""]
[null,""]
[null,""]
[null,""]
[null,""]
[null,""]
[null,""]
[null,""]
[null,""]
[null,""]
[null,""]
[null,""]
[null,""]
[null,""]
[null,""]
[null,""]
[null,""]
[null,""]
[null,""]
[null,""]
[null,""]
[null,""]
[null,""]
[null,""]
[null,""]
[null,""]
[null,""]
[null,""]
[null,""]
[null,""]
[null,""]
[null,""]
[null,""]
[null,""]
[null,""]
[null,""]
[null,""]
[null,""]
[null,""]
[null,""]
[null,""]
[null,""]
[null,""]
[null,""]
[null,""]
[null,""]
[null,""]
[null,""]
[null,""]
[null,""]
[null,""]
[null,""]
[null,""]
[null,""]
[null,""]
[null,""]
[null,""]
[null,""]
[null,""]
[null,""]
[null,""]
[null,""]
[null,{"$f":"IF(C1309=0,\"\",C1309-C1308)","v":""}]
[null,""]
[null,""]
[null,""]
[null,""]
[null,""]
[null,""]
[null,""]
[null,""]
[null,""]
[null,""]
[null,""]
[null,""]
[null,""]
[null,""]
[null,""]
[null,""]
[null,""]
[null,""]
[null,""]
[null,""]
[null,""]
[null,""]
[null,""]
[null,""]
[null,""]
[null,""]
[null,""]
[null,""]
[null,""]
[null,""]
[null,""]
[null,""]
[null,""]
[null,""]
[null,""]
[null,""]
[null,""]
[null,""]
[null,""]
[null,""]
[null,""]
[null,""]
[null,""]
[null,""]
[null,""]
[null,""]
[null,""]
[null,""]
[null,""]
[null,""]
[null,""]
[null,""]
[null,""]
[null,""]
[null,""]
[null,""]
[null,""]
[null,""]
[null,""]
[null,""]
[null,""]
[null,""]
[null,""]
[null,{"$f":"IF(C1373=0,\"\",C1373-C1372)","v":""}]
[null,""]
[null,""]
[null,""]
[null,""]
[null,""]
[null,""]
[null,""]
[null,""]
[null,""]
[null,""]
[null,""]
[null,""]
[null,""]
[null,""]
[null,""]
[null,""]
[null,""]
[null,""]
[null,""]
[null,""]
[null,""]
[null,""]
[null,""]
[null,""]
[null,""]
[null,""]
[null,""]
[null,""]
[null,""]
[null,""]
[null,""]
[null,""]
[null,""]
[null,""]
[null,""]
[null,""]
[null,""]
[null,""]
[null,""]
[null,""]
[null,""]
[null,""]
[null,""]
[null,""]
[null,""]
[null,""]
[null,""]
[null,""]
[null,""]
[null,""]
[null,""]
[null,""]
[null,""]
[null,""]
[null,""]
[null,""]
[null,""]
[null,""]
[null,""]
[null,""]
[null,""]
[null,""]
[null,""]
[null,{"$f":"IF(C1437=0,\"\",C1437-C1436)","v":""}]
[null,""]
[null,""]
[null,""]
[null,""]
[null,""]
[null,""]
[null,""]
[null,""]
[null,""]
[null,""]
[null,""]
[null,""]
[null,""]
[null,""]
[null,""]
[null,""]
[null,""]
[null,""]
[null,""]
[null,""]
[null,""]
[null,""]
[null,""]
[null,""]
[null,""]
[null,""]
[null,""]
[null,""]
[null,""]
[null,""]
[null,""]
[null,""]
[null,""]
[null,""]
[null,""]
[null,""]
[null,""]
[null,""]
[null,""]
[null,""]
[null,""]
[null,""]
[null,""]
[null,""]
[null,""]
[null,""]
[null,""]
[null,""]
[null,""]
[null,""]
[null,""]
[null,""]
[null,""]
[null,""]
[null,""]
[null,""]
[null,""]
[null,""]
[null,""]
[null,""]
[null,""]
[null,""]
[null,""]
[null,{"$f":"IF(C1501=0,\"\",C1501-C1500)","v":""}]
[null,""]
[null,""]
[null,""]
[null,""]
[null,""]
[null,""]
[null,""]
[null,""]
[null,""]
[null,""]
[null,""]
[null,""]
[null,""]
[null,""]
[null,""]
[null,""]
[null,""]
[null,""]
[null,""]
[null,""]
[null,""]
[null,""]
[null,""]
[null,""]
[null,""]
[null,""]
[null,""]
[null,""]
[null,""]
[null,""]
[null,""]
[null,""]
[null,""]
[null,""]
[null,""]
[null,""]
[null,""]
[null,""]
[null,""]
[null,""]
[null,""]
[null,""]
[null,""]
[null,""]
[null,""]
[null,""]
[null,""]
[null,""]
[null,""]
[null,""]
[null,""]
[null,""]
[null,""]
[null,""]
[null,""]
[null,""]
[null,""]
[null,""]
[null,""]
[null,""]
[null,""]
[null,""]
[null,""]
[null,{"$f":"IF(C1565=0,\"\",C1565-C1564)","v":""}]
[null,""]
[null,""]
[null,""]
[null,""]
[null,""]
[null,""]
[null,""]
[null,""]
[null,""]
[null,""]
[null,""]
[null,""]
[null,""]
[null,""]
[null,""]
[null,""]
[null,""]
[null,""]
[null,""]
[null,""]
[null,""]
[null,""]
[null,""]
[null,""]
[null,""]
[null,""]
[null,""]
[null,""]
[null,""]
[null,""]
[null,""]
[null,""]
[null,""]
[null,""]
[null,""]
[null,""]
[null,""]
[null,""]
[null,""]
[null,""]
[null,""]
[null,""]
[null,""]
[null,""]
[null,""]
[null,""]
[null,""]
[null,""]
[null,""]
[null,""]
[null,""]
[null,""]
[null,""]
[null,""]
[null,""]
[null,""]
[null,""]
[null,""]
[null,""]
[null,""]
[null,""]
[null,""]
[null,""]
[null,{"$f":"IF(C1629=0,\"\",C1629-C1628)","v":""}]
[null,""]
[null,""]
[null,""]
[null,""]
[null,""]
[null,""]
[null,""]
[null,""]
[null,""]
[null,""]
[null,""]
[null,""]
[null,""]
[null,""]
[null,""]
[null,""]
[null,""]
[null,""]
[null,""]
[null,""]
[null,""]
[null,""]
[null,""]
[null,""]
[null,""]
[null,""]
[null,""]
[null,""]
[null,""]
[null,""]
[null,""]
[null,""]
[null,""]
[null,""]
[null,""]
[null,""]
[null,""]
[null,""]
[null,""]
[null,""]
[null,""]
[null,""]
[null,""]
[null,""]
[null,""]
[null,""]
[null,""]
[null,""]
[null,""]
[null,""]
[null,""]
[null,""]
[null,""]
[null,""]
[null,""]
[null,""]
[null,""]
[null,""]
[null,""]
[null,""]
[null,""]
[null,""]
[null,""]
[null,{"$f":"IF(C1693=0,\"\",C1693-C1692)","v":""}]
[null,""]
[null,""]
[null,""]
[null,""]
[null,""]
[null,""]
[null,""]
[null,""]
[null,""]
[null,""]
[null,""]
[null,""]
[null,""]
[null,""]
[null,""]
[null,""]
[null,""]
[null,""]
[null,""]
[null,""]
[null,""]
[null,""]
[null,""]
[null,""]
[null,""]
[null,""]
[null,""]
[null,""]
[null,""]
[null,""]
[null,""]
[null,""]
[null,""]
[null,""]
[null,""]
[null,""]
[null,""]
[null,""]
[null,""]
[null,""]
[null,""]
[null,""]
[null,""]
[null,""]
[null,""]
[null,""]
[null,""]
[null,""]
[null,""]
[null,""]
[null,""]
[null,""]
[null,""]
[null,""]
[null,""]
[null,""]
[null,""]
[null,""]
[null,""]
[null,""]
[null,""]
[null,""]
[null,""]
[null,{"$f":"IF(C1757=0,\"\",C1757-C1756)","v":""}]
[null,""]
[null,""]
[null,""]
[null,""]
[null,""]
[null,""]
[null,""]
[null,""]
[null,""]
[null,""]
[null,""]
[null,""]
[null,""]
[null,""]
[null,""]
[null,""]
[null,""]
[null,""]
[null,""]
[null,""]
[null,""]
[null,""]
[null,""]
[null,""]
[null,""]
[null,""]
[null,""]
[null,""]
[null,""]
[null,""]
[null,""]
[null,""]
[null,""]
[null,""]
[null,""]
[null,""]
[null,""]
[null,""]
[null,""]
[null,""]
[null,""]
[null,""]
[null,""]
[null,""]
[null,""]
[null,""]
[null,""]
[null,""]
[null,""]
[null,""]
[null,""]
[null,""]
[null,""]
[null,""]
[null,""]
[null,""]
[null,""]
[null,""]
[null,""]
[null,""]
[null,""]
[null,""]
[null,""]
[null,{"$f":"IF(C1821=0,\"\",C1821-C1820)","v":""}]
[null,""]
[null,""]
[null,""]
[null,""]
[null,""]
[null,""]
[null,""]
[null,""]
[null,""]
[null,""]
[null,""]
[null,""]
[null,""]
[null,""]
[null,""]
[null,""]
[null,""]
[null,""]
[null,""]
[null,""]
[null,""]
[null,""]
[null,""]
[null,""]
[null,""]
[null,""]
[null,""]
[null,""]
[null,""]
[null,""]
[null,""]
[null,""]
[null,""]
[null,""]
[null,""]
[null,""]
[null,""]
[null,""]
[null,""]
[null,""]
[null,""]
[null,""]
[null,""]
[null,""]
[null,""]
[null,""]
[null,""]
[null,""]
[null,""]
[null,""]
[null,""]
[null,""]
[null,""]
[null,""]
[null,""]
[null,""]
[null,""]
[null,""]
[null,""]
[null,""]
[null,""]
[null,""]
[null,""]
[null,{"$f":"IF(C1885=0,\"\",C1885-C1884)","v":""}]
[null,""]
[null,""]
[null,""]
[null,""]
[null,""]
[null,""]
[null,""]
[null,""]
[null,""]
[null,""]
[null,""]
[null,""]
[null,""]
[null,""]
[null,""]
[null,""]
[null,""]
[null,""]
[null,""]
[null,""]
[null,""]
[null,""]
[null,""]
[null,""]
[null,""]
[null,""]
[null,""]
[null,""]
[null,""]
[null,""]
[null,""]
[null,""]
[null,""]
[null,""]
[null,""]
[null,""]
[null,""]
[null,""]
[null,""]
[null,""]
[null,""]
[null,""]
[null,""]
[null,""]
[null,""]
[null,""]
[null,""]
[null,""]
[null,""]
[null,""]
[null,""]
[null,""]
[null,""]
[null,""]
[null,""]
[null,""]
[null,""]
[null,""]
[null,""]
[null,""]
[null,""]
[null,""]
[null,""]
[null,{"$f":"IF(C1949=0,\"\",C1949-C1948)","v":""}]
[null,""]
[null,""]
[null,""]
[null,""]
[null,""]
[null,""]
[null,""]
[null,""]
[null,""]
[null,""]
[null,""]
[null,""]
[null,""]
[null,""]
[null,""]
[null,""]
[null,""]
[null,""]
[null,""]
[null,""]
[null,""]
[null,""]
[null,""]
[null,""]
[null,""]
[null,""]
[null,""]
[null,""]
[null,""]
[null,""]
[null,""]
[null,""]
[null,""]
[null,""]
[null,""]
[null,""]
[null,""]
[null,""]
[null,""]
[null,""]
[null,""]
[null,""]
[null,""]
[null,""]
[null,""]
[null,""]
[null,""]
[null,""]
[null,""]
[null,""]
[null,""]
[null,""]
[null,""]
[null,""]
[null,""]
[null,""]
[null,""]
[null,""]
[null,""]
[null,""]
[null,""]
[null,""]
[null,""]
[null,{"$f":"IF(C2013=0,\"\",C2013-C2012)","v":""}]
[null,""]
[null,""]
[null,""]
[null,""]
[null,""]
[null,""]
[null,""]
[null,""]
[null,""]
[null,""]
[null,""]
[null,""]
[null,""]
[null,""]
[null,""]
[null,""]
[null,""]
[null,""]
[null,""]
[null,""]
[null,""]
[null,""]
[null,""]
[null,""]
[null,""]
[null,""]
[null,""]
[null,""]
[null,""]
[null,""]
[null,""]
[null,""]
[null,""]
[null,""]
[null,""]
[null,""]
[null,""]
[null,""]
[null,""]
[null,""]
[null,""]
[null,""]
[null,""]
[null,""]
[null,""]
[null,""]
[null,""]
[null,""]
[null,""]
[null,""]
[null,""]
[null,""]
[null,""]
[null,""]
[null,""]
[null,""]
[null,""]
[null,""]
[null,""]
[null,""]
[null,""]
[null,""]
[null,""]
[null,{"$f":"IF(C2077=0,\"\",C2077-C2076)","v":""}]
[null,""]
[null,""]
[null,""]
[null,""]
[null,""]
[null,""]
[null,""]
[null,""]
[null,""]
[null,""]
[null,""]
[null,""]
[null,""]
[null,""]
[null,""]
[null,""]
[null,""]
[null,""]
[null,""]
[null,""]
[null,""]
[null,""]
[null,""]
[null,""]
[null,""]
[null,""]
[null,""]
[null,""]
[null,""]
[null,""]
[null,""]
[null,""]
[null,""]
[null,""]
[null,""]
[null,""]
[null,""]
[null,""]
[null,""]
[null,""]
[null,""]
[null,""]
[null,""]
[null,""]
[null,""]
[null,""]
[null,""]
[null,""]
[null,""]
[null,""]
[null,""]
[null,""]
[null,""]
[null,""]
[null,""]
[null,""]
[null,""]
[null,""]
[null,""]
[null,""]
[null,""]
[null,""]
[null,""]
[null,{"$f":"IF(C2141=0,\"\",C2141-C2140)","v":""}]
[null,""]
[null,""]
[null,""]
[null,""]
[null,""]
[null,""]
[null,""]
[null,""]
[null,""]
[null,""]
[null,""]
[null,""]
[null,""]
[null,""]
[null,""]
[null,""]
[null,""]
[null,""]
[null,""]
[null,""]
[null,""]
[null,""]
[null,""]
[null,""]
[null,""]
[null,""]
[null,""]
[null,""]
[null,""]
[null,""]
[null,""]
[null,""]
[null,""]
[null,""]
[null,""]
[null,""]
[null,""]
[null,""]
[null,""]
[null,""]
[null,""]
[null,""]
[null,""]
[null,""]
[null,""]
[null,""]
[null,""]
[null,""]
[null,""]
[null,""]
[null,""]
[null,""]
[null,""]
[null,""]
[null,""]
[null,""]
[null,""]
[null,""]
[null,""]
[null,""]
[null,""]
[null,""]
[null,""]
[null,{"$f":"IF(C2205=0,\"\",C2205-C2204)","v":""}]
[null,""]
[null,""]
[null,""]
[null,""]
[null,""]
[null,""]
[null,""]
[null,""]
[null,""]
[null,""]
[null,""]
[null,""]
[null,""]
[null,""]
[null,""]
[null,""]
[null,""]
[null,""]
[null,""]
[null,""]
[null,""]
[null,""]
[null,""]
[null,""]
[null,""]
[null,""]
[null,""]
[null,""]
[null,""]
[null,""]
[null,""]
[null,""]
[null,""]
[null,""]
[null,""]
[null,""]
[null,""]
[null,""]
[null,""]
[null,""]
[null,""]
[null,""]
[null,""]
[null,""]
[null,""]
[null,""]
[null,""]
[null,""]
[null,""]
[null,""]
[null,""]
[null,""]
[null,""]
[null,""]
[null,""]
[null,""]
[null,""]
[null,""]
[null,""]
[null,""]
[null,""]
[null,""]
[null,""]
[null,{"$f":"IF(C2269=0,\"\",C2269-C2268)","v":""}]
[null,""]
[null,""]
[null,""]
[null,""]
[null,""]
[null,""]
[null,""]
[null,""]
[null,""]
[null,""]
[null,""]
[null,""]
[null,""]
[null,""]
[null,""]
[null,""]
[null,""]
[null,""]
[null,""]
[null,""]
[null,""]
[null,""]
[null,""]
[null,""]
[null,""]
[null,""]
[null,""]
[null,""]
[null,""]
[null,""]
[null,""]
[null,""]
[null,""]
[null,""]
[null,""]
[null,""]
[null,""]
[null,""]
[null,""]
[null,""]
[null,""]
[null,""]
[null,""]
[null,""]
[null,""]
[null,""]
[null,""]
[null,""]
[null,""]
[null,""]
[null,""]
[null,""]
[null,""]
[null,""]
[null,""]
[null,""]
[null,""]
[null,""]
[null,""]
[null,""]
[null,""]
[null,""]
[null,""]
[null,{"$f":"IF(C2333=0,\"\",C2333-C2332)","v":""}]
[null,""]
[null,""]
[null,""]
[null,""]
[null,""]
[null,""]
[null,""]
[null,""]
[null,""]
[null,""]
[null,""]
[null,""]
[null,""]
[null,""]
[null,""]
[null,""]
[null,""]
[null,""]
[null,""]
[null,""]
[null,""]
[null,""]
[null,""]
[null,""]
[null,""]
[null,""]
[null,""]
[null,""]
[null,""]
[null,""]
[null,""]
[null,""]
[null,""]
[null,""]
[null,""]
[null,""]
[null,""]
[null,""]
[null,""]
[null,""]
[null,""]
[null,""]
[null,""]
[null,""]
[null,""]
[null,""]
[null,""]
[null,""]
[null,""]
[null,""]
[null,""]
[null,""]
[null,""]
[null,""]
[null,""]
[null,""]
[null,""]
[null,""]
[null,""]
[null,""]
[null,""]
[null,""]
[null,""]
[null,{"$f":"IF(C2397=0,\"\",C2397-C2396)","v":""}]
[null,""]
[null,""]
[null,""]
[null,""]
[null,""]
[null,""]
[null,""]
[null,""]
[null,""]
[null,""]
[null,""]
[null,""]
[null,""]
[null,""]
[null,""]
[null,""]
[null,""]
[null,""]
[null,""]
[null,""]
[null,""]
[null,""]
[null,""]
[null,""]
[null,""]
[null,""]
[null,""]
[null,""]
[null,""]
[null,""]
[null,""]
[null,""]
[null,""]
[null,""]
[null,""]
[null,""]
[null,""]
[null,""]
[null,""]
[null,""]
[null,""]
[null,""]
[null,""]
[null,""]
[null,""]
[null,""]
[null,""]
[null,""]
[null,""]
[null,""]
[null,""]
[null,""]
[null,""]
[null,""]
[null,""]
[null,""]
[null,""]
[null,""]
[null,""]
[null,""]
[null,""]
[null,""]
[null,""]
[null,{"$f":"IF(C2461=0,\"\",C2461-C2460)","v":""}]
[null,""]
[null,""]
[null,""]
[null,""]
[null,""]
[null,""]
[null,""]
[null,""]
[null,""]
[null,""]
[null,""]
[null,""]
[null,""]
[null,""]
[null,""]
[null,""]
[null,""]
[null,""]
[null,""]
[null,""]
[null,""]
[null,""]
[null,""]
[null,""]
[null,""]
[null,""]
[null,""]
[null,""]
[null,""]
[null,""]
[null,""]
[null,""]
[null,""]
[null,""]
[null,""]
[null,""]
[null,""]
[null,""]
[null,""]
[null,""]
[null,""]
[null,""]
[null,""]
[null,""]
[null,""]
[null,""]
[null,""]
[null,""]
[null,""]
[null,""]
[null,""]
[null,""]
[null,""]
[null,""]
[null,""]
[null,""]
[null,""]
[null,""]
[null,""]
[null,""]
[null,""]
[null,""]
[null,""]
[null,{"$f":"IF(C2525=0,\"\",C2525-C2524)","v":""}]
[null,""]
[null,""]
[null,""]
[null,""]
[null,""]
[null,""]
[null,""]
[null,""]
[null,""]
[null,""]
[null,""]
[null,""]
[null,""]
[null,""]
[null,""]
[null,""]
[null,""]
[null,""]
[null,""]
[null,""]
[null,""]
[null,""]
[null,""]
[null,""]
[null,""]
[null,""]
[null,""]
[null,""]
[null,""]
[null,""]
[null,""]
[null,""]
[null,""]
[null,""]
[null,""]
[null,""]
[null,""]
[null,""]
[null,""]
[null,""]
[null,""]
[null,""]
[null,""]
[null,""]
[null,""]
[null,""]
[null,""]
[null,""]
[null,""]
[null,""]
[null,""]
[null,""]
[null,""]
[null,""]
[null,""]
[null,""]
[null,""]
[null,""]
[null,""]
[null,""]
[null,""]
[null,""]
[null,""]
[null,{"$f":"IF(C2589=0,\"\",C2589-C2588)","v":""}]
[null,""]
[null,""]
[null,""]
[null,""]
[null,""]
[null,""]
[null,""]
[null,""]
[null,""]
[null,""]
[null,""]
[null,""]
[null,""]
[null,""]
[null,""]
[null,""]
[null,""]
[null,""]
[null,""]
[null,""]
[null,""]
[null,""]
[null,""]
[null,""]
[null,""]
[null,""]
[null,""]
[null,""]
[null,""]
[null,""]
[null,""]
[null,""]
[null,""]
[null,""]
[null,""]
[null,""]
[null,""]
[null,""]
[null,""]
[null,""]
[null,""]
[null,""]
[null,""]
[null,""]
[null,""]
[null,""]
[null,""]
[null,""]
[null,""]
[null,""]
[null,""]
[null,""]
[null,""]
[null,""]
[null,""]
[null,""]
[null,""]
[null,""]
[null,""]
[null,""]
[null,""]
[null,""]
[null,""]
[null,{"$f":"IF(C2653=0,\"\",C2653-C2652)","v":""}]
[null,""]
[null,""]
[null,""]
[null,""]
[null,""]
[null,""]
[null,""]
[null,""]
[null,""]
[null,""]
[null,""]
[null,""]
[null,""]
[null,""]
[null,""]
[null,""]
[null,""]
[null,""]
[null,""]
[null,""]
[null,""]
[null,""]
[null,""]
[null,""]
[null,""]
[null,""]
[null,""]
[null,""]
[null,""]
[null,""]
[null,""]
[null,""]
[null,""]
[null,""]
[null,""]
[null,""]
[null,""]
[null,""]
[null,""]
[null,""]
[null,""]
[null,""]
[null,""]
[null,""]
[null,""]
[null,""]
[null,""]
[null,""]
[null,""]
[null,""]
[null,""]
[null,""]
[null,""]
[null,""]
[null,""]
[null,""]
[null,""]
[null,""]
[null,""]
[null,""]
[null,""]
[null,""]
[null,""]
[null,{"$f":"IF(C2717=0,\"\",C2717-C2716)","v":""}]
[null,""]
[null,""]
[null,""]
[null,""]
[null,""]
[null,""]
[null,""]
[null,""]
[null,""]
[null,""]
[null,""]
[null,""]
[null,""]
[null,""]
[null,""]
[null,""]
[null,""]
[null,""]
[null,""]
[null,""]
[null,""]
[null,""]
[null,""]
[null,""]
[null,""]
[null,""]
[null,""]
[null,""]
[null,""]
[null,""]
[null,""]
[null,""]
[null,""]
[null,""]
[null,""]
[null,""]
[null,""]
[null,""]
[null,""]
[null,""]
[null,""]
[null,""]
[null,""]
[null,""]
[null,""]
[null,""]
[null,""]
[null,""]
[null,""]
[null,""]
[null,""]
[null,""]
[null,""]
[null,""]
[null,""]
[null,""]
[null,""]
[null,""]
[null,""]
[null,""]
[null,""]
[null,""]
[null,""]
[null,{"$f":"IF(C2781=0,\"\",C2781-C2780)","v":""}]
[null,""]
[null,""]
[null,""]
[null,""]
[null,""]
[null,""]
[null,""]
[null,""]
[null,""]
[null,""]
[null,""]
[null,""]
[null,""]
[null,""]
[null,""]
[null,""]
[null,""]
[null,""]
[null,""]
[null,""]
[null,""]
[null,""]
[null,""]
[null,""]
[null,""]
[null,""]
[null,""]
[null,""]
[null,""]
[null,""]
[null,""]
[null,""]
[null,""]
[null,""]
[null,""]
[null,""]
[null,""]
[null,""]
[null,""]
[null,""]
[null,""]
[null,""]
[null,""]
[null,""]
[null,""]
[null,""]
[null,""]
[null,""]
[null,""]
[null,""]
[null,""]
[null,""]
[null,""]
[null,""]
[null,""]
[null,""]
[null,""]
[null,""]
[null,""]
[null,""]
[null,""]
[null,""]
[null,""]
[null,{"$f":"IF(C2845=0,\"\",C2845-C2844)","v":""}]
[null,""]
[null,""]
[null,""]
[null,""]
[null,""]
[null,""]
[null,""]
[null,""]
[null,""]
[null,""]
[null,""]
[null,""]
[null,""]
[null,""]
[null,""]
[null,""]
[null,""]
[null,""]
[null,""]
[null,""]
[null,""]
[null,""]
[null,""]
[null,""]
[null,""]
[null,""]
[null,""]
[null,""]
[null,""]
[null,""]
[null,""]
[null,""]
[null,""]
[null,""]
[null,""]
[null,""]
[null,""]
[null,""]
[null,""]
[null,""]
[null,""]
[null,""]
[null,""]
[null,""]
[null,""]
[null,""]
[null,""]
[null,""]
[null,""]
[null,""]
[null,""]
[null,""]
[null,""]
[null,""]
[null,""]
[null,""]
[null,""]
[null,""]
[null,""]
[null,""]
[null,""]
[null,""]
[null,""]
[null,{"$f":"IF(C2909=0,\"\",C2909-C2908)","v":""}]
[null,""]
[null,""]
[null,""]
[null,""]
[null,""]
[null,""]
[null,""]
[null,""]
[null,""]
[null,""]
[null,""]
[null,""]
[null,""]
[null,""]
[null,""]
[null,""]
[null,""]
[null,""]
[null,""]
[null,""]
[null,""]
[null,""]
[null,""]
[null,""]
[null,""]
[null,""]
[null,""]
[null,""]
[null,""]
[null,""]
[null,""]
[null,""]
[null,""]
[null,""]
[null,""]
[null,""]
[null,""]
[null,""]
[null,""]
[null,""]
[null,""]
[null,""]
[null,""]
[null,""]
[null,""]
[null,""]
[null,""]
[null,""]
[null,""]
[null,""]
[null,""]
[null,""]
[null,""]
[null,""]
[null,""]
[null,""]
[null,""]
[null,""]
[null,""]
[null,""]
[null,""]
[null,""]
[null,""]
[null,{"$f":"IF(C2973=0,\"\",C2973-C2972)","v":""}]
[null,""]
[null,""]
[null,""]
[null,""]
[null,""]
[null,""]
[null,""]
[null,""]
[null,""]
[null,""]
[null,""]
[null,""]
[null,""]
[null,""]
[null,""]
[null,""]
[null,""]
[null,""]
[null,""]
[null,""]
[null,""]
[null,""]
[null,""]
[null,""]
[null,""]
[null,""]
[null,""]
[null,""]
[null,""]
[null,""]
[null,""]
[null,""]
[null,""]
[null,""]
[null,""]
[null,""]
[null,""]
[null,""]
[null,""]
[null,""]
[null,""]
[null,""]
[null,""]
[null,""]
[null,""]
[null,""]
[null,""]
[null,""]
[null,""]
[null,""]
[null,""]
[null,""]
[null,""]
[null,""]
[null,""]
[null,""]
[null,""]
[null,""]
[null,""]
[null,""]
[null,""]
[null,""]
[null,""]
[null,{"$f":"IF(C3037=0,\"\",C3037-C3036)","v":""}]
[null,""]
[null,""]
[null,""]
[null,""]
[null,""]
[null,""]
[null,""]
[null,""]
[null,""]
[null,""]
[null,""]
[null,""]
[null,""]
[null,""]
[null,""]
[null,""]
[null,""]
[null,""]
[null,""]
[null,""]
[null,""]
[null,""]
[null,""]
[null,""]
[null,""]
[null,""]
[null,""]
[null,""]
[null,""]
[null,""]
[null,""]
[null,""]
[null,""]
[null,""]
[null,""]
[null,""]
[null,""]
[null,""]
[null,""]
[null,""]
[null,""]
[null,""]
[null,""]
[null,""]
[null,""]
[null,""]
[null,""]
[null,""]
[null,""]
[null,""]
[null,""]
[null,""]
[null,""]
[null,""]
[null,""]
[null,""]
[null,""]
[null,""]
[null,""]
[null,""]
[null,""]
[null,""]
[null,""]
[null,{"$f":"IF(C3101=0,\"\",C3101-C3100)","v":""}]
[null,""]
[null,""]
[null,""]
[null,""]
[null,""]
[null,""]
[null,""]
[null,""]
[null,""]
[null,""]
[null,""]
[null,""]
[null,""]
[null,""]
[null,""]
[null,""]
[null,""]
[null,""]
[null,""]
[null,""]
[null,""]
[null,""]
[null,""]
[null,""]
[null,""]
[null,""]
[null,""]
[null,""]
[null,""]
[null,""]
[null,""]
[null,""]
[null,""]
[null,""]
[null,""]
[null,""]
[null,""]
[null,""]
[null,""]
[null,""]
[null,""]
[null,""]
[null,""]
[null,""]
[null,""]
[null,""]
[null,""]
[null,""]
[null,""]
[null,""]
[null,""]
[null,""]
[null,""]
[null,""]
[null,""]
[null,""]
[null,""]
[null,""]
[null,""]
[null,""]
[null,""]
[null,""]
[null,""]
[null,{"$f":"IF(C3165=0,\"\",C3165-C3164)","v":""}]
[null,""]
[null,""]
[null,""]
[null,""]
[null,""]
[null,""]
[null,""]
[null,""]
[null,""]
[null,""]
[null,""]
[null,""]
[null,""]
[null,""]
[null,""]
[null,""]
[null,""]
[null,""]
[null,""]
[null,""]
[null,""]
[null,""]
[null,""]
[null,""]
[null,""]
[null,""]
[null,""]
[null,""]
[null,""]
[null,""]
[null,""]
[null,""]
[null,""]
[null,""]
[null,""]
[null,""]
[null,""]
[null,""]
[null,""]
[null,""]
[null,""]
[null,""]
[null,""]
[null,""]
[null,""]
[null,""]
[null,""]
[null,""]
[null,""]
[null,""]
[null,""]
[null,""]
[null,""]
[null,""]
[null,""]
[null,""]
[null,""]
[null,""]
[null,""]
[null,""]
[null,""]
[null,""]
[null,""]
[null,{"$f":"IF(C3229=0,\"\",C3229-C3228)","v":""}]
[null,""]
[null,""]
[null,""]
[null,""]
[null,""]
[null,""]
[null,""]
[null,""]
[null,""]
[null,""]
[null,""]
[null,""]
[null,""]
[null,""]
[null,""]
[null,""]
[null,""]
[null,""]
[null,""]
[null,""]
[null,""]
[null,""]
[null,""]
[null,""]
[null,""]
[null,""]
[null,""]
[null,""]
[null,""]
[null,""]
[null,""]
[null,""]
[null,""]
[null,""]
[null,""]
[null,""]
[null,""]
[null,""]
[null,""]
[null,""]
[null,""]
[null,""]
[null,""]
[null,""]
[null,""]
[null,""]
[null,""]
[null,""]
[null,""]
[null,""]
[null,""]
[null,""]
[null,""]
[null,""]
[null,""]
[null,""]
[null,""]
[null,""]
[null,""]
[null,""]
[null,""]
[null,""]
[null,""]
[null,{"$f":"IF(C3293=0,\"\",C3293-C3292)","v":""}]
[null,""]
[null,""]
[null,""]
[null,""]
[null,""]
[null,""]
[null,""]
[null,""]
[null,""]
[null,""]
[null,""]
[null,""]
[null,""]
[null,""]
[null,""]
[null,""]
[null,""]
[null,""]
[null,""]
[null,""]
[null,""]
[null,""]
[null,""]
[null,""]
[null,""]
[null,""]
[null,""]
[null,""]
[null,""]
[null,""]
[null,""]
[null,""]
[null,""]
[null,""]
[null,""]
[null,""]
[null,""]
[null,""]
[null,""]
[null,""]
[null,""]
[null,""]
[null,""]
[null,""]
[null,""]
[null,""]
[null,""]
[null,""]
[null,""]
[null,""]
[null,""]
[null,""]
[null,""]
[null,""]
[null,""]
[null,""]
[null,""]
[null,""]
[null,""]
[null,""]
[null,""]
[null,""]
[null,""]
[null,{"$f":"IF(C3357=0,\"\",C3357-C3356)","v":""}]
[null,""]
[null,""]
[null,""]
[null,""]
[null,""]
[null,""]
[null,""]
[null,""]
[null,""]
[null,""]
[null,""]
[null,""]
[null,""]
[null,""]
[null,""]
[null,""]
[null,""]
[null,""]
[null,""]
[null,""]
[null,""]
[null,""]
[null,""]
[null,""]
[null,""]
[null,""]
[null,""]
[null,""]
[null,""]
[null,""]
[null,""]
[null,""]
[null,""]
[null,""]
[null,""]
[null,""]
[null,""]
[null,""]
[null,""]
[null,""]
[null,""]
[null,""]
[null,""]
[null,""]
[null,""]
[null,""]
[null,""]
[null,""]
[null,""]
[null,""]
[null,""]
[null,""]
[null,""]
[null,""]
[null,""]
[null,""]
[null,""]
[null,""]
[null,""]
[null,""]
[null,""]
[null,""]
[null,""]
[null,{"$f":"IF(C3421=0,\"\",C3421-C3420)","v":""}]
[null,""]
[null,""]
[null,""]
[null,""]
[null,""]
[null,""]
[null,""]
[null,""]
[null,""]
[null,""]
[null,""]
[null,""]
[null,""]
[null,""]
[null,""]
[null,""]
[null,""]
[null,""]
[null,""]
[null,""]
[null,""]
[null,""]
[null,""]
[null,""]
[null,""]
[null,""]
[null,""]
[null,""]
[null,""]
[null,""]
[null,""]
[null,""]
[null,""]
[null,""]
[null,""]
[null,""]
[null,""]
[null,""]
[null,""]
[null,""]
[null,""]
[null,""]
[null,""]
[null,""]
[null,""]
[null,""]
[null,""]
[null,""]
[null,""]
[null,""]
[null,""]
[null,""]
[null,""]
[null,""]
[null,""]
[null,""]
[null,""]
[null,""]
[null,""]
[null,""]
[null,""]
[null,""]
[null,""]
[null,{"$f":"IF(C3485=0,\"\",C3485-C3484)","v":""}]
[null,""]
[null,""]
[null,""]
[null,""]
[null,""]
[null,""]
[null,""]
[null,""]
[null,""]
[null,""]
[null,""]
[null,""]
[null,""]
[null,""]
[null,""]
[null,""]
[null,""]
[null,""]
[null,""]
[null,""]
[null,""]
[null,""]
[null,""]
[null,""]
[null,""]
[null,""]
[null,""]
[null,""]
[null,""]
[null,""]
[null,""]
[null,""]
[null,""]
[null,""]
[null,""]
[null,""]
[null,""]
[null,""]
[null,""]
[null,""]
[null,""]
[null,""]
[null,""]
[null,""]
[null,""]
[null,""]
[null,""]
[null,""]
[null,""]
[null,""]
[null,""]
[null,""]
[null,""]
[null,""]
[null,""]
[null,""]
[null,""]
[null,""]
[null,""]
[null,""]
[null,""]
[null,""]
[null,""]
[null,{"$f":"IF(C3549=0,\"\",C3549-C3548)","v":""}]
[null,""]
[null,""]
[null,""]
[null,""]
[null,""]
[null,""]
[null,""]
[null,""]
[null,""]
[null,""]
[null,""]
[null,""]
[null,""]
[null,""]
[null,""]
[null,""]
[null,""]
[null,""]
[null,""]
[null,""]
[null,""]
[null,""]
[null,""]
[null,""]
[null,""]
[null,""]
[null,""]
[null,""]
[null,""]
[null,""]
[null,""]
[null,""]
[null,""]
[null,""]
[null,""]
[null,""]
[null,""]
[null,""]
[null,""]
[null,""]
[null,""]
[null,""]
[null,""]
[null,""]
[null,""]
[null,""]
[null,""]
[null,""]
[null,""]
[null,""]
[null,""]
[null,""]
[null,""]
[null,""]
[null,""]
[null,""]
[null,""]
[null,""]
[null,""]
[null,""]
[null,""]
[null,""]
[null,""]
[null,{"$f":"IF(C3613=0,\"\",C3613-C3612)","v":""}]
[null,""]
[null,""]
[null,""]
[null,""]
[null,""]
[null,""]
[null,""]
[null,""]
[null,""]
[null,""]
[null,""]
[null,""]
[null,""]
[null,""]
[null,""]
[null,""]
[null,""]
[null,""]
[null,""]
[null,""]
[null,""]
[null,""]
[null,""]
[null,""]
[null,""]
[null,""]
[null,""]
[null,""]
[null,""]
[null,""]
[null,""]
[null,""]
[null,""]
[null,""]
[null,""]
[null,""]
[null,""]
[null,""]
[null,""]
[null,""]
[null,""]
[null,""]
[null,""]
[null,""]
[null,""]
[null,""]
[null,""]
[null,""]
[null,""]
[null,""]
[null,""]
[null,""]
[null,""]
[null,""]
[null,""]
[null,""]
[null,""]
[null,""]
[null,""]
[null,""]
[null,""]
[null,""]
[null,""]
[null,{"$f":"IF(C3677=0,\"\",C3677-C3676)","v":""}]
[null,""]
[null,""]
[null,""]
[null,""]
[null,""]
[null,""]
[null,""]
[null,""]
[null,""]
[null,""]
[null,""]
[null,""]
[null,""]
[null,""]
[null,""]
[null,""]
[null,""]
[null,""]
[null,""]
[null,""]
[null,""]
[null,""]
[null,""]
[null,""]
[null,""]
[null,""]
[null,""]
[null,""]
[null,""]
[null,""]
[null,""]
[null,""]
[null,""]
[null,""]
[null,""]
[null,""]
[null,""]
[null,""]
[null,""]
[null,""]
[null,""]
[null,""]
[null,""]
[null,""]
[null,""]
[null,""]
[null,""]
[null,""]
[null,""]
[null,""]
[null,""]
[null,""]
[null,""]
[null,""]
[null,""]
[null,""]
[null,""]
[null,""]
[null,""]
[null,""]
[null,""]
[null,""]
[null,""]
[null,{"$f":"IF(C3741=0,\"\",C3741-C3740)","v":""}]
[null,""]
[null,""]
[null,""]
[null,""]
[null,""]
[null,""]
[null,""]
[null,""]
[null,""]
[null,""]
[null,""]
[null,""]
[null,""]
[null,""]
[null,""]
[null,""]
[null,""]
[null,""]
[null,""]
[null,""]
[null,""]
[null,""]
[null,""]
[null,""]
[null,""]
[null,""]
[null,""]
[null,""]
[null,""]
[null,""]
[null,""]
[null,""]
[null,""]
[null,""]
[null,""]
[null,""]
[null,""]
[null,""]
[null,""]
[null,""]
[null,""]
[null,""]
[null,""]
[null,""]
[null,""]
[null,""]
[null,""]
[null,""]
[null,""]
[null,""]
[null,""]
[null,""]
[null,""]
[null,""]
[null,""]
[null,""]
[null,""]
[null,""]
[null,""]
[null,""]
[null,""]
[null,""]
[null,""]
[null,{"$f":"IF(C3805=0,\"\",C3805-C3804)","v":""}]
[null,""]
[null,""]
[null,""]
[null,""]
[null,""]
[null,""]
[null,""]
[null,""]
[null,""]
[null,""]
[null,""]
[null,""]
[null,""]
[null,""]
[null,""]
[null,""]
[null,""]
[null,""]
[null,""]
[null,""]
[null,""]
[null,""]
[null,""]
[null,""]
[null,""]
[null,""]
[null,""]
[null,""]
[null,""]
[null,""]
[null,""]
[null,""]
[null,""]
[null,""]
[null,""]
[null,""]
[null,""]
[null,""]
[null,""]
[null,""]
[null,""]
[null,""]
[null,""]
[null,""]
[null,""]
[null,""]
[null,""]
[null,""]
[null,""]
[null,""]
[null,""]
[null,""]
[null,""]
[null,""]
[null,""]
[null,""]
[null,""]
[null,""]
[null,""]
[null,""]
[null,""]
[null,""]
[null,""]
[null,{"$f":"IF(C3869=0,\"\",C3869-C3868)","v":""}]
[null,""]
[null,""]
[null,""]
[null,""]
[null,""]
[null,""]
[null,""]
[null,""]
[null,""]
[null,""]
[null,""]
[null,""]
[null,""]
[null,""]
[null,""]
[null,""]
[null,""]
[null,""]
[null,""]
[null,""]
[null,""]
[null,""]
[null,""]
[null,""]
[null,""]
[null,""]
[null,""]
[null,""]
[null,""]
[null,""]
[null,""]
[null,""]
[null,""]
[null,""]
[null,""]
[null,""]
[null,""]
[null,""]
[null,""]
[null,""]
[null,""]
[null,""]
[null,""]
[null,""]
[null,""]
[null,""]
[null,""]
[null,""]
[null,""]
[null,""]
[null,""]
[null,""]
[null,""]
[null,""]
[null,""]
[null,""]
[null,""]
[null,""]
[null,""]
[null,""]
[null,""]
[null,""]
[null,""]
[null,{"$f":"IF(C3933=0,\"\",C3933-C3932)","v":""}]
[null,""]
[null,""]
[null,""]
[null,""]
[null,""]
[null,""]
[null,""]
[null,""]
[null,""]
[null,""]
[null,""]
[null,""]
[null,""]
[null,""]
[null,""]
[null,""]
[null,""]
[null,""]
[null,""]
[null,""]
[null,""]
[null,""]
[null,""]
[null,""]
[null,""]
[null,""]
[null,""]
[null,""]
[null,""]
[null,""]
[null,""]
[null,""]
[null,""]
[null,""]
[null,""]
[null,""]
[null,""]
[null,""]
[null,""]
[null,""]
[null,""]
[null,""]
[null,""]
[null,""]
[null,""]
[null,""]
[null,""]
[null,""]
[null,""]
[null,""]
[null,""]
[null,""]
[null,""]
[null,""]
[null,""]
[null,""]
[null,""]
[null,""]
[null,""]
[null,""]
[null,""]
[null,""]
[null,""]
[null,{"$f":"IF(C3997=0,\"\",C3997-C3996)","v":""}]
[null,""]
[null,""]
[null,""]
[null,""]
[null,""]
[null,""]
[null,""]
[null,""]
[null,""]
[null,""]
[null,""]
[null,""]
[null,""]
[null,""]
[null,""]
[null,""]
[null,""]
[null,""]
[null,""]
[null,""]
[null,""]
[null,""]
[null,""]
[null,""]
[null,""]
[null,""]
[null,""]
[null,""]
[null,""]
[null,""]
[null,""]
[null,""]
[null,""]
[null,""]
[null,""]
[null,""]
[null,""]
[null,""]
[null,""]
[null,""]
[null,""]
[null,""]
[null,""]
[null,""]
[null,""]
[null,""]
[null,""]
[null,""]
[null,""]
[null,""]
[null,""]
[null,""]
[null,""]
[null,""]
[null,""]
[null,""]
[null,""]
[null,""]
[null,""]
[null,""]
[null,""]
[null,""]
[null,""]
[null,{"$f":"IF(C4061=0,\"\",C4061-C4060)","v":""}]
[null,""]
[null,""]
[null,""]
[null,""]
[null,""]
[null,""]
[null,""]
[null,""]
[null,""]
[null,""]
[null,""]
[null,""]
[null,""]
[null,""]
[null,""]
[null,""]
[null,""]
[null,""]
[null,""]
[null,""]
[null,""]
[null,""]
[null,""]
[null,""]
[null,""]
[null,""]
[null,""]
[null,""]
[null,""]
[null,""]
[null,""]
[null,""]
[null,""]
[null,""]
[null,""]
[null,""]
[null,""]
[null,""]
[null,""]
[null,""]
[null,""]
[null,""]
[null,""]
[null,""]
[null,""]
[null,""]
[null,""]
[null,""]
[null,""]
[null,""]
[null,""]
[null,""]
[null,""]
[null,""]
[null,""]
[null,""]
[null,""]
[null,""]
[null,""]
[null,""]
[null,""]
[null,""]
[null,""]
[null,{"$f":"IF(C4125=0,\"\",C4125-C4124)","v":""}]
[null,""]
[null,""]
[null,""]
[null,""]
[null,""]
[null,""]
[null,""]
[null,""]
[null,""]
[null,""]
[null,""]
[null,""]
[null,""]
[null,""]
[null,""]
[null,""]
[null,""]
[null,""]
[null,""]
[null,""]
[null,""]
[null,""]
[null,""]
[null,""]
[null,""]
[null,""]
[null,""]
[null,""]
[null,""]
[null,""]
[null,""]
[null,""]
[null,""]
[null,""]
[null,""]
[null,""]
[null,""]
[null,""]
[null,""]
[null,""]
[null,""]
[null,""]
[null,""]
[null,""]
[null,""]
[null,""]
[null,""]
[null,""]
[null,""]
[null,""]
[null,""]
[null,""]
[null,""]
[null,""]
[null,""]
[null,""]
[null,""]
[null,""]
[null,""]
[null,""]
[null,""]
[null,""]
[null,""]
[null,{"$f":"IF(C4189=0,\"\",C4189-C4188)","v":""}]
[null,""]
[null,""]
[null,""]
[null,""]
[null,""]
[null,""]
[null,""]
[null,""]
[null,""]
[null,""]
[null,""]
[null,""]
[null,""]
[null,""]
[null,""]
[null,""]
[null,""]
[null,""]
[null,""]
[null,""]
[null,""]
[null,""]
[null,""]
[null,""]
[null,""]
[null,""]
[null,""]
[null,""]
[null,""]
[null,""]
[null,""]
[null,""]
[null,""]
[null,""]
[null,""]
[null,""]
[null,""]
[null,""]
[null,""]
[null,""]
[null,""]
[null,""]
[null,""]
[null,""]
[null,""]
[null,""]
[null,""]
[null,""]
[null,""]
[null,""]
[null,""]
[null,""]
[null,""]
[null,""]
[null,""]
[null,""]
[null,""]
[null,""]
[null,""]
[null,""]
[null,""]
[null,""]
[null,""]
[null,{"$f":"IF(C4253=0,\"\",C4253-C4252)","v":""}]
[null,""]
[null,""]
[null,""]
[null,""]
[null,""]
[null,""]
[null,""]
[null,""]
[null,""]
[null,""]
[null,""]
[null,""]
[null,""]
[null,""]
[null,""]
[null,""]
[null,""]
[null,""]
[null,""]
[null,""]
[null,""]
[null,""]
[null,""]
[null,""]
[null,""]
[null,""]
[null,""]
[null,""]
[null,""]
[null,""]
[null,""]
[null,""]
[null,""]
[null,""]
[null,""]
[null,""]
[null,""]
[null,""]
[null,""]
[null,""]
[null,""]
[null,""]
[null,""]
[null,""]
[null,""]
[null,""]
[null,""]
[null,""]
[null,""]
[null,""]
[null,""]
[null,""]
[null,""]
[null,""]
[null,""]
[null,""]
[null,""]
[null,""]
[null,""]
[null,""]
[null,""]
[null,""]
[null,""]
[null,{"$f":"IF(C4317=0,\"\",C4317-C4316)","v":""}]
[null,""]
[null,""]
[null,""]
[null,""]
[null,""]
[null,""]
[null,""]
[null,""]
[null,""]
[null,""]
[null,""]
[null,""]
[null,""]
[null,""]
[null,""]
[null,""]
[null,""]
[null,""]
[null,""]
[null,""]
[null,""]
[null,""]
[null,""]
[null,""]
[null,""]
[null,""]
[null,""]
[null,""]
[null,""]
[null,""]
[null,""]
[null,""]
[null,""]
[null,""]
[null,""]
[null,""]
[null,""]
[null,""]
[null,""]
[null,""]
[null,""]
[null,""]
[null,""]
[null,""]
[null,""]
[null,""]
[null,""]
[null,""]
[null,""]
[null,""]
[null,""]
[null,""]
[null,""]
[null,""]
[null,""]
[null,""]
[null,""]
[null,""]
[null,""]
[null,""]
[null,""]
[null,""]
[null,""]
[null,{"$f":"IF(C4381=0,\"\",C4381-C4380)","v":""}]
[null,""]
[null,""]
[null,""]
[null,""]
[null,""]
[null,""]
[null,""]
[null,""]
[null,""]
[null,""]
[null,""]
[null,""]
[null,""]
[null,""]
[null,""]
[null,""]
[null,""]
[null,""]
[null,""]
[null,""]
[null,""]
[null,""]
[null,""]
[null,""]
[null,""]
[null,""]
[null,""]
[null,""]
[null,""]
[null,""]
[null,""]
[null,""]
[null,""]
[null,""]
[null,""]
[null,""]
[null,""]
[null,""]
[null,""]
[null,""]
[null,""]
[null,""]
[null,""]
[null,""]
[null,""]
[null,""]
[null,""]
[null,""]
[null,""]
[null,""]
[null,""]
[null,""]
[null,""]
[null,""]
[null,""]
[null,""]
[null,""]
[null,""]
[null,""]
[null,""]
[null,""]
[null,""]
[null,""]
[null,{"$f":"IF(C4445=0,\"\",C4445-C4444)","v":""}]
[null,""]
[null,""]
[null,""]
[null,""]
[null,""]
[null,""]
[null,""]
[null,""]
[null,""]
[null,""]
[null,""]
[null,""]
[null,""]
[null,""]
[null,""]
[null,""]
[null,""]
[null,""]
[null,""]
[null,""]
[null,""]
[null,""]
[null,""]
[null,""]
[null,""]
[null,""]
[null,""]
[null,""]
[null,""]
[null,""]
[null,""]
[null,""]
[null,""]
[null,""]
[null,""]
[null,""]
[null,""]
[null,""]
[null,""]
[null,""]
[null,""]
[null,""]
[null,""]
[null,""]
[null,""]
[null,""]
[null,""]
[null,""]
[null,""]
[null,""]
[null,""]
[null,""]
[null,""]
[null,""]
[null,""]
[null,""]
[null,""]
[null,""]
[null,""]
[null,""]
[null,""]
[null,""]
[null,""]
[null,{"$f":"IF(C4509=0,\"\",C4509-C4508)","v":""}]
[null,""]
[null,""]
[null,""]
[null,""]
[null,""]
[null,""]
[null,""]
[null,""]
[null,""]
[null,""]
[null,""]
[null,""]
[null,""]
[null,""]
[null,""]
[null,""]
[null,""]
[null,""]
[null,""]
[null,""]
[null,""]
[null,""]
[null,""]
[null,""]
[null,""]
[null,""]
[null,""]
[null,""]
[null,""]
[null,""]
[null,""]
[null,""]
[null,""]
[null,""]
[null,""]
[null,""]
[null,""]
[null,""]
[null,""]
[null,""]
[null,""]
[null,""]
[null,""]
[null,""]
[null,""]
[null,""]
[null,""]
[null,""]
[null,""]
[null,""]
[null,""]
[null,""]
[null,""]
[null,""]
[null,""]
[null,""]
[null,""]
[null,""]
[null,""]
[null,""]
[null,""]
[null,""]
[null,""]
[null,{"$f":"IF(C4573=0,\"\",C4573-C4572)","v":""}]
[null,""]
[null,""]
[null,""]
[null,""]
[null,""]
[null,""]
[null,""]
[null,""]
[null,""]
[null,""]
[null,""]
[null,""]
[null,""]
[null,""]
[null,""]
[null,""]
[null,""]
[null,""]
[null,""]
[null,""]
[null,""]
[null,""]
[null,""]
[null,""]
[null,""]
[null,""]
[null,""]
[null,""]
[null,""]
[null,""]
[null,""]
[null,""]
[null,""]
[null,""]
[null,""]
[null,""]
[null,""]
[null,""]
[null,""]
[null,""]
[null,""]
[null,""]
[null,""]
[null,""]
[null,""]
[null,""]
[null,""]
[null,""]
[null,""]
[null,""]
[null,""]
[null,""]
[null,""]
[null,""]
[null,""]
[null,""]
[null,""]
[null,""]
[null,""]
[null,""]
[null,""]
[null,""]
[null,""]
[null,{"$f":"IF(C4637=0,\"\",C4637-C4636)","v":""}]
[null,""]
[null,""]
[null,""]
[null,""]
[null,""]
[null,""]
[null,""]
[null,""]
[null,""]
[null,""]
[null,""]
[null,""]
[null,""]
[null,""]
[null,""]
[null,""]
[null,""]
[null,""]
[null,""]
[null,""]
[null,""]
[null,""]
[null,""]
[null,""]
[null,""]
[null,""]
[null,""]
[null,""]
[null,""]
[null,""]
[null,""]
[null,""]
[null,""]
[null,""]
[null,""]
[null,""]
[null,""]
[null,""]
[null,""]
[null,""]
[null,""]
[null,""]
[null,""]
[null,""]
[null,""]
[null,""]
[null,""]
[null,""]
[null,""]
[null,""]
[null,""]
[null,""]
[null,""]
[null,""]
[null,""]
[null,""]
[null,""]
[null,""]
[null,""]
[null,""]
[null,""]
[null,""]
[null,""]
[null,{"$f":"IF(C4701=0,\"\",C4701-C4700)","v":""}]
[null,""]
[null,""]
[null,""]
[null,""]
[null,""]
[null,""]
[null,""]
[null,""]
[null,""]
[null,""]
[null,""]
[null,""]
[null,""]
[null,""]
[null,""]
[null,""]
[null,""]
[null,""]
[null,""]
[null,""]
[null,""]
[null,""]
[null,""]
[null,""]
[null,""]
[null,""]
[null,""]
[null,""]
[null,""]
[null,""]
[null,""]
[null,""]
[null,""]
[null,""]
[null,""]
[null,""]
[null,""]
[null,""]
[null,""]
[null,""]
[null,""]
[null,""]
[null,""]
[null,""]
[null,""]
[null,""]
[null,""]
[null,""]
[null,""]
[null,""]
[null,""]
[null,""]
[null,""]
[null,""]
[null,""]
[null,""]
[null,""]
[null,""]
[null,""]
[null,""]
[null,""]
[null,""]
[null,""]
[null,{"$f":"IF(C4765=0,\"\",C4765-C4764)","v":""}]
[null,""]
[null,""]
[null,""]
[null,""]
[null,""]
[null,""]
[null,""]
[null,""]
[null,""]
[null,""]
[null,""]
[null,""]
[null,""]
[null,""]
[null,""]
[null,""]
[null,""]
[null,""]
[null,""]
[null,""]
[null,""]
[null,""]
[null,""]
[null,""]
[null,""]
[null,""]
[null,""]
[null,""]
[null,""]
[null,""]
[null,""]
[null,""]
[null,""]
[null,""]
[null,""]
[null,""]
[null,""]
[null,""]
[null,""]
[null,""]
[null,""]
[null,""]
[null,""]
[null,""]
[null,""]
[null,""]
[null,""]
[null,""]
[null,""]
[null,""]
[null,""]
[null,""]
[null,""]
[null,""]
[null,""]
[null,""]
[null,""]
[null,""]
[null,""]
[null,""]
[null,""]
[null,""]
[null,""]
[null,{"$f":"IF(C4829=0,\"\",C4829-C4828)","v":""}]
[null,""]
[null,""]
[null,""]
[null,""]
[null,""]
[null,""]
[null,""]
[null,""]
[null,""]
[null,""]
[null,""]
[null,""]
[null,""]
[null,""]
[null,""]
[null,""]
[null,""]
[null,""]
[null,""]
[null,""]
[null,""]
[null,""]
[null,""]
[null,""]
[null,""]
[null,""]
[null,""]
[null,""]
[null,""]
[null,""]
[null,""]
[null,""]
[null,""]
[null,""]
[null,""]
[null,""]
[null,""]
[null,""]
[null,""]
[null,""]
[null,""]
[null,""]
[null,""]
[null,""]
[null,""]
[null,""]
[null,""]
[null,""]
[null,""]
[null,""]
[null,""]
[null,""]
[null,""]
[null,""]
[null,""]
[null,""]
[null,""]
[null,""]
[null,""]
[null,""]
[null,""]
[null,""]
[null,""]
[null,{"$f":"IF(C4893=0,\"\",C4893-C4892)","v":""}]
[null,""]
[null,""]
[null,""]
[null,""]
[null,""]
[null,""]
[null,""]
[null,""]
[null,""]
[null,""]
[null,""]
[null,""]
[null,""]
[null,""]
[null,""]
[null,""]
[null,""]
[null,""]
[null,""]
[null,""]
[null,""]
[null,""]
[null,""]
[null,""]
[null,""]
[null,""]
[null,""]
[null,""]
[null,""]
[null,""]
[null,""]
[null,""]
[null,""]
[null,""]
[null,""]
[null,""]
[null,""]
[null,""]
[null,""]
[null,""]
[null,""]
[null,""]
[null,""]
[null,""]
[null,""]
[null,""]
[null,""]
[null,""]
[null,""]
[null,""]
[null,""]
[null,""]
[null,""]
[null,""]
[null,""]
[null,""]
[null,""]
[null,""]
[null,""]
[null,""]
[null,""]
[null,""]
[null,""]
[null,{"$f":"IF(C4957=0,\"\",C4957-C4956)","v":""}]
[null,""]
[null,""]
[null,""]
[null,""]
[null,""]
[null,""]
[null,""]
[null,""]
[null,""]
[null,""]
[null,""]
[null,""]
[null,""]
[null,""]
[null,""]
[null,""]
[null,""]
[null,""]
[null,""]
[null,""]
[null,""]
[null,""]
[null,""]
[null,""]
[null,""]
[null,""]
[null,""]
[null,""]
[null,""]
[null,""]
[null,""]
[null,""]
[null,""]
[null,""]
[null,""]
[null,""]
[null,""]
[null,""]
[null,""]
[null,""]
[null,""]
[null,""]
[null,""]
[null,""]
[null,""]
[null,""]
[null,""]
[null,""]
[null,""]
[null,""]
[null,""]
[null,""]
[null,""]
[null,""]
[null,""]
[null,""]
[null,""]
[null,""]
[null,""]
[null,""]
[null,""]
[null,""]
[null,""]
[null,{"$f":"IF(C5021=0,\"\",C5021-C5020)","v":""}]
[null,""]
[null,""]
[null,""]
[null,""]
[null,""]
[null,""]
[null,""]
[null,""]
[null,""]
[null,""]
[null,""]
[null,""]
[null,""]
[null,""]
[null,""]
[null,""]
[null,""]
[null,""]
[null,""]
[null,""]
[null,""]
[null,""]
[null,""]
[null,""]
[null,""]
[null,""]
[null,""]
[null,""]
[null,""]
[null,""]
[null,""]
[null,""]
[null,""]
[null,""]
[null,""]
[null,""]
[null,""]
[null,""]
[null,""]
[null,""]
[null,""]
[null,""]
[null,""]
[null,""]
[null,""]
[null,""]
[null,""]
[null,""]
[null,""]
[null,""]
[null,""]
[null,""]
[null,""]
[null,""]
[null,""]
[null,""]
[null,""]
[null,""]
[null,""]
[null,""]
[null,""]
[null,""]
[null,""]
[null,{"$f":"IF(C5085=0,\"\",C5085-C5084)","v":""}]
[null,""]
[null,""]
[null,""]
[null,""]
[null,""]
[null,""]
[null,""]
[null,""]
[null,""]
[null,""]
[null,""]
[null,""]
[null,""]
[null,""]
[null,""]
[null,""]
[null,""]
[null,""]
[null,""]
[null,""]
[null,""]
[null,""]
[null,""]
[null,""]
[null,""]
[null,""]
[null,""]
[null,""]
[null,""]
[null,""]
[null,""]
[null,""]
[null,""]
[null,""]
[null,""]
[null,""]
[null,""]
[null,""]
[null,""]
[null,""]
[null,""]
[null,""]
[null,""]
[null,""]
[null,""]
[null,""]
[null,""]
[null,""]
[null,""]
[null,""]
[null,""]
[null,""]
[null,""]
[null,""]
[null,""]
[null,""]
[null,""]
[null,""]
[null,""]
[null,""]
[null,""]
[null,""]
[null,""]
[null,{"$f":"IF(C5149=0,\"\",C5149-C5148)","v":""}]
[null,""]
[null,""]
[null,""]
[null,""]
[null,""]
[null,""]
[null,""]
[null,""]
[null,""]
[null,""]
[null,""]
[null,""]
[null,""]
[null,""]
[null,""]
[null,""]
[null,""]
[null,""]
[null,""]
[null,""]
[null,""]
[null,""]
[null,""]
[null,""]
[null,""]
[null,""]
[null,""]
[null,""]
[null,""]
[null,""]
[null,""]
[null,""]
[null,""]
[null,""]
[null,""]
[null,""]
[null,""]
[null,""]
[null,""]
[null,""]
[null,""]
[null,""]
[null,""]
[null,""]
[null,""]
[null,""]
[null,""]
[null,""]
[null,""]
[null,""]
[null,""]
[null,""]
[null,""]
[null,""]
[null,""]
[null,""]
[null,""]
[null,""]
[null,""]
[null,""]
[null,""]
[null,""]
[null,""]
[null,{"$f":"IF(C5213=0,\"\",C5213-C5212)","v":""}]
[null,""]
[null,""]
[null,""]
[null,""]
[null,""]
[null,""]
[null,""]
[null,""]
[null,""]
[null,""]
[null,""]
[null,""]
[null,""]
[null,""]
[null,""]
[null,""]
[null,""]
[null,""]
[null,""]
[null,""]
[null,""]
[null,""]
[null,""]
[null,""]
[null,""]
[null,""]
[null,""]
[null,""]
[null,""]
[null,""]
[null,""]
[null,""]
[null,""]
[null,""]
[null,""]
[null,""]
[null,""]
[null,""]
[null,""]
[null,""]
[null,""]
[null,""]
[null,""]
[null,""]
[null,""]
[null,""]
[null,""]
[null,""]
[null,""]
[null,""]
[null,""]
[null,""]
[null,""]
[null,""]
[null,""]
[null,""]
[null,""]
[null,""]
[null,""]
[null,""]
[null,""]
[null,""]
[null,""]
[null,{"$f":"IF(C5277=0,\"\",C5277-C5276)","v":""}]
[null,""]
[null,""]
[null,""]
[null,""]
[null,""]
[null,""]
[null,""]
[null,""]
[null,""]
[null,""]
[null,""]
[null,""]
[null,""]
[null,""]
[null,""]
[null,""]
[null,""]
[null,""]
[null,""]
[null,""]
[null,""]
[null,""]
[null,""]
[null,""]
[null,""]
[null,""]
[null,""]
[null,""]
[null,""]
[null,""]
[null,""]
[null,""]
[null,""]
[null,""]
[null,""]
[null,""]
[null,""]
[null,""]
[null,""]
[null,""]
[null,""]
[null,""]
[null,""]
[null,""]
[null,""]
[null,""]
[null,""]
[null,""]
[null,""]
[null,""]
[null,""]
[null,""]
[null,""]
[null,""]
[null,""]
[null,""]
[null,""]
[null,""]
[null,""]
[null,""]
[null,""]
[null,""]
[null,""]
[null,{"$f":"IF(C5341=0,\"\",C5341-C5340)","v":""}]
[null,""]
[null,""]
[null,""]
[null,""]
[null,""]
[null,""]
[null,""]
[null,""]
[null,""]
[null,""]
[null,""]
[null,""]
[null,""]
[null,""]
[null,""]
[null,""]
[null,""]
[null,""]
[null,""]
[null,""]
[null,""]
[null,""]
[null,""]
[null,""]
[null,""]
[null,""]
[null,""]
[null,""]
[null,""]
[null,""]
[null,""]
[null,""]
[null,""]
[null,""]
[null,""]
[null,""]
[null,""]
[null,""]
[null,""]
[null,""]
[null,""]
[null,""]
[null,""]
[null,""]
[null,""]
[null,""]
[null,""]
[null,""]
[null,""]
[null,""]
[null,""]
[null,""]
[null,""]
[null,""]
[null,""]
[null,""]
[null,""]
[null,""]
[null,""]
[null,""]
[null,""]
[null,""]
[null,""]
[null,{"$f":"IF(C5405=0,\"\",C5405-C5404)","v":""}]
[null,""]
[null,""]
[null,""]
[null,""]
[null,""]
[null,""]
[null,""]
[null,""]
[null,""]
[null,""]
[null,""]
[null,""]
[null,""]
[null,""]
[null,""]
[null,""]
[null,""]
[null,""]
[null,""]
[null,""]
[null,""]
[null,""]
[null,""]
[null,""]
[null,""]
[null,""]
[null,""]
[null,""]
[null,""]
[null,""]
[null,""]
[null,""]
[null,""]
[null,""]
[null,""]
[null,""]
[null,""]
[null,""]
[null,""]
[null,""]
[null,""]
[null,""]
[null,""]
[null,""]
[null,""]
[null,""]
[null,""]
[null,""]
[null,""]
[null,""]
[null,""]
[null,""]
[null,""]
[null,""]
[null,""]
[null,""]
[null,""]
[null,""]
[null,""]
[null,""]
[null,""]
[null,""]
[null,""]
[null,{"$f":"IF(C5469=0,\"\",C5469-C5468)","v":""}]
[null,""]
[null,""]
[null,""]
[null,""]
[null,""]
[null,""]
[null,""]
[null,""]
[null,""]
[null,""]
[null,""]
[null,""]
[null,""]
[null,""]
[null,""]
[null,""]
[null,""]
[null,""]
[null,""]
[null,""]
[null,""]
[null,""]
[null,""]
[null,""]
[null,""]
[null,""]
[null,""]
[null,""]
[null,""]
[null,""]
[null,""]
[null,""]
[null,""]
[null,""]
[null,""]
[null,""]
[null,""]
[null,""]
[null,""]
[null,""]
[null,""]
[null,""]
[null,""]
[null,""]
[null,""]
[null,""]
[null,""]
[null,""]
[null,""]
[null,""]
[null,""]
[null,""]
[null,""]
[null,""]
[null,""]
[null,""]
[null,""]
[null,""]
[null,""]
[null,""]
[null,""]
[null,""]
[null,""]
[null,{"$f":"IF(C5533=0,\"\",C5533-C5532)","v":""}]
[null,""]
[null,""]
[null,""]
[null,""]
[null,""]
[null,""]
[null,""]
[null,""]
[null,""]
[null,""]
[null,""]
[null,""]
[null,""]
[null,""]
[null,""]
[null,""]
[null,""]
[null,""]
[null,""]
[null,""]
[null,""]
[null,""]
[null,""]
[null,""]
[null,""]
[null,""]
[null,""]
[null,""]
[null,""]
[null,""]
[null,""]
[null,""]
[null,""]
[null,""]
[null,""]
[null,""]
[null,""]
[null,""]
[null,""]
[null,""]
[null,""]
[null,""]
[null,""]
[null,""]
[null,""]
[null,""]
[null,""]
[null,""]
[null,""]
[null,""]
[null,""]
[null,""]
[null,""]
[null,""]
[null,""]
[null,""]
[null,""]
[null,""]
[null,""]
[null,""]
[null,""]
[null,""]
[null,""]
[null,{"$f":"IF(C5597=0,\"\",C5597-C5596)","v":""}]
[null,""]
[null,""]
[null,""]
[null,""]
[null,""]
[null,""]
[null,""]
[null,""]
[null,""]
[null,""]
[null,""]
[null,""]
[null,""]
[null,""]
[null,""]
[null,""]
[null,""]
[null,""]
[null,""]
[null,""]
[null,""]
[null,""]
[null,""]
[null,""]
[null,""]
[null,""]
[null,""]
[null,""]
[null,""]
[null,""]
[null,""]
[null,""]
[null,""]
[null,""]
[null,""]
[null,""]
[null,""]
[null,""]
[null,""]
[null,""]
[null,""]
[null,""]
[null,""]
[null,""]
[null,""]
[null,""]
[null,""]
[null,""]
[null,""]
[null,""]
[null,""]
[null,""]
[null,""]
[null,""]
[null,""]
[null,""]
[null,""]
[null,""]
[null,""]
[null,""]
[null,""]
[null,""]
[null,""]
[null,{"$f":"IF(C5661=0,\"\",C5661-C5660)","v":""}]
[null,""]
[null,""]
[null,""]
[null,""]
[null,""]
[null,""]
[null,""]
[null,""]
[null,""]
[null,""]
[null,""]
[null,""]
[null,""]
[null,""]
[null,""]
[null,""]
[null,""]
[null,""]
[null,""]
[null,""]
[null,""]
[null,""]
[null,""]
[null,""]
[null,""]
[null,""]
[null,""]
[null,""]
[null,""]
[null,""]
[null,""]
[null,""]
[null,""]
[null,""]
[null,""]
[null,""]
[null,""]
[null,""]
[null,""]
[null,""]
[null,""]
[null,""]
[null,""]
[null,""]
[null,""]
[null,""]
[null,""]
[null,""]
[null,""]
[null,""]
[null,""]
[null,""]
[null,""]
[null,""]
[null,""]
[null,""]
[null,""]
[null,""]
[null,""]
[null,""]
[null,""]
[null,""]
[null,""]
[null,{"$f":"IF(C5725=0,\"\",C5725-C5724)","v":""}]
[null,""]
[null,""]
[null,""]
[null,""]
[null,""]
[null,""]
[null,""]
[null,""]
[null,""]
[null,""]
[null,""]
[null,""]
[null,""]
[null,""]
[null,""]
[null,""]
[null,""]
[null,""]
[null,""]
[null,""]
[null,""]
[null,""]
[null,""]
[null,""]
[null,""]
[null,""]
[null,""]
[null,""]
[null,""]
[null,""]
[null,""]
[null,""]
[null,""]
[null,""]
[null,""]
[null,""]
[null,""]
[null,""]
[null,""]
[null,""]
[null,""]
[null,""]
[null,""]
[null,""]
[null,""]
[null,""]
[null,""]
[null,""]
[null,""]
[null,""]
[null,""]
[null,""]
[null,""]
[null,""]
[null,""]
[null,""]
[null,""]
[null,""]
[null,""]
[null,""]
[null,""]
[null,""]
[null,""]
[null,{"$f":"IF(C5789=0,\"\",C5789-C5788)","v":""}]
[null,""]
[null,""]
[null,""]
[null,""]
[null,""]
[null,""]
[null,""]
[null,""]
[null,""]
[null,""]
[null,""]
[null,""]
[null,""]
[null,""]
[null,""]
[null,""]
[null,""]
[null,""]
[null,""]
[null,""]
[null,""]
[null,""]
[null,""]
[null,""]
[null,""]
[null,""]
[null,""]
[null,""]
[null,""]
[null,""]
[null,""]
[null,""]
[null,""]
[null,""]
[null,""]
[null,""]
[null,""]
[null,""]
[null,""]
[null,""]
[null,""]
[null,""]
[null,""]
[null,""]
[null,""]
[null,""]
[null,""]
[null,""]
[null,""]
[null,""]
[null,""]
[null,""]
[null,""]
[null,""]
[null,""]
[null,""]
[null,""]
[null,""]
[null,""]
[null,""]
[null,""]
[null,""]
[null,""]
[null,{"$f":"IF(C5853=0,\"\",C5853-C5852)","v":""}]
[null,""]
[null,""]
[null,""]
[null,""]
[null,""]
[null,""]
[null,""]
[null,""]
[null,""]
[null,""]
[null,""]
[null,""]
[null,""]
[null,""]
[null,""]
[null,""]
[null,""]
[null,""]
[null,""]
[null,""]
[null,""]
[null,""]
[null,""]
[null,""]
[null,""]
[null,""]
[null,""]
[null,""]
[null,""]
[null,""]
[null,""]
[null,""]
[null,""]
[null,""]
[null,""]
[null,""]
[null,""]
[null,""]
[null,""]
[null,""]
[null,""]
[null,""]
[null,""]
[null,""]
[null,""]
[null,""]
[null,""]
[null,""]
[null,""]
[null,""]
[null,""]
[null,""]
[null,""]
[null,""]
[null,""]
[null,""]
[null,""]
[null,""]
[null,""]
[null,""]
[null,""]
[null,""]
[null,""]
[null,{"$f":"IF(C5917=0,\"\",C5917-C5916)","v":""}]
[null,""]
[null,""]
[null,""]
[null,""]
[null,""]
[null,""]
[null,""]
[null,""]
[null,""]
[null,""]
[null,""]
[null,""]
[null,""]
[null,""]
[null,""]
[null,""]
[null,""]
[null,""]
[null,""]
[null,""]
[null,""]
[null,""]
[null,""]
[null,""]
[null,""]
[null,""]
[null,""]
[null,""]
[null,""]
[null,""]
[null,""]
[null,""]
[null,""]
[null,""]
[null,""]
[null,""]
[null,""]
[null,""]
[null,""]
[null,""]
[null,""]
[null,""]
[null,""]
[null,""]
[null,""]
[null,""]
[null,""]
[null,""]
[null,""]
[null,""]
[null,""]
[null,""]
[null,""]
[null,""]
[null,""]
[null,""]
[null,""]
[null,""]
[null,""]
[null,""]
[null,""]
[null,""]
[null,""]
[null,{"$f":"IF(C5981=0,\"\",C5981-C5980)","v":""}]
[null,""]
[null,""]
[null,""]
[null,""]
[null,""]
[null,""]
[null,""]
[null,""]
[null,""]
[null,""]
[null,""]
[null,""]
[null,""]
[null,""]
[null,""]
[null,""]
[null,""]
[null,""]
[null,""]
[null,""]
[null,""]
[null,""]
[null,""]
[null,""]
[null,""]
[null,""]
[null,""]
[null,""]
[null,""]
[null,""]
[null,""]
[null,""]
[null,""]
[null,""]
[null,""]
[null,""]
[null,""]
[null,""]
[null,""]
[null,""]
[null,""]
[null,""]
[null,""]
[null,""]
[null,""]
[null,""]
[null,""]
[null,""]
[null,""]
[null,""]
[null,""]
[null,""]
[null,""]
[null,""]
[null,""]
[null,""]
[null,""]
[null,""]
[null,""]
[null,""]
[null,""]
[null,""]
[null,""]
[null,{"$f":"IF(C6045=0,\"\",C6045-C6044)","v":""}]
[null,""]
[null,""]
[null,""]
[null,""]
[null,""]
[null,""]
[null,""]
[null,""]
[null,""]
[null,""]
[null,""]
[null,""]
[null,""]
[null,""]
[null,""]
[null,""]
[null,""]
[null,""]
[null,""]
[null,""]
[null,""]
[null,""]
[null,""]
[null,""]
[null,""]
[null,""]
[null,""]
[null,""]
[null,""]
[null,""]
[null,""]
[null,""]
[null,""]
[null,""]
[null,""]
[null,""]
[null,""]
[null,""]
[null,""]
[null,""]
[null,""]
[null,""]
[null,""]
[null,""]
[null,""]
[null,""]
[null,""]
[null,""]
[null,""]
[null,""]
[null,""]
[null,""]
[null,""]
[null,""]
[null,""]
[null,""]
[null,""]
[null,""]
[null,""]
[null,""]
[null,""]
[null,""]
[null,""]
[null,{"$f":"IF(C6109=0,\"\",C6109-C6108)","v":""}]
[null,""]
[null,""]
[null,""]
[null,""]
[null,""]
[null,""]
[null,""]
[null,""]
[null,""]
[null,""]
[null,""]
[null,""]
[null,""]
[null,""]
[null,""]
[null,""]
[null,""]
[null,""]
[null,""]
[null,""]
[null,""]
[null,""]
[null,""]
[null,""]
[null,""]
[null,""]
[null,""]
[null,""]
[null,""]
[null,""]
[null,""]
[null,""]
[null,""]
[null,""]
[null,""]
[null,""]
[null,""]
[null,""]
[null,""]
[null,""]
[null,""]
[null,""]
[null,""]
[null,""]
[null,""]
[null,""]
[null,""]
[null,""]
[null,""]
[null,""]
[null,""]
[null,""]
[null,""]
[null,""]
[null,""]
[null,""]
[null,""]
[null,""]
[null,""]
[null,""]
[null,""]
[null,""]
[null,""]
[null,{"$f":"IF(C6173=0,\"\",C6173-C6172)","v":""}]
[null,""]
[null,""]
[null,""]
[null,""]
[null,""]
[null,""]
[null,""]
[null,""]
[null,""]
[null,""]
[null,""]
[null,""]
[null,""]
[null,""]
[null,""]
[null,""]
[null,""]
[null,""]
[null,""]
[null,""]
[null,""]
[null,""]
[null,""]
[null,""]
[null,""]
[null,""]
[null,""]
[null,""]
[null,""]
[null,""]
[null,""]
[null,""]
[null,""]
[null,""]
[null,""]
[null,""]
[null,""]
[null,""]
[null,""]
[null,""]
[null,""]
[null,""]
[null,""]
[null,""]
[null,""]
[null,""]
[null,""]
[null,""]
[null,""]
[null,""]
[null,""]
[null,""]
[null,""]
[null,""]
[null,""]
[null,""]
[null,""]
[null,""]
[null,""]
[null,""]
[null,""]
[null,""]
[null,""]
[null,{"$f":"IF(C6237=0,\"\",C6237-C6236)","v":""}]
[null,""]
[null,""]
[null,""]
[null,""]
[null,""]
[null,""]
[null,""]
[null,""]
[null,""]
[null,""]
[null,""]
[null,""]
[null,""]
[null,""]
[null,""]
[null,""]
[null,""]
[null,""]
[null,""]
[null,""]
[null,""]
[null,""]
[null,""]
[null,""]
[null,""]
[null,""]
[null,""]
[null,""]
[null,""]
[null,""]
[null,""]
[null,""]
[null,""]
[null,""]
[null,""]
[null,""]
[null,""]
[null,""]
[null,""]
[null,""]
[null,""]
[null,""]
[null,""]
[null,""]
[null,""]
[null,""]
[null,""]
[null,""]
[null,""]
[null,""]
[null,""]
[null,""]
[null,""]
[null,""]
[null,""]
[null,""]
[null,""]
[null,""]
[null,""]
[null,""]
[null,""]
[null,""]
[null,""]
[null,{"$f":"IF(C6301=0,\"\",C6301-C6300)","v":""}]
[null,""]
[null,""]
[null,""]
[null,""]
[null,""]
[null,""]
[null,""]
[null,""]
[null,""]
[null,""]
[null,""]
[null,""]
[null,""]
[null,""]
[null,""]
[null,""]
[null,""]
[null,""]
[null,""]
[null,""]
[null,""]
[null,""]
[null,""]
[null,""]
[null,""]
[null,""]
[null,""]
[null,""]
[null,""]
[null,""]
[null,""]
[null,""]
[null,""]
[null,""]
[null,""]
[null,""]
[null,""]
[null,""]
[null,""]
[null,""]
[null,""]
[null,""]
[null,""]
[null,""]
[null,""]
[null,""]
[null,""]
[null,""]
[null,""]
[null,""]
[null,""]
[null,""]
[null,""]
[null,""]
[null,""]
[null,""]
[null,""]
[null,""]
[null,""]
[null,""]
[null,""]
[null,""]
[null,""]
[null,{"$f":"IF(C6365=0,\"\",C6365-C6364)","v":""}]
[null,""]
[null,""]
[null,""]
[null,""]
[null,""]
[null,""]
[null,""]
[null,""]
[null,""]
[null,""]
[null,""]
[null,""]
[null,""]
[null,""]
[null,""]
[null,""]
[null,""]
[null,""]
[null,""]
[null,""]
[null,""]
[null,""]
[null,""]
[null,""]
[null,""]
[null,""]
[null,""]
[null,""]
[null,""]
[null,""]
[null,""]
[null,""]
[null,""]
[null,""]
[null,""]
[null,""]
[null,""]
[null,""]
[null,""]
[null,""]
[null,""]
[null,""]
[null,""]
[null,""]
[null,""]
[null,""]
[null,""]
[null,""]
[null,""]
[null,""]
[null,""]
[null,""]
[null,""]
[null,""]
[null,""]
[null,""]
[null,""]
[null,""]
[null,""]
[null,""]
[null,""]
[null,""]
[null,""]
[null,{"$f":"IF(C6429=0,\"\",C6429-C6428)","v":""}]
[null,""]
[null,""]
[null,""]
[null,""]
[null,""]
[null,""]
[null,""]
[null,""]
[null,""]
[null,""]
[null,""]
[null,""]
[null,""]
[null,""]
[null,""]
[null,""]
[null,""]
[null,""]
[null,""]
[null,""]
[null,""]
[null,""]
[null,""]
[null,""]
[null,""]
[null,""]
[null,""]
[null,""]
[null,""]
[null,""]
[null,""]
[null,""]
[null,""]
[null,""]
[null,""]
[null,""]
[null,""]
[null,""]
[null,""]
[null,""]
[null,""]
[null,""]
[null,""]
[null,""]
[null,""]
[null,""]
[null,""]
[null,""]
[null,""]
[null,""]
[null,""]
[null,""]
[null,""]
[null,""]
[null,""]
[null,""]
[null,""]
[null,""]
[null,""]
[null,""]
[null,""]
[null,""]
[null,""]
[null,{"$f":"IF(C6493=0,\"\",C6493-C6492)","v":""}]
[null,""]
[null,""]
[null,""]
[null,""]
[null,""]
[null,""]
[null,""]
[null,""]
[null,""]
[null,""]
[null,""]
[null,""]
[null,""]
[null,""]
[null,""]
[null,""]
[null,""]
[null,""]
[null,""]
[null,""]
[null,""]
[null,""]
[null,""]
[null,""]
[null,""]
[null,""]
[null,""]
[null,""]
[null,""]
[null,""]
[null,""]
[null,""]
[null,""]
[null,""]
[null,""]
[null,""]
[null,""]
[null,""]
[null,""]
[null,""]
[null,""]
[null,""]
[null,""]
[null,""]
[null,""]
[null,""]
[null,""]
[null,""]
[null,""]
[null,""]
[null,""]
[null,""]
[null,""]
[null,""]
[null,""]
[null,""]
[null,""]
[null,""]
[null,""]
[null,""]
[null,""]
[null,""]
[null,""]
[null,{"$f":"IF(C6557=0,\"\",C6557-C6556)","v":""}]
[null,""]
[null,""]
[null,""]
[null,""]
[null,""]
[null,""]
[null,""]
[null,""]
[null,""]
[null,""]
[null,""]
[null,""]
[null,""]
[null,""]
[null,""]
[null,""]
[null,""]
[null,""]
[null,""]
[null,""]
[null,""]
[null,""]
[null,""]
[null,""]
[null,""]
[null,""]
[null,""]
[null,""]
[null,""]
[null,""]
[null,""]
[null,""]
[null,""]
[null,""]
[null,""]
[null,""]
[null,""]
[null,""]
[null,""]
[null,""]
[null,""]
[null,""]
[null,""]
[null,""]
[null,""]
[null,""]
[null,""]
[null,""]
[null,""]
[null,""]
[null,""]
[null,""]
[null,""]
[null,""]
[null,""]
[null,""]
[null,""]
[null,""]
[null,""]
[null,""]
[null,""]
[null,""]
[null,""]
[null,{"$f":"IF(C6621=0,\"\",C6621-C6620)","v":""}]
[null,""]
[null,""]
[null,""]
[null,""]
[null,""]
[null,""]
[null,""]
[null,""]
[null,""]
[null,""]
[null,""]
[null,""]
[null,""]
[null,""]
[null,""]
[null,""]
[null,""]
[null,""]
[null,""]
[null,""]
[null,""]
[null,""]
[null,""]
[null,""]
[null,""]
[null,""]
[null,""]
[null,""]
[null,""]
[null,""]
[null,""]
[null,""]
[null,""]
[null,""]
[null,""]
[null,""]
[null,""]
[null,""]
[null,""]
[null,""]
[null,""]
[null,""]
[null,""]
[null,""]
[null,""]
[null,""]
[null,""]
[null,""]
[null,""]
[null,""]
[null,""]
[null,""]
[null,""]
[null,""]
[null,""]
[null,""]
[null,""]
[null,""]
[null,""]
[null,""]
[null,""]
[null,""]
[null,""]
[null,{"$f":"IF(C6685=0,\"\",C6685-C6684)","v":""}]
[null,""]
[null,""]
[null,""]
[null,""]
[null,""]
[null,""]
[null,""]
[null,""]
[null,""]
[null,""]
[null,""]
[null,""]
[null,""]
[null,""]
[null,""]
[null,""]
[null,""]
[null,""]
[null,""]
[null,""]
[null,""]
[null,""]
[null,""]
[null,""]
[null,""]
[null,""]
[null,""]
[null,""]
[null,""]
[null,""]
[null,""]
[null,""]
[null,""]
[null,""]
[null,""]
[null,""]
[null,""]
[null,""]
[null,""]
[null,""]
[null,""]
[null,""]
[null,""]
[null,""]
[null,""]
[null,""]
[null,""]
[null,""]
[null,""]
[null,""]
[null,""]
[null,""]
[null,""]
[null,""]
[null,""]
[null,""]
[null,""]
[null,""]
[null,""]
[null,""]
[null,""]
[null,""]
[null,""]
[null,{"$f":"IF(C6749=0,\"\",C6749-C6748)","v":""}]
[null,""]
[null,""]
[null,""]
[null,""]
[null,""]
[null,""]
[null,""]
[null,""]
[null,""]
[null,""]
[null,""]
[null,""]
[null,""]
[null,""]
[null,""]
[null,""]
[null,""]
[null,""]
[null,""]
[null,""]
[null,""]
[null,""]
[null,""]
[null,""]
[null,""]
[null,""]
[null,""]
[null,""]
[null,""]
[null,""]
[null,""]
[null,""]
[null,""]
[null,""]
[null,""]
[null,""]
[null,""]
[null,""]
[null,""]
[null,""]
[null,""]
[null,""]
[null,""]
[null,""]
[null,""]
[null,""]
[null,""]
[null,""]
[null,""]
[null,""]
[null,""]
[null,""]
[null,""]
[null,""]
[null,""]
[null,""]
[null,""]
[null,""]
[null,""]
[null,""]
[null,""]
[null,""]
[null,""]
[null,{"$f":"IF(C6813=0,\"\",C6813-C6812)","v":""}]
[null,""]
[null,""]
[null,""]
[null,""]
[null,""]
[null,""]
[null,""]
[null,""]
[null,""]
[null,""]
[null,""]
[null,""]
[null,""]
[null,""]
[null,""]
[null,""]
[null,""]
[null,""]
[null,""]
[null,""]
[null,""]
[null,""]
[null,""]
[null,""]
[null,""]
[null,""]
[null,""]
[null,""]
[null,""]
[null,""]
[null,""]
[null,""]
[null,""]
[null,""]
[null,""]
[null,""]
[null,""]
[null,""]
[null,""]
[null,""]
[null,""]
[null,""]
[null,""]
[null,""]
[null,""]
[null,""]
[null,""]
[null,""]
[null,""]
[null,""]
[null,""]
[null,""]
[null,""]
[null,""]
[null,""]
[null,""]
[null,""]
[null,""]
[null,""]
[null,""]
[null,""]
[null,""]
[null,""]
[null,{"$f":"IF(C6877=0,\"\",C6877-C6876)","v":""}]
[null,""]
[null,""]
[null,""]
[null,""]
[null,""]
[null,""]
[null,""]
[null,""]
[null,""]
[null,""]
[null,""]
[null,""]
[null,""]
[null,""]
[null,""]
[null,""]
[null,""]
[null,""]
[null,""]
[null,""]
[null,""]
[null,""]
[null,""]
[null,""]
[null,""]
[null,""]
[null,""]
[null,""]
[null,""]
[null,""]
[null,""]
[null,""]
[null,""]
[null,""]
[null,""]
[null,""]
[null,""]
[null,""]
[null,""]
[null,""]
[null,""]
[null,""]
[null,""]
[null,""]
[null,""]
[null,""]
[null,""]
[null,""]
[null,""]
[null,""]
[null,""]
[null,""]
[null,""]
[null,""]
[null,""]
[null,""]
[null,""]
[null,""]
[null,""]
[null,""]
[null,""]
[null,""]
[null,""]
[null,{"$f":"IF(C6941=0,\"\",C6941-C6940)","v":""}]
[null,""]
[null,""]
[null,""]
[null,""]
[null,""]
[null,""]
[null,""]
[null,""]
[null,""]
[null,""]
[null,""]
[null,""]
[null,""]
[null,""]
[null,""]
[null,""]
[null,""]
[null,""]
[null,""]
[null,""]
[null,""]
[null,""]
[null,""]
[null,""]
[null,""]
[null,""]
[null,""]
[null,""]
[null,""]
[null,""]
[null,""]
[null,""]
[null,""]
[null,""]
[null,""]
[null,""]
[null,""]
[null,""]
[null,""]
[null,""]
[null,""]
[null,""]
[null,""]
[null,""]
[null,""]
[null,""]
[null,""]
[null,""]
[null,""]
[null,""]
[null,""]
[null,""]
[null,""]
[null,""]
[null,""]
[null,""]
[null,""]
[null,""]
[null,""]
[null,""]
[null,""]
[null,""]
[null,""]
[null,{"$f":"IF(C7005=0,\"\",C7005-C7004)","v":""}]
[null,""]
[null,""]
[null,""]
[null,""]
[null,""]
[null,""]
[null,""]
[null,""]
[null,""]
[null,""]
[null,""]
[null,""]
[null,""]
[null,""]
[null,""]
[null,""]
[null,""]
[null,""]
[null,""]
[null,""]
[null,""]
[null,""]
[null,""]
[null,""]
[null,""]
[null,""]
[null,""]
[null,""]
[null,""]
[null,""]
[null,""]
[null,""]
[null,""]
[null,""]
[null,""]
[null,""]
[null,""]
[null,""]
[null,""]
[null,""]
[null,""]
[null,""]
[null,""]
[null,""]
[null,""]
[null,""]
[null,""]
[null,""]
[null,""]
[null,""]
[null,""]
[null,""]
[null,""]
[null,""]
[null,""]
[null,""]
[null,""]
[null,""]
[null,""]
[null,""]
[null,""]
[null,""]
[null,""]
[null,{"$f":"IF(C7069=0,\"\",C7069-C7068)","v":""}]
[null,""]
[null,""]
[null,""]
[null,""]
[null,""]
[null,""]
[null,""]
[null,""]
[null,""]
[null,""]
[null,""]
[null,""]
[null,""]
[null,""]
[null,""]
[null,""]
[null,""]
[null,""]
[null,""]
[null,""]
[null,""]
[null,""]
[null,""]
[null,""]
[null,""]
[null,""]
[null,""]
[null,""]
[null,""]
[null,""]
[null,""]
[null,""]
[null,""]
[null,""]
[null,""]
[null,""]
[null,""]
[null,""]
[null,""]
[null,""]
[null,""]
[null,""]
[null,""]
[null,""]
[null,""]
[null,""]
[null,""]
[null,""]
[null,""]
[null,""]
[null,""]
[null,""]
[null,""]
[null,""]
[null,""]
[null,""]
[null,""]
[null,""]
[null,""]
[null,""]
[null,""]
[null,""]
[null,""]
[null,{"$f":"IF(C7133=0,\"\",C7133-C7132)","v":""}]
[null,""]
[null,""]
[null,""]
[null,""]
[null,""]
[null,""]
[null,""]
[null,""]
[null,""]
[null,""]
[null,""]
[null,""]
[null,""]
[null,""]
[null,""]
[null,""]
[null,""]
[null,""]
[null,""]
[null,""]
[null,""]
[null,""]
[null,""]
[null,""]
[null,""]
[null,""]
[null,""]
[null,""]
[null,""]
[null,""]
[null,""]
[null,""]
[null,""]
[null,""]
[null,""]
[null,""]
[null,""]
[null,""]
[null,""]
[null,""]
[null,""]
[null,""]
[null,""]
[null,""]
[null,""]
[null,""]
[null,""]
[null,""]
[null,""]
[null,""]
[null,""]
[null,""]
[null,""]
[null,""]
[null,""]
[null,""]
[null,""]
[null,""]
[null,""]
[null,""]
[null,""]
[null,""]
[null,""]
[null,{"$f":"IF(C7197=0,\"\",C7197-C7196)","v":""}]
[null,""]
[null,""]
[null,""]
[null,""]
[null,""]
[null,""]
[null,""]
[null,""]
[null,""]
[null,""]
[null,""]
[null,""]
[null,""]
[null,""]
[null,""]
[null,""]
[null,""]
[null,""]
[null,""]
[null,""]
[null,""]
[null,""]
[null,""]
[null,""]
[null,""]
[null,""]
[null,""]
[null,""]
[null,""]
[null,""]
[null,""]
[null,""]
[null,""]
[null,""]
[null,""]
[null,""]
[null,""]
[null,""]
[null,""]
[null,""]
[null,""]
[null,""]
[null,""]
[null,""]
[null,""]
[null,""]
[null,""]
[null,""]
[null,""]
[null,""]
[null,""]
[null,""]
[null,""]
[null,""]
[null,""]
[null,""]
[null,""]
[null,""]
[null,""]
[null,""]
[null,""]
[null,""]
[null,""]
[null,{"$f":"IF(C7261=0,\"\",C7261-C7260)","v":""}]
[null,""]
[null,""]
[null,""]
[null,""]
[null,""]
[null,""]
[null,""]
[null,""]
[null,""]
[null,""]
[null,""]
[null,""]
[null,""]
[null,""]
[null,""]
[null,""]
[null,""]
[null,""]
[null,""]
[null,""]
[null,""]
[null,""]
[null,""]
[null,""]
[null,""]
[null,""]
[null,""]
[null,""]
[null,""]
[null,""]
[null,""]
[null,""]
[null,""]
[null,""]
[null,""]
[null,""]
[null,""]
[null,""]
[null,""]
[null,""]
[null,""]
[null,""]
[null,""]
[null,""]
[null,""]
[null,""]
[null,""]
[null,""]
[null,""]
[null,""]
[null,""]
[null,""]
[null,""]
[null,""]
[null,""]
[null,""]
[null,""]
[null,""]
[null,""]
[null,""]
[null,""]
[null,""]
[null,""]
[null,{"$f":"IF(C7325=0,\"\",C7325-C7324)","v":""}]
[null,""]
[null,""]
[null,""]
[null,""]
[null,""]
[null,""]
[null,""]
[null,""]
[null,""]
[null,""]
[null,""]
[null,""]
[null,""]
[null,""]
[null,""]
[null,""]
[null,""]
[null,""]
[null,""]
[null,""]
[null,""]
[null,""]
[null,""]
[null,""]
[null,""]
[null,""]
[null,""]
[null,""]
[null,""]
[null,""]
[null,""]
[null,""]
[null,""]
[null,""]
[null,""]
[null,""]
[null,""]
[null,""]
[null,""]
[null,""]
[null,""]
[null,""]
[null,""]
[null,""]
[null,""]
[null,""]
[null,""]
[null,""]
[null,""]
[null,""]
[null,""]
[null,""]
[null,""]
[null,""]
[null,""]
[null,""]
[null,""]
[null,""]
[null,""]
[null,""]
[null,""]
[null,""]
[null,""]
[null,{"$f":"IF(C7389=0,\"\",C7389-C7388)","v":""}]
[null,""]
[null,""]
[null,""]
[null,""]
[null,""]
[null,""]
[null,""]
[null,""]
[null,""]
[null,""]
[null,""]
[null,""]
[null,""]
[null,""]
[null,""]
[null,""]
[null,""]
[null,""]
[null,""]
[null,""]
[null,""]
[null,""]
[null,""]
[null,""]
[null,""]
[null,""]
[null,""]
[null,""]
[null,""]
[null,""]
[null,""]
[null,""]
[null,""]
[null,""]
[null,""]
[null,""]
[null,""]
[null,""]
[null,""]
[null,""]
[null,""]
[null,""]
[null,""]
[null,""]
[null,""]
[null,""]
[null,""]
[null,""]
[null,""]
[null,""]
[null,""]
[null,""]
[null,""]
[null,""]
[null,""]
[null,""]
[null,""]
[null,""]
[null,""]
[null,""]
[null,""]
[null,""]
[null,""]
[null,{"$f":"IF(C7453=0,\"\",C7453-C7452)","v":""}]
[null,""]
[null,""]
[null,""]
[null,""]
[null,""]
[null,""]
[null,""]
[null,""]
[null,""]
[null,""]
[null,""]
[null,""]
[null,""]
[null,""]
[null,""]
[null,""]
[null,""]
[null,""]
[null,""]
[null,""]
[null,""]
[null,""]
[null,""]
[null,""]
[null,""]
[null,""]
[null,""]
[null,""]
[null,""]
[null,""]
[null,""]
[null,""]
[null,""]
[null,""]
[null,""]
[null,""]
[null,""]
[null,""]
[null,""]
[null,""]
[null,""]
[null,""]
[null,""]
[null,""]
[null,""]
[null,""]
[null,""]
[null,""]
[null,""]
[null,""]
[null,""]
[null,""]
[null,""]
[null,""]
[null,""]
[null,""]
[null,""]
[null,""]
[null,""]
[null,""]
[null,""]
[null,""]
[null,""]
[null,{"$f":"IF(C7517=0,\"\",C7517-C7516)","v":""}]
[null,""]
[null,""]
[null,""]
[null,""]
[null,""]
[null,""]
[null,""]
[null,""]
[null,""]
[null,""]
[null,""]
[null,""]
[null,""]
[null,""]
[null,""]
[null,""]
[null,""]
[null,""]
[null,""]
[null,""]
[null,""]
[null,""]
[null,""]
[null,""]
[null,""]
[null,""]
[null,""]
[null,""]
[null,""]
[null,""]
[null,""]
[null,""]
[null,""]
[null,""]
[null,""]
[null,""]
[null,""]
[null,""]
[null,""]
[null,""]
[null,""]
[null,""]
[null,""]
[null,""]
[null,""]
[null,""]
[null,""]
[null,""]
[null,""]
[null,""]
[null,""]
[null,""]
[null,""]
[null,""]
[null,""]
[null,""]
[null,""]
[null,""]
[null,""]
[null,""]
[null,""]
[null,""]
[null,""]
[null,{"$f":"IF(C7581=0,\"\",C7581-C7580)","v":""}]
[null,""]
[null,""]
[null,""]
[null,""]
[null,""]
[null,""]
[null,""]
[null,""]
[null,""]
[null,""]
[null,""]
[null,""]
[null,""]
[null,""]
[null,""]
[null,""]
[null,""]
[null,""]
[null,""]
[null,""]
[null,""]
[null,""]
[null,""]
[null,""]
[null,""]
[null,""]
[null,""]
[null,""]
[null,""]
[null,""]
[null,""]
[null,""]
[null,""]
[null,""]
[null,""]
[null,""]
[null,""]
[null,""]
[null,""]
[null,""]
[null,""]
[null,""]
[null,""]
[null,""]
[null,""]
[null,""]
[null,""]
[null,""]
[null,""]
[null,""]
[null,""]
[null,""]
[null,""]
[null,""]
[null,""]
[null,""]
[null,""]
[null,""]
[null,""]
[null,""]
[null,""]
[null,""]
[null,""]
[null,{"$f":"IF(C7645=0,\"\",C7645-C7644)","v":""}]
[null,""]
[null,""]
[null,""]
[null,""]
[null,""]
[null,""]
[null,""]
[null,""]
[null,""]
[null,""]
[null,""]
[null,""]
[null,""]
[null,""]
[null,""]
[null,""]
[null,""]
[null,""]
[null,""]
[null,""]
[null,""]
[null,""]
[null,""]
[null,""]
[null,""]
[null,""]
[null,""]
[null,""]
[null,""]
[null,""]
[null,""]
[null,""]
[null,""]
[null,""]
[null,""]
[null,""]
[null,""]
[null,""]
[null,""]
[null,""]
[null,""]
[null,""]
[null,""]
[null,""]
[null,""]
[null,""]
[null,""]
[null,""]
[null,""]
[null,""]
[null,""]
[null,""]
[null,""]
[null,""]
[null,""]
[null,""]
[null,""]
[null,""]
[null,""]
[null,""]
[null,""]
[null,""]
[null,""]
[null,{"$f":"IF(C7709=0,\"\",C7709-C7708)","v":""}]
[null,""]
[null,""]
[null,""]
[null,""]
[null,""]
[null,""]
[null,""]
[null,""]
[null,""]
[null,""]
[null,""]
[null,""]
[null,""]
[null,""]
[null,""]
[null,""]
[null,""]
[null,""]
[null,""]
[null,""]
[null,""]
[null,""]
[null,""]
[null,""]
[null,""]
[null,""]
[null,""]
[null,""]
[null,""]
[null,""]
[null,""]
[null,""]
[null,""]
[null,""]
[null,""]
[null,""]
[null,""]
[null,""]
[null,""]
[null,""]
[null,""]
[null,""]
[null,""]
[null,""]
[null,""]
[null,""]
[null,""]
[null,""]
[null,""]
[null,""]
[null,""]
[null,""]
[null,""]
[null,""]
[null,""]
[null,""]
[null,""]
[null,""]
[null,""]
[null,""]
[null,""]
[null,""]
[null,""]
[null,{"$f":"IF(C7773=0,\"\",C7773-C7772)","v":""}]
[null,""]
[null,""]
[null,""]
[null,""]
[null,""]
[null,""]
[null,""]
[null,""]
[null,""]
[null,""]
[null,""]
[null,""]
[null,""]
[null,""]
[null,""]
[null,""]
[null,""]
[null,""]
[null,""]
[null,""]
[null,""]
[null,""]
[null,""]
[null,""]
[null,""]
[null,""]
[null,""]
[null,""]
[null,""]
[null,""]
[null,""]
[null,""]
[null,""]
[null,""]
[null,""]
[null,""]
[null,""]
[null,""]
[null,""]
[null,""]
[null,""]
[null,""]
[null,""]
[null,""]
[null,""]
[null,""]
[null,""]
[null,""]
[null,""]
[null,""]
[null,""]
[null,""]
[null,""]
[null,""]
[null,""]
[null,""]
[null,""]
[null,""]
[null,""]
[null,""]
[null,""]
[null,""]
[null,""]
[null,{"$f":"IF(C7837=0,\"\",C7837-C7836)","v":""}]
[null,""]
[null,""]
[null,""]
[null,""]
[null,""]
[null,""]
[null,""]
[null,""]
[null,""]
[null,""]
[null,""]
[null,""]
[null,""]
[null,""]
[null,""]
[null,""]
[null,""]
[null,""]
[null,""]
[null,""]
[null,""]
[null,""]
[null,""]
[null,""]
[null,""]
[null,""]
[null,""]
[null,""]
[null,""]
[null,""]
[null,""]
[null,""]
[null,""]
[null,""]
[null,""]
[null,""]
[null,""]
[null,""]
[null,""]
[null,""]
[null,""]
[null,""]
[null,""]
[null,""]
[null,""]
[null,""]
[null,""]
[null,""]
[null,""]
[null,""]
[null,""]
[null,""]
[null,""]
[null,""]
[null,""]
[null,""]
[null,""]
[null,""]
[null,""]
[null,""]
[null,""]
[null,""]
[null,""]
[null,{"$f":"IF(C7901=0,\"\",C7901-C7900)","v":""}]
[null,""]
[null,""]
[null,""]
[null,""]
[null,""]
[null,""]
[null,""]
[null,""]
[null,""]
[null,""]
[null,""]
[null,""]
[null,""]
[null,""]
[null,""]
[null,""]
[null,""]
[null,""]
[null,""]
[null,""]
[null,""]
[null,""]
[null,""]
[null,""]
[null,""]
[null,""]
[null,""]
[null,""]
[null,""]
[null,""]
[null,""]
[null,""]
[null,""]
[null,""]
[null,""]
[null,""]
[null,""]
[null,""]
[null,""]
[null,""]
[null,""]
[null,""]
[null,""]
[null,""]
[null,""]
[null,""]
[null,""]
[null,""]
[null,""]
[null,""]
[null,""]
[null,""]
[null,""]
[null,""]
[null,""]
[null,""]
[null,""]
[null,""]
[null,""]
[null,""]
[null,""]
[null,""]
[null,""]
[null,{"$f":"IF(C7965=0,\"\",C7965-C7964)","v":""}]
[null,""]
[null,""]
[null,""]
[null,""]
[null,""]
[null,""]
[null,""]
[null,""]
[null,""]
[null,""]
[null,""]
[null,""]
[null,""]
[null,""]
[null,""]
[null,""]
[null,""]
[null,""]
[null,""]
[null,""]
[null,""]
[null,""]
[null,""]
[null,""]
[null,""]
[null,""]
[null,""]
[null,""]
[null,""]
[null,""]
[null,""]
[null,""]
[null,""]
[null,""]
[null,""]
[null,""]
[null,""]
[null,""]
[null,""]
[null,""]
[null,""]
[null,""]
[null,""]
[null,""]
[null,""]
[null,""]
[null,""]
[null,""]
[null,""]
[null,""]
[null,""]
[null,""]
[null,""]
[null,""]
[null,""]
[null,""]
[null,""]
[null,""]
[null,""]
[null,""]
[null,""]
[null,""]
[null,""]
[null,{"$f":"IF(C8029=0,\"\",C8029-C8028)","v":""}]
[null,""]
[null,""]
[null,""]
[null,""]
[null,""]
[null,""]
[null,""]
[null,""]
[null,""]
[null,""]
[null,""]
[null,""]
[null,""]
[null,""]
[null,""]
[null,""]
[null,""]
[null,""]
[null,""]
[null,""]
[null,""]
[null,""]
[null,""]
[null,""]
[null,""]
[null,""]
[null,""]
[null,""]
[null,""]
[null,""]
[null,""]
[null,""]
[null,""]
[null,""]
[null,""]
[null,""]
[null,""]
[null,""]
[null,""]
[null,""]
[null,""]
[null,""]
[null,""]
[null,""]
[null,""]
[null,""]
[null,""]
[null,""]
[null,""]
[null,""]
[null,""]
[null,""]
[null,""]
[null,""]
[null,""]
[null,""]
[null,""]
[null,""]
[null,""]
[null,""]
[null,""]
[null,""]
[null,""]
[null,{"$f":"IF(C8093=0,\"\",C8093-C8092)","v":""}]
[null,""]
[null,""]
[null,""]
[null,""]
[null,""]
[null,""]
[null,""]
[null,""]
[null,""]
[null,""]
[null,""]
[null,""]
[null,""]
[null,""]
[null,""]
[null,""]
[null,""]
[null,""]
[null,""]
[null,""]
[null,""]
[null,""]
[null,""]
[null,""]
[null,""]
[null,""]
[null,""]
[null,""]
[null,""]
[null,""]
[null,""]
[null,""]
[null,""]
[null,""]
[null,""]
[null,""]
[null,""]
[null,""]
[null,""]
[null,""]
[null,""]
[null,""]
[null,""]
[null,""]
[null,""]
[null,""]
[null,""]
[null,""]
[null,""]
[null,""]
[null,""]
[null,""]
[null,""]
[null,""]
[null,""]
[null,""]
[null,""]
[null,""]
[null,""]
[null,""]
[null,""]
[null,""]
[null,""]
[null,{"$f":"IF(C8157=0,\"\",C8157-C8156)","v":""}]
[null,""]
[null,""]
[null,""]
[null,""]
[null,""]
[null,""]
[null,""]
[null,""]
[null,""]
[null,""]
[null,""]
[null,""]
[null,""]
[null,""]
[null,""]
[null,""]
[null,""]
[null,""]
[null,""]
[null,""]
[null,""]
[null,""]
[null,""]
[null,""]
[null,""]
[null,""]
[null,""]
[null,""]
[null,""]
[null,""]
[null,""]
[null,""]
[null,""]
[null,""]
[null,""]
[null,""]
[null,""]
[null,""]
[null,""]
[null,""]
[null,""]
[null,""]
[null,""]
[null,""]
[null,""]
[null,""]
[null,""]
[null,""]
[null,""]
[null,""]
[null,""]
[null,""]
[null,""]
[null,""]
[null,""]
[null,""]
[null,""]
[null,""]
[null,""]
[null,""]
[null,""]
[null,""]
[null,""]
[null,{"$f":"IF(C8221=0,\"\",C8221-C8220)","v":""}]
[null,""]
[null,""]
[null,""]
[null,""]
[null,""]
[null,""]
[null,""]
[null,""]
[null,""]
[null,""]
[null,""]
[null,""]
[null,""]
[null,""]
[null,""]
[null,""]
[null,""]
[null,""]
[null,""]
[null,""]
[null,""]
[null,""]
[null,""]
[null,""]
[null,""]
[null,""]
[null,""]
[null,""]
[null,""]
[null,""]
[null,""]
[null,""]
[null,""]
[null,""]
[null,""]
[null,""]
[null,""]
[null,""]
[null,""]
[null,""]
[null,""]
[null,""]
[null,""]
[null,""]
[null,""]
[null,""]
[null,""]
[null,""]
[null,""]
[null,""]
[null,""]
[null,""]
[null,""]
[null,""]
[null,""]
[null,""]
[null,""]
[null,""]
[null,""]
[null,""]
[null,""]
[null,""]
[null,""]
[null,{"$f":"IF(C8285=0,\"\",C8285-C8284)","v":""}]
[null,""]
[null,""]
[null,""]
[null,""]
[null,""]
[null,""]
[null,""]
[null,""]
[null,""]
[null,""]
[null,""]
[null,""]
[null,""]
[null,""]
[null,""]
[null,""]
[null,""]
[null,""]
[null,""]
[null,""]
[null,""]
[null,""]
[null,""]
[null,""]
[null,""]
[null,""]
[null,""]
[null,""]
[null,""]
[null,""]
[null,""]
[null,""]
[null,""]
[null,""]
[null,""]
[null,""]
[null,""]
[null,""]
[null,""]
[null,""]
[null,""]
[null,""]
[null,""]
[null,""]
[null,""]
[null,""]
[null,""]
[null,""]
[null,""]
[null,""]
[null,""]
[null,""]
[null,""]
[null,""]
[null,""]
[null,""]
[null,""]
[null,""]
[null,""]
[null,""]
[null,""]
[null,""]
[null,""]
[null,{"$f":"IF(C8349=0,\"\",C8349-C8348)","v":""}]
[null,""]
[null,""]
[null,""]
[null,""]
[null,""]
[null,""]
[null,""]
[null,""]
[null,""]
[null,""]
[null,""]
[null,""]
[null,""]
[null,""]
[null,""]
[null,""]
[null,""]
[null,""]
[null,""]
[null,""]
[null,""]
[null,""]
[null,""]
[null,""]
[null,""]
[null,""]
[null,""]
[null,""]
[null,""]
[null,""]
[null,""]
[null,""]
[null,""]
[null,""]
[null,""]
[null,""]
[null,""]
[null,""]
[null,""]
[null,""]
[null,""]
[null,""]
[null,""]
[null,""]
[null,""]
[null,""]
[null,""]
[null,""]
[null,""]
[null,""]
[null,""]
[null,""]
[null,""]
[null,""]
[null,""]
[null,""]
[null,""]
[null,""]
[null,""]
[null,""]
[null,""]
[null,""]
[null,""]
[null,{"$f":"IF(C8413=0,\"\",C8413-C8412)","v":""}]
[null,""]
[null,""]
[null,""]
[null,""]
[null,""]
[null,""]
[null,""]
[null,""]
[null,""]
[null,""]
[null,""]
[null,""]
[null,""]
[null,""]
[null,""]
[null,""]
[null,""]
[null,""]
[null,""]
[null,""]
[null,""]
[null,""]
[null,""]
[null,""]
[null,""]
[null,""]
[null,""]
[null,""]
[null,""]
[null,""]
[null,""]
[null,""]
[null,""]
[null,""]
[null,""]
[null,""]
[null,""]
[null,""]
[null,""]
[null,""]
[null,""]
[null,""]
[null,""]
[null,""]
[null,""]
[null,""]
[null,""]
[null,""]
[null,""]
[null,""]
[null,""]
[null,""]
[null,""]
[null,""]
[null,""]
[null,""]
[null,""]
[null,""]
[null,""]
[null,""]
[null,""]
[null,""]
[null,""]
[null,{"$f":"IF(C8477=0,\"\",C8477-C8476)","v":""}]
[null,""]
[null,""]
[null,""]
[null,""]
[null,""]
[null,""]
[null,""]
[null,""]
[null,""]
[null,""]
[null,""]
[null,""]
[null,""]
[null,""]
[null,""]
[null,""]
[null,""]
[null,""]
[null,""]
[null,""]
[null,""]
[null,""]
[null,""]
[null,""]
[null,""]
[null,""]
[null,""]
[null,""]
[null,""]
[null,""]
[null,""]
[null,""]
[null,""]
[null,""]
[null,""]
[null,""]
[null,""]
[null,""]
[null,""]
[null,""]
[null,""]
[null,""]
[null,""]
[null,""]
[null,""]
[null,""]
[null,""]
[null,""]
[null,""]
[null,""]
[null,""]
[null,""]
[null,""]
[null,""]
[null,""]
[null,""]
[null,""]
[null,""]
[null,""]
[null,""]
[null,""]
[null,""]
[null,""]
[null,{"$f":"IF(C8541=0,\"\",C8541-C8540)","v":""}]
[null,""]
[null,""]
[null,""]
[null,""]
[null,""]
[null,""]
[null,""]
[null,""]
[null,""]
[null,""]
[null,""]
[null,""]
[null,""]
[null,""]
[null,""]
[null,""]
[null,""]
[null,""]
[null,""]
[null,""]
[null,""]
[null,""]
[null,""]
[null,""]
[null,""]
[null,""]
[null,""]
[null,""]
[null,""]
[null,""]
[null,""]
[null,""]
[null,""]
[null,""]
[null,""]
[null,""]
[null,""]
[null,""]
[null,""]
[null,""]
[null,""]
[null,""]
[null,""]
[null,""]
[null,""]
[null,""]
[null,""]
[null,""]
[null,""]
[null,""]
[null,""]
[null,""]
[null,""]
[null,""]
[null,""]
[null,""]
[null,""]
[null,""]
[null,""]
[null,""]
[null,""]
[null,""]
[null,""]
[null,{"$f":"IF(C8605=0,\"\",C8605-C8604)","v":""}]
[null,""]
[null,""]
[null,""]
[null,""]
[null,""]
[null,""]
[null,""]
[null,""]
[null,""]
[null,""]
[null,""]
[null,""]
[null,""]
[null,""]
[null,""]
[null,""]
[null,""]
[null,""]
[null,""]
[null,""]
[null,""]
[null,""]
[null,""]
[null,""]
[null,""]
[null,""]
[null,""]
[null,""]
[null,""]
[null,""]
[null,""]
[null,""]
[null,""]
[null,""]
[null,""]
[null,""]
[null,""]
[null,""]
[null,""]
[null,""]
[null,""]
[null,""]
[null,""]
[null,""]
[null,""]
[null,""]
[null,""]
[null,""]
[null,""]
[null,""]
[null,""]
[null,""]
[null,""]
[null,""]
[null,""]
[null,""]
[null,""]
[null,""]
[null,""]
[null,""]
[null,""]
[null,""]
[null,""]
[null,{"$f":"IF(C8669=0,\"\",C8669-C8668)","v":""}]
[null,""]
[null,""]
[null,""]
[null,""]
[null,""]
[null,""]
[null,""]
[null,""]
[null,""]
[null,""]
[null,""]
[null,""]
[null,""]
[null,""]
[null,""]
[null,""]
[null,""]
[null,""]
[null,""]
[null,""]
[null,""]
[null,""]
[null,""]
[null,""]
[null,""]
[null,""]
[null,""]
[null,""]
[null,""]
[null,""]
[null,""]
[null,""]
[null,""]
[null,""]
[null,""]
[null,""]
[null,""]
[null,""]
[null,""]
[null,""]
[null,""]
[null,""]
[null,""]
[null,""]
[null,""]
[null,""]
[null,""]
[null,""]
[null,""]
[null,""]
[null,""]
[null,""]
[null,""]
[null,""]
[null,""]
[null,""]
[null,""]
[null,""]
[null,""]
[null,""]
[null,""]
[null,""]
[null,""]
[null,{"$f":"IF(C8733=0,\"\",C8733-C8732)","v":""}]
[null,""]
[null,""]
[null,""]
[null,""]
[null,""]
[null,""]
[null,""]
[null,""]
[null,""]
[null,""]
[null,""]
[null,""]
[null,""]
[null,""]
[null,""]
[null,""]
[null,""]
[null,""]
[null,""]
[null,""]
[null,""]
[null,""]
[null,""]
[null,""]
[null,""]
[null,""]
[null,""]
[null,""]
[null,""]
[null,""]
[null,""]
[null,""]
[null,""]
[null,""]
[null,""]
[null,""]
[null,""]
[null,""]
[null,""]
[null,""]
[null,""]
[null,""]
[null,""]
[null,""]
[null,""]
[null,""]
[null,""]
[null,""]
[null,""]
[null,""]
[null,""]
[null,""]
[null,""]
[null,""]
[null,""]
[null,""]
[null,""]
[null,""]
[null,""]
[null,""]
[null,""]
[null,""]
[null,""]
[null,{"$f":"IF(C8797=0,\"\",C8797-C8796)","v":""}]
[null,""]
[null,""]
[null,""]
[null,""]
[null,""]
[null,""]
[null,""]
[null,""]
[null,""]
[null,""]
[null,""]
[null,""]
[null,""]
[null,""]
[null,""]
[null,""]
[null,""]
[null,""]
[null,""]
[null,""]
[null,""]
[null,""]
[null,""]
[null,""]
[null,""]
[null,""]
[null,""]
[null,""]
[null,""]
[null,""]
[null,""]
[null,""]
[null,""]
[null,""]
[null,""]
[null,""]
[null,""]
[null,""]
[null,""]
[null,""]
[null,""]
[null,""]
[null,""]
[null,""]
[null,""]
[null,""]
[null,""]
[null,""]
[null,""]
[null,""]
[null,""]
[null,""]
[null,""]
[null,""]
[null,""]
[null,""]
[null,""]
[null,""]
[null,""]
[null,""]
[null,""]
[null,""]
[null,""]
[null,{"$f":"IF(C8861=0,\"\",C8861-C8860)","v":""}]
[null,""]
[null,""]
[null,""]
[null,""]
[null,""]
[null,""]
[null,""]
[null,""]
[null,""]
[null,""]
[null,""]
[null,""]
[null,""]
[null,""]
[null,""]
[null,""]
[null,""]
[null,""]
[null,""]
[null,""]
[null,""]
[null,""]
[null,""]
[null,""]
[null,""]
[null,""]
[null,""]
[null,""]
[null,""]
[null,""]
[null,""]
[null,""]
[null,""]
[null,""]
[null,""]
[null,""]
[null,""]
[null,""]
[null,""]
[null,""]
[null,""]
[null,""]
[null,""]
[null,""]
[null,""]
[null,""]
[null,""]
[null,""]
[null,""]
[null,""]
[null,""]
[null,""]
[null,""]
[null,""]
[null,""]
[null,""]
[null,""]
[null,""]
[null,""]
[null,""]
[null,""]
[null,""]
[null,""]
[null,{"$f":"IF(C8925=0,\"\",C8925-C8924)","v":""}]
[null,""]
[null,""]
[null,""]
[null,""]
[null,""]
[null,""]
[null,""]
[null,""]
[null,""]
[null,""]
[null,""]
[null,""]
[null,""]
[null,""]
[null,""]
[null,""]
[null,""]
[null,""]
[null,""]
[null,""]
[null,""]
[null,""]
[null,""]
[null,""]
[null,""]
[null,""]
[null,""]
[null,""]
[null,""]
[null,""]
[null,""]
[null,""]
[null,""]
[null,""]
[null,""]
[null,""]
[null,""]
[null,""]
[null,""]
[null,""]
[null,""]
[null,""]
[null,""]
[null,""]
[null,""]
[null,""]
[null,""]
[null,""]
[null,""]
[null,""]
[null,""]
[null,""]
[null,""]
[null,""]
[null,""]
[null,""]
[null,""]
[null,""]
[null,""]
[null,""]
[null,""]
[null,""]
[null,""]
[null,{"$f":"IF(C8989=0,\"\",C8989-C8988)","v":""}]
[null,""]
[null,""]
[null,""]
[null,""]
[null,""]
[null,""]
[null,""]
[null,""]
[null,""]
[null,""]
[null,""]
[null,""]
[null,""]
[null,""]
[null,""]
[null,""]
[null,""]
[null,""]
[null,""]
[null,""]
[null,""]
[null,""]
[null,""]
[null,""]
[null,""]
[null,""]
[null,""]
[null,""]
[null,""]
[null,""]
[null,""]
[null,""]
[null,""]
[null,""]
[null,""]
[null,""]
[null,""]
[null,""]
[null,""]
[null,""]
[null,""]
[null,""]
[null,""]
[null,""]
[null,""]
[null,""]
[null,""]
[null,""]
[null,""]
[null,""]
[null,""]
[null,""]
[null,""]
[null,""]
[null,""]
[null,""]
[null,""]
[null,""]
[null,""]
[null,""]
[null,""]
[null,""]
[null,""]
[null,{"$f":"IF(C9053=0,\"\",C9053-C9052)","v":""}]
[null,""]
[null,""]
[null,""]
[null,""]
[null,""]
[null,""]
[null,""]
[null,""]
[null,""]
[null,""]
[null,""]
[null,""]
[null,""]
[null,""]
[null,""]
[null,""]
[null,""]
[null,""]
[null,""]
[null,""]
[null,""]
[null,""]
[null,""]
[null,""]
[null,""]
[null,""]
[null,""]
[null,""]
[null,""]
[null,""]
[null,""]
[null,""]
[null,""]
[null,""]
[null,""]
[null,""]
[null,""]
[null,""]
[null,""]
[null,""]
[null,""]
[null,""]
[null,""]
[null,""]
[null,""]
[null,""]
[null,""]
[null,""]
[null,""]
[null,""]
[null,""]
[null,""]
[null,""]
[null,""]
[null,""]
[null,""]
[null,""]
[null,""]
[null,""]
[null,""]
[null,""]
[null,""]
[null,""]
[null,{"$f":"IF(C9117=0,\"\",C9117-C9116)","v":""}]
[null,""]
[null,""]
[null,""]
[null,""]
[null,""]
[null,""]
[null,""]
[null,""]
[null,""]
[null,""]
[null,""]
[null,""]
[null,""]
[null,""]
[null,""]
[null,""]
[null,""]
[null,""]
[null,""]
[null,""]
[null,""]
[null,""]
[null,""]
[null,""]
[null,""]
[null,""]
[null,""]
[null,""]
[null,""]
[null,""]
[null,""]
[null,""]
[null,""]
[null,""]
[null,""]
[null,""]
[null,""]
[null,""]
[null,""]
[null,""]
[null,""]
[null,""]
[null,""]
[null,""]
[null,""]
[null,""]
[null,""]
[null,""]
[null,""]
[null,""]
[null,""]
[null,""]
[null,""]
[null,""]
[null,""]
[null,""]
[null,""]
[null,""]
[null,""]
[null,""]
[null,""]
[null,""]
[null,""]
[null,{"$f":"IF(C9181=0,\"\",C9181-C9180)","v":""}]
[null,""]
[null,""]
[null,""]
[null,""]
[null,""]
[null,""]
[null,""]
[null,""]
[null,""]
[null,""]
[null,""]
[null,""]
[null,""]
[null,""]
[null,""]
[null,""]
[null,""]
[null,""]
[null,""]
[null,""]
[null,""]
[null,""]
[null,""]
[null,""]
[null,""]
[null,""]
[null,""]
[null,""]
[null,""]
[null,""]
[null,""]
[null,""]
[null,""]
[null,""]
[null,""]
[null,""]
[null,""]
[null,""]
[null,""]
[null,""]
[null,""]
[null,""]
[null,""]
[null,""]
[null,""]
[null,""]
[null,""]
[null,""]
[null,""]
[null,""]
[null,""]
[null,""]
[null,""]
[null,""]
[null,""]
[null,""]
[null,""]
[null,""]
[null,""]
[null,""]
[null,""]
[null,""]
[null,""]
[null,{"$f":"IF(C9245=0,\"\",C9245-C9244)","v":""}]
[null,""]
[null,""]
[null,""]
[null,""]
[null,""]
[null,""]
[null,""]
[null,""]
[null,""]
[null,""]
[null,""]
[null,""]
[null,""]
[null,""]
[null,""]
[null,""]
[null,""]
[null,""]
[null,""]
[null,""]
[null,""]
[null,""]
[null,""]
[null,""]
[null,""]
[null,""]
[null,""]
[null,""]
[null,""]
[null,""]
[null,""]
[null,""]
[null,""]
[null,""]
[null,""]
[null,""]
[null,""]
[null,""]
[null,""]
[null,""]
[null,""]
[null,""]
[null,""]
[null,""]
[null,""]
[null,""]
[null,""]
[null,""]
[null,""]
[null,""]
[null,""]
[null,""]
[null,""]
[null,""]
[null,""]
[null,""]
[null,""]
[null,""]
[null,""]
[null,""]
[null,""]
[null,""]
[null,""]
[null,{"$f":"IF(C9309=0,\"\",C9309-C9308)","v":""}]
[null,""]
[null,""]
[null,""]
[null,""]
[null,""]
[null,""]
[null,""]
[null,""]
[null,""]
[null,""]
[null,""]
[null,""]
[null,""]
[null,""]
[null,""]
[null,""]
[null,""]
[null,""]
[null,""]
[null,""]
[null,""]
[null,""]
[null,""]
[null,""]
[null,""]
[null,""]
[null,""]
[null,""]
[null,""]
[null,""]
[null,""]
[null,""]
[null,""]
[null,""]
[null,""]
[null,""]
[null,""]
[null,""]
[null,""]
[null,""]
[null,""]
[null,""]
[null,""]
[null,""]
[null,""]
[null,""]
[null,""]
[null,""]
[null,""]
[null,""]
[null,""]
[null,""]
[null,""]
[null,""]
[null,""]
[null,""]
[null,""]
[null,""]
[null,""]
[null,""]
[null,""]
[null,""]
[null,""]
[null,{"$f":"IF(C9373=0,\"\",C9373-C9372)","v":""}]
[null,""]
[null,""]
[null,""]
[null,""]
[null,""]
[null,""]
[null,""]
[null,""]
[null,""]
[null,""]
[null,""]
[null,""]
[null,""]
[null,""]
[null,""]
[null,""]
[null,""]
[null,""]
[null,""]
[null,""]
[null,""]
[null,""]
[null,""]
[null,""]
[null,""]
[null,""]
[null,""]
[null,""]
[null,""]
[null,""]
[null,""]
[null,""]
[null,""]
[null,""]
[null,""]
[null,""]
[null,""]
[null,""]
[null,""]
[null,""]
[null,""]
[null,""]
[null,""]
[null,""]
[null,""]
[null,""]
[null,""]
[null,""]
[null,""]
[null,""]
[null,""]
[null,""]
[null,""]
[null,""]
[null,""]
[null,""]
[null,""]
[null,""]
[null,""]
[null,""]
[null,""]
[null,""]
[null,""]
[null,{"$f":"IF(C9437=0,\"\",C9437-C9436)","v":""}]
[null,""]
[null,""]
[null,""]
[null,""]
[null,""]
[null,""]
[null,""]
[null,""]
[null,""]
[null,""]
[null,""]
[null,""]
[null,""]
[null,""]
[null,""]
[null,""]
[null,""]
[null,""]
[null,""]
[null,""]
[null,""]
[null,""]
[null,""]
[null,""]
[null,""]
[null,""]
[null,""]
[null,""]
[null,""]
[null,""]
[null,""]
[null,""]
[null,""]
[null,""]
[null,""]
[null,""]
[null,""]
[null,""]
[null,""]
[null,""]
[null,""]
[null,""]
[null,""]
[null,""]
[null,""]
[null,""]
[null,""]
[null,""]
[null,""]
[null,""]
[null,""]
[null,""]
[null,""]
[null,""]
[null,""]
[null,""]
[null,""]
[null,""]
[null,""]
[null,""]
[null,""]
[null,""]
[null,""]
[null,{"$f":"IF(C9501=0,\"\",C9501-C9500)","v":""}]
[null,""]
[null,""]
[null,""]
[null,""]
[null,""]
[null,""]
[null,""]
[null,""]
[null,""]
[null,""]
[null,""]
[null,""]
[null,""]
[null,""]
[null,""]
[null,""]
[null,""]
[null,""]
[null,""]
[null,""]
[null,""]
[null,""]
[null,""]
[null,""]
[null,""]
[null,""]
[null,""]
[null,""]
[null,""]
[null,""]
[null,""]
[null,""]
[null,""]
[null,""]
[null,""]
[null,""]
[null,""]
[null,""]
[null,""]
[null,""]
[null,""]
[null,""]
[null,""]
[null,""]
[null,""]
[null,""]
[null,""]
[null,""]
[null,""]
[null,""]
[null,""]
[null,""]
[null,""]
[null,""]
[null,""]
[null,""]
[null,""]
[null,""]
[null,""]
[null,""]
[null,""]
[null,""]
[null,""]
[null,{"$f":"IF(C9565=0,\"\",C9565-C9564)","v":""}]
[null,""]
[null,""]
[null,""]
[null,""]
[null,""]
[null,""]
[null,""]
[null,""]
[null,""]
[null,""]
[null,""]
[null,""]
[null,""]
[null,""]
[null,""]
[null,""]
[null,""]
[null,""]
[null,""]
[null,""]
[null,""]
[null,""]
[null,""]
[null,""]
[null,""]
[null,""]
[null,""]
[null,""]
[null,""]
[null,""]
[null,""]
[null,""]
[null,""]
[null,""]
[null,""]
[null,""]
[null,""]
[null,""]
[null,""]
[null,""]
[null,""]
[null,""]
[null,""]
[null,""]
[null,""]
[null,""]
[null,""]
[null,""]
[null,""]
[null,""]
[null,""]
[null,""]
[null,""]
[null,""]
[null,""]
[null,""]
[null,""]
[null,""]
[null,""]
[null,""]
[null,""]
[null,""]
[null,""]
[null,{"$f":"IF(C9629=0,\"\",C9629-C9628)","v":""}]
[null,""]
[null,""]
[null,""]
[null,""]
[null,""]
[null,""]
[null,""]
[null,""]
[null,""]
[null,""]
[null,""]
[null,""]
[null,""]
[null,""]
[null,""]
[null,""]
[null,""]
[null,""]
[null,""]
[null,""]
[null,""]
[null,""]
[null,""]
[null,""]
[null,""]
[null,""]
[null,""]
[null,""]
[null,""]
[null,""]
[null,""]
[null,""]
[null,""]
[null,""]
[null,""]
[null,""]
[null,""]
[null,""]
[null,""]
[null,""]
[null,""]
[null,""]
[null,""]
[null,""]
[null,""]
[null,""]
[null,""]
[null,""]
[null,""]
[null,""]
[null,""]
[null,""]
[null,""]
[null,""]
[null,""]
[null,""]
[null,""]
[null,""]
[null,""]
[null,""]
[null,""]
[null,""]
[null,""]
[null,{"$f":"IF(C9693=0,\"\",C9693-C9692)","v":""}]
[null,""]
[null,""]
[null,""]
[null,""]
[null,""]
[null,""]
[null,""]
[null,""]
[null,""]
[null,""]
[null,""]
[null,""]
[null,""]
[null,""]
[null,""]
[null,""]
[null,""]
[null,""]
[null,""]
[null,""]
[null,""]
[null,""]
[null,""]
[null,""]
[null,""]
[null,""]
[null,""]
[null,""]
[null,""]
[null,""]
[null,""]
[null,""]
[null,""]
[null,""]
[null,""]
[null,""]
[null,""]
[null,""]
[null,""]
[null,""]
[null,""]
[null,""]
[null,""]
[null,""]
[null,""]
[null,""]
[null,""]
[null,""]
[null,""]
[null,""]
[null,""]
[null,""]
[null,""]
[null,""]
[null,""]
[null,""]
[null,""]
[null,""]
[null,""]
[null,""]
[null,""]
[null,""]
[null,""]
[null,{"$f":"IF(C9757=0,\"\",C9757-C9756)","v":""}]
[null,""]
[null,""]
[null,""]
[null,""]
[null,""]
[null,""]
[null,""]
[null,""]
[null,""]
[null,""]
[null,""]
[null,""]
[null,""]
[null,""]
[null,""]
[null,""]
[null,""]
[null,""]
[null,""]
[null,""]
[null,""]
[null,""]
[null,""]
[null,""]
[null,""]
[null,""]
[null,""]
[null,""]
[null,""]
[null,""]
[null,""]
[null,""]
[null,""]
[null,""]
[null,""]
[null,""]
[null,""]
[null,""]
[null,""]
[null,""]
[null,""]
[null,""]
[null,""]
[null,""]
[null,""]
[null,""]
[null,""]
[null,""]
[null,""]
[null,""]
[null,""]
[null,""]
[null,""]
[null,""]
[null,""]
[null,""]
[null,""]
[null,""]
[null,""]
[null,""]
[null,""]
[null,""]
[null,""]
[null,{"$f":"IF(C9821=0,\"\",C9821-C9820)","v":""}]
[null,""]
[null,""]
[null,""]
[null,""]
[null,""]
[null,""]
[null,""]
[null,""]
[null,""]
[null,""]
[null,""]
[null,""]
[null,""]
[null,""]
[null,""]
[null,""]
[null,""]
[null,""]
[null,""]
[null,""]
[null,""]
[null,""]
[null,""]
[null,""]
[null,""]
[null,""]
[null,""]
[null,""]
[null,""]
[null,""]
[null,""]
[null,""]
[null,""]
[null,""]
[null,""]
[null,""]
[null,""]
[null,""]
[null,""]
[null,""]
[null,""]
[null,""]
[null,""]
[null,""]
[null,""]
[null,""]
[null,""]
[null,""]
[null,""]
[null,""]
[null,""]
[null,""]
[null,""]
[null,""]
[null,""]
[null,""]
[null,""]
[null,""]
[null,""]
[null,""]
[null,""]
[null,""]
[null,""]
[null,{"$f":"IF(C9885=0,\"\",C9885-C9884)","v":""}]
[null,""]
[null,""]
[null,""]
[null,""]
[null,""]
[null,""]
[null,""]
[null,""]
[null,""]
[null,""]
[null,""]
[null,""]
[null,""]
[null,""]
[null,""]
[null,""]
[null,""]
[null,""]
[null,""]
[null,""]
[null,""]
[null,""]
[null,""]
[null,""]
[null,""]
[null,""]
[null,""]
[null,""]
[null,""]
[null,""]
[null,""]
[null,""]
[null,""]
[null,""]
[null,""]
[null,""]
[null,""]
[null,""]
[null,""]
[null,""]
[null,""]
[null,""]
[null,""]
[null,""]
[null,""]
[null,""]
[null,""]
[null,""]
[null,""]
[null,""]
[null,""]
[null,""]
[null,""]
[null,""]
[null,""]
[null,""]
[null,""]
[null,""]
[null,""]
[null,""]
[null,""]
[null,""]
[null,""]
[null,{"$f":"IF(C9949=0,\"\",C9949-C9948)","v":""}]
[null,""]
[null,""]
[null,""]
[null,""]
[null,""]
[null,""]
[null,""]
[null,""]
[null,""]
[null,""]
[null,""]
[null,""]
[null,""]
[null,""]
[null,""]
[null,""]
[null,""]
[null,""]
[null,""]
[null,""]
[null,""]
[null,""]
[null,""]
[null,""]
[null,""]
[null,""]
[null,""]
[null,""]
[null,""]
[null,""]
[null,""]
[null,""]
[null,""]
[null,""]
[null,""]
[null,""]
[null,""]
[null,""]
[null,""]
[null,""]
[null,""]
[null,""]
[null,""]
[null,""]
[null,""]
[null,""]
[null,""]
[null,""]
[null,""]
[null,""]
[null,""]
[null,""]
[null,""]
[null,""]
[null,""]
[null,""]
[null,""]
[null,""]
[null,""]
[null,""]
[null,""]
[null,""]
[null,""]
[null,{"$f":"IF(C10013=0,\"\",C10013-C10012)","v":""}]
[null,""]
[null,""]
[null,""]
[null,""]
[null,""]
[null,""]
[null,""]
[null,""]
[null,""]
[null,""]
[null,""]
[null,""]
[null,""]
[null,""]
[null,""]
[null,""]
[null,""]
[null,""]
[null,""]
[null,""]
[null,""]
[null,""]
[null,""]
[null,""]
[null,""]
[null,""]
[null,""]
[null,""]
[null,""]
[null,""]
[null,""]
[null,""]
[null,""]
[null,""]
[null,""]
[null,""]
[null,""]
[null,""]
[null,""]
[null,""]
[null,""]
[null,""]
[null,""]
[null,""]
[null,""]
[null,""]
[null,""]
[null,""]
[null,""]
[null,""]
[null,""]
[null,""]
[null,""]
[null,""]
[null,""]
[null,""]
[null,""]
[null,""]
[null,""]
[null,""]
[null,""]
[null,""]
[null,""]
[null,{"$f":"IF(C10077=0,\"\",C10077-C10076)","v":""}]
[null,""]
[null,""]
[null,""]
[null,""]
[null,""]
[null,""]
[null,{"$f":"IF(C10084=0,\"\",C10084-C10083)","v":""}]

{"sheet":"AHRI Selected Condition-Interp","index":14,"n_rows":10083,"n_cols":30,"rows_kept":10083,"cut":false,"hidden":true,"merged":[[241,5,242,5],[241,8,242,8],[241,17,242,17],[239,15,239,29],[240,3,240,5],[240,6,240,8],[240,9,240,11],[240,15,240,17],[240,19,240,22],[240,23,240,26],[240,27,240,29],[235,0,235,3],[236,0,236,3],[237,0,237,3],[238,0,238,6],[239,3,239,12],[239,13,239,14],[229,0,229,3],[230,0,230,3],[231,0,231,3],[232,0,232,3],[233,0,233,6],[234,0,234,3],[223,0,223,3],[224,0,224,3],[225,0,225,3],[226,0,226,3],[227,0,227,3],[228,0,228,3],[217,0,217,6],[218,0,218,3],[219,0,219,3],[220,0,220,3],[221,0,221,3],[222,0,222,3],[211,0,211,3],[212,0,216,1],[212,2,212,3],[213,2,213,3],[214,2,214,3],[215,2,215,3],[216,2,216,3],[205,0,205,3],[206,0,210,1],[206,2,206,3],[207,2,207,3],[208,2,208,3],[209,2,209,3],[210,2,210,3],[199,0,199,3],[200,0,204,1],[200,2,200,3],[201,2,201,3],[202,2,202,3],[203,2,203,3],[204,2,204,3],[193,0,193,3],[194,0,198,1],[194,2,194,3],[195,2,195,3],[196,2,196,3],[197,2,197,3],[198,2,198,3],[187,0,187,3],[188,0,192,1],[188,2,188,3],[189,2,189,3],[190,2,190,3],[191,2,191,3],[192,2,192,3],[181,0,181,3],[182,0,186,1],[182,2,182,3],[183,2,183,3],[184,2,184,3],[185,2,185,3],[186,2,186,3],[175,0,175,3],[176,0,180,1],[176,2,176,3],[177,2,177,3],[178,2,178,3],[179,2,179,3],[180,2,180,3],[169,0,169,3],[170,0,174,1],[170,2,170,3],[171,2,171,3],[172,2,172,3],[173,2,173,3],[174,2,174,3],[163,0,163,3],[164,0,168,1],[164,2,164,3],[165,2,165,3],[166,2,166,3],[167,2,167,3],[168,2,168,3],[157,0,157,3],[158,0,162,1],[158,2,158,3],[159,2,159,3],[160,2,160,3],[161,2,161,3],[162,2,162,3],[151,0,151,3],[152,0,156,1],[152,2,152,3],[153,2,153,3],[154,2,154,3],[155,2,155,3],[156,2,156,3],[145,0,145,3],[146,0,150,1],[146,2,146,3],[147,2,147,3],[148,2,148,3],[149,2,149,3],[150,2,150,3],[139,0,139,3],[140,0,144,1],[140,2,140,3],[141,2,141,3],[142,2,142,3],[143,2,143,3],[144,2,144,3],[133,0,133,3],[134,0,138,1],[134,2,134,3],[135,2,135,3],[136,2,136,3],[137,2,137,3],[138,2,138,3],[127,0,127,3],[128,0,132,1],[128,2,128,3],[129,2,129,3],[130,2,130,3],[131,2,131,3],[132,2,132,3],[121,0,121,3],[122,0,126,1],[122,2,122,3],[123,2,123,3],[124,2,124,3],[125,2,125,3],[126,2,126,3],[115,0,115,3],[116,0,120,1],[116,2,116,3],[117,2,117,3],[118,2,118,3],[119,2,119,3],[120,2,120,3],[109,0,109,3],[110,0,114,1],[110,2,110,3],[111,2,111,3],[112,2,112,3],[113,2,113,3],[114,2,114,3],[103,0,103,3],[104,0,108,1],[104,2,104,3],[105,2,105,3],[106,2,106,3],[107,2,107,3],[108,2,108,3],[96,0,96,3],[97,0,97,3],[98,0,102,1],[98,2,98,3],[99,2,99,3],[100,2,100,3],[101,2,101,3],[102,2,102,3],[92,0,93,0],[92,1,92,3],[93,1,93,3],[94,0,95,0],[94,1,94,3],[95,1,95,3],[86,0,86,3],[87,0,87,3],[88,0,89,0],[88,1,88,3],[89,1,89,3],[90,0,91,0],[90,1,90,3],[91,1,91,3],[82,0,83,0],[82,1,82,3],[83,1,83,3],[84,0,85,0],[84,1,84,3],[85,1,85,3],[76,0,76,3],[77,0,77,3],[78,0,79,0],[78,1,78,3],[79,1,79,3],[80,0,81,0],[80,1,80,3],[81,1,81,3],[72,0,73,0],[72,1,72,3],[73,1,73,3],[74,0,75,0],[74,1,74,3],[75,1,75,3],[66,0,66,3],[67,0,67,3],[68,0,69,0],[68,1,68,3],[69,1,69,3],[70,0,71,0],[70,1,70,3],[71,1,71,3],[62,0,63,0],[62,1,62,3],[63,1,63,3],[64,0,65,0],[64,1,64,3],[65,1,65,3],[56,0,56,3],[57,0,57,3],[58,0,59,0],[58,1,58,3],[59,1,59,3],[60,0,61,0],[60,1,60,3],[61,1,61,3],[52,0,53,0],[52,1,52,3],[53,1,53,3],[54,0,55,0],[54,1,54,3],[55,1,55,3],[46,0,46,3],[47,0,47,3],[48,0,49,0],[48,1,48,3],[49,1,49,3],[50,0,51,0],[50,1,50,3],[51,1,51,3],[42,0,43,0],[42,1,42,3],[43,1,43,3],[44,0,45,0],[44,1,44,3],[45,1,45,3],[37,0,37,3],[38,0,39,0],[38,1,38,3],[39,1,39,3],[40,0,41,0],[40,1,40,3],[41,1,41,3],[34,0,34,3],[34,4,34,6],[35,0,35,3],[36,0,36,3],[26,0,29,2],[26,5,26,6],[27,5,27,6],[28,5,28,6],[29,5,29,6],[30,0,31,2],[30,5,30,6],[31,5,31,6],[23,0,23,6],[24,0,24,3],[24,5,24,6],[25,0,25,3],[25,5,25,6],[11,0,12,2],[11,7,22,9],[32,0,32,6],[33,0,33,3],[11,10,22,12],[11,13,22,15],[11,16,22,18],[13,0,14,2],[15,0,16,2],[17,0,18,2],[19,0,20,2],[21,0,22,1],[9,0,9,6],[10,0,10,3],[10,7,10,9],[10,10,10,12],[10,13,10,15],[10,16,10,18],[21,2,21,3],[22,2,22,3],[4,0,4,2],[4,3,4,6],[5,0,5,2],[5,3,5,6],[6,0,6,6],[7,0,8,0],[0,0,0,6],[1,0,1,2],[1,3,1,6],[2,0,2,2],[2,3,2,6],[3,0,3,2],[3,3,3,6]]}
[{"$f":"'Test Plan'!A102","v":"AHRI Selected Condition-Interp"}]
["AHRI Test Stand Inspection Number",null,null,{"$f":"IF('Test Plan'!$B$3=0,\" \",'Test Plan'!$B$2)","v":"FIACCL-230##-1"}]
["AHRI Test Number",null,null,{"$f":"IF('Test Plan'!$B$3=0,\" \",'Test Plan'!$B$3)","v":"ACCL-230##-1-A"}]
["Model Designation",{"$f":"IF('[2]WCCL-DS2'!B4:D4=0,\" \",'[2]WCCL-DS2'!B4:D4)","v":"DEF"},null,{"$f":"IF('Test Plan'!$B$4=0,\" \",'Test Plan'!$B$4)","v":" "}]
["Manufacturer",{"$f":"IF('[2]WCCL-DS2'!B5:D5=0,\" \",'[2]WCCL-DS2'!B5:D5)","v":43101},null,{"$f":"IF('Test Plan'!$B$5=0,\" \",'Test Plan'!$B$5)","v":" "}]
["Test Date",{"$f":"IF('[2]WCCL-DS2'!B6:D6=0,\" \",'[2]WCCL-DS2'!B6:D6)","v":{"$error":"#REF!"}}]
[]
["Measurement Time","Data Points","Units","Period (min)","Mean Intvl. (s)","Max. Intvl. (s)","Max. Intvl. for Avg. of Data (s)"]
[null,{"$f":"COUNTA(C252:C10083)","v":0},"h:mm:ss:ms",{"$f":"(INDEX(C252:C10083,$B$9)-C252)*24*60","v":{"$error":"#VALUE!"}},{"$f":"D9*60/(B9-1)","v":{"$error":"#VALUE!"}},{"$f":"MAX(B252:B10083)*60*60*24","v":0},{"$f":"D9*60/60","v":{"$error":"#VALUE!"}}]
[]
["Air and Water Measurements",null,null,null,"Units","Evaporator","Condenser","Chiller Condenser Side 1",null,null,"Chiller Condenser Side 2",null,null,"Chiller Condenser Side 3",null,null,"Chiller Condenser Side 4"]
["Atmospheric Pressure",null,null,"Mean",{"$f":"'Test Plan'!$B$41","v":"kPa"},null,{"$f":"IF(O246=\"Yes\",$O$244,$O$250)","v":{"$error":"#DIV/0!"}},"Photo",null,null,"Photo",null,null,"Photo",null,null,"Photo"]
[null,null,null,"St. Dev.",{"$f":"'Test Plan'!$B$41","v":"kPa"},null,{"$f":"IF(O246=\"Yes\",\"Lab Data\",$O$251)","v":{"$error":"#DIV/0!"}}]
["Leaving Water Temperature",null,null,"Mean",{"$f":"'Test Conditions'!$B$18","v":"°C"},{"$f":"IF(F246=\"Yes\",$F$244,$F$250)","v":{"$error":"#DIV/0!"}}]
[null,null,null,"St. Dev.",{"$f":"'Test Conditions'!$B$18","v":"°C"},{"$f":"IF(F246=\"Yes\",\"Lab Data\",$F$251)","v":{"$error":"#DIV/0!"}}]
["Entering Db Air and Water Temperatures",null,null,"Mean",{"$f":"'Test Conditions'!$B$19","v":"°C"},{"$f":"IF(I246=\"Yes\",$I$244,$I$250)","v":{"$error":"#DIV/0!"}},{"$f":"IF(N246=\"Yes\",$N$244,$N$250)","v":{"$error":"#DIV/0!"}}]
[null,null,null,"St. Dev.",{"$f":"'Test Conditions'!$B$19","v":"°C"},{"$f":"IF(I246=\"Yes\",\"Lab Data\",$I$251)","v":{"$error":"#DIV/0!"}},{"$f":"IF(N246=\"Yes\",\"Lab Data\",$N$251)","v":{"$error":"#DIV/0!"}}]
["Water Flow Rate",null,null,"Mean",{"$f":"'Test Conditions'!$B$20","v":"m³/h"},{"$f":"$L$250","v":{"$error":"#DIV/0!"}}]
[null,null,null,"St. Dev.",{"$f":"'Test Conditions'!$B$20","v":"m³/h"},{"$f":"$L$251","v":{"$error":"#DIV/0!"}}]
["Water Pressure Drop",null,null,"Mean",{"$f":"'Test Plan'!$B$127","v":"kPa"},{"$f":"IF('Test Plan'!$B$19=\"I-P\",IF(M246=\"Yes\",$M$244/0.4331,$M$250/0.4331),IF(M246=\"Yes\",$M$244,$M$250))","v":{"$error":"#DIV/0!"}}]
[null,null,null,"St. Dev.",{"$f":"'Test Plan'!$B$127","v":"kPa"},{"$f":"IF(M246=\"Yes\",\"Lab Data\",IF('Test Plan'!$B$19=\"I-P\",$M$251/0.4331,$M$251))","v":{"$error":"#DIV/0!"}}]
[null,null,"Correction (∆padj)",null,{"$f":"'Test Plan'!$B$127","v":"kPa"}]
[null,null,"Corrected (∆pcorrected)",null,{"$f":"'Test Plan'!$B$127","v":"kPa"},{"$f":"F20-F22","v":{"$error":"#DIV/0!"}}]
[]
["Electrical Measurements",null,null,null,"Units","Total"]
["Power",null,null,null,"kW",{"$f":"IF(R246=\"Yes\",$R$244,$R$250)","v":{"$error":"#DIV/0!"}}]
["Voltage",null,null,"Mean","V",{"$f":"IF(R246=\"Yes\",\"Lab Data\",$S$250)","v":{"$error":"#DIV/0!"}}]
[null,null,null,"St. Dev.",{"$f":"E27","v":"V"},{"$f":"IF(R246=\"Yes\",\"Lab Data\",$S$251)","v":{"$error":"#DIV/0!"}}]
[null,null,null,"V1 Balance","%",{"$f":"IF(R246=\"Yes\",\"Lab Data\",ROUND(MAX(ABS($U$250-$T$250),ABS($V$250-$T$250),ABS($W$250-$T$250))/$T$250,4-(1+INT(LOG10(ABS(MAX(ABS($U$250-$T$250),ABS($V$250-$T$250),ABS($W$250-$T$250))/$T$250))))))","v":{"$error":"#DIV/0!"}}]
[null,null,null,"V2 Balance","%",{"$f":"IF(R246=\"Yes\",\"Lab Data\",ROUND(MAX(ABS($Y$250-$X$250),ABS($Z$250-$X$250),ABS($AA$250-$X$250))/$X$250,4-(1+INT(LOG10(ABS(MAX(ABS($Y$250-$X$250),ABS($Z$250-$X$250),ABS($AA$250-$X$250))/$X$250))))))","v":{"$error":"#DIV/0!"}}]
["Frequency",null,null,"Mean","Hz",{"$f":"IF(R246=\"Yes\",\"Lab Data\",$AB$250)","v":{"$error":"#DIV/0!"}}]
[null,null,null,"St. Dev.",{"$f":"E31","v":"Hz"},{"$f":"IF(R246=\"Yes\",\"Lab Data\",$AB$251)","v":{"$error":"#DIV/0!"}}]
[]
["Air Temperature Measurement",null,null,null,"Units",null,"Condenser"]
["Measurement Method"]
["# of Aspirating Psychrometers",null,null,null,"#"]
["Aspirating Psychrometer #1, Mean Air Temperature",null,null,null,{"$f":"'Test Conditions'!$B$19","v":"°C"}]
["# of Air Sampling Trees on Aspirating Psychrometer #1",null,null,null,"#",null,4]
["#1-A\nTemperatures","Air Sampling Tree Thermopile Grid",null,null,{"$f":"'Test Conditions'!$B$19","v":"°C"}]
[null,"Recirculation Thermocouple",null,null,{"$f":"'Test Conditions'!$B$19","v":"°C"}]
["#1-B\nTemperatures","Air Sampling Tree Thermopile Grid",null,null,{"$f":"'Test Conditions'!$B$19","v":"°C"}]
[null,"Recirculation Thermocouple",null,null,{"$f":"'Test Conditions'!$B$19","v":"°C"}]
["#1-C\nTemperatures","Air Sampling Tree Thermopile Grid",null,null,{"$f":"'Test Conditions'!$B$19","v":"°C"}]
[null,"Recirculation Thermocouple",null,null,{"$f":"'Test Conditions'!$B$19","v":"°C"}]
["#1-D\nTemperatures","Air Sampling Tree Thermopile Grid",null,null,{"$f":"'Test Conditions'!$B$19","v":"°C"}]
[null,"Recirculation Thermocouple",null,null,{"$f":"'Test Conditions'!$B$19","v":"°C"}]
["Aspirating Psychrometer #2, Mean Air Temperature",null,null,null,{"$f":"'Test Conditions'!$B$19","v":"°C"}]
["# of Air Sampling Trees on Aspirating Psychrometer #2",null,null,null,"#",null,4]
["#2-A\nTemperatures","Air Sampling Tree Thermopile Grid",null,null,{"$f":"'Test Conditions'!$B$19","v":"°C"}]
[null,"Recirculation Thermocouple",null,null,{"$f":"'Test Conditions'!$B$19","v":"°C"}]
["#2-B\nTemperatures","Air Sampling Tree Thermopile Grid",null,null,{"$f":"'Test Conditions'!$B$19","v":"°C"}]
[null,"Recirculation Thermocouple",null,null,{"$f":"'Test Conditions'!$B$19","v":"°C"}]
["#2-C\nTemperatures","Air Sampling Tree Thermopile Grid",null,null,{"$f":"'Test Conditions'!$B$19","v":"°C"}]
[null,"Recirculation Thermocouple",null,null,{"$f":"'Test Conditions'!$B$19","v":"°C"}]
["#2-D\nTemperatures","Air Sampling Tree Thermopile Grid",null,null,{"$f":"'Test Conditions'!$B$19","v":"°C"}]
[null,"Recirculation Thermocouple",null,null,{"$f":"'Test Conditions'!$B$19","v":"°C"}]
["Aspirating Psychrometer #3, Mean Air Temperature",null,null,null,{"$f":"'Test Conditions'!$B$19","v":"°C"}]
["# of Air Sampling Trees on Aspirating Psychrometer #3",null,null,null,"#",null,4]
["#3-A\nTemperatures","Air Sampling Tree Thermopile Grid",null,null,{"$f":"'Test Conditions'!$B$19","v":"°C"}]
[null,"Recirculation Thermocouple",null,null,{"$f":"'Test Conditions'!$B$19","v":"°C"}]
["#3-B\nTemperatures","Air Sampling Tree Thermopile Grid",null,null,{"$f":"'Test Conditions'!$B$19","v":"°C"}]
[null,"Recirculation Thermocouple",null,null,{"$f":"'Test Conditions'!$B$19","v":"°C"}]
["#3-C\nTemperatures","Air Sampling Tree Thermopile Grid",null,null,{"$f":"'Test Conditions'!$B$19","v":"°C"}]
[null,"Recirculation Thermocouple",null,null,{"$f":"'Test Conditions'!$B$19","v":"°C"}]
["#3-D\nTemperatures","Air Sampling Tree Thermopile Grid",null,null,{"$f":"'Test Conditions'!$B$19","v":"°C"}]
[null,"Recirculation Thermocouple",null,null,{"$f":"'Test Conditions'!$B$19","v":"°C"}]
["Aspirating Psychrometer #4, Mean Air Temperature",null,null,null,{"$f":"'Test Conditions'!$B$19","v":"°C"}]
["# of Air Sampling Trees on Aspirating Psychrometer #4",null,null,null,"#",null,4]
["#4-A\nTemperatures","Air Sampling Tree Thermopile Grid",null,null,{"$f":"'Test Conditions'!$B$19","v":"°C"}]
[null,"Recirculation Thermocouple",null,null,{"$f":"'Test Conditions'!$B$19","v":"°C"}]
["#4-B\nTemperatures","Air Sampling Tree Thermopile Grid",null,null,{"$f":"'Test Conditions'!$B$19","v":"°C"}]
[null,"Recirculation Thermocouple",null,null,{"$f":"'Test Conditions'!$B$19","v":"°C"}]
["#4-C\nTemperatures","Air Sampling Tree Thermopile Grid",null,null,{"$f":"'Test Conditions'!$B$19","v":"°C"}]
[null,"Recirculation Thermocouple",null,null,{"$f":"'Test Conditions'!$B$19","v":"°C"}]
["#4-D\nTemperatures","Air Sampling Tree Thermopile Grid",null,null,{"$f":"'Test Conditions'!$B$19","v":"°C"}]
[null,"Recirculation Thermocouple",null,null,{"$f":"'Test Conditions'!$B$19","v":"°C"}]
["Aspirating Psychrometer #5, Mean Air Temperature",null,null,null,{"$f":"'Test Conditions'!$B$19","v":"°C"}]
["# of Air Sampling Trees on Aspirating Psychrometer #5",null,null,null,"#",null,4]
["#5-A\nTemperatures","Air Sampling Tree Thermopile Grid",null,null,{"$f":"'Test Conditions'!$B$19","v":"°C"}]
[null,"Recirculation Thermocouple",null,null,{"$f":"'Test Conditions'!$B$19","v":"°C"}]
["#5-B\nTemperatures","Air Sampling Tree Thermopile Grid",null,null,{"$f":"'Test Conditions'!$B$19","v":"°C"}]
[null,"Recirculation Thermocouple",null,null,{"$f":"'Test Conditions'!$B$19","v":"°C"}]
["#5-C\nTemperatures","Air Sampling Tree Thermopile Grid",null,null,{"$f":"'Test Conditions'!$B$19","v":"°C"}]
[null,"Recirculation Thermocouple",null,null,{"$f":"'Test Conditions'!$B$19","v":"°C"}]
["#5-D\nTemperatures","Air Sampling Tree Thermopile Grid",null,null,{"$f":"'Test Conditions'!$B$19","v":"°C"}]
[null,"Recirculation Thermocouple",null,null,{"$f":"'Test Conditions'!$B$19","v":"°C"}]
["Aspirating Psychrometer #6, Mean Air Temperature",null,null,null,{"$f":"'Test Conditions'!$B$19","v":"°C"}]
["# of Air Sampling Trees on Aspirating Psychrometer #6",null,null,null,"#",null,4]
["#6-A\nTemperatures","Air Sampling Tree Thermopile Grid",null,null,{"$f":"'Test Conditions'!$B$19","v":"°C"}]
[null,"Recirculation Thermocouple",null,null,{"$f":"'Test Conditions'!$B$19","v":"°C"}]
["#6-B\nTemperatures","Air Sampling Tree Thermopile Grid",null,null,{"$f":"'Test Conditions'!$B$19","v":"°C"}]
[null,"Recirculation Thermocouple",null,null,{"$f":"'Test Conditions'!$B$19","v":"°C"}]
["#6-C\nTemperatures","Air Sampling Tree Thermopile Grid",null,null,{"$f":"'Test Conditions'!$B$19","v":"°C"}]
[null,"Recirculation Thermocouple",null,null,{"$f":"'Test Conditions'!$B$19","v":"°C"}]
["#6-D\nTemperatures","Air Sampling Tree Thermopile Grid",null,null,{"$f":"'Test Conditions'!$B$19","v":"°C"}]
[null,"Recirculation Thermocouple",null,null,{"$f":"'Test Conditions'!$B$19","v":"°C"}]
["# of Air Sampling Arrays",null,null,null,"#"]
["Air Sampling Array #1, Mean Air Temperature",null,null,null,{"$f":"'Test Conditions'!$B$19","v":"°C"},null,{"$f":"AVERAGE(G99:G102)","v":{"$error":"#DIV/0!"}}]
["Air Sampling Array Individual \nMeasurement Temperatures",null,"#1-A",null,{"$f":"'Test Conditions'!$B$19","v":"°C"}]
[null,null,"#1-B",null,{"$f":"'Test Conditions'!$B$19","v":"°C"}]
[null,null,"#1-C",null,{"$f":"'Test Conditions'!$B$19","v":"°C"}]
[null,null,"#1-D",null,{"$f":"'Test Conditions'!$B$19","v":"°C"}]
[null,null,"Recirculation Thermocouple",null,{"$f":"'Test Conditions'!$B$19","v":"°C"}]
["Air Sampling Array #2, Mean Air Temperature",null,null,null,{"$f":"'Test Conditions'!$B$19","v":"°C"},null,{"$f":"AVERAGE(G105:G108)","v":{"$error":"#DIV/0!"}}]
["Air Sampling Array Individual \nMeasurement Temperatures",null,"#2-A",null,{"$f":"'Test Conditions'!$B$19","v":"°C"}]
[null,null,"#2-B",null,{"$f":"'Test Conditions'!$B$19","v":"°C"}]
[null,null,"#2-C",null,{"$f":"'Test Conditions'!$B$19","v":"°C"}]
[null,null,"#2-D",null,{"$f":"'Test Conditions'!$B$19","v":"°C"}]
[null,null,"Recirculation Thermocouple",null,{"$f":"'Test Conditions'!$B$19","v":"°C"}]
["Air Sampling Array #3, Mean Air Temperature",null,null,null,{"$f":"'Test Conditions'!$B$19","v":"°C"},null,{"$f":"AVERAGE(G111:G114)","v":{"$error":"#DIV/0!"}}]
["Air Sampling Array Individual \nMeasurement Temperatures",null,"#3-A",null,{"$f":"'Test Conditions'!$B$19","v":"°C"}]
[null,null,"#3-B",null,{"$f":"'Test Conditions'!$B$19","v":"°C"}]
[null,null,"#3-C",null,{"$f":"'Test Conditions'!$B$19","v":"°C"}]
[null,null,"#3-D",null,{"$f":"'Test Conditions'!$B$19","v":"°C"}]
[null,null,"Recirculation Thermocouple",null,{"$f":"'Test Conditions'!$B$19","v":"°C"}]
["Air Sampling Array #4, Mean Air Temperature",null,null,null,{"$f":"'Test Conditions'!$B$19","v":"°C"},null,{"$f":"AVERAGE(G117:G120)","v":{"$error":"#DIV/0!"}}]
["Air Sampling Array Individual \nMeasurement Temperatures",null,"#4-A",null,{"$f":"'Test Conditions'!$B$19","v":"°C"}]
[null,null,"#4-B",null,{"$f":"'Test Conditions'!$B$19","v":"°C"}]
[null,null,"#4-C",null,{"$f":"'Test Conditions'!$B$19","v":"°C"}]
[null,null,"#4-D",null,{"$f":"'Test Conditions'!$B$19","v":"°C"}]
[null,null,"Recirculation Thermocouple",null,{"$f":"'Test Conditions'!$B$19","v":"°C"}]
["Air Sampling Array #5, Mean Air Temperature",null,null,null,{"$f":"'Test Conditions'!$B$19","v":"°C"},null,{"$f":"AVERAGE(G123:G126)","v":{"$error":"#DIV/0!"}}]
["Air Sampling Array Individual \nMeasurement Temperatures",null,"#5-A",null,{"$f":"'Test Conditions'!$B$19","v":"°C"}]
[null,null,"#5-B",null,{"$f":"'Test Conditions'!$B$19","v":"°C"}]
[null,null,"#5-C",null,{"$f":"'Test Conditions'!$B$19","v":"°C"}]
[null,null,"#5-D",null,{"$f":"'Test Conditions'!$B$19","v":"°C"}]
[null,null,"Recirculation Thermocouple",null,{"$f":"'Test Conditions'!$B$19","v":"°C"}]
["Air Sampling Array #6, Mean Air Temperature",null,null,null,{"$f":"'Test Conditions'!$B$19","v":"°C"},null,{"$f":"AVERAGE(G129:G132)","v":{"$error":"#DIV/0!"}}]
["Air Sampling Array Individual \nMeasurement Temperatures",null,"#6-A",null,{"$f":"'Test Conditions'!$B$19","v":"°C"}]
[null,null,"#6-B",null,{"$f":"'Test Conditions'!$B$19","v":"°C"}]
[null,null,"#6-C",null,{"$f":"'Test Conditions'!$B$19","v":"°C"}]
[null,null,"#6-D",null,{"$f":"'Test Conditions'!$B$19","v":"°C"}]
[null,null,"Recirculation Thermocouple",null,{"$f":"'Test Conditions'!$B$19","v":"°C"}]
["Air Sampling Array #7, Mean Air Temperature",null,null,null,{"$f":"'Test Conditions'!$B$19","v":"°C"},null,{"$f":"AVERAGE(G135:G138)","v":{"$error":"#DIV/0!"}}]
["Air Sampling Array Individual \nMeasurement Temperatures",null,"#7-A",null,{"$f":"'Test Conditions'!$B$19","v":"°C"}]
[null,null,"#7-B",null,{"$f":"'Test Conditions'!$B$19","v":"°C"}]
[null,null,"#7-C",null,{"$f":"'Test Conditions'!$B$19","v":"°C"}]
[null,null,"#7-D",null,{"$f":"'Test Conditions'!$B$19","v":"°C"}]
[null,null,"Recirculation Thermocouple",null,{"$f":"'Test Conditions'!$B$19","v":"°C"}]
["Air Sampling Array #8, Mean Air Temperature",null,null,null,{"$f":"'Test Conditions'!$B$19","v":"°C"},null,{"$f":"AVERAGE(G141:G144)","v":{"$error":"#DIV/0!"}}]
["Air Sampling Array Individual \nMeasurement Temperatures",null,"#8-A",null,{"$f":"'Test Conditions'!$B$19","v":"°C"}]
[null,null,"#8-B",null,{"$f":"'Test Conditions'!$B$19","v":"°C"}]
[null,null,"#8-C",null,{"$f":"'Test Conditions'!$B$19","v":"°C"}]
[null,null,"#8-D",null,{"$f":"'Test Conditions'!$B$19","v":"°C"}]
[null,null,"Recirculation Thermocouple",null,{"$f":"'Test Conditions'!$B$19","v":"°C"}]
["Air Sampling Array #9, Mean Air Temperature",null,null,null,{"$f":"'Test Conditions'!$B$19","v":"°C"},null,{"$f":"AVERAGE(G147:G150)","v":{"$error":"#DIV/0!"}}]
["Air Sampling Array Individual \nMeasurement Temperatures",null,"#9-A",null,{"$f":"'Test Conditions'!$B$19","v":"°C"}]
[null,null,"#9-B",null,{"$f":"'Test Conditions'!$B$19","v":"°C"}]
[null,null,"#9-C",null,{"$f":"'Test Conditions'!$B$19","v":"°C"}]
[null,null,"#9-D",null,{"$f":"'Test Conditions'!$B$19","v":"°C"}]
[null,null,"Recirculation Thermocouple",null,{"$f":"'Test Conditions'!$B$19","v":"°C"}]
["Air Sampling Array #10, Mean Air Temperature",null,null,null,{"$f":"'Test Conditions'!$B$19","v":"°C"},null,{"$f":"AVERAGE(G153:G156)","v":{"$error":"#DIV/0!"}}]
["Air Sampling Array Individual \nMeasurement Temperatures",null,"#10-A",null,{"$f":"'Test Conditions'!$B$19","v":"°C"}]
[null,null,"#10-B",null,{"$f":"'Test Conditions'!$B$19","v":"°C"}]
[null,null,"#10-C",null,{"$f":"'Test Conditions'!$B$19","v":"°C"}]
[null,null,"#10-D",null,{"$f":"'Test Conditions'!$B$19","v":"°C"}]
[null,null,"Recirculation Thermocouple",null,{"$f":"'Test Conditions'!$B$19","v":"°C"}]
["Air Sampling Array #11, Mean Air Temperature",null,null,null,{"$f":"'Test Conditions'!$B$19","v":"°C"},null,{"$f":"AVERAGE(G159:G162)","v":{"$error":"#DIV/0!"}}]
["Air Sampling Array Individual \nMeasurement Temperatures",null,"#11-A",null,{"$f":"'Test Conditions'!$B$19","v":"°C"}]
[null,null,"#11-B",null,{"$f":"'Test Conditions'!$B$19","v":"°C"}]
[null,null,"#11-C",null,{"$f":"'Test Conditions'!$B$19","v":"°C"}]
[null,null,"#11-D",null,{"$f":"'Test Conditions'!$B$19","v":"°C"}]
[null,null,"Recirculation Thermocouple",null,{"$f":"'Test Conditions'!$B$19","v":"°C"}]
["Air Sampling Array #12, Mean Air Temperature",null,null,null,{"$f":"'Test Conditions'!$B$19","v":"°C"},null,{"$f":"AVERAGE(G165:G168)","v":{"$error":"#DIV/0!"}}]
["Air Sampling Array Individual \nMeasurement Temperatures",null,"#12-A",null,{"$f":"'Test Conditions'!$B$19","v":"°C"}]
[null,null,"#12-B",null,{"$f":"'Test Conditions'!$B$19","v":"°C"}]
[null,null,"#12-C",null,{"$f":"'Test Conditions'!$B$19","v":"°C"}]
[null,null,"#12-D",null,{"$f":"'Test Conditions'!$B$19","v":"°C"}]
[null,null,"Recirculation Thermocouple",null,{"$f":"'Test Conditions'!$B$19","v":"°C"}]
["Air Sampling Array #13, Mean Air Temperature",null,null,null,{"$f":"'Test Conditions'!$B$19","v":"°C"},null,{"$f":"AVERAGE(G171:G174)","v":{"$error":"#DIV/0!"}}]
["Air Sampling Array Individual \nMeasurement Temperatures",null,"#13-A",null,{"$f":"'Test Conditions'!$B$19","v":"°C"}]
[null,null,"#13-B",null,{"$f":"'Test Conditions'!$B$19","v":"°C"}]
[null,null,"#13-C",null,{"$f":"'Test Conditions'!$B$19","v":"°C"}]
[null,null,"#13-D",null,{"$f":"'Test Conditions'!$B$19","v":"°C"}]
[null,null,"Recirculation Thermocouple",null,{"$f":"'Test Conditions'!$B$19","v":"°C"}]
["Air Sampling Array #14, Mean Air Temperature",null,null,null,{"$f":"'Test Conditions'!$B$19","v":"°C"},null,{"$f":"AVERAGE(G177:G180)","v":{"$error":"#DIV/0!"}}]
["Air Sampling Array Individual \nMeasurement Temperatures",null,"#14-A",null,{"$f":"'Test Conditions'!$B$19","v":"°C"}]
[null,null,"#14-B",null,{"$f":"'Test Conditions'!$B$19","v":"°C"}]
[null,null,"#14-C",null,{"$f":"'Test Conditions'!$B$19","v":"°C"}]
[null,null,"#14-D",null,{"$f":"'Test Conditions'!$B$19","v":"°C"}]
[null,null,"Recirculation Thermocouple",null,{"$f":"'Test Conditions'!$B$19","v":"°C"}]
["Air Sampling Array #15, Mean Air Temperature",null,null,null,{"$f":"'Test Conditions'!$B$19","v":"°C"},null,{"$f":"AVERAGE(G183:G186)","v":{"$error":"#DIV/0!"}}]
["Air Sampling Array Individual \nMeasurement Temperatures",null,"#15-A",null,{"$f":"'Test Conditions'!$B$19","v":"°C"}]
[null,null,"#15-B",null,{"$f":"'Test Conditions'!$B$19","v":"°C"}]
[null,null,"#15-C",null,{"$f":"'Test Conditions'!$B$19","v":"°C"}]
[null,null,"#15-D",null,{"$f":"'Test Conditions'!$B$19","v":"°C"}]
[null,null,"Recirculation Thermocouple",null,{"$f":"'Test Conditions'!$B$19","v":"°C"}]
["Air Sampling Array #16, Mean Air Temperature",null,null,null,{"$f":"'Test Conditions'!$B$19","v":"°C"},null,{"$f":"AVERAGE(G189:G192)","v":{"$error":"#DIV/0!"}}]
["Air Sampling Array Individual \nMeasurement Temperatures",null,"#16-A",null,{"$f":"'Test Conditions'!$B$19","v":"°C"}]
[null,null,"#16-B",null,{"$f":"'Test Conditions'!$B$19","v":"°C"}]
[null,null,"#16-C",null,{"$f":"'Test Conditions'!$B$19","v":"°C"}]
[null,null,"#16-D",null,{"$f":"'Test Conditions'!$B$19","v":"°C"}]
[null,null,"Recirculation Thermocouple",null,{"$f":"'Test Conditions'!$B$19","v":"°C"}]
["Air Sampling Array #17, Mean Air Temperature",null,null,null,{"$f":"'Test Conditions'!$B$19","v":"°C"},null,{"$f":"AVERAGE(G195:G198)","v":{"$error":"#DIV/0!"}}]
["Air Sampling Array Individual \nMeasurement Temperatures",null,"#17-A",null,{"$f":"'Test Conditions'!$B$19","v":"°C"}]
[null,null,"#17-B",null,{"$f":"'Test Conditions'!$B$19","v":"°C"}]
[null,null,"#17-C",null,{"$f":"'Test Conditions'!$B$19","v":"°C"}]
[null,null,"#17-D",null,{"$f":"'Test Conditions'!$B$19","v":"°C"}]
[null,null,"Recirculation Thermocouple",null,{"$f":"'Test Conditions'!$B$19","v":"°C"}]
["Air Sampling Array #18, Mean Air Temperature",null,null,null,{"$f":"'Test Conditions'!$B$19","v":"°C"},null,{"$f":"AVERAGE(G201:G204)","v":{"$error":"#DIV/0!"}}]
["Air Sampling Array Individual \nMeasurement Temperatures",null,"#18-A",null,{"$f":"'Test Conditions'!$B$19","v":"°C"}]
[null,null,"#18-B",null,{"$f":"'Test Conditions'!$B$19","v":"°C"}]
[null,null,"#18-C",null,{"$f":"'Test Conditions'!$B$19","v":"°C"}]
[null,null,"#18-D",null,{"$f":"'Test Conditions'!$B$19","v":"°C"}]
[null,null,"Recirculation Thermocouple",null,{"$f":"'Test Conditions'!$B$19","v":"°C"}]
["Air Sampling Array #19, Mean Air Temperature",null,null,null,{"$f":"'Test Conditions'!$B$19","v":"°C"},null,{"$f":"AVERAGE(G207:G210)","v":{"$error":"#DIV/0!"}}]
["Air Sampling Array Individual \nMeasurement Temperatures",null,"#19-A",null,{"$f":"'Test Conditions'!$B$19","v":"°C"}]
[null,null,"#19-B",null,{"$f":"'Test Conditions'!$B$19","v":"°C"}]
[null,null,"#19-C",null,{"$f":"'Test Conditions'!$B$19","v":"°C"}]
[null,null,"#19-D",null,{"$f":"'Test Conditions'!$B$19","v":"°C"}]
[null,null,"Recirculation Thermocouple",null,{"$f":"'Test Conditions'!$B$19","v":"°C"}]
["Air Sampling Array #20, Mean Air Temperature",null,null,null,{"$f":"'Test Conditions'!$B$19","v":"°C"},null,{"$f":"AVERAGE(G213:G216)","v":{"$error":"#DIV/0!"}}]
["Air Sampling Array Individual \nMeasurement Temperatures",null,"#20-A",null,{"$f":"'Test Conditions'!$B$19","v":"°C"}]
[null,null,"#20-B",null,{"$f":"'Test Conditions'!$B$19","v":"°C"}]
[null,null,"#20-C",null,{"$f":"'Test Conditions'!$B$19","v":"°C"}]
[null,null,"#20-D",null,{"$f":"'Test Conditions'!$B$19","v":"°C"}]
[null,null,"Recirculation Thermocouple",null,{"$f":"'Test Conditions'!$B$19","v":"°C"}]
[]
["Atmospheric Pressure Correction",null,null,null,"Units","Evaporator","Condenser"]
["Location of Water Flow Meter Relative to Chiller",null,null,null,"-"]
["Water Temperature (T) for Density",null,null,null,{"$f":"'Test Conditions'!$B$18","v":"°C"},{"$f":"IF($F$220=\"Entering\",$F$16,$F$14)","v":{"$error":"#DIV/0!"}}]
["Water Density (ρ)",null,null,null,{"$f":"IF('Test Plan'!$B$19=\"I-P\",'Unit Conversion'!$B$10,'Unit Conversion'!$C$10)","v":"kg/m³"},{"$f":"IF('Test Plan'!$B$19=\"I-P\",(-0.00000000074704*$F$221^4)+(0.00000052643*$F$221^3)+(-0.00018846*$F$221^2)+(0.012164*$F$221)+62.227,((-0.00000012556*$F$221^4)+(0.000040229*$F$221^3)+(-0.0073948*$F$221^2)+(0.046734*$F$221)+1000.2))","v":{"$error":"#DIV/0!"}}]
["Average Water Temperature (T) for Specific Heat & ∆pcorrected Density",null,null,null,{"$f":"'Test Conditions'!$B$18","v":"°C"},{"$f":"AVERAGE($F$14,$F$16)","v":{"$error":"#DIV/0!"}}]
["Water Specific Heat (cp)",null,null,null,{"$f":"IF('Test Plan'!$B$19=\"I-P\",'Unit Conversion'!$B$13,'Unit Conversion'!$C$13)","v":"kJ/kg·K"},{"$f":"IF('Test Plan'!$B$19=\"I-P\",(-0.00000000000040739*$F$223^5)+(0.00000000031031*$F$223^4)+(-0.000000092501*$F$223^3)+(0.000014071*$F$223^2)+(-0.0010677*$F$223)+1.0295,((-0.00000000003222*$F$223^5)+(0.00000001077*$F$223^4)+(-0.0000013901*$F$223^3)+(0.000094433*$F$223^2)+(-0.0031103*$F$223)+4.216))","v":{"$error":"#DIV/0!"}}]
["Water Density (ρ) for ∆pcorrected",null,null,null,{"$f":"IF('Test Plan'!$B$19=\"I-P\",'Unit Conversion'!$B$10,'Unit Conversion'!$C$10)","v":"kg/m³"},{"$f":"IF('Test Plan'!$B$19=\"I-P\",(-0.00000000074704*$F$223^4)+(0.00000052643*$F$223^3)+(-0.00018846*$F$223^2)+(0.012164*$F$223)+62.227,((-0.00000012556*$F$223^4)+(0.000040229*$F$223^3)+(-0.0073948*$F$223^2)+(0.046734*$F$223)+1000.2))","v":{"$error":"#DIV/0!"}}]
["Water Mass Flow Rate (mw)",null,null,null,{"$f":"IF('Test Plan'!$B$19=\"I-P\",'Unit Conversion'!$B$11,'Unit Conversion'!$C$11)","v":"kg/h"},{"$f":"IF('Test Plan'!$B$19=\"I-P\",$F$18*$F$222/0.124675,$F$18*$F$222)","v":{"$error":"#DIV/0!"}}]
["Gross Refrigeranting Capacity (Q'ev)",null,null,null,{"$f":"'Test Plan'!$B$125","v":"kW"},{"$f":"IF('Test Plan'!$B$19=\"I-P\",$F$226*($F$224*ABS($F$16-$F$14)+(0.18505*$F$23/$F$225*0.4331))/12000,$F$226*($F$224*ABS($F$16-$F$14)+($F$23/$F$225))/3600)","v":{"$error":"#DIV/0!"}}]
["Net Refrigerating Capacity (Qev)",null,null,null,{"$f":"'Test Plan'!$B$125","v":"kW"},{"$f":"IF('Test Plan'!$B$19=\"I-P\",$F$226*($F$224*ABS($F$16-$F$14))/12000,$F$226*($F$224*ABS($F$16-$F$14))/3600)","v":{"$error":"#DIV/0!"}}]
["Cooling Energy Efficiency",null,null,null,{"$f":"'Test Plan'!$B$126","v":"kW/kW"},{"$f":"IF('Test Plan'!$B$19=\"I-P\",$F$26/$F$228,$F$228/$F$26)","v":{"$error":"#DIV/0!"}}]
["Coefficient Correction Factor (Capacity), DQ",null,null,null,"-",null,{"$f":"IF('Test Plan'!$B$19=\"I-P\",0.0011273*$G$12^2-0.041272*$G$12+1.36304,0.000023713*$G$12^2-0.005986*$G$12+1.36304)","v":{"$error":"#DIV/0!"}}]
["Coefficient Correction Factor (Efficiency), Dƞ",null,null,null,"-",null,{"$f":"IF('Test Plan'!$B$19=\"I-P\",0.0024308*$G$12^2-0.090075*$G$12+1.79872,0.000051135*$G$12^2-0.013064*$G$12+1.79872)","v":{"$error":"#DIV/0!"}}]
["Correction Factor (Capacity), CFQ",null,null,null,"-",null,{"$f":"IF('Test Plan'!$B$19=\"I-P\",1+($F$228/'100% Load Condition '!$F$228)*($G$230-1)*EXP(-0.35*(($G$231*(12/'100% Load Condition '!$F$229))-9.6)),1+($F$228/'100% Load Condition '!$F$228)*($G$230-1)*EXP(-0.35*((3.41214*$G$231*'100% Load Condition '!$F$229)-9.6)))","v":{"$error":"#DIV/0!"}}]
["Correction Factor (Efficiency), CFƞ",null,null,null,"-",null,{"$f":"IF('Test Plan'!$B$19=\"I-P\",1+($F$228/'100% Load Condition '!$F$228)*($G$231-1)*EXP(-0.35*(($G$231*(12/'100% Load Condition '!$F$229))-9.6)),1+($F$228/'100% Load Condition '!$F$228)*($G$231-1)*EXP(-0.35*((3.41214*$G$231*'100% Load Condition '!$F$229)-9.6)))","v":{"$error":"#DIV/0!"}}]
[]
["Test Result",null,null,null,"Units","Evaporator"]
["Corrected Net Refrigerating Capacity (Qev)",null,null,null,{"$f":"'Test Plan'!$B$125","v":"kW"},{"$f":"$F$228*$G$232","v":{"$error":"#DIV/0!"}}]
["Corrected Cooling Energy Efficiency",null,null,null,{"$f":"'Test Plan'!$B$126","v":"kW/kW"},{"$f":"IF('Test Plan'!$B$19=\"I-P\",$F$229/$G$233,$F$229*$G$233)","v":{"$error":"#DIV/0!"}}]
["Water Pressure Drop",null,null,null,{"$f":"'Test Plan'!$B$127","v":"kPa"},{"$f":"$F$23","v":{"$error":"#DIV/0!"}}]
[]
[null,null,null,"Evaporator Water",null,null,null,null,null,null,null,null,null,"Condenser Air",null,"Electrical"]
[null,null,null,"Lvg. Temp.",null,null,"Ent. Temp.",null,null,"Flow Rate",null,null,null,null,null,"Power",null,null,"Total Voltage","Voltage 1",null,null,null,"Voltage 2",null,null,null,"Frequency"]
["Laboratory Data","Start Time","Stop Time",null,null,{"$f":"'Test Conditions'!$B$18","v":"°C"},null,null,{"$f":"'Test Conditions'!$B$18","v":"°C"},null,null,null,"Press. Drop","Ent. Temp.","Atm Press.",null,null,"kW"]
["Unit",{"$f":"$C$9","v":"h:mm:ss:ms"},{"$f":"$C$9","v":"h:mm:ss:ms"},null,null,null,null,null,null,null,null,null,{"$f":"IF('Test Plan'!$B$19=\"I-P\",'Unit Conversion'!$B$9,'Unit Conversion'!$C$9)","v":"kPa"},{"$f":"'Test Conditions'!$B$19","v":"°C"},{"$f":"IF('Test Plan'!$B$19=\"I-P\",'Unit Conversion'!$B$7,'Unit Conversion'!$C$7)","v":"kPa"}]
["Mean"]
["Data Comparison",{"$f":"ABS(B244-Zero)*24*60*60","v":0},{"$f":"ABS(C244-INDEX(Zero:C10196,$B$10))*24*60*60","v":{"$error":"#VALUE!"}},null,null,{"$f":"ABS(F244-F250)","v":{"$error":"#DIV/0!"}},null,null,{"$f":"ABS(I244-I250)","v":{"$error":"#DIV/0!"}},null,null,null,{"$f":"ABS(M244-M250)","v":{"$error":"#DIV/0!"}},{"$f":"ABS(N244-N250)","v":{"$error":"#DIV/0!"}},{"$f":"ABS(O244-O250)/O250","v":{"$error":"#DIV/0!"}},null,null,{"$f":"ABS(R244-R250)/R250","v":{"$error":"#DIV/0!"}}]
["Use Lab Data?"]
["Test Stand Data","Time Interval","Time Stamp",1,2,"Avg.",1,2,"Avg.",1,2,"Avg.","Press. Drop","Ent. Temp.","Atm Press.",1,2,"Avg.","Avg","Avg."," A-B"," B-C"," C-A","Avg."," A-B"," B-C"," C-A","Avg.",1,2]
["Unit",{"$f":"$C$9","v":"h:mm:ss:ms"},{"$f":"$C$9","v":"h:mm:ss:ms"},{"$f":"'Test Conditions'!$B$18","v":"°C"},{"$f":"'Test Conditions'!$B$18","v":"°C"},{"$f":"'Test Conditions'!$B$18","v":"°C"},{"$f":"'Test Conditions'!$B$19","v":"°C"},{"$f":"'Test Conditions'!$B$19","v":"°C"},{"$f":"'Test Conditions'!$B$19","v":"°C"},{"$f":"'Test Conditions'!$B$20","v":"m³/h"},{"$f":"'Test Conditions'!$B$20","v":"m³/h"},{"$f":"'Test Conditions'!$B$20","v":"m³/h"},{"$f":"IF('Test Plan'!$B$19=\"I-P\",'Unit Conversion'!$B$9,'Unit Conversion'!$C$9)","v":"kPa"},{"$f":"'Test Conditions'!$B$19","v":"°C"},{"$f":"IF('Test Plan'!$B$19=\"I-P\",'Unit Conversion'!$B$7,'Unit Conversion'!$C$7)","v":"kPa"},"kW","kW","kW","V","V","V","V","V","V","V","V","V","Hz","Hz","Hz"]
["Rating","-","-",{"$f":"'Test Conditions'!$C$98","v":0},{"$f":"'Test Conditions'!$C$98","v":0},{"$f":"'Test Conditions'!$C$98","v":0},{"$f":"'Test Plan'!$C$104","v":0},{"$f":"'Test Plan'!$C$104","v":0},{"$f":"'Test Plan'!$C$104","v":0},{"$f":"'Test Plan'!$C$106","v":0},{"$f":"'Test Plan'!$C$106","v":0},{"$f":"'Test Plan'!$C$106","v":0},{"$f":"IF('Test Plan'!$B$19=\"I-P\",'Test Plan'!$D$127*0.4331,'Test Plan'!$D$127)","v":0},{"$f":"'Test Conditions'!$D$99","v":0},{"$f":"'Test Plan'!$C$41","v":101.33},{"$f":"'Test Plan'!$C$101","v":0},{"$f":"'Test Plan'!$C$101","v":0},{"$f":"'Test Plan'!$C$101","v":0},{"$f":"'Test Plan'!$B$14","v":0},{"$f":"'Test Plan'!$B$14","v":0},{"$f":"'Test Plan'!$B$14","v":0},{"$f":"'Test Plan'!$B$14","v":0},{"$f":"'Test Plan'!$B$14","v":0},{"$f":"'Test Plan'!$B$14","v":0},{"$f":"'Test Plan'!$B$14","v":0},{"$f":"'Test Plan'!$B$14","v":0},{"$f":"'Test Plan'!$B$14","v":0},{"$f":"'Test Plan'!$D$14","v":0},{"$f":"'Test Plan'!$D$14","v":0},{"$f":"'Test Plan'!$D$14","v":0}]
["Mean","-","-",{"$f":"AVERAGE(D252:INDEX(D252:D10083,$B$9))","v":{"$error":"#DIV/0!"}},{"$f":"AVERAGE(E252:INDEX(E252:E10083,$B$9))","v":{"$error":"#DIV/0!"}},{"$f":"AVERAGE(D250:E250)","v":{"$error":"#DIV/0!"}},{"$f":"AVERAGE(G252:INDEX(G252:G10083,$B$9))","v":{"$error":"#DIV/0!"}},{"$f":"AVERAGE(H252:INDEX(H252:H10083,$B$9))","v":{"$error":"#DIV/0!"}},{"$f":"AVERAGE(G250:H250)","v":{"$error":"#DIV/0!"}},{"$f":"AVERAGE(J252:INDEX(J252:J10083,$B$9))","v":{"$error":"#DIV/0!"}},{"$f":"AVERAGE(K252:INDEX(K252:K10083,$B$9))","v":{"$error":"#DIV/0!"}},{"$f":"AVERAGE(J250:K250)","v":{"$error":"#DIV/0!"}},{"$f":"AVERAGE(M252:INDEX(M252:M10083,$B$9))","v":{"$error":"#DIV/0!"}},{"$f":"AVERAGE(N252:INDEX(N252:N10083,$B$9))","v":{"$error":"#DIV/0!"}},{"$f":"AVERAGE(O252:INDEX(O252:O10083,$B$9))","v":{"$error":"#DIV/0!"}},{"$f":"AVERAGE(P252:INDEX(P252:P10083,$B$9))","v":{"$error":"#DIV/0!"}},{"$f":"AVERAGE(Q252:INDEX(Q252:Q10083,$B$9))","v":{"$error":"#DIV/0!"}},{"$f":"AVERAGE(P250:Q250)","v":{"$error":"#DIV/0!"}},{"$f":"AVERAGE(T250,X250)","v":{"$error":"#DIV/0!"}},{"$f":"AVERAGE(T252:INDEX(T252:T10083,$B$9))","v":{"$error":"#DIV/0!"}},{"$f":"AVERAGE(U252:INDEX(U252:U10083,$B$9))","v":{"$error":"#DIV/0!"}},{"$f":"AVERAGE(V252:INDEX(V252:V10083,$B$9))","v":{"$error":"#DIV/0!"}},{"$f":"AVERAGE(W252:INDEX(W252:W10083,$B$9))","v":{"$error":"#DIV/0!"}},{"$f":"AVERAGE(X252:INDEX(X252:X10083,$B$9))","v":{"$error":"#DIV/0!"}},{"$f":"AVERAGE(Y252:INDEX(Y252:Y10083,$B$9))","v":{"$error":"#DIV/0!"}},{"$f":"AVERAGE(Z252:INDEX(Z252:Z10083,$B$9))","v":{"$error":"#DIV/0!"}},{"$f":"AVERAGE(AA252:INDEX(AA252:AA10083,$B$9))","v":{"$error":"#DIV/0!"}},{"$f":"AVERAGE(AC250:AD250)","v":{"$error":"#DIV/0!"}},{"$f":"AVERAGE(AC252:INDEX(AC252:AC10083,$B$9))","v":{"$error":"#DIV/0!"}},{"$f":"AVERAGE(AD252:INDEX(AD252:AD10083,$B$9))","v":{"$error":"#DIV/0!"}}]
["St. Dev.","-","-",{"$f":"_xlfn.STDEV.S(D252:INDEX(D252:D10083,$B$9))","v":{"$error":"#DIV/0!"}},{"$f":"_xlfn.STDEV.S(E252:INDEX(E252:E10083,$B$9))","v":{"$error":"#DIV/0!"}},{"$f":"SQRT((D251^2+E251^2)/2)","v":{"$error":"#DIV/0!"}},{"$f":"_xlfn.STDEV.S(G252:INDEX(G252:G10083,$B$9))","v":{"$error":"#DIV/0!"}},{"$f":"_xlfn.STDEV.S(H252:INDEX(H252:H10083,$B$9))","v":{"$error":"#DIV/0!"}},{"$f":"SQRT((G251^2+H251^2)/2)","v":{"$error":"#DIV/0!"}},{"$f":"_xlfn.STDEV.S(J252:INDEX(J252:J10083,$B$9))","v":{"$error":"#DIV/0!"}},{"$f":"_xlfn.STDEV.S(K252:INDEX(K252:K10083,$B$9))","v":{"$error":"#DIV/0!"}},{"$f":"SQRT((J251^2+K251^2)/2)","v":{"$error":"#DIV/0!"}},{"$f":"_xlfn.STDEV.S(M252:INDEX(M252:M10083,$B$9))","v":{"$error":"#DIV/0!"}},{"$f":"_xlfn.STDEV.S(N252:INDEX(N252:N10083,$B$9))","v":{"$error":"#DIV/0!"}},{"$f":"_xlfn.STDEV.S(O252:INDEX(O252:O10083,$B$9))","v":{"$error":"#DIV/0!"}},{"$f":"_xlfn.STDEV.S(P252:INDEX(P252:P10083,$B$9))","v":{"$error":"#DIV/0!"}},{"$f":"_xlfn.STDEV.S(Q252:INDEX(Q252:Q10083,$B$9))","v":{"$error":"#DIV/0!"}},{"$f":"SQRT((P251^2+Q251^2)/2)","v":{"$error":"#DIV/0!"}},{"$f":"SQRT((T251^2+X251^2)/2)","v":{"$error":"#DIV/0!"}},{"$f":"_xlfn.STDEV.S(T252:INDEX(T252:T10083,$B$9))","v":{"$error":"#DIV/0!"}},{"$f":"_xlfn.STDEV.S(U252:INDEX(U252:U10083,$B$9))","v":{"$error":"#DIV/0!"}},{"$f":"_xlfn.STDEV.S(V252:INDEX(V252:V10083,$B$9))","v":{"$error":"#DIV/0!"}},{"$f":"_xlfn.STDEV.S(W252:INDEX(W252:W10083,$B$9))","v":{"$error":"#DIV/0!"}},{"$f":"_xlfn.STDEV.S(X252:INDEX(X252:X10083,$B$9))","v":{"$error":"#DIV/0!"}},{"$f":"_xlfn.STDEV.S(Y252:INDEX(Y252:Y10083,$B$9))","v":{"$error":"#DIV/0!"}},{"$f":"_xlfn.STDEV.S(Z252:INDEX(Z252:Z10083,$B$9))","v":{"$error":"#DIV/0!"}},{"$f":"_xlfn.STDEV.S(AA252:INDEX(AA252:AA10083,$B$9))","v":{"$error":"#DIV/0!"}},{"$f":"SQRT((AC251^2+AD251^2)/2)","v":{"$error":"#DIV/0!"}},{"$f":"_xlfn.STDEV.S(AC252:INDEX(AC252:AC10083,$B$9))","v":{"$error":"#DIV/0!"}},{"$f":"_xlfn.STDEV.S(AD252:INDEX(AD252:AD10083,$B$9))","v":{"$error":"#DIV/0!"}}]
[null,{"$f":"C253-C252","v":"00:00:00"}]
[null,{"$f":"C254-C253","v":"00:00:00"}]
[null,{"$f":"C255-C254","v":"00:00:00"}]
[null,"00:00:00"]
[null,"00:00:00"]
[null,"00:00:00"]
[null,"00:00:00"]
[null,"00:00:00"]
[null,"00:00:00"]
[null,"00:00:00"]
[null,"00:00:00"]
[null,"00:00:00"]
[null,"00:00:00"]
[null,"00:00:00"]
[null,"00:00:00"]
[null,"00:00:00"]
[null,"00:00:00"]
[null,"00:00:00"]
[null,"00:00:00"]
[null,"00:00:00"]
[null,"00:00:00"]
[null,"00:00:00"]
[null,"00:00:00"]
[null,"00:00:00"]
[null,"00:00:00"]
[null,"00:00:00"]
[null,"00:00:00"]
[null,{"$f":"C280-C279","v":"00:00:00"}]
[null,{"$f":"C281-C280","v":"00:00:00"}]
[null,"00:00:00"]
[null,{"$f":"IF(C283=0,\"\",C283-C282)","v":""}]
[null,{"$f":"IF(C284=0,\"\",C284-C283)","v":""}]
[null,{"$f":"IF(C285=0,\"\",C285-C284)","v":""}]
[null,""]
[null,""]
[null,""]
[null,""]
[null,""]
[null,""]
[null,""]
[null,""]
[null,""]
[null,""]
[null,""]
[null,""]
[null,""]
[null,""]
[null,""]
[null,""]
[null,""]
[null,""]
[null,""]
[null,""]
[null,""]
[null,""]
[null,""]
[null,""]
[null,""]
[null,""]
[null,""]
[null,""]
[null,""]
[null,""]
[null,""]
[null,""]
[null,""]
[null,""]
[null,""]
[null,""]
[null,""]
[null,""]
[null,""]
[null,""]
[null,""]
[null,""]
[null,""]
[null,""]
[null,""]
[null,""]
[null,""]
[null,""]
[null,""]
[null,""]
[null,""]
[null,""]
[null,""]
[null,""]
[null,""]
[null,""]
[null,""]
[null,""]
[null,""]
[null,""]
[null,""]
[null,""]
[null,""]
[null,{"$f":"IF(C349=0,\"\",C349-C348)","v":""}]
[null,""]
[null,""]
[null,""]
[null,""]
[null,""]
[null,""]
[null,""]
[null,""]
[null,""]
[null,""]
[null,""]
[null,""]
[null,""]
[null,""]
[null,""]
[null,""]
[null,""]
[null,""]
[null,""]
[null,""]
[null,""]
[null,""]
[null,""]
[null,""]
[null,""]
[null,""]
[null,""]
[null,""]
[null,""]
[null,""]
[null,""]
[null,""]
[null,""]
[null,""]
[null,""]
[null,""]
[null,""]
[null,""]
[null,""]
[null,""]
[null,""]
[null,""]
[null,""]
[null,""]
[null,""]
[null,""]
[null,""]
[null,""]
[null,""]
[null,""]
[null,""]
[null,""]
[null,""]
[null,""]
[null,""]
[null,""]
[null,""]
[null,""]
[null,""]
[null,""]
[null,""]
[null,""]
[null,""]
[null,{"$f":"IF(C413=0,\"\",C413-C412)","v":""}]
[null,""]
[null,""]
[null,""]
[null,""]
[null,""]
[null,""]
[null,""]
[null,""]
[null,""]
[null,""]
[null,""]
[null,""]
[null,""]
[null,""]
[null,""]
[null,""]
[null,""]
[null,""]
[null,""]
[null,""]
[null,""]
[null,""]
[null,""]
[null,""]
[null,""]
[null,""]
[null,""]
[null,""]
[null,""]
[null,""]
[null,""]
[null,""]
[null,""]
[null,""]
[null,""]
[null,""]
[null,""]
[null,""]
[null,""]
[null,""]
[null,""]
[null,""]
[null,""]
[null,""]
[null,""]
[null,""]
[null,""]
[null,""]
[null,""]
[null,""]
[null,""]
[null,""]
[null,""]
[null,""]
[null,""]
[null,""]
[null,""]
[null,""]
[null,""]
[null,""]
[null,""]
[null,""]
[null,""]
[null,{"$f":"IF(C477=0,\"\",C477-C476)","v":""}]
[null,""]
[null,""]
[null,""]
[null,""]
[null,""]
[null,""]
[null,""]
[null,""]
[null,""]
[null,""]
[null,""]
[null,""]
[null,""]
[null,""]
[null,""]
[null,""]
[null,""]
[null,""]
[null,""]
[null,""]
[null,""]
[null,""]
[null,""]
[null,""]
[null,""]
[null,""]
[null,""]
[null,""]
[null,""]
[null,""]
[null,""]
[null,""]
[null,""]
[null,""]
[null,""]
[null,""]
[null,""]
[null,""]
[null,""]
[null,""]
[null,""]
[null,""]
[null,""]
[null,""]
[null,""]
[null,""]
[null,""]
[null,""]
[null,""]
[null,""]
[null,""]
[null,""]
[null,""]
[null,""]
[null,""]
[null,""]
[null,""]
[null,""]
[null,""]
[null,""]
[null,""]
[null,""]
[null,""]
[null,{"$f":"IF(C541=0,\"\",C541-C540)","v":""}]
[null,""]
[null,""]
[null,""]
[null,""]
[null,""]
[null,""]
[null,""]
[null,""]
[null,""]
[null,""]
[null,""]
[null,""]
[null,""]
[null,""]
[null,""]
[null,""]
[null,""]
[null,""]
[null,""]
[null,""]
[null,""]
[null,""]
[null,""]
[null,""]
[null,""]
[null,""]
[null,""]
[null,""]
[null,""]
[null,""]
[null,""]
[null,""]
[null,""]
[null,""]
[null,""]
[null,""]
[null,""]
[null,""]
[null,""]
[null,""]
[null,""]
[null,""]
[null,""]
[null,""]
[null,""]
[null,""]
[null,""]
[null,""]
[null,""]
[null,""]
[null,""]
[null,""]
[null,""]
[null,""]
[null,""]
[null,""]
[null,""]
[null,""]
[null,""]
[null,""]
[null,""]
[null,""]
[null,""]
[null,{"$f":"IF(C605=0,\"\",C605-C604)","v":""}]
[null,""]
[null,""]
[null,""]
[null,""]
[null,""]
[null,""]
[null,""]
[null,""]
[null,""]
[null,""]
[null,""]
[null,""]
[null,""]
[null,""]
[null,""]
[null,""]
[null,""]
[null,""]
[null,""]
[null,""]
[null,""]
[null,""]
[null,""]
[null,""]
[null,""]
[null,""]
[null,""]
[null,""]
[null,""]
[null,""]
[null,""]
[null,""]
[null,""]
[null,""]
[null,""]
[null,""]
[null,""]
[null,""]
[null,""]
[null,""]
[null,""]
[null,""]
[null,""]
[null,""]
[null,""]
[null,""]
[null,""]
[null,""]
[null,""]
[null,""]
[null,""]
[null,""]
[null,""]
[null,""]
[null,""]
[null,""]
[null,""]
[null,""]
[null,""]
[null,""]
[null,""]
[null,""]
[null,""]
[null,{"$f":"IF(C669=0,\"\",C669-C668)","v":""}]
[null,""]
[null,""]
[null,""]
[null,""]
[null,""]
[null,""]
[null,""]
[null,""]
[null,""]
[null,""]
[null,""]
[null,""]
[null,""]
[null,""]
[null,""]
[null,""]
[null,""]
[null,""]
[null,""]
[null,""]
[null,""]
[null,""]
[null,""]
[null,""]
[null,""]
[null,""]
[null,""]
[null,""]
[null,""]
[null,""]
[null,""]
[null,""]
[null,""]
[null,""]
[null,""]
[null,""]
[null,""]
[null,""]
[null,""]
[null,""]
[null,""]
[null,""]
[null,""]
[null,""]
[null,""]
[null,""]
[null,""]
[null,""]
[null,""]
[null,""]
[null,""]
[null,""]
[null,""]
[null,""]
[null,""]
[null,""]
[null,""]
[null,""]
[null,""]
[null,""]
[null,""]
[null,""]
[null,""]
[null,{"$f":"IF(C733=0,\"\",C733-C732)","v":""}]
[null,""]
[null,""]
[null,""]
[null,""]
[null,""]
[null,""]
[null,""]
[null,""]
[null,""]
[null,""]
[null,""]
[null,""]
[null,""]
[null,""]
[null,""]
[null,""]
[null,""]
[null,""]
[null,""]
[null,""]
[null,""]
[null,""]
[null,""]
[null,""]
[null,""]
[null,""]
[null,""]
[null,""]
[null,""]
[null,""]
[null,""]
[null,""]
[null,""]
[null,""]
[null,""]
[null,""]
[null,""]
[null,""]
[null,""]
[null,""]
[null,""]
[null,""]
[null,""]
[null,""]
[null,""]
[null,""]
[null,""]
[null,""]
[null,""]
[null,""]
[null,""]
[null,""]
[null,""]
[null,""]
[null,""]
[null,""]
[null,""]
[null,""]
[null,""]
[null,""]
[null,""]
[null,""]
[null,""]
[null,{"$f":"IF(C797=0,\"\",C797-C796)","v":""}]
[null,""]
[null,""]
[null,""]
[null,""]
[null,""]
[null,""]
[null,""]
[null,""]
[null,""]
[null,""]
[null,""]
[null,""]
[null,""]
[null,""]
[null,""]
[null,""]
[null,""]
[null,""]
[null,""]
[null,""]
[null,""]
[null,""]
[null,""]
[null,""]
[null,""]
[null,""]
[null,""]
[null,""]
[null,""]
[null,""]
[null,""]
[null,""]
[null,""]
[null,""]
[null,""]
[null,""]
[null,""]
[null,""]
[null,""]
[null,""]
[null,""]
[null,""]
[null,""]
[null,""]
[null,""]
[null,""]
[null,""]
[null,""]
[null,""]
[null,""]
[null,""]
[null,""]
[null,""]
[null,""]
[null,""]
[null,""]
[null,""]
[null,""]
[null,""]
[null,""]
[null,""]
[null,""]
[null,""]
[null,{"$f":"IF(C861=0,\"\",C861-C860)","v":""}]
[null,""]
[null,""]
[null,""]
[null,""]
[null,""]
[null,""]
[null,""]
[null,""]
[null,""]
[null,""]
[null,""]
[null,""]
[null,""]
[null,""]
[null,""]
[null,""]
[null,""]
[null,""]
[null,""]
[null,""]
[null,""]
[null,""]
[null,""]
[null,""]
[null,""]
[null,""]
[null,""]
[null,""]
[null,""]
[null,""]
[null,""]
[null,""]
[null,""]
[null,""]
[null,""]
[null,""]
[null,""]
[null,""]
[null,""]
[null,""]
[null,""]
[null,""]
[null,""]
[null,""]
[null,""]
[null,""]
[null,""]
[null,""]
[null,""]
[null,""]
[null,""]
[null,""]
[null,""]
[null,""]
[null,""]
[null,""]
[null,""]
[null,""]
[null,""]
[null,""]
[null,""]
[null,""]
[null,""]
[null,{"$f":"IF(C925=0,\"\",C925-C924)","v":""}]
[null,""]
[null,""]
[null,""]
[null,""]
[null,""]
[null,""]
[null,""]
[null,""]
[null,""]
[null,""]
[null,""]
[null,""]
[null,""]
[null,""]
[null,""]
[null,""]
[null,""]
[null,""]
[null,""]
[null,""]
[null,""]
[null,""]
[null,""]
[null,""]
[null,""]
[null,""]
[null,""]
[null,""]
[null,""]
[null,""]
[null,""]
[null,""]
[null,""]
[null,""]
[null,""]
[null,""]
[null,""]
[null,""]
[null,""]
[null,""]
[null,""]
[null,""]
[null,""]
[null,""]
[null,""]
[null,""]
[null,""]
[null,""]
[null,""]
[null,""]
[null,""]
[null,""]
[null,""]
[null,""]
[null,""]
[null,""]
[null,""]
[null,""]
[null,""]
[null,""]
[null,""]
[null,""]
[null,""]
[null,{"$f":"IF(C989=0,\"\",C989-C988)","v":""}]
[null,""]
[null,""]
[null,""]
[null,""]
[null,""]
[null,""]
[null,""]
[null,""]
[null,""]
[null,""]
[null,""]
[null,""]
[null,""]
[null,""]
[null,""]
[null,""]
[null,""]
[null,""]
[null,""]
[null,""]
[null,""]
[null,""]
[null,""]
[null,""]
[null,""]
[null,""]
[null,""]
[null,""]
[null,""]
[null,""]
[null,""]
[null,""]
[null,""]
[null,""]
[null,""]
[null,""]
[null,""]
[null,""]
[null,""]
[null,""]
[null,""]
[null,""]
[null,""]
[null,""]
[null,""]
[null,""]
[null,""]
[null,""]
[null,""]
[null,""]
[null,""]
[null,""]
[null,""]
[null,""]
[null,""]
[null,""]
[null,""]
[null,""]
[null,""]
[null,""]
[null,""]
[null,""]
[null,""]
[null,{"$f":"IF(C1053=0,\"\",C1053-C1052)","v":""}]
[null,""]
[null,""]
[null,""]
[null,""]
[null,""]
[null,""]
[null,""]
[null,""]
[null,""]
[null,""]
[null,""]
[null,""]
[null,""]
[null,""]
[null,""]
[null,""]
[null,""]
[null,""]
[null,""]
[null,""]
[null,""]
[null,""]
[null,""]
[null,""]
[null,""]
[null,""]
[null,""]
[null,""]
[null,""]
[null,""]
[null,""]
[null,""]
[null,""]
[null,""]
[null,""]
[null,""]
[null,""]
[null,""]
[null,""]
[null,""]
[null,""]
[null,""]
[null,""]
[null,""]
[null,""]
[null,""]
[null,""]
[null,""]
[null,""]
[null,""]
[null,""]
[null,""]
[null,""]
[null,""]
[null,""]
[null,""]
[null,""]
[null,""]
[null,""]
[null,""]
[null,""]
[null,""]
[null,""]
[null,{"$f":"IF(C1117=0,\"\",C1117-C1116)","v":""}]
[null,""]
[null,""]
[null,""]
[null,""]
[null,""]
[null,""]
[null,""]
[null,""]
[null,""]
[null,""]
[null,""]
[null,""]
[null,""]
[null,""]
[null,""]
[null,""]
[null,""]
[null,""]
[null,""]
[null,""]
[null,""]
[null,""]
[null,""]
[null,""]
[null,""]
[null,""]
[null,""]
[null,""]
[null,""]
[null,""]
[null,""]
[null,""]
[null,""]
[null,""]
[null,""]
[null,""]
[null,""]
[null,""]
[null,""]
[null,""]
[null,""]
[null,""]
[null,""]
[null,""]
[null,""]
[null,""]
[null,""]
[null,""]
[null,""]
[null,""]
[null,""]
[null,""]
[null,""]
[null,""]
[null,""]
[null,""]
[null,""]
[null,""]
[null,""]
[null,""]
[null,""]
[null,""]
[null,""]
[null,{"$f":"IF(C1181=0,\"\",C1181-C1180)","v":""}]
[null,""]
[null,""]
[null,""]
[null,""]
[null,""]
[null,""]
[null,""]
[null,""]
[null,""]
[null,""]
[null,""]
[null,""]
[null,""]
[null,""]
[null,""]
[null,""]
[null,""]
[null,""]
[null,""]
[null,""]
[null,""]
[null,""]
[null,""]
[null,""]
[null,""]
[null,""]
[null,""]
[null,""]
[null,""]
[null,""]
[null,""]
[null,""]
[null,""]
[null,""]
[null,""]
[null,""]
[null,""]
[null,""]
[null,""]
[null,""]
[null,""]
[null,""]
[null,""]
[null,""]
[null,""]
[null,""]
[null,""]
[null,""]
[null,""]
[null,""]
[null,""]
[null,""]
[null,""]
[null,""]
[null,""]
[null,""]
[null,""]
[null,""]
[null,""]
[null,""]
[null,""]
[null,""]
[null,""]
[null,{"$f":"IF(C1245=0,\"\",C1245-C1244)","v":""}]
[null,""]
[null,""]
[null,""]
[null,""]
[null,""]
[null,""]
[null,""]
[null,""]
[null,""]
[null,""]
[null,""]
[null,""]
[null,""]
[null,""]
[null,""]
[null,""]
[null,""]
[null,""]
[null,""]
[null,""]
[null,""]
[null,""]
[null,""]
[null,""]
[null,""]
[null,""]
[null,""]
[null,""]
[null,""]
[null,""]
[null,""]
[null,""]
[null,""]
[null,""]
[null,""]
[null,""]
[null,""]
[null,""]
[null,""]
[null,""]
[null,""]
[null,""]
[null,""]
[null,""]
[null,""]
[null,""]
[null,""]
[null,""]
[null,""]
[null,""]
[null,""]
[null,""]
[null,""]
[null,""]
[null,""]
[null,""]
[null,""]
[null,""]
[null,""]
[null,""]
[null,""]
[null,""]
[null,""]
[null,{"$f":"IF(C1309=0,\"\",C1309-C1308)","v":""}]
[null,""]
[null,""]
[null,""]
[null,""]
[null,""]
[null,""]
[null,""]
[null,""]
[null,""]
[null,""]
[null,""]
[null,""]
[null,""]
[null,""]
[null,""]
[null,""]
[null,""]
[null,""]
[null,""]
[null,""]
[null,""]
[null,""]
[null,""]
[null,""]
[null,""]
[null,""]
[null,""]
[null,""]
[null,""]
[null,""]
[null,""]
[null,""]
[null,""]
[null,""]
[null,""]
[null,""]
[null,""]
[null,""]
[null,""]
[null,""]
[null,""]
[null,""]
[null,""]
[null,""]
[null,""]
[null,""]
[null,""]
[null,""]
[null,""]
[null,""]
[null,""]
[null,""]
[null,""]
[null,""]
[null,""]
[null,""]
[null,""]
[null,""]
[null,""]
[null,""]
[null,""]
[null,""]
[null,""]
[null,{"$f":"IF(C1373=0,\"\",C1373-C1372)","v":""}]
[null,""]
[null,""]
[null,""]
[null,""]
[null,""]
[null,""]
[null,""]
[null,""]
[null,""]
[null,""]
[null,""]
[null,""]
[null,""]
[null,""]
[null,""]
[null,""]
[null,""]
[null,""]
[null,""]
[null,""]
[null,""]
[null,""]
[null,""]
[null,""]
[null,""]
[null,""]
[null,""]
[null,""]
[null,""]
[null,""]
[null,""]
[null,""]
[null,""]
[null,""]
[null,""]
[null,""]
[null,""]
[null,""]
[null,""]
[null,""]
[null,""]
[null,""]
[null,""]
[null,""]
[null,""]
[null,""]
[null,""]
[null,""]
[null,""]
[null,""]
[null,""]
[null,""]
[null,""]
[null,""]
[null,""]
[null,""]
[null,""]
[null,""]
[null,""]
[null,""]
[null,""]
[null,""]
[null,""]
[null,{"$f":"IF(C1437=0,\"\",C1437-C1436)","v":""}]
[null,""]
[null,""]
[null,""]
[null,""]
[null,""]
[null,""]
[null,""]
[null,""]
[null,""]
[null,""]
[null,""]
[null,""]
[null,""]
[null,""]
[null,""]
[null,""]
[null,""]
[null,""]
[null,""]
[null,""]
[null,""]
[null,""]
[null,""]
[null,""]
[null,""]
[null,""]
[null,""]
[null,""]
[null,""]
[null,""]
[null,""]
[null,""]
[null,""]
[null,""]
[null,""]
[null,""]
[null,""]
[null,""]
[null,""]
[null,""]
[null,""]
[null,""]
[null,""]
[null,""]
[null,""]
[null,""]
[null,""]
[null,""]
[null,""]
[null,""]
[null,""]
[null,""]
[null,""]
[null,""]
[null,""]
[null,""]
[null,""]
[null,""]
[null,""]
[null,""]
[null,""]
[null,""]
[null,""]
[null,{"$f":"IF(C1501=0,\"\",C1501-C1500)","v":""}]
[null,""]
[null,""]
[null,""]
[null,""]
[null,""]
[null,""]
[null,""]
[null,""]
[null,""]
[null,""]
[null,""]
[null,""]
[null,""]
[null,""]
[null,""]
[null,""]
[null,""]
[null,""]
[null,""]
[null,""]
[null,""]
[null,""]
[null,""]
[null,""]
[null,""]
[null,""]
[null,""]
[null,""]
[null,""]
[null,""]
[null,""]
[null,""]
[null,""]
[null,""]
[null,""]
[null,""]
[null,""]
[null,""]
[null,""]
[null,""]
[null,""]
[null,""]
[null,""]
[null,""]
[null,""]
[null,""]
[null,""]
[null,""]
[null,""]
[null,""]
[null,""]
[null,""]
[null,""]
[null,""]
[null,""]
[null,""]
[null,""]
[null,""]
[null,""]
[null,""]
[null,""]
[null,""]
[null,""]
[null,{"$f":"IF(C1565=0,\"\",C1565-C1564)","v":""}]
[null,""]
[null,""]
[null,""]
[null,""]
[null,""]
[null,""]
[null,""]
[null,""]
[null,""]
[null,""]
[null,""]
[null,""]
[null,""]
[null,""]
[null,""]
[null,""]
[null,""]
[null,""]
[null,""]
[null,""]
[null,""]
[null,""]
[null,""]
[null,""]
[null,""]
[null,""]
[null,""]
[null,""]
[null,""]
[null,""]
[null,""]
[null,""]
[null,""]
[null,""]
[null,""]
[null,""]
[null,""]
[null,""]
[null,""]
[null,""]
[null,""]
[null,""]
[null,""]
[null,""]
[null,""]
[null,""]
[null,""]
[null,""]
[null,""]
[null,""]
[null,""]
[null,""]
[null,""]
[null,""]
[null,""]
[null,""]
[null,""]
[null,""]
[null,""]
[null,""]
[null,""]
[null,""]
[null,""]
[null,{"$f":"IF(C1629=0,\"\",C1629-C1628)","v":""}]
[null,""]
[null,""]
[null,""]
[null,""]
[null,""]
[null,""]
[null,""]
[null,""]
[null,""]
[null,""]
[null,""]
[null,""]
[null,""]
[null,""]
[null,""]
[null,""]
[null,""]
[null,""]
[null,""]
[null,""]
[null,""]
[null,""]
[null,""]
[null,""]
[null,""]
[null,""]
[null,""]
[null,""]
[null,""]
[null,""]
[null,""]
[null,""]
[null,""]
[null,""]
[null,""]
[null,""]
[null,""]
[null,""]
[null,""]
[null,""]
[null,""]
[null,""]
[null,""]
[null,""]
[null,""]
[null,""]
[null,""]
[null,""]
[null,""]
[null,""]
[null,""]
[null,""]
[null,""]
[null,""]
[null,""]
[null,""]
[null,""]
[null,""]
[null,""]
[null,""]
[null,""]
[null,""]
[null,""]
[null,{"$f":"IF(C1693=0,\"\",C1693-C1692)","v":""}]
[null,""]
[null,""]
[null,""]
[null,""]
[null,""]
[null,""]
[null,""]
[null,""]
[null,""]
[null,""]
[null,""]
[null,""]
[null,""]
[null,""]
[null,""]
[null,""]
[null,""]
[null,""]
[null,""]
[null,""]
[null,""]
[null,""]
[null,""]
[null,""]
[null,""]
[null,""]
[null,""]
[null,""]
[null,""]
[null,""]
[null,""]
[null,""]
[null,""]
[null,""]
[null,""]
[null,""]
[null,""]
[null,""]
[null,""]
[null,""]
[null,""]
[null,""]
[null,""]
[null,""]
[null,""]
[null,""]
[null,""]
[null,""]
[null,""]
[null,""]
[null,""]
[null,""]
[null,""]
[null,""]
[null,""]
[null,""]
[null,""]
[null,""]
[null,""]
[null,""]
[null,""]
[null,""]
[null,""]
[null,{"$f":"IF(C1757=0,\"\",C1757-C1756)","v":""}]
[null,""]
[null,""]
[null,""]
[null,""]
[null,""]
[null,""]
[null,""]
[null,""]
[null,""]
[null,""]
[null,""]
[null,""]
[null,""]
[null,""]
[null,""]
[null,""]
[null,""]
[null,""]
[null,""]
[null,""]
[null,""]
[null,""]
[null,""]
[null,""]
[null,""]
[null,""]
[null,""]
[null,""]
[null,""]
[null,""]
[null,""]
[null,""]
[null,""]
[null,""]
[null,""]
[null,""]
[null,""]
[null,""]
[null,""]
[null,""]
[null,""]
[null,""]
[null,""]
[null,""]
[null,""]
[null,""]
[null,""]
[null,""]
[null,""]
[null,""]
[null,""]
[null,""]
[null,""]
[null,""]
[null,""]
[null,""]
[null,""]
[null,""]
[null,""]
[null,""]
[null,""]
[null,""]
[null,""]
[null,{"$f":"IF(C1821=0,\"\",C1821-C1820)","v":""}]
[null,""]
[null,""]
[null,""]
[null,""]
[null,""]
[null,""]
[null,""]
[null,""]
[null,""]
[null,""]
[null,""]
[null,""]
[null,""]
[null,""]
[null,""]
[null,""]
[null,""]
[null,""]
[null,""]
[null,""]
[null,""]
[null,""]
[null,""]
[null,""]
[null,""]
[null,""]
[null,""]
[null,""]
[null,""]
[null,""]
[null,""]
[null,""]
[null,""]
[null,""]
[null,""]
[null,""]
[null,""]
[null,""]
[null,""]
[null,""]
[null,""]
[null,""]
[null,""]
[null,""]
[null,""]
[null,""]
[null,""]
[null,""]
[null,""]
[null,""]
[null,""]
[null,""]
[null,""]
[null,""]
[null,""]
[null,""]
[null,""]
[null,""]
[null,""]
[null,""]
[null,""]
[null,""]
[null,""]
[null,{"$f":"IF(C1885=0,\"\",C1885-C1884)","v":""}]
[null,""]
[null,""]
[null,""]
[null,""]
[null,""]
[null,""]
[null,""]
[null,""]
[null,""]
[null,""]
[null,""]
[null,""]
[null,""]
[null,""]
[null,""]
[null,""]
[null,""]
[null,""]
[null,""]
[null,""]
[null,""]
[null,""]
[null,""]
[null,""]
[null,""]
[null,""]
[null,""]
[null,""]
[null,""]
[null,""]
[null,""]
[null,""]
[null,""]
[null,""]
[null,""]
[null,""]
[null,""]
[null,""]
[null,""]
[null,""]
[null,""]
[null,""]
[null,""]
[null,""]
[null,""]
[null,""]
[null,""]
[null,""]
[null,""]
[null,""]
[null,""]
[null,""]
[null,""]
[null,""]
[null,""]
[null,""]
[null,""]
[null,""]
[null,""]
[null,""]
[null,""]
[null,""]
[null,""]
[null,{"$f":"IF(C1949=0,\"\",C1949-C1948)","v":""}]
[null,""]
[null,""]
[null,""]
[null,""]
[null,""]
[null,""]
[null,""]
[null,""]
[null,""]
[null,""]
[null,""]
[null,""]
[null,""]
[null,""]
[null,""]
[null,""]
[null,""]
[null,""]
[null,""]
[null,""]
[null,""]
[null,""]
[null,""]
[null,""]
[null,""]
[null,""]
[null,""]
[null,""]
[null,""]
[null,""]
[null,""]
[null,""]
[null,""]
[null,""]
[null,""]
[null,""]
[null,""]
[null,""]
[null,""]
[null,""]
[null,""]
[null,""]
[null,""]
[null,""]
[null,""]
[null,""]
[null,""]
[null,""]
[null,""]
[null,""]
[null,""]
[null,""]
[null,""]
[null,""]
[null,""]
[null,""]
[null,""]
[null,""]
[null,""]
[null,""]
[null,""]
[null,""]
[null,""]
[null,{"$f":"IF(C2013=0,\"\",C2013-C2012)","v":""}]
[null,""]
[null,""]
[null,""]
[null,""]
[null,""]
[null,""]
[null,""]
[null,""]
[null,""]
[null,""]
[null,""]
[null,""]
[null,""]
[null,""]
[null,""]
[null,""]
[null,""]
[null,""]
[null,""]
[null,""]
[null,""]
[null,""]
[null,""]
[null,""]
[null,""]
[null,""]
[null,""]
[null,""]
[null,""]
[null,""]
[null,""]
[null,""]
[null,""]
[null,""]
[null,""]
[null,""]
[null,""]
[null,""]
[null,""]
[null,""]
[null,""]
[null,""]
[null,""]
[null,""]
[null,""]
[null,""]
[null,""]
[null,""]
[null,""]
[null,""]
[null,""]
[null,""]
[null,""]
[null,""]
[null,""]
[null,""]
[null,""]
[null,""]
[null,""]
[null,""]
[null,""]
[null,""]
[null,""]
[null,{"$f":"IF(C2077=0,\"\",C2077-C2076)","v":""}]
[null,""]
[null,""]
[null,""]
[null,""]
[null,""]
[null,""]
[null,""]
[null,""]
[null,""]
[null,""]
[null,""]
[null,""]
[null,""]
[null,""]
[null,""]
[null,""]
[null,""]
[null,""]
[null,""]
[null,""]
[null,""]
[null,""]
[null,""]
[null,""]
[null,""]
[null,""]
[null,""]
[null,""]
[null,""]
[null,""]
[null,""]
[null,""]
[null,""]
[null,""]
[null,""]
[null,""]
[null,""]
[null,""]
[null,""]
[null,""]
[null,""]
[null,""]
[null,""]
[null,""]
[null,""]
[null,""]
[null,""]
[null,""]
[null,""]
[null,""]
[null,""]
[null,""]
[null,""]
[null,""]
[null,""]
[null,""]
[null,""]
[null,""]
[null,""]
[null,""]
[null,""]
[null,""]
[null,""]
[null,{"$f":"IF(C2141=0,\"\",C2141-C2140)","v":""}]
[null,""]
[null,""]
[null,""]
[null,""]
[null,""]
[null,""]
[null,""]
[null,""]
[null,""]
[null,""]
[null,""]
[null,""]
[null,""]
[null,""]
[null,""]
[null,""]
[null,""]
[null,""]
[null,""]
[null,""]
[null,""]
[null,""]
[null,""]
[null,""]
[null,""]
[null,""]
[null,""]
[null,""]
[null,""]
[null,""]
[null,""]
[null,""]
[null,""]
[null,""]
[null,""]
[null,""]
[null,""]
[null,""]
[null,""]
[null,""]
[null,""]
[null,""]
[null,""]
[null,""]
[null,""]
[null,""]
[null,""]
[null,""]
[null,""]
[null,""]
[null,""]
[null,""]
[null,""]
[null,""]
[null,""]
[null,""]
[null,""]
[null,""]
[null,""]
[null,""]
[null,""]
[null,""]
[null,""]
[null,{"$f":"IF(C2205=0,\"\",C2205-C2204)","v":""}]
[null,""]
[null,""]
[null,""]
[null,""]
[null,""]
[null,""]
[null,""]
[null,""]
[null,""]
[null,""]
[null,""]
[null,""]
[null,""]
[null,""]
[null,""]
[null,""]
[null,""]
[null,""]
[null,""]
[null,""]
[null,""]
[null,""]
[null,""]
[null,""]
[null,""]
[null,""]
[null,""]
[null,""]
[null,""]
[null,""]
[null,""]
[null,""]
[null,""]
[null,""]
[null,""]
[null,""]
[null,""]
[null,""]
[null,""]
[null,""]
[null,""]
[null,""]
[null,""]
[null,""]
[null,""]
[null,""]
[null,""]
[null,""]
[null,""]
[null,""]
[null,""]
[null,""]
[null,""]
[null,""]
[null,""]
[null,""]
[null,""]
[null,""]
[null,""]
[null,""]
[null,""]
[null,""]
[null,""]
[null,{"$f":"IF(C2269=0,\"\",C2269-C2268)","v":""}]
[null,""]
[null,""]
[null,""]
[null,""]
[null,""]
[null,""]
[null,""]
[null,""]
[null,""]
[null,""]
[null,""]
[null,""]
[null,""]
[null,""]
[null,""]
[null,""]
[null,""]
[null,""]
[null,""]
[null,""]
[null,""]
[null,""]
[null,""]
[null,""]
[null,""]
[null,""]
[null,""]
[null,""]
[null,""]
[null,""]
[null,""]
[null,""]
[null,""]
[null,""]
[null,""]
[null,""]
[null,""]
[null,""]
[null,""]
[null,""]
[null,""]
[null,""]
[null,""]
[null,""]
[null,""]
[null,""]
[null,""]
[null,""]
[null,""]
[null,""]
[null,""]
[null,""]
[null,""]
[null,""]
[null,""]
[null,""]
[null,""]
[null,""]
[null,""]
[null,""]
[null,""]
[null,""]
[null,""]
[null,{"$f":"IF(C2333=0,\"\",C2333-C2332)","v":""}]
[null,""]
[null,""]
[null,""]
[null,""]
[null,""]
[null,""]
[null,""]
[null,""]
[null,""]
[null,""]
[null,""]
[null,""]
[null,""]
[null,""]
[null,""]
[null,""]
[null,""]
[null,""]
[null,""]
[null,""]
[null,""]
[null,""]
[null,""]
[null,""]
[null,""]
[null,""]
[null,""]
[null,""]
[null,""]
[null,""]
[null,""]
[null,""]
[null,""]
[null,""]
[null,""]
[null,""]
[null,""]
[null,""]
[null,""]
[null,""]
[null,""]
[null,""]
[null,""]
[null,""]
[null,""]
[null,""]
[null,""]
[null,""]
[null,""]
[null,""]
[null,""]
[null,""]
[null,""]
[null,""]
[null,""]
[null,""]
[null,""]
[null,""]
[null,""]
[null,""]
[null,""]
[null,""]
[null,""]
[null,{"$f":"IF(C2397=0,\"\",C2397-C2396)","v":""}]
[null,""]
[null,""]
[null,""]
[null,""]
[null,""]
[null,""]
[null,""]
[null,""]
[null,""]
[null,""]
[null,""]
[null,""]
[null,""]
[null,""]
[null,""]
[null,""]
[null,""]
[null,""]
[null,""]
[null,""]
[null,""]
[null,""]
[null,""]
[null,""]
[null,""]
[null,""]
[null,""]
[null,""]
[null,""]
[null,""]
[null,""]
[null,""]
[null,""]
[null,""]
[null,""]
[null,""]
[null,""]
[null,""]
[null,""]
[null,""]
[null,""]
[null,""]
[null,""]
[null,""]
[null,""]
[null,""]
[null,""]
[null,""]
[null,""]
[null,""]
[null,""]
[null,""]
[null,""]
[null,""]
[null,""]
[null,""]
[null,""]
[null,""]
[null,""]
[null,""]
[null,""]
[null,""]
[null,""]
[null,{"$f":"IF(C2461=0,\"\",C2461-C2460)","v":""}]
[null,""]
[null,""]
[null,""]
[null,""]
[null,""]
[null,""]
[null,""]
[null,""]
[null,""]
[null,""]
[null,""]
[null,""]
[null,""]
[null,""]
[null,""]
[null,""]
[null,""]
[null,""]
[null,""]
[null,""]
[null,""]
[null,""]
[null,""]
[null,""]
[null,""]
[null,""]
[null,""]
[null,""]
[null,""]
[null,""]
[null,""]
[null,""]
[null,""]
[null,""]
[null,""]
[null,""]
[null,""]
[null,""]
[null,""]
[null,""]
[null,""]
[null,""]
[null,""]
[null,""]
[null,""]
[null,""]
[null,""]
[null,""]
[null,""]
[null,""]
[null,""]
[null,""]
[null,""]
[null,""]
[null,""]
[null,""]
[null,""]
[null,""]
[null,""]
[null,""]
[null,""]
[null,""]
[null,""]
[null,{"$f":"IF(C2525=0,\"\",C2525-C2524)","v":""}]
[null,""]
[null,""]
[null,""]
[null,""]
[null,""]
[null,""]
[null,""]
[null,""]
[null,""]
[null,""]
[null,""]
[null,""]
[null,""]
[null,""]
[null,""]
[null,""]
[null,""]
[null,""]
[null,""]
[null,""]
[null,""]
[null,""]
[null,""]
[null,""]
[null,""]
[null,""]
[null,""]
[null,""]
[null,""]
[null,""]
[null,""]
[null,""]
[null,""]
[null,""]
[null,""]
[null,""]
[null,""]
[null,""]
[null,""]
[null,""]
[null,""]
[null,""]
[null,""]
[null,""]
[null,""]
[null,""]
[null,""]
[null,""]
[null,""]
[null,""]
[null,""]
[null,""]
[null,""]
[null,""]
[null,""]
[null,""]
[null,""]
[null,""]
[null,""]
[null,""]
[null,""]
[null,""]
[null,""]
[null,{"$f":"IF(C2589=0,\"\",C2589-C2588)","v":""}]
[null,""]
[null,""]
[null,""]
[null,""]
[null,""]
[null,""]
[null,""]
[null,""]
[null,""]
[null,""]
[null,""]
[null,""]
[null,""]
[null,""]
[null,""]
[null,""]
[null,""]
[null,""]
[null,""]
[null,""]
[null,""]
[null,""]
[null,""]
[null,""]
[null,""]
[null,""]
[null,""]
[null,""]
[null,""]
[null,""]
[null,""]
[null,""]
[null,""]
[null,""]
[null,""]
[null,""]
[null,""]
[null,""]
[null,""]
[null,""]
[null,""]
[null,""]
[null,""]
[null,""]
[null,""]
[null,""]
[null,""]
[null,""]
[null,""]
[null,""]
[null,""]
[null,""]
[null,""]
[null,""]
[null,""]
[null,""]
[null,""]
[null,""]
[null,""]
[null,""]
[null,""]
[null,""]
[null,""]
[null,{"$f":"IF(C2653=0,\"\",C2653-C2652)","v":""}]
[null,""]
[null,""]
[null,""]
[null,""]
[null,""]
[null,""]
[null,""]
[null,""]
[null,""]
[null,""]
[null,""]
[null,""]
[null,""]
[null,""]
[null,""]
[null,""]
[null,""]
[null,""]
[null,""]
[null,""]
[null,""]
[null,""]
[null,""]
[null,""]
[null,""]
[null,""]
[null,""]
[null,""]
[null,""]
[null,""]
[null,""]
[null,""]
[null,""]
[null,""]
[null,""]
[null,""]
[null,""]
[null,""]
[null,""]
[null,""]
[null,""]
[null,""]
[null,""]
[null,""]
[null,""]
[null,""]
[null,""]
[null,""]
[null,""]
[null,""]
[null,""]
[null,""]
[null,""]
[null,""]
[null,""]
[null,""]
[null,""]
[null,""]
[null,""]
[null,""]
[null,""]
[null,""]
[null,""]
[null,{"$f":"IF(C2717=0,\"\",C2717-C2716)","v":""}]
[null,""]
[null,""]
[null,""]
[null,""]
[null,""]
[null,""]
[null,""]
[null,""]
[null,""]
[null,""]
[null,""]
[null,""]
[null,""]
[null,""]
[null,""]
[null,""]
[null,""]
[null,""]
[null,""]
[null,""]
[null,""]
[null,""]
[null,""]
[null,""]
[null,""]
[null,""]
[null,""]
[null,""]
[null,""]
[null,""]
[null,""]
[null,""]
[null,""]
[null,""]
[null,""]
[null,""]
[null,""]
[null,""]
[null,""]
[null,""]
[null,""]
[null,""]
[null,""]
[null,""]
[null,""]
[null,""]
[null,""]
[null,""]
[null,""]
[null,""]
[null,""]
[null,""]
[null,""]
[null,""]
[null,""]
[null,""]
[null,""]
[null,""]
[null,""]
[null,""]
[null,""]
[null,""]
[null,""]
[null,{"$f":"IF(C2781=0,\"\",C2781-C2780)","v":""}]
[null,""]
[null,""]
[null,""]
[null,""]
[null,""]
[null,""]
[null,""]
[null,""]
[null,""]
[null,""]
[null,""]
[null,""]
[null,""]
[null,""]
[null,""]
[null,""]
[null,""]
[null,""]
[null,""]
[null,""]
[null,""]
[null,""]
[null,""]
[null,""]
[null,""]
[null,""]
[null,""]
[null,""]
[null,""]
[null,""]
[null,""]
[null,""]
[null,""]
[null,""]
[null,""]
[null,""]
[null,""]
[null,""]
[null,""]
[null,""]
[null,""]
[null,""]
[null,""]
[null,""]
[null,""]
[null,""]
[null,""]
[null,""]
[null,""]
[null,""]
[null,""]
[null,""]
[null,""]
[null,""]
[null,""]
[null,""]
[null,""]
[null,""]
[null,""]
[null,""]
[null,""]
[null,""]
[null,""]
[null,{"$f":"IF(C2845=0,\"\",C2845-C2844)","v":""}]
[null,""]
[null,""]
[null,""]
[null,""]
[null,""]
[null,""]
[null,""]
[null,""]
[null,""]
[null,""]
[null,""]
[null,""]
[null,""]
[null,""]
[null,""]
[null,""]
[null,""]
[null,""]
[null,""]
[null,""]
[null,""]
[null,""]
[null,""]
[null,""]
[null,""]
[null,""]
[null,""]
[null,""]
[null,""]
[null,""]
[null,""]
[null,""]
[null,""]
[null,""]
[null,""]
[null,""]
[null,""]
[null,""]
[null,""]
[null,""]
[null,""]
[null,""]
[null,""]
[null,""]
[null,""]
[null,""]
[null,""]
[null,""]
[null,""]
[null,""]
[null,""]
[null,""]
[null,""]
[null,""]
[null,""]
[null,""]
[null,""]
[null,""]
[null,""]
[null,""]
[null,""]
[null,""]
[null,""]
[null,{"$f":"IF(C2909=0,\"\",C2909-C2908)","v":""}]
[null,""]
[null,""]
[null,""]
[null,""]
[null,""]
[null,""]
[null,""]
[null,""]
[null,""]
[null,""]
[null,""]
[null,""]
[null,""]
[null,""]
[null,""]
[null,""]
[null,""]
[null,""]
[null,""]
[null,""]
[null,""]
[null,""]
[null,""]
[null,""]
[null,""]
[null,""]
[null,""]
[null,""]
[null,""]
[null,""]
[null,""]
[null,""]
[null,""]
[null,""]
[null,""]
[null,""]
[null,""]
[null,""]
[null,""]
[null,""]
[null,""]
[null,""]
[null,""]
[null,""]
[null,""]
[null,""]
[null,""]
[null,""]
[null,""]
[null,""]
[null,""]
[null,""]
[null,""]
[null,""]
[null,""]
[null,""]
[null,""]
[null,""]
[null,""]
[null,""]
[null,""]
[null,""]
[null,""]
[null,{"$f":"IF(C2973=0,\"\",C2973-C2972)","v":""}]
[null,""]
[null,""]
[null,""]
[null,""]
[null,""]
[null,""]
[null,""]
[null,""]
[null,""]
[null,""]
[null,""]
[null,""]
[null,""]
[null,""]
[null,""]
[null,""]
[null,""]
[null,""]
[null,""]
[null,""]
[null,""]
[null,""]
[null,""]
[null,""]
[null,""]
[null,""]
[null,""]
[null,""]
[null,""]
[null,""]
[null,""]
[null,""]
[null,""]
[null,""]
[null,""]
[null,""]
[null,""]
[null,""]
[null,""]
[null,""]
[null,""]
[null,""]
[null,""]
[null,""]
[null,""]
[null,""]
[null,""]
[null,""]
[null,""]
[null,""]
[null,""]
[null,""]
[null,""]
[null,""]
[null,""]
[null,""]
[null,""]
[null,""]
[null,""]
[null,""]
[null,""]
[null,""]
[null,""]
[null,{"$f":"IF(C3037=0,\"\",C3037-C3036)","v":""}]
[null,""]
[null,""]
[null,""]
[null,""]
[null,""]
[null,""]
[null,""]
[null,""]
[null,""]
[null,""]
[null,""]
[null,""]
[null,""]
[null,""]
[null,""]
[null,""]
[null,""]
[null,""]
[null,""]
[null,""]
[null,""]
[null,""]
[null,""]
[null,""]
[null,""]
[null,""]
[null,""]
[null,""]
[null,""]
[null,""]
[null,""]
[null,""]
[null,""]
[null,""]
[null,""]
[null,""]
[null,""]
[null,""]
[null,""]
[null,""]
[null,""]
[null,""]
[null,""]
[null,""]
[null,""]
[null,""]
[null,""]
[null,""]
[null,""]
[null,""]
[null,""]
[null,""]
[null,""]
[null,""]
[null,""]
[null,""]
[null,""]
[null,""]
[null,""]
[null,""]
[null,""]
[null,""]
[null,""]
[null,{"$f":"IF(C3101=0,\"\",C3101-C3100)","v":""}]
[null,""]
[null,""]
[null,""]
[null,""]
[null,""]
[null,""]
[null,""]
[null,""]
[null,""]
[null,""]
[null,""]
[null,""]
[null,""]
[null,""]
[null,""]
[null,""]
[null,""]
[null,""]
[null,""]
[null,""]
[null,""]
[null,""]
[null,""]
[null,""]
[null,""]
[null,""]
[null,""]
[null,""]
[null,""]
[null,""]
[null,""]
[null,""]
[null,""]
[null,""]
[null,""]
[null,""]
[null,""]
[null,""]
[null,""]
[null,""]
[null,""]
[null,""]
[null,""]
[null,""]
[null,""]
[null,""]
[null,""]
[null,""]
[null,""]
[null,""]
[null,""]
[null,""]
[null,""]
[null,""]
[null,""]
[null,""]
[null,""]
[null,""]
[null,""]
[null,""]
[null,""]
[null,""]
[null,""]
[null,{"$f":"IF(C3165=0,\"\",C3165-C3164)","v":""}]
[null,""]
[null,""]
[null,""]
[null,""]
[null,""]
[null,""]
[null,""]
[null,""]
[null,""]
[null,""]
[null,""]
[null,""]
[null,""]
[null,""]
[null,""]
[null,""]
[null,""]
[null,""]
[null,""]
[null,""]
[null,""]
[null,""]
[null,""]
[null,""]
[null,""]
[null,""]
[null,""]
[null,""]
[null,""]
[null,""]
[null,""]
[null,""]
[null,""]
[null,""]
[null,""]
[null,""]
[null,""]
[null,""]
[null,""]
[null,""]
[null,""]
[null,""]
[null,""]
[null,""]
[null,""]
[null,""]
[null,""]
[null,""]
[null,""]
[null,""]
[null,""]
[null,""]
[null,""]
[null,""]
[null,""]
[null,""]
[null,""]
[null,""]
[null,""]
[null,""]
[null,""]
[null,""]
[null,""]
[null,{"$f":"IF(C3229=0,\"\",C3229-C3228)","v":""}]
[null,""]
[null,""]
[null,""]
[null,""]
[null,""]
[null,""]
[null,""]
[null,""]
[null,""]
[null,""]
[null,""]
[null,""]
[null,""]
[null,""]
[null,""]
[null,""]
[null,""]
[null,""]
[null,""]
[null,""]
[null,""]
[null,""]
[null,""]
[null,""]
[null,""]
[null,""]
[null,""]
[null,""]
[null,""]
[null,""]
[null,""]
[null,""]
[null,""]
[null,""]
[null,""]
[null,""]
[null,""]
[null,""]
[null,""]
[null,""]
[null,""]
[null,""]
[null,""]
[null,""]
[null,""]
[null,""]
[null,""]
[null,""]
[null,""]
[null,""]
[null,""]
[null,""]
[null,""]
[null,""]
[null,""]
[null,""]
[null,""]
[null,""]
[null,""]
[null,""]
[null,""]
[null,""]
[null,""]
[null,{"$f":"IF(C3293=0,\"\",C3293-C3292)","v":""}]
[null,""]
[null,""]
[null,""]
[null,""]
[null,""]
[null,""]
[null,""]
[null,""]
[null,""]
[null,""]
[null,""]
[null,""]
[null,""]
[null,""]
[null,""]
[null,""]
[null,""]
[null,""]
[null,""]
[null,""]
[null,""]
[null,""]
[null,""]
[null,""]
[null,""]
[null,""]
[null,""]
[null,""]
[null,""]
[null,""]
[null,""]
[null,""]
[null,""]
[null,""]
[null,""]
[null,""]
[null,""]
[null,""]
[null,""]
[null,""]
[null,""]
[null,""]
[null,""]
[null,""]
[null,""]
[null,""]
[null,""]
[null,""]
[null,""]
[null,""]
[null,""]
[null,""]
[null,""]
[null,""]
[null,""]
[null,""]
[null,""]
[null,""]
[null,""]
[null,""]
[null,""]
[null,""]
[null,""]
[null,{"$f":"IF(C3357=0,\"\",C3357-C3356)","v":""}]
[null,""]
[null,""]
[null,""]
[null,""]
[null,""]
[null,""]
[null,""]
[null,""]
[null,""]
[null,""]
[null,""]
[null,""]
[null,""]
[null,""]
[null,""]
[null,""]
[null,""]
[null,""]
[null,""]
[null,""]
[null,""]
[null,""]
[null,""]
[null,""]
[null,""]
[null,""]
[null,""]
[null,""]
[null,""]
[null,""]
[null,""]
[null,""]
[null,""]
[null,""]
[null,""]
[null,""]
[null,""]
[null,""]
[null,""]
[null,""]
[null,""]
[null,""]
[null,""]
[null,""]
[null,""]
[null,""]
[null,""]
[null,""]
[null,""]
[null,""]
[null,""]
[null,""]
[null,""]
[null,""]
[null,""]
[null,""]
[null,""]
[null,""]
[null,""]
[null,""]
[null,""]
[null,""]
[null,""]
[null,{"$f":"IF(C3421=0,\"\",C3421-C3420)","v":""}]
[null,""]
[null,""]
[null,""]
[null,""]
[null,""]
[null,""]
[null,""]
[null,""]
[null,""]
[null,""]
[null,""]
[null,""]
[null,""]
[null,""]
[null,""]
[null,""]
[null,""]
[null,""]
[null,""]
[null,""]
[null,""]
[null,""]
[null,""]
[null,""]
[null,""]
[null,""]
[null,""]
[null,""]
[null,""]
[null,""]
[null,""]
[null,""]
[null,""]
[null,""]
[null,""]
[null,""]
[null,""]
[null,""]
[null,""]
[null,""]
[null,""]
[null,""]
[null,""]
[null,""]
[null,""]
[null,""]
[null,""]
[null,""]
[null,""]
[null,""]
[null,""]
[null,""]
[null,""]
[null,""]
[null,""]
[null,""]
[null,""]
[null,""]
[null,""]
[null,""]
[null,""]
[null,""]
[null,""]
[null,{"$f":"IF(C3485=0,\"\",C3485-C3484)","v":""}]
[null,""]
[null,""]
[null,""]
[null,""]
[null,""]
[null,""]
[null,""]
[null,""]
[null,""]
[null,""]
[null,""]
[null,""]
[null,""]
[null,""]
[null,""]
[null,""]
[null,""]
[null,""]
[null,""]
[null,""]
[null,""]
[null,""]
[null,""]
[null,""]
[null,""]
[null,""]
[null,""]
[null,""]
[null,""]
[null,""]
[null,""]
[null,""]
[null,""]
[null,""]
[null,""]
[null,""]
[null,""]
[null,""]
[null,""]
[null,""]
[null,""]
[null,""]
[null,""]
[null,""]
[null,""]
[null,""]
[null,""]
[null,""]
[null,""]
[null,""]
[null,""]
[null,""]
[null,""]
[null,""]
[null,""]
[null,""]
[null,""]
[null,""]
[null,""]
[null,""]
[null,""]
[null,""]
[null,""]
[null,{"$f":"IF(C3549=0,\"\",C3549-C3548)","v":""}]
[null,""]
[null,""]
[null,""]
[null,""]
[null,""]
[null,""]
[null,""]
[null,""]
[null,""]
[null,""]
[null,""]
[null,""]
[null,""]
[null,""]
[null,""]
[null,""]
[null,""]
[null,""]
[null,""]
[null,""]
[null,""]
[null,""]
[null,""]
[null,""]
[null,""]
[null,""]
[null,""]
[null,""]
[null,""]
[null,""]
[null,""]
[null,""]
[null,""]
[null,""]
[null,""]
[null,""]
[null,""]
[null,""]
[null,""]
[null,""]
[null,""]
[null,""]
[null,""]
[null,""]
[null,""]
[null,""]
[null,""]
[null,""]
[null,""]
[null,""]
[null,""]
[null,""]
[null,""]
[null,""]
[null,""]
[null,""]
[null,""]
[null,""]
[null,""]
[null,""]
[null,""]
[null,""]
[null,""]
[null,{"$f":"IF(C3613=0,\"\",C3613-C3612)","v":""}]
[null,""]
[null,""]
[null,""]
[null,""]
[null,""]
[null,""]
[null,""]
[null,""]
[null,""]
[null,""]
[null,""]
[null,""]
[null,""]
[null,""]
[null,""]
[null,""]
[null,""]
[null,""]
[null,""]
[null,""]
[null,""]
[null,""]
[null,""]
[null,""]
[null,""]
[null,""]
[null,""]
[null,""]
[null,""]
[null,""]
[null,""]
[null,""]
[null,""]
[null,""]
[null,""]
[null,""]
[null,""]
[null,""]
[null,""]
[null,""]
[null,""]
[null,""]
[null,""]
[null,""]
[null,""]
[null,""]
[null,""]
[null,""]
[null,""]
[null,""]
[null,""]
[null,""]
[null,""]
[null,""]
[null,""]
[null,""]
[null,""]
[null,""]
[null,""]
[null,""]
[null,""]
[null,""]
[null,""]
[null,{"$f":"IF(C3677=0,\"\",C3677-C3676)","v":""}]
[null,""]
[null,""]
[null,""]
[null,""]
[null,""]
[null,""]
[null,""]
[null,""]
[null,""]
[null,""]
[null,""]
[null,""]
[null,""]
[null,""]
[null,""]
[null,""]
[null,""]
[null,""]
[null,""]
[null,""]
[null,""]
[null,""]
[null,""]
[null,""]
[null,""]
[null,""]
[null,""]
[null,""]
[null,""]
[null,""]
[null,""]
[null,""]
[null,""]
[null,""]
[null,""]
[null,""]
[null,""]
[null,""]
[null,""]
[null,""]
[null,""]
[null,""]
[null,""]
[null,""]
[null,""]
[null,""]
[null,""]
[null,""]
[null,""]
[null,""]
[null,""]
[null,""]
[null,""]
[null,""]
[null,""]
[null,""]
[null,""]
[null,""]
[null,""]
[null,""]
[null,""]
[null,""]
[null,""]
[null,{"$f":"IF(C3741=0,\"\",C3741-C3740)","v":""}]
[null,""]
[null,""]
[null,""]
[null,""]
[null,""]
[null,""]
[null,""]
[null,""]
[null,""]
[null,""]
[null,""]
[null,""]
[null,""]
[null,""]
[null,""]
[null,""]
[null,""]
[null,""]
[null,""]
[null,""]
[null,""]
[null,""]
[null,""]
[null,""]
[null,""]
[null,""]
[null,""]
[null,""]
[null,""]
[null,""]
[null,""]
[null,""]
[null,""]
[null,""]
[null,""]
[null,""]
[null,""]
[null,""]
[null,""]
[null,""]
[null,""]
[null,""]
[null,""]
[null,""]
[null,""]
[null,""]
[null,""]
[null,""]
[null,""]
[null,""]
[null,""]
[null,""]
[null,""]
[null,""]
[null,""]
[null,""]
[null,""]
[null,""]
[null,""]
[null,""]
[null,""]
[null,""]
[null,""]
[null,{"$f":"IF(C3805=0,\"\",C3805-C3804)","v":""}]
[null,""]
[null,""]
[null,""]
[null,""]
[null,""]
[null,""]
[null,""]
[null,""]
[null,""]
[null,""]
[null,""]
[null,""]
[null,""]
[null,""]
[null,""]
[null,""]
[null,""]
[null,""]
[null,""]
[null,""]
[null,""]
[null,""]
[null,""]
[null,""]
[null,""]
[null,""]
[null,""]
[null,""]
[null,""]
[null,""]
[null,""]
[null,""]
[null,""]
[null,""]
[null,""]
[null,""]
[null,""]
[null,""]
[null,""]
[null,""]
[null,""]
[null,""]
[null,""]
[null,""]
[null,""]
[null,""]
[null,""]
[null,""]
[null,""]
[null,""]
[null,""]
[null,""]
[null,""]
[null,""]
[null,""]
[null,""]
[null,""]
[null,""]
[null,""]
[null,""]
[null,""]
[null,""]
[null,""]
[null,{"$f":"IF(C3869=0,\"\",C3869-C3868)","v":""}]
[null,""]
[null,""]
[null,""]
[null,""]
[null,""]
[null,""]
[null,""]
[null,""]
[null,""]
[null,""]
[null,""]
[null,""]
[null,""]
[null,""]
[null,""]
[null,""]
[null,""]
[null,""]
[null,""]
[null,""]
[null,""]
[null,""]
[null,""]
[null,""]
[null,""]
[null,""]
[null,""]
[null,""]
[null,""]
[null,""]
[null,""]
[null,""]
[null,""]
[null,""]
[null,""]
[null,""]
[null,""]
[null,""]
[null,""]
[null,""]
[null,""]
[null,""]
[null,""]
[null,""]
[null,""]
[null,""]
[null,""]
[null,""]
[null,""]
[null,""]
[null,""]
[null,""]
[null,""]
[null,""]
[null,""]
[null,""]
[null,""]
[null,""]
[null,""]
[null,""]
[null,""]
[null,""]
[null,""]
[null,{"$f":"IF(C3933=0,\"\",C3933-C3932)","v":""}]
[null,""]
[null,""]
[null,""]
[null,""]
[null,""]
[null,""]
[null,""]
[null,""]
[null,""]
[null,""]
[null,""]
[null,""]
[null,""]
[null,""]
[null,""]
[null,""]
[null,""]
[null,""]
[null,""]
[null,""]
[null,""]
[null,""]
[null,""]
[null,""]
[null,""]
[null,""]
[null,""]
[null,""]
[null,""]
[null,""]
[null,""]
[null,""]
[null,""]
[null,""]
[null,""]
[null,""]
[null,""]
[null,""]
[null,""]
[null,""]
[null,""]
[null,""]
[null,""]
[null,""]
[null,""]
[null,""]
[null,""]
[null,""]
[null,""]
[null,""]
[null,""]
[null,""]
[null,""]
[null,""]
[null,""]
[null,""]
[null,""]
[null,""]
[null,""]
[null,""]
[null,""]
[null,""]
[null,""]
[null,{"$f":"IF(C3997=0,\"\",C3997-C3996)","v":""}]
[null,""]
[null,""]
[null,""]
[null,""]
[null,""]
[null,""]
[null,""]
[null,""]
[null,""]
[null,""]
[null,""]
[null,""]
[null,""]
[null,""]
[null,""]
[null,""]
[null,""]
[null,""]
[null,""]
[null,""]
[null,""]
[null,""]
[null,""]
[null,""]
[null,""]
[null,""]
[null,""]
[null,""]
[null,""]
[null,""]
[null,""]
[null,""]
[null,""]
[null,""]
[null,""]
[null,""]
[null,""]
[null,""]
[null,""]
[null,""]
[null,""]
[null,""]
[null,""]
[null,""]
[null,""]
[null,""]
[null,""]
[null,""]
[null,""]
[null,""]
[null,""]
[null,""]
[null,""]
[null,""]
[null,""]
[null,""]
[null,""]
[null,""]
[null,""]
[null,""]
[null,""]
[null,""]
[null,""]
[null,{"$f":"IF(C4061=0,\"\",C4061-C4060)","v":""}]
[null,""]
[null,""]
[null,""]
[null,""]
[null,""]
[null,""]
[null,""]
[null,""]
[null,""]
[null,""]
[null,""]
[null,""]
[null,""]
[null,""]
[null,""]
[null,""]
[null,""]
[null,""]
[null,""]
[null,""]
[null,""]
[null,""]
[null,""]
[null,""]
[null,""]
[null,""]
[null,""]
[null,""]
[null,""]
[null,""]
[null,""]
[null,""]
[null,""]
[null,""]
[null,""]
[null,""]
[null,""]
[null,""]
[null,""]
[null,""]
[null,""]
[null,""]
[null,""]
[null,""]
[null,""]
[null,""]
[null,""]
[null,""]
[null,""]
[null,""]
[null,""]
[null,""]
[null,""]
[null,""]
[null,""]
[null,""]
[null,""]
[null,""]
[null,""]
[null,""]
[null,""]
[null,""]
[null,""]
[null,{"$f":"IF(C4125=0,\"\",C4125-C4124)","v":""}]
[null,""]
[null,""]
[null,""]
[null,""]
[null,""]
[null,""]
[null,""]
[null,""]
[null,""]
[null,""]
[null,""]
[null,""]
[null,""]
[null,""]
[null,""]
[null,""]
[null,""]
[null,""]
[null,""]
[null,""]
[null,""]
[null,""]
[null,""]
[null,""]
[null,""]
[null,""]
[null,""]
[null,""]
[null,""]
[null,""]
[null,""]
[null,""]
[null,""]
[null,""]
[null,""]
[null,""]
[null,""]
[null,""]
[null,""]
[null,""]
[null,""]
[null,""]
[null,""]
[null,""]
[null,""]
[null,""]
[null,""]
[null,""]
[null,""]
[null,""]
[null,""]
[null,""]
[null,""]
[null,""]
[null,""]
[null,""]
[null,""]
[null,""]
[null,""]
[null,""]
[null,""]
[null,""]
[null,""]
[null,{"$f":"IF(C4189=0,\"\",C4189-C4188)","v":""}]
[null,""]
[null,""]
[null,""]
[null,""]
[null,""]
[null,""]
[null,""]
[null,""]
[null,""]
[null,""]
[null,""]
[null,""]
[null,""]
[null,""]
[null,""]
[null,""]
[null,""]
[null,""]
[null,""]
[null,""]
[null,""]
[null,""]
[null,""]
[null,""]
[null,""]
[null,""]
[null,""]
[null,""]
[null,""]
[null,""]
[null,""]
[null,""]
[null,""]
[null,""]
[null,""]
[null,""]
[null,""]
[null,""]
[null,""]
[null,""]
[null,""]
[null,""]
[null,""]
[null,""]
[null,""]
[null,""]
[null,""]
[null,""]
[null,""]
[null,""]
[null,""]
[null,""]
[null,""]
[null,""]
[null,""]
[null,""]
[null,""]
[null,""]
[null,""]
[null,""]
[null,""]
[null,""]
[null,""]
[null,{"$f":"IF(C4253=0,\"\",C4253-C4252)","v":""}]
[null,""]
[null,""]
[null,""]
[null,""]
[null,""]
[null,""]
[null,""]
[null,""]
[null,""]
[null,""]
[null,""]
[null,""]
[null,""]
[null,""]
[null,""]
[null,""]
[null,""]
[null,""]
[null,""]
[null,""]
[null,""]
[null,""]
[null,""]
[null,""]
[null,""]
[null,""]
[null,""]
[null,""]
[null,""]
[null,""]
[null,""]
[null,""]
[null,""]
[null,""]
[null,""]
[null,""]
[null,""]
[null,""]
[null,""]
[null,""]
[null,""]
[null,""]
[null,""]
[null,""]
[null,""]
[null,""]
[null,""]
[null,""]
[null,""]
[null,""]
[null,""]
[null,""]
[null,""]
[null,""]
[null,""]
[null,""]
[null,""]
[null,""]
[null,""]
[null,""]
[null,""]
[null,""]
[null,""]
[null,{"$f":"IF(C4317=0,\"\",C4317-C4316)","v":""}]
[null,""]
[null,""]
[null,""]
[null,""]
[null,""]
[null,""]
[null,""]
[null,""]
[null,""]
[null,""]
[null,""]
[null,""]
[null,""]
[null,""]
[null,""]
[null,""]
[null,""]
[null,""]
[null,""]
[null,""]
[null,""]
[null,""]
[null,""]
[null,""]
[null,""]
[null,""]
[null,""]
[null,""]
[null,""]
[null,""]
[null,""]
[null,""]
[null,""]
[null,""]
[null,""]
[null,""]
[null,""]
[null,""]
[null,""]
[null,""]
[null,""]
[null,""]
[null,""]
[null,""]
[null,""]
[null,""]
[null,""]
[null,""]
[null,""]
[null,""]
[null,""]
[null,""]
[null,""]
[null,""]
[null,""]
[null,""]
[null,""]
[null,""]
[null,""]
[null,""]
[null,""]
[null,""]
[null,""]
[null,{"$f":"IF(C4381=0,\"\",C4381-C4380)","v":""}]
[null,""]
[null,""]
[null,""]
[null,""]
[null,""]
[null,""]
[null,""]
[null,""]
[null,""]
[null,""]
[null,""]
[null,""]
[null,""]
[null,""]
[null,""]
[null,""]
[null,""]
[null,""]
[null,""]
[null,""]
[null,""]
[null,""]
[null,""]
[null,""]
[null,""]
[null,""]
[null,""]
[null,""]
[null,""]
[null,""]
[null,""]
[null,""]
[null,""]
[null,""]
[null,""]
[null,""]
[null,""]
[null,""]
[null,""]
[null,""]
[null,""]
[null,""]
[null,""]
[null,""]
[null,""]
[null,""]
[null,""]
[null,""]
[null,""]
[null,""]
[null,""]
[null,""]
[null,""]
[null,""]
[null,""]
[null,""]
[null,""]
[null,""]
[null,""]
[null,""]
[null,""]
[null,""]
[null,""]
[null,{"$f":"IF(C4445=0,\"\",C4445-C4444)","v":""}]
[null,""]
[null,""]
[null,""]
[null,""]
[null,""]
[null,""]
[null,""]
[null,""]
[null,""]
[null,""]
[null,""]
[null,""]
[null,""]
[null,""]
[null,""]
[null,""]
[null,""]
[null,""]
[null,""]
[null,""]
[null,""]
[null,""]
[null,""]
[null,""]
[null,""]
[null,""]
[null,""]
[null,""]
[null,""]
[null,""]
[null,""]
[null,""]
[null,""]
[null,""]
[null,""]
[null,""]
[null,""]
[null,""]
[null,""]
[null,""]
[null,""]
[null,""]
[null,""]
[null,""]
[null,""]
[null,""]
[null,""]
[null,""]
[null,""]
[null,""]
[null,""]
[null,""]
[null,""]
[null,""]
[null,""]
[null,""]
[null,""]
[null,""]
[null,""]
[null,""]
[null,""]
[null,""]
[null,""]
[null,{"$f":"IF(C4509=0,\"\",C4509-C4508)","v":""}]
[null,""]
[null,""]
[null,""]
[null,""]
[null,""]
[null,""]
[null,""]
[null,""]
[null,""]
[null,""]
[null,""]
[null,""]
[null,""]
[null,""]
[null,""]
[null,""]
[null,""]
[null,""]
[null,""]
[null,""]
[null,""]
[null,""]
[null,""]
[null,""]
[null,""]
[null,""]
[null,""]
[null,""]
[null,""]
[null,""]
[null,""]
[null,""]
[null,""]
[null,""]
[null,""]
[null,""]
[null,""]
[null,""]
[null,""]
[null,""]
[null,""]
[null,""]
[null,""]
[null,""]
[null,""]
[null,""]
[null,""]
[null,""]
[null,""]
[null,""]
[null,""]
[null,""]
[null,""]
[null,""]
[null,""]
[null,""]
[null,""]
[null,""]
[null,""]
[null,""]
[null,""]
[null,""]
[null,""]
[null,{"$f":"IF(C4573=0,\"\",C4573-C4572)","v":""}]
[null,""]
[null,""]
[null,""]
[null,""]
[null,""]
[null,""]
[null,""]
[null,""]
[null,""]
[null,""]
[null,""]
[null,""]
[null,""]
[null,""]
[null,""]
[null,""]
[null,""]
[null,""]
[null,""]
[null,""]
[null,""]
[null,""]
[null,""]
[null,""]
[null,""]
[null,""]
[null,""]
[null,""]
[null,""]
[null,""]
[null,""]
[null,""]
[null,""]
[null,""]
[null,""]
[null,""]
[null,""]
[null,""]
[null,""]
[null,""]
[null,""]
[null,""]
[null,""]
[null,""]
[null,""]
[null,""]
[null,""]
[null,""]
[null,""]
[null,""]
[null,""]
[null,""]
[null,""]
[null,""]
[null,""]
[null,""]
[null,""]
[null,""]
[null,""]
[null,""]
[null,""]
[null,""]
[null,""]
[null,{"$f":"IF(C4637=0,\"\",C4637-C4636)","v":""}]
[null,""]
[null,""]
[null,""]
[null,""]
[null,""]
[null,""]
[null,""]
[null,""]
[null,""]
[null,""]
[null,""]
[null,""]
[null,""]
[null,""]
[null,""]
[null,""]
[null,""]
[null,""]
[null,""]
[null,""]
[null,""]
[null,""]
[null,""]
[null,""]
[null,""]
[null,""]
[null,""]
[null,""]
[null,""]
[null,""]
[null,""]
[null,""]
[null,""]
[null,""]
[null,""]
[null,""]
[null,""]
[null,""]
[null,""]
[null,""]
[null,""]
[null,""]
[null,""]
[null,""]
[null,""]
[null,""]
[null,""]
[null,""]
[null,""]
[null,""]
[null,""]
[null,""]
[null,""]
[null,""]
[null,""]
[null,""]
[null,""]
[null,""]
[null,""]
[null,""]
[null,""]
[null,""]
[null,""]
[null,{"$f":"IF(C4701=0,\"\",C4701-C4700)","v":""}]
[null,""]
[null,""]
[null,""]
[null,""]
[null,""]
[null,""]
[null,""]
[null,""]
[null,""]
[null,""]
[null,""]
[null,""]
[null,""]
[null,""]
[null,""]
[null,""]
[null,""]
[null,""]
[null,""]
[null,""]
[null,""]
[null,""]
[null,""]
[null,""]
[null,""]
[null,""]
[null,""]
[null,""]
[null,""]
[null,""]
[null,""]
[null,""]
[null,""]
[null,""]
[null,""]
[null,""]
[null,""]
[null,""]
[null,""]
[null,""]
[null,""]
[null,""]
[null,""]
[null,""]
[null,""]
[null,""]
[null,""]
[null,""]
[null,""]
[null,""]
[null,""]
[null,""]
[null,""]
[null,""]
[null,""]
[null,""]
[null,""]
[null,""]
[null,""]
[null,""]
[null,""]
[null,""]
[null,""]
[null,{"$f":"IF(C4765=0,\"\",C4765-C4764)","v":""}]
[null,""]
[null,""]
[null,""]
[null,""]
[null,""]
[null,""]
[null,""]
[null,""]
[null,""]
[null,""]
[null,""]
[null,""]
[null,""]
[null,""]
[null,""]
[null,""]
[null,""]
[null,""]
[null,""]
[null,""]
[null,""]
[null,""]
[null,""]
[null,""]
[null,""]
[null,""]
[null,""]
[null,""]
[null,""]
[null,""]
[null,""]
[null,""]
[null,""]
[null,""]
[null,""]
[null,""]
[null,""]
[null,""]
[null,""]
[null,""]
[null,""]
[null,""]
[null,""]
[null,""]
[null,""]
[null,""]
[null,""]
[null,""]
[null,""]
[null,""]
[null,""]
[null,""]
[null,""]
[null,""]
[null,""]
[null,""]
[null,""]
[null,""]
[null,""]
[null,""]
[null,""]
[null,""]
[null,""]
[null,{"$f":"IF(C4829=0,\"\",C4829-C4828)","v":""}]
[null,""]
[null,""]
[null,""]
[null,""]
[null,""]
[null,""]
[null,""]
[null,""]
[null,""]
[null,""]
[null,""]
[null,""]
[null,""]
[null,""]
[null,""]
[null,""]
[null,""]
[null,""]
[null,""]
[null,""]
[null,""]
[null,""]
[null,""]
[null,""]
[null,""]
[null,""]
[null,""]
[null,""]
[null,""]
[null,""]
[null,""]
[null,""]
[null,""]
[null,""]
[null,""]
[null,""]
[null,""]
[null,""]
[null,""]
[null,""]
[null,""]
[null,""]
[null,""]
[null,""]
[null,""]
[null,""]
[null,""]
[null,""]
[null,""]
[null,""]
[null,""]
[null,""]
[null,""]
[null,""]
[null,""]
[null,""]
[null,""]
[null,""]
[null,""]
[null,""]
[null,""]
[null,""]
[null,""]
[null,{"$f":"IF(C4893=0,\"\",C4893-C4892)","v":""}]
[null,""]
[null,""]
[null,""]
[null,""]
[null,""]
[null,""]
[null,""]
[null,""]
[null,""]
[null,""]
[null,""]
[null,""]
[null,""]
[null,""]
[null,""]
[null,""]
[null,""]
[null,""]
[null,""]
[null,""]
[null,""]
[null,""]
[null,""]
[null,""]
[null,""]
[null,""]
[null,""]
[null,""]
[null,""]
[null,""]
[null,""]
[null,""]
[null,""]
[null,""]
[null,""]
[null,""]
[null,""]
[null,""]
[null,""]
[null,""]
[null,""]
[null,""]
[null,""]
[null,""]
[null,""]
[null,""]
[null,""]
[null,""]
[null,""]
[null,""]
[null,""]
[null,""]
[null,""]
[null,""]
[null,""]
[null,""]
[null,""]
[null,""]
[null,""]
[null,""]
[null,""]
[null,""]
[null,""]
[null,{"$f":"IF(C4957=0,\"\",C4957-C4956)","v":""}]
[null,""]
[null,""]
[null,""]
[null,""]
[null,""]
[null,""]
[null,""]
[null,""]
[null,""]
[null,""]
[null,""]
[null,""]
[null,""]
[null,""]
[null,""]
[null,""]
[null,""]
[null,""]
[null,""]
[null,""]
[null,""]
[null,""]
[null,""]
[null,""]
[null,""]
[null,""]
[null,""]
[null,""]
[null,""]
[null,""]
[null,""]
[null,""]
[null,""]
[null,""]
[null,""]
[null,""]
[null,""]
[null,""]
[null,""]
[null,""]
[null,""]
[null,""]
[null,""]
[null,""]
[null,""]
[null,""]
[null,""]
[null,""]
[null,""]
[null,""]
[null,""]
[null,""]
[null,""]
[null,""]
[null,""]
[null,""]
[null,""]
[null,""]
[null,""]
[null,""]
[null,""]
[null,""]
[null,""]
[null,{"$f":"IF(C5021=0,\"\",C5021-C5020)","v":""}]
[null,""]
[null,""]
[null,""]
[null,""]
[null,""]
[null,""]
[null,""]
[null,""]
[null,""]
[null,""]
[null,""]
[null,""]
[null,""]
[null,""]
[null,""]
[null,""]
[null,""]
[null,""]
[null,""]
[null,""]
[null,""]
[null,""]
[null,""]
[null,""]
[null,""]
[null,""]
[null,""]
[null,""]
[null,""]
[null,""]
[null,""]
[null,""]
[null,""]
[null,""]
[null,""]
[null,""]
[null,""]
[null,""]
[null,""]
[null,""]
[null,""]
[null,""]
[null,""]
[null,""]
[null,""]
[null,""]
[null,""]
[null,""]
[null,""]
[null,""]
[null,""]
[null,""]
[null,""]
[null,""]
[null,""]
[null,""]
[null,""]
[null,""]
[null,""]
[null,""]
[null,""]
[null,""]
[null,""]
[null,{"$f":"IF(C5085=0,\"\",C5085-C5084)","v":""}]
[null,""]
[null,""]
[null,""]
[null,""]
[null,""]
[null,""]
[null,""]
[null,""]
[null,""]
[null,""]
[null,""]
[null,""]
[null,""]
[null,""]
[null,""]
[null,""]
[null,""]
[null,""]
[null,""]
[null,""]
[null,""]
[null,""]
[null,""]
[null,""]
[null,""]
[null,""]
[null,""]
[null,""]
[null,""]
[null,""]
[null,""]
[null,""]
[null,""]
[null,""]
[null,""]
[null,""]
[null,""]
[null,""]
[null,""]
[null,""]
[null,""]
[null,""]
[null,""]
[null,""]
[null,""]
[null,""]
[null,""]
[null,""]
[null,""]
[null,""]
[null,""]
[null,""]
[null,""]
[null,""]
[null,""]
[null,""]
[null,""]
[null,""]
[null,""]
[null,""]
[null,""]
[null,""]
[null,""]
[null,{"$f":"IF(C5149=0,\"\",C5149-C5148)","v":""}]
[null,""]
[null,""]
[null,""]
[null,""]
[null,""]
[null,""]
[null,""]
[null,""]
[null,""]
[null,""]
[null,""]
[null,""]
[null,""]
[null,""]
[null,""]
[null,""]
[null,""]
[null,""]
[null,""]
[null,""]
[null,""]
[null,""]
[null,""]
[null,""]
[null,""]
[null,""]
[null,""]
[null,""]
[null,""]
[null,""]
[null,""]
[null,""]
[null,""]
[null,""]
[null,""]
[null,""]
[null,""]
[null,""]
[null,""]
[null,""]
[null,""]
[null,""]
[null,""]
[null,""]
[null,""]
[null,""]
[null,""]
[null,""]
[null,""]
[null,""]
[null,""]
[null,""]
[null,""]
[null,""]
[null,""]
[null,""]
[null,""]
[null,""]
[null,""]
[null,""]
[null,""]
[null,""]
[null,""]
[null,{"$f":"IF(C5213=0,\"\",C5213-C5212)","v":""}]
[null,""]
[null,""]
[null,""]
[null,""]
[null,""]
[null,""]
[null,""]
[null,""]
[null,""]
[null,""]
[null,""]
[null,""]
[null,""]
[null,""]
[null,""]
[null,""]
[null,""]
[null,""]
[null,""]
[null,""]
[null,""]
[null,""]
[null,""]
[null,""]
[null,""]
[null,""]
[null,""]
[null,""]
[null,""]
[null,""]
[null,""]
[null,""]
[null,""]
[null,""]
[null,""]
[null,""]
[null,""]
[null,""]
[null,""]
[null,""]
[null,""]
[null,""]
[null,""]
[null,""]
[null,""]
[null,""]
[null,""]
[null,""]
[null,""]
[null,""]
[null,""]
[null,""]
[null,""]
[null,""]
[null,""]
[null,""]
[null,""]
[null,""]
[null,""]
[null,""]
[null,""]
[null,""]
[null,""]
[null,{"$f":"IF(C5277=0,\"\",C5277-C5276)","v":""}]
[null,""]
[null,""]
[null,""]
[null,""]
[null,""]
[null,""]
[null,""]
[null,""]
[null,""]
[null,""]
[null,""]
[null,""]
[null,""]
[null,""]
[null,""]
[null,""]
[null,""]
[null,""]
[null,""]
[null,""]
[null,""]
[null,""]
[null,""]
[null,""]
[null,""]
[null,""]
[null,""]
[null,""]
[null,""]
[null,""]
[null,""]
[null,""]
[null,""]
[null,""]
[null,""]
[null,""]
[null,""]
[null,""]
[null,""]
[null,""]
[null,""]
[null,""]
[null,""]
[null,""]
[null,""]
[null,""]
[null,""]
[null,""]
[null,""]
[null,""]
[null,""]
[null,""]
[null,""]
[null,""]
[null,""]
[null,""]
[null,""]
[null,""]
[null,""]
[null,""]
[null,""]
[null,""]
[null,""]
[null,{"$f":"IF(C5341=0,\"\",C5341-C5340)","v":""}]
[null,""]
[null,""]
[null,""]
[null,""]
[null,""]
[null,""]
[null,""]
[null,""]
[null,""]
[null,""]
[null,""]
[null,""]
[null,""]
[null,""]
[null,""]
[null,""]
[null,""]
[null,""]
[null,""]
[null,""]
[null,""]
[null,""]
[null,""]
[null,""]
[null,""]
[null,""]
[null,""]
[null,""]
[null,""]
[null,""]
[null,""]
[null,""]
[null,""]
[null,""]
[null,""]
[null,""]
[null,""]
[null,""]
[null,""]
[null,""]
[null,""]
[null,""]
[null,""]
[null,""]
[null,""]
[null,""]
[null,""]
[null,""]
[null,""]
[null,""]
[null,""]
[null,""]
[null,""]
[null,""]
[null,""]
[null,""]
[null,""]
[null,""]
[null,""]
[null,""]
[null,""]
[null,""]
[null,""]
[null,{"$f":"IF(C5405=0,\"\",C5405-C5404)","v":""}]
[null,""]
[null,""]
[null,""]
[null,""]
[null,""]
[null,""]
[null,""]
[null,""]
[null,""]
[null,""]
[null,""]
[null,""]
[null,""]
[null,""]
[null,""]
[null,""]
[null,""]
[null,""]
[null,""]
[null,""]
[null,""]
[null,""]
[null,""]
[null,""]
[null,""]
[null,""]
[null,""]
[null,""]
[null,""]
[null,""]
[null,""]
[null,""]
[null,""]
[null,""]
[null,""]
[null,""]
[null,""]
[null,""]
[null,""]
[null,""]
[null,""]
[null,""]
[null,""]
[null,""]
[null,""]
[null,""]
[null,""]
[null,""]
[null,""]
[null,""]
[null,""]
[null,""]
[null,""]
[null,""]
[null,""]
[null,""]
[null,""]
[null,""]
[null,""]
[null,""]
[null,""]
[null,""]
[null,""]
[null,{"$f":"IF(C5469=0,\"\",C5469-C5468)","v":""}]
[null,""]
[null,""]
[null,""]
[null,""]
[null,""]
[null,""]
[null,""]
[null,""]
[null,""]
[null,""]
[null,""]
[null,""]
[null,""]
[null,""]
[null,""]
[null,""]
[null,""]
[null,""]
[null,""]
[null,""]
[null,""]
[null,""]
[null,""]
[null,""]
[null,""]
[null,""]
[null,""]
[null,""]
[null,""]
[null,""]
[null,""]
[null,""]
[null,""]
[null,""]
[null,""]
[null,""]
[null,""]
[null,""]
[null,""]
[null,""]
[null,""]
[null,""]
[null,""]
[null,""]
[null,""]
[null,""]
[null,""]
[null,""]
[null,""]
[null,""]
[null,""]
[null,""]
[null,""]
[null,""]
[null,""]
[null,""]
[null,""]
[null,""]
[null,""]
[null,""]
[null,""]
[null,""]
[null,""]
[null,{"$f":"IF(C5533=0,\"\",C5533-C5532)","v":""}]
[null,""]
[null,""]
[null,""]
[null,""]
[null,""]
[null,""]
[null,""]
[null,""]
[null,""]
[null,""]
[null,""]
[null,""]
[null,""]
[null,""]
[null,""]
[null,""]
[null,""]
[null,""]
[null,""]
[null,""]
[null,""]
[null,""]
[null,""]
[null,""]
[null,""]
[null,""]
[null,""]
[null,""]
[null,""]
[null,""]
[null,""]
[null,""]
[null,""]
[null,""]
[null,""]
[null,""]
[null,""]
[null,""]
[null,""]
[null,""]
[null,""]
[null,""]
[null,""]
[null,""]
[null,""]
[null,""]
[null,""]
[null,""]
[null,""]
[null,""]
[null,""]
[null,""]
[null,""]
[null,""]
[null,""]
[null,""]
[null,""]
[null,""]
[null,""]
[null,""]
[null,""]
[null,""]
[null,""]
[null,{"$f":"IF(C5597=0,\"\",C5597-C5596)","v":""}]
[null,""]
[null,""]
[null,""]
[null,""]
[null,""]
[null,""]
[null,""]
[null,""]
[null,""]
[null,""]
[null,""]
[null,""]
[null,""]
[null,""]
[null,""]
[null,""]
[null,""]
[null,""]
[null,""]
[null,""]
[null,""]
[null,""]
[null,""]
[null,""]
[null,""]
[null,""]
[null,""]
[null,""]
[null,""]
[null,""]
[null,""]
[null,""]
[null,""]
[null,""]
[null,""]
[null,""]
[null,""]
[null,""]
[null,""]
[null,""]
[null,""]
[null,""]
[null,""]
[null,""]
[null,""]
[null,""]
[null,""]
[null,""]
[null,""]
[null,""]
[null,""]
[null,""]
[null,""]
[null,""]
[null,""]
[null,""]
[null,""]
[null,""]
[null,""]
[null,""]
[null,""]
[null,""]
[null,""]
[null,{"$f":"IF(C5661=0,\"\",C5661-C5660)","v":""}]
[null,""]
[null,""]
[null,""]
[null,""]
[null,""]
[null,""]
[null,""]
[null,""]
[null,""]
[null,""]
[null,""]
[null,""]
[null,""]
[null,""]
[null,""]
[null,""]
[null,""]
[null,""]
[null,""]
[null,""]
[null,""]
[null,""]
[null,""]
[null,""]
[null,""]
[null,""]
[null,""]
[null,""]
[null,""]
[null,""]
[null,""]
[null,""]
[null,""]
[null,""]
[null,""]
[null,""]
[null,""]
[null,""]
[null,""]
[null,""]
[null,""]
[null,""]
[null,""]
[null,""]
[null,""]
[null,""]
[null,""]
[null,""]
[null,""]
[null,""]
[null,""]
[null,""]
[null,""]
[null,""]
[null,""]
[null,""]
[null,""]
[null,""]
[null,""]
[null,""]
[null,""]
[null,""]
[null,""]
[null,{"$f":"IF(C5725=0,\"\",C5725-C5724)","v":""}]
[null,""]
[null,""]
[null,""]
[null,""]
[null,""]
[null,""]
[null,""]
[null,""]
[null,""]
[null,""]
[null,""]
[null,""]
[null,""]
[null,""]
[null,""]
[null,""]
[null,""]
[null,""]
[null,""]
[null,""]
[null,""]
[null,""]
[null,""]
[null,""]
[null,""]
[null,""]
[null,""]
[null,""]
[null,""]
[null,""]
[null,""]
[null,""]
[null,""]
[null,""]
[null,""]
[null,""]
[null,""]
[null,""]
[null,""]
[null,""]
[null,""]
[null,""]
[null,""]
[null,""]
[null,""]
[null,""]
[null,""]
[null,""]
[null,""]
[null,""]
[null,""]
[null,""]
[null,""]
[null,""]
[null,""]
[null,""]
[null,""]
[null,""]
[null,""]
[null,""]
[null,""]
[null,""]
[null,""]
[null,{"$f":"IF(C5789=0,\"\",C5789-C5788)","v":""}]
[null,""]
[null,""]
[null,""]
[null,""]
[null,""]
[null,""]
[null,""]
[null,""]
[null,""]
[null,""]
[null,""]
[null,""]
[null,""]
[null,""]
[null,""]
[null,""]
[null,""]
[null,""]
[null,""]
[null,""]
[null,""]
[null,""]
[null,""]
[null,""]
[null,""]
[null,""]
[null,""]
[null,""]
[null,""]
[null,""]
[null,""]
[null,""]
[null,""]
[null,""]
[null,""]
[null,""]
[null,""]
[null,""]
[null,""]
[null,""]
[null,""]
[null,""]
[null,""]
[null,""]
[null,""]
[null,""]
[null,""]
[null,""]
[null,""]
[null,""]
[null,""]
[null,""]
[null,""]
[null,""]
[null,""]
[null,""]
[null,""]
[null,""]
[null,""]
[null,""]
[null,""]
[null,""]
[null,""]
[null,{"$f":"IF(C5853=0,\"\",C5853-C5852)","v":""}]
[null,""]
[null,""]
[null,""]
[null,""]
[null,""]
[null,""]
[null,""]
[null,""]
[null,""]
[null,""]
[null,""]
[null,""]
[null,""]
[null,""]
[null,""]
[null,""]
[null,""]
[null,""]
[null,""]
[null,""]
[null,""]
[null,""]
[null,""]
[null,""]
[null,""]
[null,""]
[null,""]
[null,""]
[null,""]
[null,""]
[null,""]
[null,""]
[null,""]
[null,""]
[null,""]
[null,""]
[null,""]
[null,""]
[null,""]
[null,""]
[null,""]
[null,""]
[null,""]
[null,""]
[null,""]
[null,""]
[null,""]
[null,""]
[null,""]
[null,""]
[null,""]
[null,""]
[null,""]
[null,""]
[null,""]
[null,""]
[null,""]
[null,""]
[null,""]
[null,""]
[null,""]
[null,""]
[null,""]
[null,{"$f":"IF(C5917=0,\"\",C5917-C5916)","v":""}]
[null,""]
[null,""]
[null,""]
[null,""]
[null,""]
[null,""]
[null,""]
[null,""]
[null,""]
[null,""]
[null,""]
[null,""]
[null,""]
[null,""]
[null,""]
[null,""]
[null,""]
[null,""]
[null,""]
[null,""]
[null,""]
[null,""]
[null,""]
[null,""]
[null,""]
[null,""]
[null,""]
[null,""]
[null,""]
[null,""]
[null,""]
[null,""]
[null,""]
[null,""]
[null,""]
[null,""]
[null,""]
[null,""]
[null,""]
[null,""]
[null,""]
[null,""]
[null,""]
[null,""]
[null,""]
[null,""]
[null,""]
[null,""]
[null,""]
[null,""]
[null,""]
[null,""]
[null,""]
[null,""]
[null,""]
[null,""]
[null,""]
[null,""]
[null,""]
[null,""]
[null,""]
[null,""]
[null,""]
[null,{"$f":"IF(C5981=0,\"\",C5981-C5980)","v":""}]
[null,""]
[null,""]
[null,""]
[null,""]
[null,""]
[null,""]
[null,""]
[null,""]
[null,""]
[null,""]
[null,""]
[null,""]
[null,""]
[null,""]
[null,""]
[null,""]
[null,""]
[null,""]
[null,""]
[null,""]
[null,""]
[null,""]
[null,""]
[null,""]
[null,""]
[null,""]
[null,""]
[null,""]
[null,""]
[null,""]
[null,""]
[null,""]
[null,""]
[null,""]
[null,""]
[null,""]
[null,""]
[null,""]
[null,""]
[null,""]
[null,""]
[null,""]
[null,""]
[null,""]
[null,""]
[null,""]
[null,""]
[null,""]
[null,""]
[null,""]
[null,""]
[null,""]
[null,""]
[null,""]
[null,""]
[null,""]
[null,""]
[null,""]
[null,""]
[null,""]
[null,""]
[null,""]
[null,""]
[null,{"$f":"IF(C6045=0,\"\",C6045-C6044)","v":""}]
[null,""]
[null,""]
[null,""]
[null,""]
[null,""]
[null,""]
[null,""]
[null,""]
[null,""]
[null,""]
[null,""]
[null,""]
[null,""]
[null,""]
[null,""]
[null,""]
[null,""]
[null,""]
[null,""]
[null,""]
[null,""]
[null,""]
[null,""]
[null,""]
[null,""]
[null,""]
[null,""]
[null,""]
[null,""]
[null,""]
[null,""]
[null,""]
[null,""]
[null,""]
[null,""]
[null,""]
[null,""]
[null,""]
[null,""]
[null,""]
[null,""]
[null,""]
[null,""]
[null,""]
[null,""]
[null,""]
[null,""]
[null,""]
[null,""]
[null,""]
[null,""]
[null,""]
[null,""]
[null,""]
[null,""]
[null,""]
[null,""]
[null,""]
[null,""]
[null,""]
[null,""]
[null,""]
[null,""]
[null,{"$f":"IF(C6109=0,\"\",C6109-C6108)","v":""}]
[null,""]
[null,""]
[null,""]
[null,""]
[null,""]
[null,""]
[null,""]
[null,""]
[null,""]
[null,""]
[null,""]
[null,""]
[null,""]
[null,""]
[null,""]
[null,""]
[null,""]
[null,""]
[null,""]
[null,""]
[null,""]
[null,""]
[null,""]
[null,""]
[null,""]
[null,""]
[null,""]
[null,""]
[null,""]
[null,""]
[null,""]
[null,""]
[null,""]
[null,""]
[null,""]
[null,""]
[null,""]
[null,""]
[null,""]
[null,""]
[null,""]
[null,""]
[null,""]
[null,""]
[null,""]
[null,""]
[null,""]
[null,""]
[null,""]
[null,""]
[null,""]
[null,""]
[null,""]
[null,""]
[null,""]
[null,""]
[null,""]
[null,""]
[null,""]
[null,""]
[null,""]
[null,""]
[null,""]
[null,{"$f":"IF(C6173=0,\"\",C6173-C6172)","v":""}]
[null,""]
[null,""]
[null,""]
[null,""]
[null,""]
[null,""]
[null,""]
[null,""]
[null,""]
[null,""]
[null,""]
[null,""]
[null,""]
[null,""]
[null,""]
[null,""]
[null,""]
[null,""]
[null,""]
[null,""]
[null,""]
[null,""]
[null,""]
[null,""]
[null,""]
[null,""]
[null,""]
[null,""]
[null,""]
[null,""]
[null,""]
[null,""]
[null,""]
[null,""]
[null,""]
[null,""]
[null,""]
[null,""]
[null,""]
[null,""]
[null,""]
[null,""]
[null,""]
[null,""]
[null,""]
[null,""]
[null,""]
[null,""]
[null,""]
[null,""]
[null,""]
[null,""]
[null,""]
[null,""]
[null,""]
[null,""]
[null,""]
[null,""]
[null,""]
[null,""]
[null,""]
[null,""]
[null,""]
[null,{"$f":"IF(C6237=0,\"\",C6237-C6236)","v":""}]
[null,""]
[null,""]
[null,""]
[null,""]
[null,""]
[null,""]
[null,""]
[null,""]
[null,""]
[null,""]
[null,""]
[null,""]
[null,""]
[null,""]
[null,""]
[null,""]
[null,""]
[null,""]
[null,""]
[null,""]
[null,""]
[null,""]
[null,""]
[null,""]
[null,""]
[null,""]
[null,""]
[null,""]
[null,""]
[null,""]
[null,""]
[null,""]
[null,""]
[null,""]
[null,""]
[null,""]
[null,""]
[null,""]
[null,""]
[null,""]
[null,""]
[null,""]
[null,""]
[null,""]
[null,""]
[null,""]
[null,""]
[null,""]
[null,""]
[null,""]
[null,""]
[null,""]
[null,""]
[null,""]
[null,""]
[null,""]
[null,""]
[null,""]
[null,""]
[null,""]
[null,""]
[null,""]
[null,""]
[null,{"$f":"IF(C6301=0,\"\",C6301-C6300)","v":""}]
[null,""]
[null,""]
[null,""]
[null,""]
[null,""]
[null,""]
[null,""]
[null,""]
[null,""]
[null,""]
[null,""]
[null,""]
[null,""]
[null,""]
[null,""]
[null,""]
[null,""]
[null,""]
[null,""]
[null,""]
[null,""]
[null,""]
[null,""]
[null,""]
[null,""]
[null,""]
[null,""]
[null,""]
[null,""]
[null,""]
[null,""]
[null,""]
[null,""]
[null,""]
[null,""]
[null,""]
[null,""]
[null,""]
[null,""]
[null,""]
[null,""]
[null,""]
[null,""]
[null,""]
[null,""]
[null,""]
[null,""]
[null,""]
[null,""]
[null,""]
[null,""]
[null,""]
[null,""]
[null,""]
[null,""]
[null,""]
[null,""]
[null,""]
[null,""]
[null,""]
[null,""]
[null,""]
[null,""]
[null,{"$f":"IF(C6365=0,\"\",C6365-C6364)","v":""}]
[null,""]
[null,""]
[null,""]
[null,""]
[null,""]
[null,""]
[null,""]
[null,""]
[null,""]
[null,""]
[null,""]
[null,""]
[null,""]
[null,""]
[null,""]
[null,""]
[null,""]
[null,""]
[null,""]
[null,""]
[null,""]
[null,""]
[null,""]
[null,""]
[null,""]
[null,""]
[null,""]
[null,""]
[null,""]
[null,""]
[null,""]
[null,""]
[null,""]
[null,""]
[null,""]
[null,""]
[null,""]
[null,""]
[null,""]
[null,""]
[null,""]
[null,""]
[null,""]
[null,""]
[null,""]
[null,""]
[null,""]
[null,""]
[null,""]
[null,""]
[null,""]
[null,""]
[null,""]
[null,""]
[null,""]
[null,""]
[null,""]
[null,""]
[null,""]
[null,""]
[null,""]
[null,""]
[null,""]
[null,{"$f":"IF(C6429=0,\"\",C6429-C6428)","v":""}]
[null,""]
[null,""]
[null,""]
[null,""]
[null,""]
[null,""]
[null,""]
[null,""]
[null,""]
[null,""]
[null,""]
[null,""]
[null,""]
[null,""]
[null,""]
[null,""]
[null,""]
[null,""]
[null,""]
[null,""]
[null,""]
[null,""]
[null,""]
[null,""]
[null,""]
[null,""]
[null,""]
[null,""]
[null,""]
[null,""]
[null,""]
[null,""]
[null,""]
[null,""]
[null,""]
[null,""]
[null,""]
[null,""]
[null,""]
[null,""]
[null,""]
[null,""]
[null,""]
[null,""]
[null,""]
[null,""]
[null,""]
[null,""]
[null,""]
[null,""]
[null,""]
[null,""]
[null,""]
[null,""]
[null,""]
[null,""]
[null,""]
[null,""]
[null,""]
[null,""]
[null,""]
[null,""]
[null,""]
[null,{"$f":"IF(C6493=0,\"\",C6493-C6492)","v":""}]
[null,""]
[null,""]
[null,""]
[null,""]
[null,""]
[null,""]
[null,""]
[null,""]
[null,""]
[null,""]
[null,""]
[null,""]
[null,""]
[null,""]
[null,""]
[null,""]
[null,""]
[null,""]
[null,""]
[null,""]
[null,""]
[null,""]
[null,""]
[null,""]
[null,""]
[null,""]
[null,""]
[null,""]
[null,""]
[null,""]
[null,""]
[null,""]
[null,""]
[null,""]
[null,""]
[null,""]
[null,""]
[null,""]
[null,""]
[null,""]
[null,""]
[null,""]
[null,""]
[null,""]
[null,""]
[null,""]
[null,""]
[null,""]
[null,""]
[null,""]
[null,""]
[null,""]
[null,""]
[null,""]
[null,""]
[null,""]
[null,""]
[null,""]
[null,""]
[null,""]
[null,""]
[null,""]
[null,""]
[null,{"$f":"IF(C6557=0,\"\",C6557-C6556)","v":""}]
[null,""]
[null,""]
[null,""]
[null,""]
[null,""]
[null,""]
[null,""]
[null,""]
[null,""]
[null,""]
[null,""]
[null,""]
[null,""]
[null,""]
[null,""]
[null,""]
[null,""]
[null,""]
[null,""]
[null,""]
[null,""]
[null,""]
[null,""]
[null,""]
[null,""]
[null,""]
[null,""]
[null,""]
[null,""]
[null,""]
[null,""]
[null,""]
[null,""]
[null,""]
[null,""]
[null,""]
[null,""]
[null,""]
[null,""]
[null,""]
[null,""]
[null,""]
[null,""]
[null,""]
[null,""]
[null,""]
[null,""]
[null,""]
[null,""]
[null,""]
[null,""]
[null,""]
[null,""]
[null,""]
[null,""]
[null,""]
[null,""]
[null,""]
[null,""]
[null,""]
[null,""]
[null,""]
[null,""]
[null,{"$f":"IF(C6621=0,\"\",C6621-C6620)","v":""}]
[null,""]
[null,""]
[null,""]
[null,""]
[null,""]
[null,""]
[null,""]
[null,""]
[null,""]
[null,""]
[null,""]
[null,""]
[null,""]
[null,""]
[null,""]
[null,""]
[null,""]
[null,""]
[null,""]
[null,""]
[null,""]
[null,""]
[null,""]
[null,""]
[null,""]
[null,""]
[null,""]
[null,""]
[null,""]
[null,""]
[null,""]
[null,""]
[null,""]
[null,""]
[null,""]
[null,""]
[null,""]
[null,""]
[null,""]
[null,""]
[null,""]
[null,""]
[null,""]
[null,""]
[null,""]
[null,""]
[null,""]
[null,""]
[null,""]
[null,""]
[null,""]
[null,""]
[null,""]
[null,""]
[null,""]
[null,""]
[null,""]
[null,""]
[null,""]
[null,""]
[null,""]
[null,""]
[null,""]
[null,{"$f":"IF(C6685=0,\"\",C6685-C6684)","v":""}]
[null,""]
[null,""]
[null,""]
[null,""]
[null,""]
[null,""]
[null,""]
[null,""]
[null,""]
[null,""]
[null,""]
[null,""]
[null,""]
[null,""]
[null,""]
[null,""]
[null,""]
[null,""]
[null,""]
[null,""]
[null,""]
[null,""]
[null,""]
[null,""]
[null,""]
[null,""]
[null,""]
[null,""]
[null,""]
[null,""]
[null,""]
[null,""]
[null,""]
[null,""]
[null,""]
[null,""]
[null,""]
[null,""]
[null,""]
[null,""]
[null,""]
[null,""]
[null,""]
[null,""]
[null,""]
[null,""]
[null,""]
[null,""]
[null,""]
[null,""]
[null,""]
[null,""]
[null,""]
[null,""]
[null,""]
[null,""]
[null,""]
[null,""]
[null,""]
[null,""]
[null,""]
[null,""]
[null,""]
[null,{"$f":"IF(C6749=0,\"\",C6749-C6748)","v":""}]
[null,""]
[null,""]
[null,""]
[null,""]
[null,""]
[null,""]
[null,""]
[null,""]
[null,""]
[null,""]
[null,""]
[null,""]
[null,""]
[null,""]
[null,""]
[null,""]
[null,""]
[null,""]
[null,""]
[null,""]
[null,""]
[null,""]
[null,""]
[null,""]
[null,""]
[null,""]
[null,""]
[null,""]
[null,""]
[null,""]
[null,""]
[null,""]
[null,""]
[null,""]
[null,""]
[null,""]
[null,""]
[null,""]
[null,""]
[null,""]
[null,""]
[null,""]
[null,""]
[null,""]
[null,""]
[null,""]
[null,""]
[null,""]
[null,""]
[null,""]
[null,""]
[null,""]
[null,""]
[null,""]
[null,""]
[null,""]
[null,""]
[null,""]
[null,""]
[null,""]
[null,""]
[null,""]
[null,""]
[null,{"$f":"IF(C6813=0,\"\",C6813-C6812)","v":""}]
[null,""]
[null,""]
[null,""]
[null,""]
[null,""]
[null,""]
[null,""]
[null,""]
[null,""]
[null,""]
[null,""]
[null,""]
[null,""]
[null,""]
[null,""]
[null,""]
[null,""]
[null,""]
[null,""]
[null,""]
[null,""]
[null,""]
[null,""]
[null,""]
[null,""]
[null,""]
[null,""]
[null,""]
[null,""]
[null,""]
[null,""]
[null,""]
[null,""]
[null,""]
[null,""]
[null,""]
[null,""]
[null,""]
[null,""]
[null,""]
[null,""]
[null,""]
[null,""]
[null,""]
[null,""]
[null,""]
[null,""]
[null,""]
[null,""]
[null,""]
[null,""]
[null,""]
[null,""]
[null,""]
[null,""]
[null,""]
[null,""]
[null,""]
[null,""]
[null,""]
[null,""]
[null,""]
[null,""]
[null,{"$f":"IF(C6877=0,\"\",C6877-C6876)","v":""}]
[null,""]
[null,""]
[null,""]
[null,""]
[null,""]
[null,""]
[null,""]
[null,""]
[null,""]
[null,""]
[null,""]
[null,""]
[null,""]
[null,""]
[null,""]
[null,""]
[null,""]
[null,""]
[null,""]
[null,""]
[null,""]
[null,""]
[null,""]
[null,""]
[null,""]
[null,""]
[null,""]
[null,""]
[null,""]
[null,""]
[null,""]
[null,""]
[null,""]
[null,""]
[null,""]
[null,""]
[null,""]
[null,""]
[null,""]
[null,""]
[null,""]
[null,""]
[null,""]
[null,""]
[null,""]
[null,""]
[null,""]
[null,""]
[null,""]
[null,""]
[null,""]
[null,""]
[null,""]
[null,""]
[null,""]
[null,""]
[null,""]
[null,""]
[null,""]
[null,""]
[null,""]
[null,""]
[null,""]
[null,{"$f":"IF(C6941=0,\"\",C6941-C6940)","v":""}]
[null,""]
[null,""]
[null,""]
[null,""]
[null,""]
[null,""]
[null,""]
[null,""]
[null,""]
[null,""]
[null,""]
[null,""]
[null,""]
[null,""]
[null,""]
[null,""]
[null,""]
[null,""]
[null,""]
[null,""]
[null,""]
[null,""]
[null,""]
[null,""]
[null,""]
[null,""]
[null,""]
[null,""]
[null,""]
[null,""]
[null,""]
[null,""]
[null,""]
[null,""]
[null,""]
[null,""]
[null,""]
[null,""]
[null,""]
[null,""]
[null,""]
[null,""]
[null,""]
[null,""]
[null,""]
[null,""]
[null,""]
[null,""]
[null,""]
[null,""]
[null,""]
[null,""]
[null,""]
[null,""]
[null,""]
[null,""]
[null,""]
[null,""]
[null,""]
[null,""]
[null,""]
[null,""]
[null,""]
[null,{"$f":"IF(C7005=0,\"\",C7005-C7004)","v":""}]
[null,""]
[null,""]
[null,""]
[null,""]
[null,""]
[null,""]
[null,""]
[null,""]
[null,""]
[null,""]
[null,""]
[null,""]
[null,""]
[null,""]
[null,""]
[null,""]
[null,""]
[null,""]
[null,""]
[null,""]
[null,""]
[null,""]
[null,""]
[null,""]
[null,""]
[null,""]
[null,""]
[null,""]
[null,""]
[null,""]
[null,""]
[null,""]
[null,""]
[null,""]
[null,""]
[null,""]
[null,""]
[null,""]
[null,""]
[null,""]
[null,""]
[null,""]
[null,""]
[null,""]
[null,""]
[null,""]
[null,""]
[null,""]
[null,""]
[null,""]
[null,""]
[null,""]
[null,""]
[null,""]
[null,""]
[null,""]
[null,""]
[null,""]
[null,""]
[null,""]
[null,""]
[null,""]
[null,""]
[null,{"$f":"IF(C7069=0,\"\",C7069-C7068)","v":""}]
[null,""]
[null,""]
[null,""]
[null,""]
[null,""]
[null,""]
[null,""]
[null,""]
[null,""]
[null,""]
[null,""]
[null,""]
[null,""]
[null,""]
[null,""]
[null,""]
[null,""]
[null,""]
[null,""]
[null,""]
[null,""]
[null,""]
[null,""]
[null,""]
[null,""]
[null,""]
[null,""]
[null,""]
[null,""]
[null,""]
[null,""]
[null,""]
[null,""]
[null,""]
[null,""]
[null,""]
[null,""]
[null,""]
[null,""]
[null,""]
[null,""]
[null,""]
[null,""]
[null,""]
[null,""]
[null,""]
[null,""]
[null,""]
[null,""]
[null,""]
[null,""]
[null,""]
[null,""]
[null,""]
[null,""]
[null,""]
[null,""]
[null,""]
[null,""]
[null,""]
[null,""]
[null,""]
[null,""]
[null,{"$f":"IF(C7133=0,\"\",C7133-C7132)","v":""}]
[null,""]
[null,""]
[null,""]
[null,""]
[null,""]
[null,""]
[null,""]
[null,""]
[null,""]
[null,""]
[null,""]
[null,""]
[null,""]
[null,""]
[null,""]
[null,""]
[null,""]
[null,""]
[null,""]
[null,""]
[null,""]
[null,""]
[null,""]
[null,""]
[null,""]
[null,""]
[null,""]
[null,""]
[null,""]
[null,""]
[null,""]
[null,""]
[null,""]
[null,""]
[null,""]
[null,""]
[null,""]
[null,""]
[null,""]
[null,""]
[null,""]
[null,""]
[null,""]
[null,""]
[null,""]
[null,""]
[null,""]
[null,""]
[null,""]
[null,""]
[null,""]
[null,""]
[null,""]
[null,""]
[null,""]
[null,""]
[null,""]
[null,""]
[null,""]
[null,""]
[null,""]
[null,""]
[null,""]
[null,{"$f":"IF(C7197=0,\"\",C7197-C7196)","v":""}]
[null,""]
[null,""]
[null,""]
[null,""]
[null,""]
[null,""]
[null,""]
[null,""]
[null,""]
[null,""]
[null,""]
[null,""]
[null,""]
[null,""]
[null,""]
[null,""]
[null,""]
[null,""]
[null,""]
[null,""]
[null,""]
[null,""]
[null,""]
[null,""]
[null,""]
[null,""]
[null,""]
[null,""]
[null,""]
[null,""]
[null,""]
[null,""]
[null,""]
[null,""]
[null,""]
[null,""]
[null,""]
[null,""]
[null,""]
[null,""]
[null,""]
[null,""]
[null,""]
[null,""]
[null,""]
[null,""]
[null,""]
[null,""]
[null,""]
[null,""]
[null,""]
[null,""]
[null,""]
[null,""]
[null,""]
[null,""]
[null,""]
[null,""]
[null,""]
[null,""]
[null,""]
[null,""]
[null,""]
[null,{"$f":"IF(C7261=0,\"\",C7261-C7260)","v":""}]
[null,""]
[null,""]
[null,""]
[null,""]
[null,""]
[null,""]
[null,""]
[null,""]
[null,""]
[null,""]
[null,""]
[null,""]
[null,""]
[null,""]
[null,""]
[null,""]
[null,""]
[null,""]
[null,""]
[null,""]
[null,""]
[null,""]
[null,""]
[null,""]
[null,""]
[null,""]
[null,""]
[null,""]
[null,""]
[null,""]
[null,""]
[null,""]
[null,""]
[null,""]
[null,""]
[null,""]
[null,""]
[null,""]
[null,""]
[null,""]
[null,""]
[null,""]
[null,""]
[null,""]
[null,""]
[null,""]
[null,""]
[null,""]
[null,""]
[null,""]
[null,""]
[null,""]
[null,""]
[null,""]
[null,""]
[null,""]
[null,""]
[null,""]
[null,""]
[null,""]
[null,""]
[null,""]
[null,""]
[null,{"$f":"IF(C7325=0,\"\",C7325-C7324)","v":""}]
[null,""]
[null,""]
[null,""]
[null,""]
[null,""]
[null,""]
[null,""]
[null,""]
[null,""]
[null,""]
[null,""]
[null,""]
[null,""]
[null,""]
[null,""]
[null,""]
[null,""]
[null,""]
[null,""]
[null,""]
[null,""]
[null,""]
[null,""]
[null,""]
[null,""]
[null,""]
[null,""]
[null,""]
[null,""]
[null,""]
[null,""]
[null,""]
[null,""]
[null,""]
[null,""]
[null,""]
[null,""]
[null,""]
[null,""]
[null,""]
[null,""]
[null,""]
[null,""]
[null,""]
[null,""]
[null,""]
[null,""]
[null,""]
[null,""]
[null,""]
[null,""]
[null,""]
[null,""]
[null,""]
[null,""]
[null,""]
[null,""]
[null,""]
[null,""]
[null,""]
[null,""]
[null,""]
[null,""]
[null,{"$f":"IF(C7389=0,\"\",C7389-C7388)","v":""}]
[null,""]
[null,""]
[null,""]
[null,""]
[null,""]
[null,""]
[null,""]
[null,""]
[null,""]
[null,""]
[null,""]
[null,""]
[null,""]
[null,""]
[null,""]
[null,""]
[null,""]
[null,""]
[null,""]
[null,""]
[null,""]
[null,""]
[null,""]
[null,""]
[null,""]
[null,""]
[null,""]
[null,""]
[null,""]
[null,""]
[null,""]
[null,""]
[null,""]
[null,""]
[null,""]
[null,""]
[null,""]
[null,""]
[null,""]
[null,""]
[null,""]
[null,""]
[null,""]
[null,""]
[null,""]
[null,""]
[null,""]
[null,""]
[null,""]
[null,""]
[null,""]
[null,""]
[null,""]
[null,""]
[null,""]
[null,""]
[null,""]
[null,""]
[null,""]
[null,""]
[null,""]
[null,""]
[null,""]
[null,{"$f":"IF(C7453=0,\"\",C7453-C7452)","v":""}]
[null,""]
[null,""]
[null,""]
[null,""]
[null,""]
[null,""]
[null,""]
[null,""]
[null,""]
[null,""]
[null,""]
[null,""]
[null,""]
[null,""]
[null,""]
[null,""]
[null,""]
[null,""]
[null,""]
[null,""]
[null,""]
[null,""]
[null,""]
[null,""]
[null,""]
[null,""]
[null,""]
[null,""]
[null,""]
[null,""]
[null,""]
[null,""]
[null,""]
[null,""]
[null,""]
[null,""]
[null,""]
[null,""]
[null,""]
[null,""]
[null,""]
[null,""]
[null,""]
[null,""]
[null,""]
[null,""]
[null,""]
[null,""]
[null,""]
[null,""]
[null,""]
[null,""]
[null,""]
[null,""]
[null,""]
[null,""]
[null,""]
[null,""]
[null,""]
[null,""]
[null,""]
[null,""]
[null,""]
[null,{"$f":"IF(C7517=0,\"\",C7517-C7516)","v":""}]
[null,""]
[null,""]
[null,""]
[null,""]
[null,""]
[null,""]
[null,""]
[null,""]
[null,""]
[null,""]
[null,""]
[null,""]
[null,""]
[null,""]
[null,""]
[null,""]
[null,""]
[null,""]
[null,""]
[null,""]
[null,""]
[null,""]
[null,""]
[null,""]
[null,""]
[null,""]
[null,""]
[null,""]
[null,""]
[null,""]
[null,""]
[null,""]
[null,""]
[null,""]
[null,""]
[null,""]
[null,""]
[null,""]
[null,""]
[null,""]
[null,""]
[null,""]
[null,""]
[null,""]
[null,""]
[null,""]
[null,""]
[null,""]
[null,""]
[null,""]
[null,""]
[null,""]
[null,""]
[null,""]
[null,""]
[null,""]
[null,""]
[null,""]
[null,""]
[null,""]
[null,""]
[null,""]
[null,""]
[null,{"$f":"IF(C7581=0,\"\",C7581-C7580)","v":""}]
[null,""]
[null,""]
[null,""]
[null,""]
[null,""]
[null,""]
[null,""]
[null,""]
[null,""]
[null,""]
[null,""]
[null,""]
[null,""]
[null,""]
[null,""]
[null,""]
[null,""]
[null,""]
[null,""]
[null,""]
[null,""]
[null,""]
[null,""]
[null,""]
[null,""]
[null,""]
[null,""]
[null,""]
[null,""]
[null,""]
[null,""]
[null,""]
[null,""]
[null,""]
[null,""]
[null,""]
[null,""]
[null,""]
[null,""]
[null,""]
[null,""]
[null,""]
[null,""]
[null,""]
[null,""]
[null,""]
[null,""]
[null,""]
[null,""]
[null,""]
[null,""]
[null,""]
[null,""]
[null,""]
[null,""]
[null,""]
[null,""]
[null,""]
[null,""]
[null,""]
[null,""]
[null,""]
[null,""]
[null,{"$f":"IF(C7645=0,\"\",C7645-C7644)","v":""}]
[null,""]
[null,""]
[null,""]
[null,""]
[null,""]
[null,""]
[null,""]
[null,""]
[null,""]
[null,""]
[null,""]
[null,""]
[null,""]
[null,""]
[null,""]
[null,""]
[null,""]
[null,""]
[null,""]
[null,""]
[null,""]
[null,""]
[null,""]
[null,""]
[null,""]
[null,""]
[null,""]
[null,""]
[null,""]
[null,""]
[null,""]
[null,""]
[null,""]
[null,""]
[null,""]
[null,""]
[null,""]
[null,""]
[null,""]
[null,""]
[null,""]
[null,""]
[null,""]
[null,""]
[null,""]
[null,""]
[null,""]
[null,""]
[null,""]
[null,""]
[null,""]
[null,""]
[null,""]
[null,""]
[null,""]
[null,""]
[null,""]
[null,""]
[null,""]
[null,""]
[null,""]
[null,""]
[null,""]
[null,{"$f":"IF(C7709=0,\"\",C7709-C7708)","v":""}]
[null,""]
[null,""]
[null,""]
[null,""]
[null,""]
[null,""]
[null,""]
[null,""]
[null,""]
[null,""]
[null,""]
[null,""]
[null,""]
[null,""]
[null,""]
[null,""]
[null,""]
[null,""]
[null,""]
[null,""]
[null,""]
[null,""]
[null,""]
[null,""]
[null,""]
[null,""]
[null,""]
[null,""]
[null,""]
[null,""]
[null,""]
[null,""]
[null,""]
[null,""]
[null,""]
[null,""]
[null,""]
[null,""]
[null,""]
[null,""]
[null,""]
[null,""]
[null,""]
[null,""]
[null,""]
[null,""]
[null,""]
[null,""]
[null,""]
[null,""]
[null,""]
[null,""]
[null,""]
[null,""]
[null,""]
[null,""]
[null,""]
[null,""]
[null,""]
[null,""]
[null,""]
[null,""]
[null,""]
[null,{"$f":"IF(C7773=0,\"\",C7773-C7772)","v":""}]
[null,""]
[null,""]
[null,""]
[null,""]
[null,""]
[null,""]
[null,""]
[null,""]
[null,""]
[null,""]
[null,""]
[null,""]
[null,""]
[null,""]
[null,""]
[null,""]
[null,""]
[null,""]
[null,""]
[null,""]
[null,""]
[null,""]
[null,""]
[null,""]
[null,""]
[null,""]
[null,""]
[null,""]
[null,""]
[null,""]
[null,""]
[null,""]
[null,""]
[null,""]
[null,""]
[null,""]
[null,""]
[null,""]
[null,""]
[null,""]
[null,""]
[null,""]
[null,""]
[null,""]
[null,""]
[null,""]
[null,""]
[null,""]
[null,""]
[null,""]
[null,""]
[null,""]
[null,""]
[null,""]
[null,""]
[null,""]
[null,""]
[null,""]
[null,""]
[null,""]
[null,""]
[null,""]
[null,""]
[null,{"$f":"IF(C7837=0,\"\",C7837-C7836)","v":""}]
[null,""]
[null,""]
[null,""]
[null,""]
[null,""]
[null,""]
[null,""]
[null,""]
[null,""]
[null,""]
[null,""]
[null,""]
[null,""]
[null,""]
[null,""]
[null,""]
[null,""]
[null,""]
[null,""]
[null,""]
[null,""]
[null,""]
[null,""]
[null,""]
[null,""]
[null,""]
[null,""]
[null,""]
[null,""]
[null,""]
[null,""]
[null,""]
[null,""]
[null,""]
[null,""]
[null,""]
[null,""]
[null,""]
[null,""]
[null,""]
[null,""]
[null,""]
[null,""]
[null,""]
[null,""]
[null,""]
[null,""]
[null,""]
[null,""]
[null,""]
[null,""]
[null,""]
[null,""]
[null,""]
[null,""]
[null,""]
[null,""]
[null,""]
[null,""]
[null,""]
[null,""]
[null,""]
[null,""]
[null,{"$f":"IF(C7901=0,\"\",C7901-C7900)","v":""}]
[null,""]
[null,""]
[null,""]
[null,""]
[null,""]
[null,""]
[null,""]
[null,""]
[null,""]
[null,""]
[null,""]
[null,""]
[null,""]
[null,""]
[null,""]
[null,""]
[null,""]
[null,""]
[null,""]
[null,""]
[null,""]
[null,""]
[null,""]
[null,""]
[null,""]
[null,""]
[null,""]
[null,""]
[null,""]
[null,""]
[null,""]
[null,""]
[null,""]
[null,""]
[null,""]
[null,""]
[null,""]
[null,""]
[null,""]
[null,""]
[null,""]
[null,""]
[null,""]
[null,""]
[null,""]
[null,""]
[null,""]
[null,""]
[null,""]
[null,""]
[null,""]
[null,""]
[null,""]
[null,""]
[null,""]
[null,""]
[null,""]
[null,""]
[null,""]
[null,""]
[null,""]
[null,""]
[null,""]
[null,{"$f":"IF(C7965=0,\"\",C7965-C7964)","v":""}]
[null,""]
[null,""]
[null,""]
[null,""]
[null,""]
[null,""]
[null,""]
[null,""]
[null,""]
[null,""]
[null,""]
[null,""]
[null,""]
[null,""]
[null,""]
[null,""]
[null,""]
[null,""]
[null,""]
[null,""]
[null,""]
[null,""]
[null,""]
[null,""]
[null,""]
[null,""]
[null,""]
[null,""]
[null,""]
[null,""]
[null,""]
[null,""]
[null,""]
[null,""]
[null,""]
[null,""]
[null,""]
[null,""]
[null,""]
[null,""]
[null,""]
[null,""]
[null,""]
[null,""]
[null,""]
[null,""]
[null,""]
[null,""]
[null,""]
[null,""]
[null,""]
[null,""]
[null,""]
[null,""]
[null,""]
[null,""]
[null,""]
[null,""]
[null,""]
[null,""]
[null,""]
[null,""]
[null,""]
[null,{"$f":"IF(C8029=0,\"\",C8029-C8028)","v":""}]
[null,""]
[null,""]
[null,""]
[null,""]
[null,""]
[null,""]
[null,""]
[null,""]
[null,""]
[null,""]
[null,""]
[null,""]
[null,""]
[null,""]
[null,""]
[null,""]
[null,""]
[null,""]
[null,""]
[null,""]
[null,""]
[null,""]
[null,""]
[null,""]
[null,""]
[null,""]
[null,""]
[null,""]
[null,""]
[null,""]
[null,""]
[null,""]
[null,""]
[null,""]
[null,""]
[null,""]
[null,""]
[null,""]
[null,""]
[null,""]
[null,""]
[null,""]
[null,""]
[null,""]
[null,""]
[null,""]
[null,""]
[null,""]
[null,""]
[null,""]
[null,""]
[null,""]
[null,""]
[null,""]
[null,""]
[null,""]
[null,""]
[null,""]
[null,""]
[null,""]
[null,""]
[null,""]
[null,""]
[null,{"$f":"IF(C8093=0,\"\",C8093-C8092)","v":""}]
[null,""]
[null,""]
[null,""]
[null,""]
[null,""]
[null,""]
[null,""]
[null,""]
[null,""]
[null,""]
[null,""]
[null,""]
[null,""]
[null,""]
[null,""]
[null,""]
[null,""]
[null,""]
[null,""]
[null,""]
[null,""]
[null,""]
[null,""]
[null,""]
[null,""]
[null,""]
[null,""]
[null,""]
[null,""]
[null,""]
[null,""]
[null,""]
[null,""]
[null,""]
[null,""]
[null,""]
[null,""]
[null,""]
[null,""]
[null,""]
[null,""]
[null,""]
[null,""]
[null,""]
[null,""]
[null,""]
[null,""]
[null,""]
[null,""]
[null,""]
[null,""]
[null,""]
[null,""]
[null,""]
[null,""]
[null,""]
[null,""]
[null,""]
[null,""]
[null,""]
[null,""]
[null,""]
[null,""]
[null,{"$f":"IF(C8157=0,\"\",C8157-C8156)","v":""}]
[null,""]
[null,""]
[null,""]
[null,""]
[null,""]
[null,""]
[null,""]
[null,""]
[null,""]
[null,""]
[null,""]
[null,""]
[null,""]
[null,""]
[null,""]
[null,""]
[null,""]
[null,""]
[null,""]
[null,""]
[null,""]
[null,""]
[null,""]
[null,""]
[null,""]
[null,""]
[null,""]
[null,""]
[null,""]
[null,""]
[null,""]
[null,""]
[null,""]
[null,""]
[null,""]
[null,""]
[null,""]
[null,""]
[null,""]
[null,""]
[null,""]
[null,""]
[null,""]
[null,""]
[null,""]
[null,""]
[null,""]
[null,""]
[null,""]
[null,""]
[null,""]
[null,""]
[null,""]
[null,""]
[null,""]
[null,""]
[null,""]
[null,""]
[null,""]
[null,""]
[null,""]
[null,""]
[null,""]
[null,{"$f":"IF(C8221=0,\"\",C8221-C8220)","v":""}]
[null,""]
[null,""]
[null,""]
[null,""]
[null,""]
[null,""]
[null,""]
[null,""]
[null,""]
[null,""]
[null,""]
[null,""]
[null,""]
[null,""]
[null,""]
[null,""]
[null,""]
[null,""]
[null,""]
[null,""]
[null,""]
[null,""]
[null,""]
[null,""]
[null,""]
[null,""]
[null,""]
[null,""]
[null,""]
[null,""]
[null,""]
[null,""]
[null,""]
[null,""]
[null,""]
[null,""]
[null,""]
[null,""]
[null,""]
[null,""]
[null,""]
[null,""]
[null,""]
[null,""]
[null,""]
[null,""]
[null,""]
[null,""]
[null,""]
[null,""]
[null,""]
[null,""]
[null,""]
[null,""]
[null,""]
[null,""]
[null,""]
[null,""]
[null,""]
[null,""]
[null,""]
[null,""]
[null,""]
[null,{"$f":"IF(C8285=0,\"\",C8285-C8284)","v":""}]
[null,""]
[null,""]
[null,""]
[null,""]
[null,""]
[null,""]
[null,""]
[null,""]
[null,""]
[null,""]
[null,""]
[null,""]
[null,""]
[null,""]
[null,""]
[null,""]
[null,""]
[null,""]
[null,""]
[null,""]
[null,""]
[null,""]
[null,""]
[null,""]
[null,""]
[null,""]
[null,""]
[null,""]
[null,""]
[null,""]
[null,""]
[null,""]
[null,""]
[null,""]
[null,""]
[null,""]
[null,""]
[null,""]
[null,""]
[null,""]
[null,""]
[null,""]
[null,""]
[null,""]
[null,""]
[null,""]
[null,""]
[null,""]
[null,""]
[null,""]
[null,""]
[null,""]
[null,""]
[null,""]
[null,""]
[null,""]
[null,""]
[null,""]
[null,""]
[null,""]
[null,""]
[null,""]
[null,""]
[null,{"$f":"IF(C8349=0,\"\",C8349-C8348)","v":""}]
[null,""]
[null,""]
[null,""]
[null,""]
[null,""]
[null,""]
[null,""]
[null,""]
[null,""]
[null,""]
[null,""]
[null,""]
[null,""]
[null,""]
[null,""]
[null,""]
[null,""]
[null,""]
[null,""]
[null,""]
[null,""]
[null,""]
[null,""]
[null,""]
[null,""]
[null,""]
[null,""]
[null,""]
[null,""]
[null,""]
[null,""]
[null,""]
[null,""]
[null,""]
[null,""]
[null,""]
[null,""]
[null,""]
[null,""]
[null,""]
[null,""]
[null,""]
[null,""]
[null,""]
[null,""]
[null,""]
[null,""]
[null,""]
[null,""]
[null,""]
[null,""]
[null,""]
[null,""]
[null,""]
[null,""]
[null,""]
[null,""]
[null,""]
[null,""]
[null,""]
[null,""]
[null,""]
[null,""]
[null,{"$f":"IF(C8413=0,\"\",C8413-C8412)","v":""}]
[null,""]
[null,""]
[null,""]
[null,""]
[null,""]
[null,""]
[null,""]
[null,""]
[null,""]
[null,""]
[null,""]
[null,""]
[null,""]
[null,""]
[null,""]
[null,""]
[null,""]
[null,""]
[null,""]
[null,""]
[null,""]
[null,""]
[null,""]
[null,""]
[null,""]
[null,""]
[null,""]
[null,""]
[null,""]
[null,""]
[null,""]
[null,""]
[null,""]
[null,""]
[null,""]
[null,""]
[null,""]
[null,""]
[null,""]
[null,""]
[null,""]
[null,""]
[null,""]
[null,""]
[null,""]
[null,""]
[null,""]
[null,""]
[null,""]
[null,""]
[null,""]
[null,""]
[null,""]
[null,""]
[null,""]
[null,""]
[null,""]
[null,""]
[null,""]
[null,""]
[null,""]
[null,""]
[null,""]
[null,{"$f":"IF(C8477=0,\"\",C8477-C8476)","v":""}]
[null,""]
[null,""]
[null,""]
[null,""]
[null,""]
[null,""]
[null,""]
[null,""]
[null,""]
[null,""]
[null,""]
[null,""]
[null,""]
[null,""]
[null,""]
[null,""]
[null,""]
[null,""]
[null,""]
[null,""]
[null,""]
[null,""]
[null,""]
[null,""]
[null,""]
[null,""]
[null,""]
[null,""]
[null,""]
[null,""]
[null,""]
[null,""]
[null,""]
[null,""]
[null,""]
[null,""]
[null,""]
[null,""]
[null,""]
[null,""]
[null,""]
[null,""]
[null,""]
[null,""]
[null,""]
[null,""]
[null,""]
[null,""]
[null,""]
[null,""]
[null,""]
[null,""]
[null,""]
[null,""]
[null,""]
[null,""]
[null,""]
[null,""]
[null,""]
[null,""]
[null,""]
[null,""]
[null,""]
[null,{"$f":"IF(C8541=0,\"\",C8541-C8540)","v":""}]
[null,""]
[null,""]
[null,""]
[null,""]
[null,""]
[null,""]
[null,""]
[null,""]
[null,""]
[null,""]
[null,""]
[null,""]
[null,""]
[null,""]
[null,""]
[null,""]
[null,""]
[null,""]
[null,""]
[null,""]
[null,""]
[null,""]
[null,""]
[null,""]
[null,""]
[null,""]
[null,""]
[null,""]
[null,""]
[null,""]
[null,""]
[null,""]
[null,""]
[null,""]
[null,""]
[null,""]
[null,""]
[null,""]
[null,""]
[null,""]
[null,""]
[null,""]
[null,""]
[null,""]
[null,""]
[null,""]
[null,""]
[null,""]
[null,""]
[null,""]
[null,""]
[null,""]
[null,""]
[null,""]
[null,""]
[null,""]
[null,""]
[null,""]
[null,""]
[null,""]
[null,""]
[null,""]
[null,""]
[null,{"$f":"IF(C8605=0,\"\",C8605-C8604)","v":""}]
[null,""]
[null,""]
[null,""]
[null,""]
[null,""]
[null,""]
[null,""]
[null,""]
[null,""]
[null,""]
[null,""]
[null,""]
[null,""]
[null,""]
[null,""]
[null,""]
[null,""]
[null,""]
[null,""]
[null,""]
[null,""]
[null,""]
[null,""]
[null,""]
[null,""]
[null,""]
[null,""]
[null,""]
[null,""]
[null,""]
[null,""]
[null,""]
[null,""]
[null,""]
[null,""]
[null,""]
[null,""]
[null,""]
[null,""]
[null,""]
[null,""]
[null,""]
[null,""]
[null,""]
[null,""]
[null,""]
[null,""]
[null,""]
[null,""]
[null,""]
[null,""]
[null,""]
[null,""]
[null,""]
[null,""]
[null,""]
[null,""]
[null,""]
[null,""]
[null,""]
[null,""]
[null,""]
[null,""]
[null,{"$f":"IF(C8669=0,\"\",C8669-C8668)","v":""}]
[null,""]
[null,""]
[null,""]
[null,""]
[null,""]
[null,""]
[null,""]
[null,""]
[null,""]
[null,""]
[null,""]
[null,""]
[null,""]
[null,""]
[null,""]
[null,""]
[null,""]
[null,""]
[null,""]
[null,""]
[null,""]
[null,""]
[null,""]
[null,""]
[null,""]
[null,""]
[null,""]
[null,""]
[null,""]
[null,""]
[null,""]
[null,""]
[null,""]
[null,""]
[null,""]
[null,""]
[null,""]
[null,""]
[null,""]
[null,""]
[null,""]
[null,""]
[null,""]
[null,""]
[null,""]
[null,""]
[null,""]
[null,""]
[null,""]
[null,""]
[null,""]
[null,""]
[null,""]
[null,""]
[null,""]
[null,""]
[null,""]
[null,""]
[null,""]
[null,""]
[null,""]
[null,""]
[null,""]
[null,{"$f":"IF(C8733=0,\"\",C8733-C8732)","v":""}]
[null,""]
[null,""]
[null,""]
[null,""]
[null,""]
[null,""]
[null,""]
[null,""]
[null,""]
[null,""]
[null,""]
[null,""]
[null,""]
[null,""]
[null,""]
[null,""]
[null,""]
[null,""]
[null,""]
[null,""]
[null,""]
[null,""]
[null,""]
[null,""]
[null,""]
[null,""]
[null,""]
[null,""]
[null,""]
[null,""]
[null,""]
[null,""]
[null,""]
[null,""]
[null,""]
[null,""]
[null,""]
[null,""]
[null,""]
[null,""]
[null,""]
[null,""]
[null,""]
[null,""]
[null,""]
[null,""]
[null,""]
[null,""]
[null,""]
[null,""]
[null,""]
[null,""]
[null,""]
[null,""]
[null,""]
[null,""]
[null,""]
[null,""]
[null,""]
[null,""]
[null,""]
[null,""]
[null,""]
[null,{"$f":"IF(C8797=0,\"\",C8797-C8796)","v":""}]
[null,""]
[null,""]
[null,""]
[null,""]
[null,""]
[null,""]
[null,""]
[null,""]
[null,""]
[null,""]
[null,""]
[null,""]
[null,""]
[null,""]
[null,""]
[null,""]
[null,""]
[null,""]
[null,""]
[null,""]
[null,""]
[null,""]
[null,""]
[null,""]
[null,""]
[null,""]
[null,""]
[null,""]
[null,""]
[null,""]
[null,""]
[null,""]
[null,""]
[null,""]
[null,""]
[null,""]
[null,""]
[null,""]
[null,""]
[null,""]
[null,""]
[null,""]
[null,""]
[null,""]
[null,""]
[null,""]
[null,""]
[null,""]
[null,""]
[null,""]
[null,""]
[null,""]
[null,""]
[null,""]
[null,""]
[null,""]
[null,""]
[null,""]
[null,""]
[null,""]
[null,""]
[null,""]
[null,""]
[null,{"$f":"IF(C8861=0,\"\",C8861-C8860)","v":""}]
[null,""]
[null,""]
[null,""]
[null,""]
[null,""]
[null,""]
[null,""]
[null,""]
[null,""]
[null,""]
[null,""]
[null,""]
[null,""]
[null,""]
[null,""]
[null,""]
[null,""]
[null,""]
[null,""]
[null,""]
[null,""]
[null,""]
[null,""]
[null,""]
[null,""]
[null,""]
[null,""]
[null,""]
[null,""]
[null,""]
[null,""]
[null,""]
[null,""]
[null,""]
[null,""]
[null,""]
[null,""]
[null,""]
[null,""]
[null,""]
[null,""]
[null,""]
[null,""]
[null,""]
[null,""]
[null,""]
[null,""]
[null,""]
[null,""]
[null,""]
[null,""]
[null,""]
[null,""]
[null,""]
[null,""]
[null,""]
[null,""]
[null,""]
[null,""]
[null,""]
[null,""]
[null,""]
[null,""]
[null,{"$f":"IF(C8925=0,\"\",C8925-C8924)","v":""}]
[null,""]
[null,""]
[null,""]
[null,""]
[null,""]
[null,""]
[null,""]
[null,""]
[null,""]
[null,""]
[null,""]
[null,""]
[null,""]
[null,""]
[null,""]
[null,""]
[null,""]
[null,""]
[null,""]
[null,""]
[null,""]
[null,""]
[null,""]
[null,""]
[null,""]
[null,""]
[null,""]
[null,""]
[null,""]
[null,""]
[null,""]
[null,""]
[null,""]
[null,""]
[null,""]
[null,""]
[null,""]
[null,""]
[null,""]
[null,""]
[null,""]
[null,""]
[null,""]
[null,""]
[null,""]
[null,""]
[null,""]
[null,""]
[null,""]
[null,""]
[null,""]
[null,""]
[null,""]
[null,""]
[null,""]
[null,""]
[null,""]
[null,""]
[null,""]
[null,""]
[null,""]
[null,""]
[null,""]
[null,{"$f":"IF(C8989=0,\"\",C8989-C8988)","v":""}]
[null,""]
[null,""]
[null,""]
[null,""]
[null,""]
[null,""]
[null,""]
[null,""]
[null,""]
[null,""]
[null,""]
[null,""]
[null,""]
[null,""]
[null,""]
[null,""]
[null,""]
[null,""]
[null,""]
[null,""]
[null,""]
[null,""]
[null,""]
[null,""]
[null,""]
[null,""]
[null,""]
[null,""]
[null,""]
[null,""]
[null,""]
[null,""]
[null,""]
[null,""]
[null,""]
[null,""]
[null,""]
[null,""]
[null,""]
[null,""]
[null,""]
[null,""]
[null,""]
[null,""]
[null,""]
[null,""]
[null,""]
[null,""]
[null,""]
[null,""]
[null,""]
[null,""]
[null,""]
[null,""]
[null,""]
[null,""]
[null,""]
[null,""]
[null,""]
[null,""]
[null,""]
[null,""]
[null,""]
[null,{"$f":"IF(C9053=0,\"\",C9053-C9052)","v":""}]
[null,""]
[null,""]
[null,""]
[null,""]
[null,""]
[null,""]
[null,""]
[null,""]
[null,""]
[null,""]
[null,""]
[null,""]
[null,""]
[null,""]
[null,""]
[null,""]
[null,""]
[null,""]
[null,""]
[null,""]
[null,""]
[null,""]
[null,""]
[null,""]
[null,""]
[null,""]
[null,""]
[null,""]
[null,""]
[null,""]
[null,""]
[null,""]
[null,""]
[null,""]
[null,""]
[null,""]
[null,""]
[null,""]
[null,""]
[null,""]
[null,""]
[null,""]
[null,""]
[null,""]
[null,""]
[null,""]
[null,""]
[null,""]
[null,""]
[null,""]
[null,""]
[null,""]
[null,""]
[null,""]
[null,""]
[null,""]
[null,""]
[null,""]
[null,""]
[null,""]
[null,""]
[null,""]
[null,""]
[null,{"$f":"IF(C9117=0,\"\",C9117-C9116)","v":""}]
[null,""]
[null,""]
[null,""]
[null,""]
[null,""]
[null,""]
[null,""]
[null,""]
[null,""]
[null,""]
[null,""]
[null,""]
[null,""]
[null,""]
[null,""]
[null,""]
[null,""]
[null,""]
[null,""]
[null,""]
[null,""]
[null,""]
[null,""]
[null,""]
[null,""]
[null,""]
[null,""]
[null,""]
[null,""]
[null,""]
[null,""]
[null,""]
[null,""]
[null,""]
[null,""]
[null,""]
[null,""]
[null,""]
[null,""]
[null,""]
[null,""]
[null,""]
[null,""]
[null,""]
[null,""]
[null,""]
[null,""]
[null,""]
[null,""]
[null,""]
[null,""]
[null,""]
[null,""]
[null,""]
[null,""]
[null,""]
[null,""]
[null,""]
[null,""]
[null,""]
[null,""]
[null,""]
[null,""]
[null,{"$f":"IF(C9181=0,\"\",C9181-C9180)","v":""}]
[null,""]
[null,""]
[null,""]
[null,""]
[null,""]
[null,""]
[null,""]
[null,""]
[null,""]
[null,""]
[null,""]
[null,""]
[null,""]
[null,""]
[null,""]
[null,""]
[null,""]
[null,""]
[null,""]
[null,""]
[null,""]
[null,""]
[null,""]
[null,""]
[null,""]
[null,""]
[null,""]
[null,""]
[null,""]
[null,""]
[null,""]
[null,""]
[null,""]
[null,""]
[null,""]
[null,""]
[null,""]
[null,""]
[null,""]
[null,""]
[null,""]
[null,""]
[null,""]
[null,""]
[null,""]
[null,""]
[null,""]
[null,""]
[null,""]
[null,""]
[null,""]
[null,""]
[null,""]
[null,""]
[null,""]
[null,""]
[null,""]
[null,""]
[null,""]
[null,""]
[null,""]
[null,""]
[null,""]
[null,{"$f":"IF(C9245=0,\"\",C9245-C9244)","v":""}]
[null,""]
[null,""]
[null,""]
[null,""]
[null,""]
[null,""]
[null,""]
[null,""]
[null,""]
[null,""]
[null,""]
[null,""]
[null,""]
[null,""]
[null,""]
[null,""]
[null,""]
[null,""]
[null,""]
[null,""]
[null,""]
[null,""]
[null,""]
[null,""]
[null,""]
[null,""]
[null,""]
[null,""]
[null,""]
[null,""]
[null,""]
[null,""]
[null,""]
[null,""]
[null,""]
[null,""]
[null,""]
[null,""]
[null,""]
[null,""]
[null,""]
[null,""]
[null,""]
[null,""]
[null,""]
[null,""]
[null,""]
[null,""]
[null,""]
[null,""]
[null,""]
[null,""]
[null,""]
[null,""]
[null,""]
[null,""]
[null,""]
[null,""]
[null,""]
[null,""]
[null,""]
[null,""]
[null,""]
[null,{"$f":"IF(C9309=0,\"\",C9309-C9308)","v":""}]
[null,""]
[null,""]
[null,""]
[null,""]
[null,""]
[null,""]
[null,""]
[null,""]
[null,""]
[null,""]
[null,""]
[null,""]
[null,""]
[null,""]
[null,""]
[null,""]
[null,""]
[null,""]
[null,""]
[null,""]
[null,""]
[null,""]
[null,""]
[null,""]
[null,""]
[null,""]
[null,""]
[null,""]
[null,""]
[null,""]
[null,""]
[null,""]
[null,""]
[null,""]
[null,""]
[null,""]
[null,""]
[null,""]
[null,""]
[null,""]
[null,""]
[null,""]
[null,""]
[null,""]
[null,""]
[null,""]
[null,""]
[null,""]
[null,""]
[null,""]
[null,""]
[null,""]
[null,""]
[null,""]
[null,""]
[null,""]
[null,""]
[null,""]
[null,""]
[null,""]
[null,""]
[null,""]
[null,""]
[null,{"$f":"IF(C9373=0,\"\",C9373-C9372)","v":""}]
[null,""]
[null,""]
[null,""]
[null,""]
[null,""]
[null,""]
[null,""]
[null,""]
[null,""]
[null,""]
[null,""]
[null,""]
[null,""]
[null,""]
[null,""]
[null,""]
[null,""]
[null,""]
[null,""]
[null,""]
[null,""]
[null,""]
[null,""]
[null,""]
[null,""]
[null,""]
[null,""]
[null,""]
[null,""]
[null,""]
[null,""]
[null,""]
[null,""]
[null,""]
[null,""]
[null,""]
[null,""]
[null,""]
[null,""]
[null,""]
[null,""]
[null,""]
[null,""]
[null,""]
[null,""]
[null,""]
[null,""]
[null,""]
[null,""]
[null,""]
[null,""]
[null,""]
[null,""]
[null,""]
[null,""]
[null,""]
[null,""]
[null,""]
[null,""]
[null,""]
[null,""]
[null,""]
[null,""]
[null,{"$f":"IF(C9437=0,\"\",C9437-C9436)","v":""}]
[null,""]
[null,""]
[null,""]
[null,""]
[null,""]
[null,""]
[null,""]
[null,""]
[null,""]
[null,""]
[null,""]
[null,""]
[null,""]
[null,""]
[null,""]
[null,""]
[null,""]
[null,""]
[null,""]
[null,""]
[null,""]
[null,""]
[null,""]
[null,""]
[null,""]
[null,""]
[null,""]
[null,""]
[null,""]
[null,""]
[null,""]
[null,""]
[null,""]
[null,""]
[null,""]
[null,""]
[null,""]
[null,""]
[null,""]
[null,""]
[null,""]
[null,""]
[null,""]
[null,""]
[null,""]
[null,""]
[null,""]
[null,""]
[null,""]
[null,""]
[null,""]
[null,""]
[null,""]
[null,""]
[null,""]
[null,""]
[null,""]
[null,""]
[null,""]
[null,""]
[null,""]
[null,""]
[null,""]
[null,{"$f":"IF(C9501=0,\"\",C9501-C9500)","v":""}]
[null,""]
[null,""]
[null,""]
[null,""]
[null,""]
[null,""]
[null,""]
[null,""]
[null,""]
[null,""]
[null,""]
[null,""]
[null,""]
[null,""]
[null,""]
[null,""]
[null,""]
[null,""]
[null,""]
[null,""]
[null,""]
[null,""]
[null,""]
[null,""]
[null,""]
[null,""]
[null,""]
[null,""]
[null,""]
[null,""]
[null,""]
[null,""]
[null,""]
[null,""]
[null,""]
[null,""]
[null,""]
[null,""]
[null,""]
[null,""]
[null,""]
[null,""]
[null,""]
[null,""]
[null,""]
[null,""]
[null,""]
[null,""]
[null,""]
[null,""]
[null,""]
[null,""]
[null,""]
[null,""]
[null,""]
[null,""]
[null,""]
[null,""]
[null,""]
[null,""]
[null,""]
[null,""]
[null,""]
[null,{"$f":"IF(C9565=0,\"\",C9565-C9564)","v":""}]
[null,""]
[null,""]
[null,""]
[null,""]
[null,""]
[null,""]
[null,""]
[null,""]
[null,""]
[null,""]
[null,""]
[null,""]
[null,""]
[null,""]
[null,""]
[null,""]
[null,""]
[null,""]
[null,""]
[null,""]
[null,""]
[null,""]
[null,""]
[null,""]
[null,""]
[null,""]
[null,""]
[null,""]
[null,""]
[null,""]
[null,""]
[null,""]
[null,""]
[null,""]
[null,""]
[null,""]
[null,""]
[null,""]
[null,""]
[null,""]
[null,""]
[null,""]
[null,""]
[null,""]
[null,""]
[null,""]
[null,""]
[null,""]
[null,""]
[null,""]
[null,""]
[null,""]
[null,""]
[null,""]
[null,""]
[null,""]
[null,""]
[null,""]
[null,""]
[null,""]
[null,""]
[null,""]
[null,""]
[null,{"$f":"IF(C9629=0,\"\",C9629-C9628)","v":""}]
[null,""]
[null,""]
[null,""]
[null,""]
[null,""]
[null,""]
[null,""]
[null,""]
[null,""]
[null,""]
[null,""]
[null,""]
[null,""]
[null,""]
[null,""]
[null,""]
[null,""]
[null,""]
[null,""]
[null,""]
[null,""]
[null,""]
[null,""]
[null,""]
[null,""]
[null,""]
[null,""]
[null,""]
[null,""]
[null,""]
[null,""]
[null,""]
[null,""]
[null,""]
[null,""]
[null,""]
[null,""]
[null,""]
[null,""]
[null,""]
[null,""]
[null,""]
[null,""]
[null,""]
[null,""]
[null,""]
[null,""]
[null,""]
[null,""]
[null,""]
[null,""]
[null,""]
[null,""]
[null,""]
[null,""]
[null,""]
[null,""]
[null,""]
[null,""]
[null,""]
[null,""]
[null,""]
[null,""]
[null,{"$f":"IF(C9693=0,\"\",C9693-C9692)","v":""}]
[null,""]
[null,""]
[null,""]
[null,""]
[null,""]
[null,""]
[null,""]
[null,""]
[null,""]
[null,""]
[null,""]
[null,""]
[null,""]
[null,""]
[null,""]
[null,""]
[null,""]
[null,""]
[null,""]
[null,""]
[null,""]
[null,""]
[null,""]
[null,""]
[null,""]
[null,""]
[null,""]
[null,""]
[null,""]
[null,""]
[null,""]
[null,""]
[null,""]
[null,""]
[null,""]
[null,""]
[null,""]
[null,""]
[null,""]
[null,""]
[null,""]
[null,""]
[null,""]
[null,""]
[null,""]
[null,""]
[null,""]
[null,""]
[null,""]
[null,""]
[null,""]
[null,""]
[null,""]
[null,""]
[null,""]
[null,""]
[null,""]
[null,""]
[null,""]
[null,""]
[null,""]
[null,""]
[null,""]
[null,{"$f":"IF(C9757=0,\"\",C9757-C9756)","v":""}]
[null,""]
[null,""]
[null,""]
[null,""]
[null,""]
[null,""]
[null,""]
[null,""]
[null,""]
[null,""]
[null,""]
[null,""]
[null,""]
[null,""]
[null,""]
[null,""]
[null,""]
[null,""]
[null,""]
[null,""]
[null,""]
[null,""]
[null,""]
[null,""]
[null,""]
[null,""]
[null,""]
[null,""]
[null,""]
[null,""]
[null,""]
[null,""]
[null,""]
[null,""]
[null,""]
[null,""]
[null,""]
[null,""]
[null,""]
[null,""]
[null,""]
[null,""]
[null,""]
[null,""]
[null,""]
[null,""]
[null,""]
[null,""]
[null,""]
[null,""]
[null,""]
[null,""]
[null,""]
[null,""]
[null,""]
[null,""]
[null,""]
[null,""]
[null,""]
[null,""]
[null,""]
[null,""]
[null,""]
[null,{"$f":"IF(C9821=0,\"\",C9821-C9820)","v":""}]
[null,""]
[null,""]
[null,""]
[null,""]
[null,""]
[null,""]
[null,""]
[null,""]
[null,""]
[null,""]
[null,""]
[null,""]
[null,""]
[null,""]
[null,""]
[null,""]
[null,""]
[null,""]
[null,""]
[null,""]
[null,""]
[null,""]
[null,""]
[null,""]
[null,""]
[null,""]
[null,""]
[null,""]
[null,""]
[null,""]
[null,""]
[null,""]
[null,""]
[null,""]
[null,""]
[null,""]
[null,""]
[null,""]
[null,""]
[null,""]
[null,""]
[null,""]
[null,""]
[null,""]
[null,""]
[null,""]
[null,""]
[null,""]
[null,""]
[null,""]
[null,""]
[null,""]
[null,""]
[null,""]
[null,""]
[null,""]
[null,""]
[null,""]
[null,""]
[null,""]
[null,""]
[null,""]
[null,""]
[null,{"$f":"IF(C9885=0,\"\",C9885-C9884)","v":""}]
[null,""]
[null,""]
[null,""]
[null,""]
[null,""]
[null,""]
[null,""]
[null,""]
[null,""]
[null,""]
[null,""]
[null,""]
[null,""]
[null,""]
[null,""]
[null,""]
[null,""]
[null,""]
[null,""]
[null,""]
[null,""]
[null,""]
[null,""]
[null,""]
[null,""]
[null,""]
[null,""]
[null,""]
[null,""]
[null,""]
[null,""]
[null,""]
[null,""]
[null,""]
[null,""]
[null,""]
[null,""]
[null,""]
[null,""]
[null,""]
[null,""]
[null,""]
[null,""]
[null,""]
[null,""]
[null,""]
[null,""]
[null,""]
[null,""]
[null,""]
[null,""]
[null,""]
[null,""]
[null,""]
[null,""]
[null,""]
[null,""]
[null,""]
[null,""]
[null,""]
[null,""]
[null,""]
[null,""]
[null,{"$f":"IF(C9949=0,\"\",C9949-C9948)","v":""}]
[null,""]
[null,""]
[null,""]
[null,""]
[null,""]
[null,""]
[null,""]
[null,""]
[null,""]
[null,""]
[null,""]
[null,""]
[null,""]
[null,""]
[null,""]
[null,""]
[null,""]
[null,""]
[null,""]
[null,""]
[null,""]
[null,""]
[null,""]
[null,""]
[null,""]
[null,""]
[null,""]
[null,""]
[null,""]
[null,""]
[null,""]
[null,""]
[null,""]
[null,""]
[null,""]
[null,""]
[null,""]
[null,""]
[null,""]
[null,""]
[null,""]
[null,""]
[null,""]
[null,""]
[null,""]
[null,""]
[null,""]
[null,""]
[null,""]
[null,""]
[null,""]
[null,""]
[null,""]
[null,""]
[null,""]
[null,""]
[null,""]
[null,""]
[null,""]
[null,""]
[null,""]
[null,""]
[null,""]
[null,{"$f":"IF(C10013=0,\"\",C10013-C10012)","v":""}]
[null,""]
[null,""]
[null,""]
[null,""]
[null,""]
[null,""]
[null,""]
[null,""]
[null,""]
[null,""]
[null,""]
[null,""]
[null,""]
[null,""]
[null,""]
[null,""]
[null,""]
[null,""]
[null,""]
[null,""]
[null,""]
[null,""]
[null,""]
[null,""]
[null,""]
[null,""]
[null,""]
[null,""]
[null,""]
[null,""]
[null,""]
[null,""]
[null,""]
[null,""]
[null,""]
[null,""]
[null,""]
[null,""]
[null,""]
[null,""]
[null,""]
[null,""]
[null,""]
[null,""]
[null,""]
[null,""]
[null,""]
[null,""]
[null,""]
[null,""]
[null,""]
[null,""]
[null,""]
[null,""]
[null,""]
[null,""]
[null,""]
[null,""]
[null,""]
[null,""]
[null,""]
[null,""]
[null,""]
[null,{"$f":"IF(C10077=0,\"\",C10077-C10076)","v":""}]
[null,""]
[null,""]
[null,""]
[null,""]
[null,""]
[null,""]
[null,{"$f":"IF(C10084=0,\"\",C10084-C10083)","v":""}]

{"sheet":"Fan Cycling Condition - High","index":15,"n_rows":10083,"n_cols":30,"rows_kept":10083,"cut":false,"hidden":true,"merged":[[205,0,205,3],[206,0,210,1],[206,2,206,3],[207,2,207,3],[208,2,208,3],[209,2,209,3],[210,2,210,3],[211,0,211,3],[212,0,216,1],[212,2,212,3],[213,2,213,3],[214,2,214,3],[215,2,215,3],[216,2,216,3],[193,0,193,3],[194,0,198,1],[194,2,194,3],[195,2,195,3],[196,2,196,3],[197,2,197,3],[198,2,198,3],[199,0,199,3],[200,0,204,1],[200,2,200,3],[201,2,201,3],[202,2,202,3],[203,2,203,3],[204,2,204,3],[181,0,181,3],[182,0,186,1],[182,2,182,3],[183,2,183,3],[184,2,184,3],[185,2,185,3],[186,2,186,3],[187,0,187,3],[188,0,192,1],[188,2,188,3],[189,2,189,3],[190,2,190,3],[191,2,191,3],[192,2,192,3],[169,0,169,3],[170,0,174,1],[170,2,170,3],[171,2,171,3],[172,2,172,3],[173,2,173,3],[174,2,174,3],[175,0,175,3],[176,0,180,1],[176,2,176,3],[177,2,177,3],[178,2,178,3],[179,2,179,3],[180,2,180,3],[157,0,157,3],[158,0,162,1],[158,2,158,3],[159,2,159,3],[160,2,160,3],[161,2,161,3],[162,2,162,3],[163,0,163,3],[164,0,168,1],[164,2,164,3],[165,2,165,3],[166,2,166,3],[167,2,167,3],[168,2,168,3],[10,7,10,9],[10,10,10,12],[10,13,10,15],[10,16,10,18],[11,7,22,9],[11,10,22,12],[11,13,22,15],[11,16,22,18],[0,0,0,6],[2,0,2,2],[2,3,2,6],[3,0,3,2],[3,3,3,6],[4,0,4,2],[4,3,4,6],[11,0,12,2],[13,0,14,2],[1,0,1,2],[1,3,1,6],[15,0,16,2],[17,0,18,2],[19,0,20,2],[21,0,22,1],[21,2,21,3],[22,2,22,3],[5,0,5,2],[5,3,5,6],[6,0,6,6],[7,0,8,0],[9,0,9,6],[10,0,10,3],[30,0,31,2],[30,5,30,6],[31,5,31,6],[32,0,32,6],[33,0,33,3],[34,0,34,3],[34,4,34,6],[23,0,23,6],[24,0,24,3],[24,5,24,6],[25,0,25,3],[25,5,25,6],[26,0,29,2],[26,5,26,6],[27,5,27,6],[28,5,28,6],[29,5,29,6],[40,0,41,0],[40,1,40,3],[41,1,41,3],[42,0,43,0],[42,1,42,3],[43,1,43,3],[35,0,35,3],[36,0,36,3],[37,0,37,3],[38,0,39,0],[38,1,38,3],[39,1,39,3],[50,0,51,0],[50,1,50,3],[51,1,51,3],[52,0,53,0],[52,1,52,3],[53,1,53,3],[44,0,45,0],[44,1,44,3],[45,1,45,3],[46,0,46,3],[47,0,47,3],[48,0,49,0],[48,1,48,3],[49,1,49,3],[60,0,61,0],[60,1,60,3],[61,1,61,3],[62,0,63,0],[62,1,62,3],[63,1,63,3],[54,0,55,0],[54,1,54,3],[55,1,55,3],[56,0,56,3],[57,0,57,3],[58,0,59,0],[58,1,58,3],[59,1,59,3],[70,0,71,0],[70,1,70,3],[71,1,71,3],[72,0,73,0],[72,1,72,3],[73,1,73,3],[64,0,65,0],[64,1,64,3],[65,1,65,3],[66,0,66,3],[67,0,67,3],[68,0,69,0],[68,1,68,3],[69,1,69,3],[80,0,81,0],[80,1,80,3],[81,1,81,3],[82,0,83,0],[82,1,82,3],[83,1,83,3],[74,0,75,0],[74,1,74,3],[75,1,75,3],[76,0,76,3],[77,0,77,3],[78,0,79,0],[78,1,78,3],[79,1,79,3],[90,0,91,0],[90,1,90,3],[91,1,91,3],[92,0,93,0],[92,1,92,3],[93,1,93,3],[84,0,85,0],[84,1,84,3],[85,1,85,3],[86,0,86,3],[87,0,87,3],[88,0,89,0],[88,1,88,3],[89,1,89,3],[102,2,102,3],[103,0,103,3],[104,0,108,1],[104,2,104,3],[105,2,105,3],[106,2,106,3],[107,2,107,3],[108,2,108,3],[94,0,95,0],[94,1,94,3],[95,1,95,3],[96,0,96,3],[97,0,97,3],[98,0,102,1],[98,2,98,3],[99,2,99,3],[100,2,100,3],[101,2,101,3],[115,0,115,3],[116,0,120,1],[116,2,116,3],[117,2,117,3],[118,2,118,3],[119,2,119,3],[120,2,120,3],[109,0,109,3],[110,0,114,1],[110,2,110,3],[111,2,111,3],[112,2,112,3],[113,2,113,3],[114,2,114,3],[127,0,127,3],[128,0,132,1],[128,2,128,3],[129,2,129,3],[130,2,130,3],[131,2,131,3],[132,2,132,3],[121,0,121,3],[122,0,126,1],[122,2,122,3],[123,2,123,3],[124,2,124,3],[125,2,125,3],[126,2,126,3],[139,0,139,3],[140,0,144,1],[140,2,140,3],[141,2,141,3],[142,2,142,3],[143,2,143,3],[144,2,144,3],[133,0,133,3],[134,0,138,1],[134,2,134,3],[135,2,135,3],[136,2,136,3],[137,2,137,3],[138,2,138,3],[151,0,151,3],[152,0,156,1],[152,2,152,3],[153,2,153,3],[154,2,154,3],[155,2,155,3],[156,2,156,3],[145,0,145,3],[146,0,150,1],[146,2,146,3],[147,2,147,3],[148,2,148,3],[149,2,149,3],[150,2,150,3],[223,0,223,3],[224,0,224,3],[225,0,225,3],[226,0,226,3],[227,0,227,3],[228,0,228,3],[217,0,217,6],[218,0,218,3],[219,0,219,3],[220,0,220,3],[221,0,221,3],[222,0,222,3],[235,0,235,3],[236,0,236,3],[237,0,237,3],[238,0,238,6],[239,3,239,12],[239,13,239,14],[229,0,229,3],[230,0,230,3],[231,0,231,3],[232,0,232,3],[233,0,233,6],[234,0,234,3],[239,15,239,29],[240,3,240,5],[240,6,240,8],[240,9,240,11],[240,15,240,17],[240,19,240,22],[240,23,240,26],[240,27,240,29],[241,5,242,5],[241,8,242,8],[241,17,242,17]]}
[{"$f":"'Test Plan'!$A$109","v":"Fan Cycling Condition - High"}]
["AHRI Test Stand Inspection Number",null,null,{"$f":"IF('Test Plan'!$B$3=0,\" \",'Test Plan'!$B$2)","v":"FIACCL-230##-1"}]
["AHRI Test Number",null,null,{"$f":"IF('Test Plan'!$B$3=0,\" \",'Test Plan'!$B$3)","v":"ACCL-230##-1-A"}]
["Model Designation",{"$f":"IF('[2]WCCL-DS2'!B4:D4=0,\" \",'[2]WCCL-DS2'!B4:D4)","v":"DEF"},null,{"$f":"IF('Test Plan'!$B$4=0,\" \",'Test Plan'!$B$4)","v":" "}]
["Manufacturer",{"$f":"IF('[2]WCCL-DS2'!B5:D5=0,\" \",'[2]WCCL-DS2'!B5:D5)","v":43101},null,{"$f":"IF('Test Plan'!$B$5=0,\" \",'Test Plan'!$B$5)","v":" "}]
["Test Date",{"$f":"IF('[2]WCCL-DS2'!B6:D6=0,\" \",'[2]WCCL-DS2'!B6:D6)","v":{"$error":"#REF!"}}]
[]
["Measurement Time","Data Points","Units","Period (min)","Mean Intvl. (s)","Max. Intvl. (s)","Max. Intvl. for Avg. of Data (s)"]
[null,{"$f":"COUNTA(C252:C10083)","v":0},"h:mm:ss:ms",{"$f":"(INDEX(C252:C10083,$B$9)-C252)*24*60","v":{"$error":"#VALUE!"}},{"$f":"D9*60/(B9-1)","v":{"$error":"#VALUE!"}},{"$f":"MAX(B252:B10083)*60*60*24","v":0},{"$f":"D9*60/60","v":{"$error":"#VALUE!"}}]
[]
["Air and Water Measurements",null,null,null,"Units","Evaporator","Condenser","Chiller Condenser Side 1",null,null,"Chiller Condenser Side 2",null,null,"Chiller Condenser Side 3",null,null,"Chiller Condenser Side 4"]
["Atmospheric Pressure",null,null,"Mean",{"$f":"'Test Plan'!$B$41","v":"kPa"},null,{"$f":"IF(O246=\"Yes\",$O$244,$O$250)","v":{"$error":"#DIV/0!"}},"Photo",null,null,"Photo",null,null,"Photo",null,null,"Photo"]
[null,null,null,"St. Dev.",{"$f":"'Test Plan'!$B$41","v":"kPa"},null,{"$f":"IF(O246=\"Yes\",\"Lab Data\",$O$251)","v":{"$error":"#DIV/0!"}}]
["Leaving Water Temperature",null,null,"Mean",{"$f":"'Test Conditions'!$B$18","v":"°C"},{"$f":"IF(F246=\"Yes\",$F$244,$F$250)","v":{"$error":"#DIV/0!"}}]
[null,null,null,"St. Dev.",{"$f":"'Test Conditions'!$B$18","v":"°C"},{"$f":"IF(F246=\"Yes\",\"Lab Data\",$F$251)","v":{"$error":"#DIV/0!"}}]
["Entering Db Air and Water Temperatures",null,null,"Mean",{"$f":"'Test Conditions'!$B$19","v":"°C"},{"$f":"IF(I246=\"Yes\",$I$244,$I$250)","v":{"$error":"#DIV/0!"}},{"$f":"IF(N246=\"Yes\",$N$244,$N$250)","v":{"$error":"#DIV/0!"}}]
[null,null,null,"St. Dev.",{"$f":"'Test Conditions'!$B$19","v":"°C"},{"$f":"IF(I246=\"Yes\",\"Lab Data\",$I$251)","v":{"$error":"#DIV/0!"}},{"$f":"IF(N246=\"Yes\",\"Lab Data\",$N$251)","v":{"$error":"#DIV/0!"}}]
["Water Flow Rate",null,null,"Mean",{"$f":"'Test Conditions'!$B$20","v":"m³/h"},{"$f":"$L$250","v":{"$error":"#DIV/0!"}}]
[null,null,null,"St. Dev.",{"$f":"'Test Conditions'!$B$20","v":"m³/h"},{"$f":"$L$251","v":{"$error":"#DIV/0!"}}]
["Water Pressure Drop",null,null,"Mean",{"$f":"'Test Plan'!$B$127","v":"kPa"},{"$f":"IF('Test Plan'!$B$19=\"I-P\",IF(M246=\"Yes\",$M$244/0.4331,$M$250/0.4331),IF(M246=\"Yes\",$M$244,$M$250))","v":{"$error":"#DIV/0!"}}]
[null,null,null,"St. Dev.",{"$f":"'Test Plan'!$B$127","v":"kPa"},{"$f":"IF(M246=\"Yes\",\"Lab Data\",IF('Test Plan'!$B$19=\"I-P\",$M$251/0.4331,$M$251))","v":{"$error":"#DIV/0!"}}]
[null,null,"Correction (∆padj)",null,{"$f":"'Test Plan'!$B$127","v":"kPa"}]
[null,null,"Corrected (∆pcorrected)",null,{"$f":"'Test Plan'!$B$127","v":"kPa"},{"$f":"F20-F22","v":{"$error":"#DIV/0!"}}]
[]
["Electrical Measurements",null,null,null,"Units","Total"]
["Power",null,null,null,"kW",{"$f":"IF(R246=\"Yes\",$R$244,$R$250)","v":{"$error":"#DIV/0!"}}]
["Voltage",null,null,"Mean","V",{"$f":"IF(R246=\"Yes\",\"Lab Data\",$S$250)","v":{"$error":"#DIV/0!"}}]
[null,null,null,"St. Dev.",{"$f":"E27","v":"V"},{"$f":"IF(R246=\"Yes\",\"Lab Data\",$S$251)","v":{"$error":"#DIV/0!"}}]
[null,null,null,"V1 Balance","%",{"$f":"IF(R246=\"Yes\",\"Lab Data\",ROUND(MAX(ABS($U$250-$T$250),ABS($V$250-$T$250),ABS($W$250-$T$250))/$T$250,4-(1+INT(LOG10(ABS(MAX(ABS($U$250-$T$250),ABS($V$250-$T$250),ABS($W$250-$T$250))/$T$250))))))","v":{"$error":"#DIV/0!"}}]
[null,null,null,"V2 Balance","%",{"$f":"IF(R246=\"Yes\",\"Lab Data\",ROUND(MAX(ABS($Y$250-$X$250),ABS($Z$250-$X$250),ABS($AA$250-$X$250))/$X$250,4-(1+INT(LOG10(ABS(MAX(ABS($Y$250-$X$250),ABS($Z$250-$X$250),ABS($AA$250-$X$250))/$X$250))))))","v":{"$error":"#DIV/0!"}}]
["Frequency",null,null,"Mean","Hz",{"$f":"IF(R246=\"Yes\",\"Lab Data\",$AB$250)","v":{"$error":"#DIV/0!"}}]
[null,null,null,"St. Dev.",{"$f":"E31","v":"Hz"},{"$f":"IF(R246=\"Yes\",\"Lab Data\",$AB$251)","v":{"$error":"#DIV/0!"}}]
[]
["Air Temperature Measurement",null,null,null,"Units",null,"Condenser"]
["Measurement Method"]
["# of Aspirating Psychrometers",null,null,null,"#"]
["Aspirating Psychrometer #1, Mean Air Temperature",null,null,null,{"$f":"'Test Conditions'!$B$19","v":"°C"}]
["# of Air Sampling Trees on Aspirating Psychrometer #1",null,null,null,"#",null,4]
["#1-A\nTemperatures","Air Sampling Tree Thermopile Grid",null,null,{"$f":"'Test Conditions'!$B$19","v":"°C"}]
[null,"Recirculation Thermocouple",null,null,{"$f":"'Test Conditions'!$B$19","v":"°C"}]
["#1-B\nTemperatures","Air Sampling Tree Thermopile Grid",null,null,{"$f":"'Test Conditions'!$B$19","v":"°C"}]
[null,"Recirculation Thermocouple",null,null,{"$f":"'Test Conditions'!$B$19","v":"°C"}]
["#1-C\nTemperatures","Air Sampling Tree Thermopile Grid",null,null,{"$f":"'Test Conditions'!$B$19","v":"°C"}]
[null,"Recirculation Thermocouple",null,null,{"$f":"'Test Conditions'!$B$19","v":"°C"}]
["#1-D\nTemperatures","Air Sampling Tree Thermopile Grid",null,null,{"$f":"'Test Conditions'!$B$19","v":"°C"}]
[null,"Recirculation Thermocouple",null,null,{"$f":"'Test Conditions'!$B$19","v":"°C"}]
["Aspirating Psychrometer #2, Mean Air Temperature",null,null,null,{"$f":"'Test Conditions'!$B$19","v":"°C"}]
["# of Air Sampling Trees on Aspirating Psychrometer #2",null,null,null,"#",null,4]
["#2-A\nTemperatures","Air Sampling Tree Thermopile Grid",null,null,{"$f":"'Test Conditions'!$B$19","v":"°C"}]
[null,"Recirculation Thermocouple",null,null,{"$f":"'Test Conditions'!$B$19","v":"°C"}]
["#2-B\nTemperatures","Air Sampling Tree Thermopile Grid",null,null,{"$f":"'Test Conditions'!$B$19","v":"°C"}]
[null,"Recirculation Thermocouple",null,null,{"$f":"'Test Conditions'!$B$19","v":"°C"}]
["#2-C\nTemperatures","Air Sampling Tree Thermopile Grid",null,null,{"$f":"'Test Conditions'!$B$19","v":"°C"}]
[null,"Recirculation Thermocouple",null,null,{"$f":"'Test Conditions'!$B$19","v":"°C"}]
["#2-D\nTemperatures","Air Sampling Tree Thermopile Grid",null,null,{"$f":"'Test Conditions'!$B$19","v":"°C"}]
[null,"Recirculation Thermocouple",null,null,{"$f":"'Test Conditions'!$B$19","v":"°C"}]
["Aspirating Psychrometer #3, Mean Air Temperature",null,null,null,{"$f":"'Test Conditions'!$B$19","v":"°C"}]
["# of Air Sampling Trees on Aspirating Psychrometer #3",null,null,null,"#",null,4]
["#3-A\nTemperatures","Air Sampling Tree Thermopile Grid",null,null,{"$f":"'Test Conditions'!$B$19","v":"°C"}]
[null,"Recirculation Thermocouple",null,null,{"$f":"'Test Conditions'!$B$19","v":"°C"}]
["#3-B\nTemperatures","Air Sampling Tree Thermopile Grid",null,null,{"$f":"'Test Conditions'!$B$19","v":"°C"}]
[null,"Recirculation Thermocouple",null,null,{"$f":"'Test Conditions'!$B$19","v":"°C"}]
["#3-C\nTemperatures","Air Sampling Tree Thermopile Grid",null,null,{"$f":"'Test Conditions'!$B$19","v":"°C"}]
[null,"Recirculation Thermocouple",null,null,{"$f":"'Test Conditions'!$B$19","v":"°C"}]
["#3-D\nTemperatures","Air Sampling Tree Thermopile Grid",null,null,{"$f":"'Test Conditions'!$B$19","v":"°C"}]
[null,"Recirculation Thermocouple",null,null,{"$f":"'Test Conditions'!$B$19","v":"°C"}]
["Aspirating Psychrometer #4, Mean Air Temperature",null,null,null,{"$f":"'Test Conditions'!$B$19","v":"°C"}]
["# of Air Sampling Trees on Aspirating Psychrometer #4",null,null,null,"#",null,4]
["#4-A\nTemperatures","Air Sampling Tree Thermopile Grid",null,null,{"$f":"'Test Conditions'!$B$19","v":"°C"}]
[null,"Recirculation Thermocouple",null,null,{"$f":"'Test Conditions'!$B$19","v":"°C"}]
["#4-B\nTemperatures","Air Sampling Tree Thermopile Grid",null,null,{"$f":"'Test Conditions'!$B$19","v":"°C"}]
[null,"Recirculation Thermocouple",null,null,{"$f":"'Test Conditions'!$B$19","v":"°C"}]
["#4-C\nTemperatures","Air Sampling Tree Thermopile Grid",null,null,{"$f":"'Test Conditions'!$B$19","v":"°C"}]
[null,"Recirculation Thermocouple",null,null,{"$f":"'Test Conditions'!$B$19","v":"°C"}]
["#4-D\nTemperatures","Air Sampling Tree Thermopile Grid",null,null,{"$f":"'Test Conditions'!$B$19","v":"°C"}]
[null,"Recirculation Thermocouple",null,null,{"$f":"'Test Conditions'!$B$19","v":"°C"}]
["Aspirating Psychrometer #5, Mean Air Temperature",null,null,null,{"$f":"'Test Conditions'!$B$19","v":"°C"}]
["# of Air Sampling Trees on Aspirating Psychrometer #5",null,null,null,"#",null,4]
["#5-A\nTemperatures","Air Sampling Tree Thermopile Grid",null,null,{"$f":"'Test Conditions'!$B$19","v":"°C"}]
[null,"Recirculation Thermocouple",null,null,{"$f":"'Test Conditions'!$B$19","v":"°C"}]
["#5-B\nTemperatures","Air Sampling Tree Thermopile Grid",null,null,{"$f":"'Test Conditions'!$B$19","v":"°C"}]
[null,"Recirculation Thermocouple",null,null,{"$f":"'Test Conditions'!$B$19","v":"°C"}]
["#5-C\nTemperatures","Air Sampling Tree Thermopile Grid",null,null,{"$f":"'Test Conditions'!$B$19","v":"°C"}]
[null,"Recirculation Thermocouple",null,null,{"$f":"'Test Conditions'!$B$19","v":"°C"}]
["#5-D\nTemperatures","Air Sampling Tree Thermopile Grid",null,null,{"$f":"'Test Conditions'!$B$19","v":"°C"}]
[null,"Recirculation Thermocouple",null,null,{"$f":"'Test Conditions'!$B$19","v":"°C"}]
["Aspirating Psychrometer #6, Mean Air Temperature",null,null,null,{"$f":"'Test Conditions'!$B$19","v":"°C"}]
["# of Air Sampling Trees on Aspirating Psychrometer #6",null,null,null,"#",null,4]
["#6-A\nTemperatures","Air Sampling Tree Thermopile Grid",null,null,{"$f":"'Test Conditions'!$B$19","v":"°C"}]
[null,"Recirculation Thermocouple",null,null,{"$f":"'Test Conditions'!$B$19","v":"°C"}]
["#6-B\nTemperatures","Air Sampling Tree Thermopile Grid",null,null,{"$f":"'Test Conditions'!$B$19","v":"°C"}]
[null,"Recirculation Thermocouple",null,null,{"$f":"'Test Conditions'!$B$19","v":"°C"}]
["#6-C\nTemperatures","Air Sampling Tree Thermopile Grid",null,null,{"$f":"'Test Conditions'!$B$19","v":"°C"}]
[null,"Recirculation Thermocouple",null,null,{"$f":"'Test Conditions'!$B$19","v":"°C"}]
["#6-D\nTemperatures","Air Sampling Tree Thermopile Grid",null,null,{"$f":"'Test Conditions'!$B$19","v":"°C"}]
[null,"Recirculation Thermocouple",null,null,{"$f":"'Test Conditions'!$B$19","v":"°C"}]
["# of Air Sampling Arrays",null,null,null,"#"]
["Air Sampling Array #1, Mean Air Temperature",null,null,null,{"$f":"'Test Conditions'!$B$19","v":"°C"},null,{"$f":"AVERAGE(G99:G102)","v":{"$error":"#DIV/0!"}}]
["Air Sampling Array Individual \nMeasurement Temperatures",null,"#1-A",null,{"$f":"'Test Conditions'!$B$19","v":"°C"}]
[null,null,"#1-B",null,{"$f":"'Test Conditions'!$B$19","v":"°C"}]
[null,null,"#1-C",null,{"$f":"'Test Conditions'!$B$19","v":"°C"}]
[null,null,"#1-D",null,{"$f":"'Test Conditions'!$B$19","v":"°C"}]
[null,null,"Recirculation Thermocouple",null,{"$f":"'Test Conditions'!$B$19","v":"°C"}]
["Air Sampling Array #2, Mean Air Temperature",null,null,null,{"$f":"'Test Conditions'!$B$19","v":"°C"},null,{"$f":"AVERAGE(G105:G108)","v":{"$error":"#DIV/0!"}}]
["Air Sampling Array Individual \nMeasurement Temperatures",null,"#2-A",null,{"$f":"'Test Conditions'!$B$19","v":"°C"}]
[null,null,"#2-B",null,{"$f":"'Test Conditions'!$B$19","v":"°C"}]
[null,null,"#2-C",null,{"$f":"'Test Conditions'!$B$19","v":"°C"}]
[null,null,"#2-D",null,{"$f":"'Test Conditions'!$B$19","v":"°C"}]
[null,null,"Recirculation Thermocouple",null,{"$f":"'Test Conditions'!$B$19","v":"°C"}]
["Air Sampling Array #3, Mean Air Temperature",null,null,null,{"$f":"'Test Conditions'!$B$19","v":"°C"},null,{"$f":"AVERAGE(G111:G114)","v":{"$error":"#DIV/0!"}}]
["Air Sampling Array Individual \nMeasurement Temperatures",null,"#3-A",null,{"$f":"'Test Conditions'!$B$19","v":"°C"}]
[null,null,"#3-B",null,{"$f":"'Test Conditions'!$B$19","v":"°C"}]
[null,null,"#3-C",null,{"$f":"'Test Conditions'!$B$19","v":"°C"}]
[null,null,"#3-D",null,{"$f":"'Test Conditions'!$B$19","v":"°C"}]
[null,null,"Recirculation Thermocouple",null,{"$f":"'Test Conditions'!$B$19","v":"°C"}]
["Air Sampling Array #4, Mean Air Temperature",null,null,null,{"$f":"'Test Conditions'!$B$19","v":"°C"},null,{"$f":"AVERAGE(G117:G120)","v":{"$error":"#DIV/0!"}}]
["Air Sampling Array Individual \nMeasurement Temperatures",null,"#4-A",null,{"$f":"'Test Conditions'!$B$19","v":"°C"}]
[null,null,"#4-B",null,{"$f":"'Test Conditions'!$B$19","v":"°C"}]
[null,null,"#4-C",null,{"$f":"'Test Conditions'!$B$19","v":"°C"}]
[null,null,"#4-D",null,{"$f":"'Test Conditions'!$B$19","v":"°C"}]
[null,null,"Recirculation Thermocouple",null,{"$f":"'Test Conditions'!$B$19","v":"°C"}]
["Air Sampling Array #5, Mean Air Temperature",null,null,null,{"$f":"'Test Conditions'!$B$19","v":"°C"},null,{"$f":"AVERAGE(G123:G126)","v":{"$error":"#DIV/0!"}}]
["Air Sampling Array Individual \nMeasurement Temperatures",null,"#5-A",null,{"$f":"'Test Conditions'!$B$19","v":"°C"}]
[null,null,"#5-B",null,{"$f":"'Test Conditions'!$B$19","v":"°C"}]
[null,null,"#5-C",null,{"$f":"'Test Conditions'!$B$19","v":"°C"}]
[null,null,"#5-D",null,{"$f":"'Test Conditions'!$B$19","v":"°C"}]
[null,null,"Recirculation Thermocouple",null,{"$f":"'Test Conditions'!$B$19","v":"°C"}]
["Air Sampling Array #6, Mean Air Temperature",null,null,null,{"$f":"'Test Conditions'!$B$19","v":"°C"},null,{"$f":"AVERAGE(G129:G132)","v":{"$error":"#DIV/0!"}}]
["Air Sampling Array Individual \nMeasurement Temperatures",null,"#6-A",null,{"$f":"'Test Conditions'!$B$19","v":"°C"}]
[null,null,"#6-B",null,{"$f":"'Test Conditions'!$B$19","v":"°C"}]
[null,null,"#6-C",null,{"$f":"'Test Conditions'!$B$19","v":"°C"}]
[null,null,"#6-D",null,{"$f":"'Test Conditions'!$B$19","v":"°C"}]
[null,null,"Recirculation Thermocouple",null,{"$f":"'Test Conditions'!$B$19","v":"°C"}]
["Air Sampling Array #7, Mean Air Temperature",null,null,null,{"$f":"'Test Conditions'!$B$19","v":"°C"},null,{"$f":"AVERAGE(G135:G138)","v":{"$error":"#DIV/0!"}}]
["Air Sampling Array Individual \nMeasurement Temperatures",null,"#7-A",null,{"$f":"'Test Conditions'!$B$19","v":"°C"}]
[null,null,"#7-B",null,{"$f":"'Test Conditions'!$B$19","v":"°C"}]
[null,null,"#7-C",null,{"$f":"'Test Conditions'!$B$19","v":"°C"}]
[null,null,"#7-D",null,{"$f":"'Test Conditions'!$B$19","v":"°C"}]
[null,null,"Recirculation Thermocouple",null,{"$f":"'Test Conditions'!$B$19","v":"°C"}]
["Air Sampling Array #8, Mean Air Temperature",null,null,null,{"$f":"'Test Conditions'!$B$19","v":"°C"},null,{"$f":"AVERAGE(G141:G144)","v":{"$error":"#DIV/0!"}}]
["Air Sampling Array Individual \nMeasurement Temperatures",null,"#8-A",null,{"$f":"'Test Conditions'!$B$19","v":"°C"}]
[null,null,"#8-B",null,{"$f":"'Test Conditions'!$B$19","v":"°C"}]
[null,null,"#8-C",null,{"$f":"'Test Conditions'!$B$19","v":"°C"}]
[null,null,"#8-D",null,{"$f":"'Test Conditions'!$B$19","v":"°C"}]
[null,null,"Recirculation Thermocouple",null,{"$f":"'Test Conditions'!$B$19","v":"°C"}]
["Air Sampling Array #9, Mean Air Temperature",null,null,null,{"$f":"'Test Conditions'!$B$19","v":"°C"},null,{"$f":"AVERAGE(G147:G150)","v":{"$error":"#DIV/0!"}}]
["Air Sampling Array Individual \nMeasurement Temperatures",null,"#9-A",null,{"$f":"'Test Conditions'!$B$19","v":"°C"}]
[null,null,"#9-B",null,{"$f":"'Test Conditions'!$B$19","v":"°C"}]
[null,null,"#9-C",null,{"$f":"'Test Conditions'!$B$19","v":"°C"}]
[null,null,"#9-D",null,{"$f":"'Test Conditions'!$B$19","v":"°C"}]
[null,null,"Recirculation Thermocouple",null,{"$f":"'Test Conditions'!$B$19","v":"°C"}]
["Air Sampling Array #10, Mean Air Temperature",null,null,null,{"$f":"'Test Conditions'!$B$19","v":"°C"},null,{"$f":"AVERAGE(G153:G156)","v":{"$error":"#DIV/0!"}}]
["Air Sampling Array Individual \nMeasurement Temperatures",null,"#10-A",null,{"$f":"'Test Conditions'!$B$19","v":"°C"}]
[null,null,"#10-B",null,{"$f":"'Test Conditions'!$B$19","v":"°C"}]
[null,null,"#10-C",null,{"$f":"'Test Conditions'!$B$19","v":"°C"}]
[null,null,"#10-D",null,{"$f":"'Test Conditions'!$B$19","v":"°C"}]
[null,null,"Recirculation Thermocouple",null,{"$f":"'Test Conditions'!$B$19","v":"°C"}]
["Air Sampling Array #11, Mean Air Temperature",null,null,null,{"$f":"'Test Conditions'!$B$19","v":"°C"},null,{"$f":"AVERAGE(G159:G162)","v":{"$error":"#DIV/0!"}}]
["Air Sampling Array Individual \nMeasurement Temperatures",null,"#11-A",null,{"$f":"'Test Conditions'!$B$19","v":"°C"}]
[null,null,"#11-B",null,{"$f":"'Test Conditions'!$B$19","v":"°C"}]
[null,null,"#11-C",null,{"$f":"'Test Conditions'!$B$19","v":"°C"}]
[null,null,"#11-D",null,{"$f":"'Test Conditions'!$B$19","v":"°C"}]
[null,null,"Recirculation Thermocouple",null,{"$f":"'Test Conditions'!$B$19","v":"°C"}]
["Air Sampling Array #12, Mean Air Temperature",null,null,null,{"$f":"'Test Conditions'!$B$19","v":"°C"},null,{"$f":"AVERAGE(G165:G168)","v":{"$error":"#DIV/0!"}}]
["Air Sampling Array Individual \nMeasurement Temperatures",null,"#12-A",null,{"$f":"'Test Conditions'!$B$19","v":"°C"}]
[null,null,"#12-B",null,{"$f":"'Test Conditions'!$B$19","v":"°C"}]
[null,null,"#12-C",null,{"$f":"'Test Conditions'!$B$19","v":"°C"}]
[null,null,"#12-D",null,{"$f":"'Test Conditions'!$B$19","v":"°C"}]
[null,null,"Recirculation Thermocouple",null,{"$f":"'Test Conditions'!$B$19","v":"°C"}]
["Air Sampling Array #13, Mean Air Temperature",null,null,null,{"$f":"'Test Conditions'!$B$19","v":"°C"},null,{"$f":"AVERAGE(G171:G174)","v":{"$error":"#DIV/0!"}}]
["Air Sampling Array Individual \nMeasurement Temperatures",null,"#13-A",null,{"$f":"'Test Conditions'!$B$19","v":"°C"}]
[null,null,"#13-B",null,{"$f":"'Test Conditions'!$B$19","v":"°C"}]
[null,null,"#13-C",null,{"$f":"'Test Conditions'!$B$19","v":"°C"}]
[null,null,"#13-D",null,{"$f":"'Test Conditions'!$B$19","v":"°C"}]
[null,null,"Recirculation Thermocouple",null,{"$f":"'Test Conditions'!$B$19","v":"°C"}]
["Air Sampling Array #14, Mean Air Temperature",null,null,null,{"$f":"'Test Conditions'!$B$19","v":"°C"},null,{"$f":"AVERAGE(G177:G180)","v":{"$error":"#DIV/0!"}}]
["Air Sampling Array Individual \nMeasurement Temperatures",null,"#14-A",null,{"$f":"'Test Conditions'!$B$19","v":"°C"}]
[null,null,"#14-B",null,{"$f":"'Test Conditions'!$B$19","v":"°C"}]
[null,null,"#14-C",null,{"$f":"'Test Conditions'!$B$19","v":"°C"}]
[null,null,"#14-D",null,{"$f":"'Test Conditions'!$B$19","v":"°C"}]
[null,null,"Recirculation Thermocouple",null,{"$f":"'Test Conditions'!$B$19","v":"°C"}]
["Air Sampling Array #15, Mean Air Temperature",null,null,null,{"$f":"'Test Conditions'!$B$19","v":"°C"},null,{"$f":"AVERAGE(G183:G186)","v":{"$error":"#DIV/0!"}}]
["Air Sampling Array Individual \nMeasurement Temperatures",null,"#15-A",null,{"$f":"'Test Conditions'!$B$19","v":"°C"}]
[null,null,"#15-B",null,{"$f":"'Test Conditions'!$B$19","v":"°C"}]
[null,null,"#15-C",null,{"$f":"'Test Conditions'!$B$19","v":"°C"}]
[null,null,"#15-D",null,{"$f":"'Test Conditions'!$B$19","v":"°C"}]
[null,null,"Recirculation Thermocouple",null,{"$f":"'Test Conditions'!$B$19","v":"°C"}]
["Air Sampling Array #16, Mean Air Temperature",null,null,null,{"$f":"'Test Conditions'!$B$19","v":"°C"},null,{"$f":"AVERAGE(G189:G192)","v":{"$error":"#DIV/0!"}}]
["Air Sampling Array Individual \nMeasurement Temperatures",null,"#16-A",null,{"$f":"'Test Conditions'!$B$19","v":"°C"}]
[null,null,"#16-B",null,{"$f":"'Test Conditions'!$B$19","v":"°C"}]
[null,null,"#16-C",null,{"$f":"'Test Conditions'!$B$19","v":"°C"}]
[null,null,"#16-D",null,{"$f":"'Test Conditions'!$B$19","v":"°C"}]
[null,null,"Recirculation Thermocouple",null,{"$f":"'Test Conditions'!$B$19","v":"°C"}]
["Air Sampling Array #17, Mean Air Temperature",null,null,null,{"$f":"'Test Conditions'!$B$19","v":"°C"},null,{"$f":"AVERAGE(G195:G198)","v":{"$error":"#DIV/0!"}}]
["Air Sampling Array Individual \nMeasurement Temperatures",null,"#17-A",null,{"$f":"'Test Conditions'!$B$19","v":"°C"}]
[null,null,"#17-B",null,{"$f":"'Test Conditions'!$B$19","v":"°C"}]
[null,null,"#17-C",null,{"$f":"'Test Conditions'!$B$19","v":"°C"}]
[null,null,"#17-D",null,{"$f":"'Test Conditions'!$B$19","v":"°C"}]
[null,null,"Recirculation Thermocouple",null,{"$f":"'Test Conditions'!$B$19","v":"°C"}]
["Air Sampling Array #18, Mean Air Temperature",null,null,null,{"$f":"'Test Conditions'!$B$19","v":"°C"},null,{"$f":"AVERAGE(G201:G204)","v":{"$error":"#DIV/0!"}}]
["Air Sampling Array Individual \nMeasurement Temperatures",null,"#18-A",null,{"$f":"'Test Conditions'!$B$19","v":"°C"}]
[null,null,"#18-B",null,{"$f":"'Test Conditions'!$B$19","v":"°C"}]
[null,null,"#18-C",null,{"$f":"'Test Conditions'!$B$19","v":"°C"}]
[null,null,"#18-D",null,{"$f":"'Test Conditions'!$B$19","v":"°C"}]
[null,null,"Recirculation Thermocouple",null,{"$f":"'Test Conditions'!$B$19","v":"°C"}]
["Air Sampling Array #19, Mean Air Temperature",null,null,null,{"$f":"'Test Conditions'!$B$19","v":"°C"},null,{"$f":"AVERAGE(G207:G210)","v":{"$error":"#DIV/0!"}}]
["Air Sampling Array Individual \nMeasurement Temperatures",null,"#19-A",null,{"$f":"'Test Conditions'!$B$19","v":"°C"}]
[null,null,"#19-B",null,{"$f":"'Test Conditions'!$B$19","v":"°C"}]
[null,null,"#19-C",null,{"$f":"'Test Conditions'!$B$19","v":"°C"}]
[null,null,"#19-D",null,{"$f":"'Test Conditions'!$B$19","v":"°C"}]
[null,null,"Recirculation Thermocouple",null,{"$f":"'Test Conditions'!$B$19","v":"°C"}]
["Air Sampling Array #20, Mean Air Temperature",null,null,null,{"$f":"'Test Conditions'!$B$19","v":"°C"},null,{"$f":"AVERAGE(G213:G216)","v":{"$error":"#DIV/0!"}}]
["Air Sampling Array Individual \nMeasurement Temperatures",null,"#20-A",null,{"$f":"'Test Conditions'!$B$19","v":"°C"}]
[null,null,"#20-B",null,{"$f":"'Test Conditions'!$B$19","v":"°C"}]
[null,null,"#20-C",null,{"$f":"'Test Conditions'!$B$19","v":"°C"}]
[null,null,"#20-D",null,{"$f":"'Test Conditions'!$B$19","v":"°C"}]
[null,null,"Recirculation Thermocouple",null,{"$f":"'Test Conditions'!$B$19","v":"°C"}]
[]
["Atmospheric Pressure Correction",null,null,null,"Units","Evaporator","Condenser"]
["Location of Water Flow Meter Relative to Chiller",null,null,null,"-"]
["Water Temperature (T) for Density",null,null,null,{"$f":"'Test Conditions'!$B$18","v":"°C"},{"$f":"IF($F$220=\"Entering\",$F$16,$F$14)","v":{"$error":"#DIV/0!"}}]
["Water Density (ρ)",null,null,null,{"$f":"IF('Test Plan'!$B$19=\"I-P\",'Unit Conversion'!$B$10,'Unit Conversion'!$C$10)","v":"kg/m³"},{"$f":"IF('Test Plan'!$B$19=\"I-P\",(-0.00000000074704*$F$221^4)+(0.00000052643*$F$221^3)+(-0.00018846*$F$221^2)+(0.012164*$F$221)+62.227,((-0.00000012556*$F$221^4)+(0.000040229*$F$221^3)+(-0.0073948*$F$221^2)+(0.046734*$F$221)+1000.2))","v":{"$error":"#DIV/0!"}}]
["Average Water Temperature (T) for Specific Heat & ∆pcorrected Density",null,null,null,{"$f":"'Test Conditions'!$B$18","v":"°C"},{"$f":"AVERAGE($F$14,$F$16)","v":{"$error":"#DIV/0!"}}]
["Water Specific Heat (cp)",null,null,null,{"$f":"IF('Test Plan'!$B$19=\"I-P\",'Unit Conversion'!$B$13,'Unit Conversion'!$C$13)","v":"kJ/kg·K"},{"$f":"IF('Test Plan'!$B$19=\"I-P\",(-0.00000000000040739*$F$223^5)+(0.00000000031031*$F$223^4)+(-0.000000092501*$F$223^3)+(0.000014071*$F$223^2)+(-0.0010677*$F$223)+1.0295,((-0.00000000003222*$F$223^5)+(0.00000001077*$F$223^4)+(-0.0000013901*$F$223^3)+(0.000094433*$F$223^2)+(-0.0031103*$F$223)+4.216))","v":{"$error":"#DIV/0!"}}]
["Water Density (ρ) for ∆pcorrected",null,null,null,{"$f":"IF('Test Plan'!$B$19=\"I-P\",'Unit Conversion'!$B$10,'Unit Conversion'!$C$10)","v":"kg/m³"},{"$f":"IF('Test Plan'!$B$19=\"I-P\",(-0.00000000074704*$F$223^4)+(0.00000052643*$F$223^3)+(-0.00018846*$F$223^2)+(0.012164*$F$223)+62.227,((-0.00000012556*$F$223^4)+(0.000040229*$F$223^3)+(-0.0073948*$F$223^2)+(0.046734*$F$223)+1000.2))","v":{"$error":"#DIV/0!"}}]
["Water Mass Flow Rate (mw)",null,null,null,{"$f":"IF('Test Plan'!$B$19=\"I-P\",'Unit Conversion'!$B$11,'Unit Conversion'!$C$11)","v":"kg/h"},{"$f":"IF('Test Plan'!$B$19=\"I-P\",$F$18*$F$222/0.124675,$F$18*$F$222)","v":{"$error":"#DIV/0!"}}]
["Gross Refrigeranting Capacity (Q'ev)",null,null,null,{"$f":"'Test Plan'!$B$125","v":"kW"},{"$f":"IF('Test Plan'!$B$19=\"I-P\",$F$226*($F$224*ABS($F$16-$F$14)+(0.18505*$F$23/$F$225*0.4331))/12000,$F$226*($F$224*ABS($F$16-$F$14)+($F$23/$F$225))/3600)","v":{"$error":"#DIV/0!"}}]
["Net Refrigerating Capacity (Qev)",null,null,null,{"$f":"'Test Plan'!$B$125","v":"kW"},{"$f":"IF('Test Plan'!$B$19=\"I-P\",$F$226*($F$224*ABS($F$16-$F$14))/12000,$F$226*($F$224*ABS($F$16-$F$14))/3600)","v":{"$error":"#DIV/0!"}}]
["Cooling Energy Efficiency",null,null,null,{"$f":"'Test Plan'!$B$126","v":"kW/kW"},{"$f":"IF('Test Plan'!$B$19=\"I-P\",$F$26/$F$228,$F$228/$F$26)","v":{"$error":"#DIV/0!"}}]
["Coefficient Correction Factor (Capacity), DQ",null,null,null,"-",null,{"$f":"IF('Test Plan'!$B$19=\"I-P\",0.0011273*$G$12^2-0.041272*$G$12+1.36304,0.000023713*$G$12^2-0.005986*$G$12+1.36304)","v":{"$error":"#DIV/0!"}}]
["Coefficient Correction Factor (Efficiency), Dƞ",null,null,null,"-",null,{"$f":"IF('Test Plan'!$B$19=\"I-P\",0.0024308*$G$12^2-0.090075*$G$12+1.79872,0.000051135*$G$12^2-0.013064*$G$12+1.79872)","v":{"$error":"#DIV/0!"}}]
["Correction Factor (Capacity), CFQ",null,null,null,"-",null,{"$f":"IF('Test Plan'!$B$19=\"I-P\",1+($F$228/'100% Load Condition '!$F$228)*($G$230-1)*EXP(-0.35*(($G$231*(12/'100% Load Condition '!$F$229))-9.6)),1+($F$228/'100% Load Condition '!$F$228)*($G$230-1)*EXP(-0.35*((3.41214*$G$231*'100% Load Condition '!$F$229)-9.6)))","v":{"$error":"#DIV/0!"}}]
["Correction Factor (Efficiency), CFƞ",null,null,null,"-",null,{"$f":"IF('Test Plan'!$B$19=\"I-P\",1+($F$228/'100% Load Condition '!$F$228)*($G$231-1)*EXP(-0.35*(($G$231*(12/'100% Load Condition '!$F$229))-9.6)),1+($F$228/'100% Load Condition '!$F$228)*($G$231-1)*EXP(-0.35*((3.41214*$G$231*'100% Load Condition '!$F$229)-9.6)))","v":{"$error":"#DIV/0!"}}]
[]
["Test Result",null,null,null,"Units","Evaporator"]
["Corrected Net Refrigerating Capacity (Qev)",null,null,null,{"$f":"'Test Plan'!$B$125","v":"kW"},{"$f":"$F$228*$G$232","v":{"$error":"#DIV/0!"}}]
["Corrected Cooling Energy Efficiency",null,null,null,{"$f":"'Test Plan'!$B$126","v":"kW/kW"},{"$f":"IF('Test Plan'!$B$19=\"I-P\",$F$229/$G$233,$F$229*$G$233)","v":{"$error":"#DIV/0!"}}]
["Water Pressure Drop",null,null,null,{"$f":"'Test Plan'!$B$127","v":"kPa"},{"$f":"$F$23","v":{"$error":"#DIV/0!"}}]
[]
[null,null,null,"Evaporator Water",null,null,null,null,null,null,null,null,null,"Condenser Air",null,"Electrical"]
[null,null,null,"Lvg. Temp.",null,null,"Ent. Temp.",null,null,"Flow Rate",null,null,null,null,null,"Power",null,null,"Total Voltage","Voltage 1",null,null,null,"Voltage 2",null,null,null,"Frequency"]
["Laboratory Data","Start Time","Stop Time",null,null,{"$f":"'Test Conditions'!$B$18","v":"°C"},null,null,{"$f":"'Test Conditions'!$B$18","v":"°C"},null,null,null,"Press. Drop","Ent. Temp.","Atm Press.",null,null,"kW"]
["Unit",{"$f":"$C$9","v":"h:mm:ss:ms"},{"$f":"$C$9","v":"h:mm:ss:ms"},null,null,null,null,null,null,null,null,null,{"$f":"IF('Test Plan'!$B$19=\"I-P\",'Unit Conversion'!$B$9,'Unit Conversion'!$C$9)","v":"kPa"},{"$f":"'Test Conditions'!$B$19","v":"°C"},{"$f":"IF('Test Plan'!$B$19=\"I-P\",'Unit Conversion'!$B$7,'Unit Conversion'!$C$7)","v":"kPa"}]
["Mean"]
["Data Comparison",{"$f":"ABS(B244-Zero)*24*60*60","v":0},{"$f":"ABS(C244-INDEX(Zero:C10196,$B$10))*24*60*60","v":{"$error":"#VALUE!"}},null,null,{"$f":"ABS(F244-F250)","v":{"$error":"#DIV/0!"}},null,null,{"$f":"ABS(I244-I250)","v":{"$error":"#DIV/0!"}},null,null,null,{"$f":"ABS(M244-M250)","v":{"$error":"#DIV/0!"}},{"$f":"ABS(N244-N250)","v":{"$error":"#DIV/0!"}},{"$f":"ABS(O244-O250)/O250","v":{"$error":"#DIV/0!"}},null,null,{"$f":"ABS(R244-R250)/R250","v":{"$error":"#DIV/0!"}}]
["Use Lab Data?"]
["Test Stand Data","Time Interval","Time Stamp",1,2,"Avg.",1,2,"Avg.",1,2,"Avg.","Press. Drop","Ent. Temp.","Atm Press.",1,2,"Avg.","Avg","Avg."," A-B"," B-C"," C-A","Avg."," A-B"," B-C"," C-A","Avg.",1,2]
["Unit",{"$f":"$C$9","v":"h:mm:ss:ms"},{"$f":"$C$9","v":"h:mm:ss:ms"},{"$f":"'Test Conditions'!$B$18","v":"°C"},{"$f":"'Test Conditions'!$B$18","v":"°C"},{"$f":"'Test Conditions'!$B$18","v":"°C"},{"$f":"'Test Conditions'!$B$19","v":"°C"},{"$f":"'Test Conditions'!$B$19","v":"°C"},{"$f":"'Test Conditions'!$B$19","v":"°C"},{"$f":"'Test Conditions'!$B$20","v":"m³/h"},{"$f":"'Test Conditions'!$B$20","v":"m³/h"},{"$f":"'Test Conditions'!$B$20","v":"m³/h"},{"$f":"IF('Test Plan'!$B$19=\"I-P\",'Unit Conversion'!$B$9,'Unit Conversion'!$C$9)","v":"kPa"},{"$f":"'Test Conditions'!$B$19","v":"°C"},{"$f":"IF('Test Plan'!$B$19=\"I-P\",'Unit Conversion'!$B$7,'Unit Conversion'!$C$7)","v":"kPa"},"kW","kW","kW","V","V","V","V","V","V","V","V","V","Hz","Hz","Hz"]
["Rating","-","-",{"$f":"'Test Conditions'!$C$108","v":0},{"$f":"'Test Conditions'!$C$108","v":0},{"$f":"'Test Conditions'!$C$108","v":0},{"$f":"'Test Plan'!$C$111","v":0},{"$f":"'Test Plan'!$C$111","v":0},{"$f":"'Test Plan'!$C$111","v":0},{"$f":"'Test Plan'!$C$113","v":0},{"$f":"'Test Plan'!$C$113","v":0},{"$f":"'Test Plan'!$C$113","v":0},{"$f":"IF('Test Plan'!$B$19=\"I-P\",'Test Plan'!$D$127*0.4331,'Test Plan'!$D$127)","v":0},{"$f":"'Test Conditions'!$D$109","v":0},{"$f":"'Test Plan'!$C$41","v":101.33},{"$f":"'Test Plan'!$C$115","v":0},{"$f":"'Test Plan'!$C$115","v":0},{"$f":"'Test Plan'!$C$115","v":0},{"$f":"'Test Plan'!$B$14","v":0},{"$f":"'Test Plan'!$B$14","v":0},{"$f":"'Test Plan'!$B$14","v":0},{"$f":"'Test Plan'!$B$14","v":0},{"$f":"'Test Plan'!$B$14","v":0},{"$f":"'Test Plan'!$B$14","v":0},{"$f":"'Test Plan'!$B$14","v":0},{"$f":"'Test Plan'!$B$14","v":0},{"$f":"'Test Plan'!$B$14","v":0},{"$f":"'Test Plan'!$D$14","v":0},{"$f":"'Test Plan'!$D$14","v":0},{"$f":"'Test Plan'!$D$14","v":0}]
["Mean","-","-",{"$f":"AVERAGE(D252:INDEX(D252:D10083,$B$9))","v":{"$error":"#DIV/0!"}},{"$f":"AVERAGE(E252:INDEX(E252:E10083,$B$9))","v":{"$error":"#DIV/0!"}},{"$f":"AVERAGE(D250:E250)","v":{"$error":"#DIV/0!"}},{"$f":"AVERAGE(G252:INDEX(G252:G10083,$B$9))","v":{"$error":"#DIV/0!"}},{"$f":"AVERAGE(H252:INDEX(H252:H10083,$B$9))","v":{"$error":"#DIV/0!"}},{"$f":"AVERAGE(G250:H250)","v":{"$error":"#DIV/0!"}},{"$f":"AVERAGE(J252:INDEX(J252:J10083,$B$9))","v":{"$error":"#DIV/0!"}},{"$f":"AVERAGE(K252:INDEX(K252:K10083,$B$9))","v":{"$error":"#DIV/0!"}},{"$f":"AVERAGE(J250:K250)","v":{"$error":"#DIV/0!"}},{"$f":"AVERAGE(M252:INDEX(M252:M10083,$B$9))","v":{"$error":"#DIV/0!"}},{"$f":"AVERAGE(N252:INDEX(N252:N10083,$B$9))","v":{"$error":"#DIV/0!"}},{"$f":"AVERAGE(O252:INDEX(O252:O10083,$B$9))","v":{"$error":"#DIV/0!"}},{"$f":"AVERAGE(P252:INDEX(P252:P10083,$B$9))","v":{"$error":"#DIV/0!"}},{"$f":"AVERAGE(Q252:INDEX(Q252:Q10083,$B$9))","v":{"$error":"#DIV/0!"}},{"$f":"AVERAGE(P250:Q250)","v":{"$error":"#DIV/0!"}},{"$f":"AVERAGE(T250,X250)","v":{"$error":"#DIV/0!"}},{"$f":"AVERAGE(T252:INDEX(T252:T10083,$B$9))","v":{"$error":"#DIV/0!"}},{"$f":"AVERAGE(U252:INDEX(U252:U10083,$B$9))","v":{"$error":"#DIV/0!"}},{"$f":"AVERAGE(V252:INDEX(V252:V10083,$B$9))","v":{"$error":"#DIV/0!"}},{"$f":"AVERAGE(W252:INDEX(W252:W10083,$B$9))","v":{"$error":"#DIV/0!"}},{"$f":"AVERAGE(X252:INDEX(X252:X10083,$B$9))","v":{"$error":"#DIV/0!"}},{"$f":"AVERAGE(Y252:INDEX(Y252:Y10083,$B$9))","v":{"$error":"#DIV/0!"}},{"$f":"AVERAGE(Z252:INDEX(Z252:Z10083,$B$9))","v":{"$error":"#DIV/0!"}},{"$f":"AVERAGE(AA252:INDEX(AA252:AA10083,$B$9))","v":{"$error":"#DIV/0!"}},{"$f":"AVERAGE(AC250:AD250)","v":{"$error":"#DIV/0!"}},{"$f":"AVERAGE(AC252:INDEX(AC252:AC10083,$B$9))","v":{"$error":"#DIV/0!"}},{"$f":"AVERAGE(AD252:INDEX(AD252:AD10083,$B$9))","v":{"$error":"#DIV/0!"}}]
["St. Dev.","-","-",{"$f":"_xlfn.STDEV.S(D252:INDEX(D252:D10083,$B$9))","v":{"$error":"#DIV/0!"}},{"$f":"_xlfn.STDEV.S(E252:INDEX(E252:E10083,$B$9))","v":{"$error":"#DIV/0!"}},{"$f":"SQRT((D251^2+E251^2)/2)","v":{"$error":"#DIV/0!"}},{"$f":"_xlfn.STDEV.S(G252:INDEX(G252:G10083,$B$9))","v":{"$error":"#DIV/0!"}},{"$f":"_xlfn.STDEV.S(H252:INDEX(H252:H10083,$B$9))","v":{"$error":"#DIV/0!"}},{"$f":"SQRT((G251^2+H251^2)/2)","v":{"$error":"#DIV/0!"}},{"$f":"_xlfn.STDEV.S(J252:INDEX(J252:J10083,$B$9))","v":{"$error":"#DIV/0!"}},{"$f":"_xlfn.STDEV.S(K252:INDEX(K252:K10083,$B$9))","v":{"$error":"#DIV/0!"}},{"$f":"SQRT((J251^2+K251^2)/2)","v":{"$error":"#DIV/0!"}},{"$f":"_xlfn.STDEV.S(M252:INDEX(M252:M10083,$B$9))","v":{"$error":"#DIV/0!"}},{"$f":"_xlfn.STDEV.S(N252:INDEX(N252:N10083,$B$9))","v":{"$error":"#DIV/0!"}},{"$f":"_xlfn.STDEV.S(O252:INDEX(O252:O10083,$B$9))","v":{"$error":"#DIV/0!"}},{"$f":"_xlfn.STDEV.S(P252:INDEX(P252:P10083,$B$9))","v":{"$error":"#DIV/0!"}},{"$f":"_xlfn.STDEV.S(Q252:INDEX(Q252:Q10083,$B$9))","v":{"$error":"#DIV/0!"}},{"$f":"SQRT((P251^2+Q251^2)/2)","v":{"$error":"#DIV/0!"}},{"$f":"SQRT((T251^2+X251^2)/2)","v":{"$error":"#DIV/0!"}},{"$f":"_xlfn.STDEV.S(T252:INDEX(T252:T10083,$B$9))","v":{"$error":"#DIV/0!"}},{"$f":"_xlfn.STDEV.S(U252:INDEX(U252:U10083,$B$9))","v":{"$error":"#DIV/0!"}},{"$f":"_xlfn.STDEV.S(V252:INDEX(V252:V10083,$B$9))","v":{"$error":"#DIV/0!"}},{"$f":"_xlfn.STDEV.S(W252:INDEX(W252:W10083,$B$9))","v":{"$error":"#DIV/0!"}},{"$f":"_xlfn.STDEV.S(X252:INDEX(X252:X10083,$B$9))","v":{"$error":"#DIV/0!"}},{"$f":"_xlfn.STDEV.S(Y252:INDEX(Y252:Y10083,$B$9))","v":{"$error":"#DIV/0!"}},{"$f":"_xlfn.STDEV.S(Z252:INDEX(Z252:Z10083,$B$9))","v":{"$error":"#DIV/0!"}},{"$f":"_xlfn.STDEV.S(AA252:INDEX(AA252:AA10083,$B$9))","v":{"$error":"#DIV/0!"}},{"$f":"SQRT((AC251^2+AD251^2)/2)","v":{"$error":"#DIV/0!"}},{"$f":"_xlfn.STDEV.S(AC252:INDEX(AC252:AC10083,$B$9))","v":{"$error":"#DIV/0!"}},{"$f":"_xlfn.STDEV.S(AD252:INDEX(AD252:AD10083,$B$9))","v":{"$error":"#DIV/0!"}}]
[null,{"$f":"C253-C252","v":"00:00:00"}]
[null,{"$f":"C254-C253","v":"00:00:00"}]
[null,{"$f":"C255-C254","v":"00:00:00"}]
[null,"00:00:00"]
[null,"00:00:00"]
[null,"00:00:00"]
[null,"00:00:00"]
[null,"00:00:00"]
[null,"00:00:00"]
[null,"00:00:00"]
[null,"00:00:00"]
[null,"00:00:00"]
[null,"00:00:00"]
[null,"00:00:00"]
[null,"00:00:00"]
[null,"00:00:00"]
[null,"00:00:00"]
[null,"00:00:00"]
[null,"00:00:00"]
[null,"00:00:00"]
[null,"00:00:00"]
[null,"00:00:00"]
[null,"00:00:00"]
[null,"00:00:00"]
[null,"00:00:00"]
[null,"00:00:00"]
[null,"00:00:00"]
[null,{"$f":"C280-C279","v":"00:00:00"}]
[null,{"$f":"C281-C280","v":"00:00:00"}]
[null,{"$f":"IF(C282=0,\"\",C282-C281)","v":""}]
[null,{"$f":"IF(C283=0,\"\",C283-C282)","v":""}]
[null,{"$f":"IF(C284=0,\"\",C284-C283)","v":""}]
[null,{"$f":"IF(C285=0,\"\",C285-C284)","v":""}]
[null,""]
[null,""]
[null,""]
[null,""]
[null,""]
[null,""]
[null,""]
[null,""]
[null,""]
[null,""]
[null,""]
[null,""]
[null,""]
[null,""]
[null,""]
[null,""]
[null,""]
[null,""]
[null,""]
[null,""]
[null,""]
[null,""]
[null,""]
[null,""]
[null,""]
[null,""]
[null,""]
[null,""]
[null,""]
[null,""]
[null,""]
[null,""]
[null,""]
[null,""]
[null,""]
[null,""]
[null,""]
[null,""]
[null,""]
[null,""]
[null,""]
[null,""]
[null,""]
[null,""]
[null,""]
[null,""]
[null,""]
[null,""]
[null,""]
[null,""]
[null,""]
[null,""]
[null,""]
[null,""]
[null,""]
[null,""]
[null,""]
[null,""]
[null,""]
[null,""]
[null,""]
[null,""]
[null,""]
[null,{"$f":"IF(C349=0,\"\",C349-C348)","v":""}]
[null,""]
[null,""]
[null,""]
[null,""]
[null,""]
[null,""]
[null,""]
[null,""]
[null,""]
[null,""]
[null,""]
[null,""]
[null,""]
[null,""]
[null,""]
[null,""]
[null,""]
[null,""]
[null,""]
[null,""]
[null,""]
[null,""]
[null,""]
[null,""]
[null,""]
[null,""]
[null,""]
[null,""]
[null,""]
[null,""]
[null,""]
[null,""]
[null,""]
[null,""]
[null,""]
[null,""]
[null,""]
[null,""]
[null,""]
[null,""]
[null,""]
[null,""]
[null,""]
[null,""]
[null,""]
[null,""]
[null,""]
[null,""]
[null,""]
[null,""]
[null,""]
[null,""]
[null,""]
[null,""]
[null,""]
[null,""]
[null,""]
[null,""]
[null,""]
[null,""]
[null,""]
[null,""]
[null,""]
[null,{"$f":"IF(C413=0,\"\",C413-C412)","v":""}]
[null,""]
[null,""]
[null,""]
[null,""]
[null,""]
[null,""]
[null,""]
[null,""]
[null,""]
[null,""]
[null,""]
[null,""]
[null,""]
[null,""]
[null,""]
[null,""]
[null,""]
[null,""]
[null,""]
[null,""]
[null,""]
[null,""]
[null,""]
[null,""]
[null,""]
[null,""]
[null,""]
[null,""]
[null,""]
[null,""]
[null,""]
[null,""]
[null,""]
[null,""]
[null,""]
[null,""]
[null,""]
[null,""]
[null,""]
[null,""]
[null,""]
[null,""]
[null,""]
[null,""]
[null,""]
[null,""]
[null,""]
[null,""]
[null,""]
[null,""]
[null,""]
[null,""]
[null,""]
[null,""]
[null,""]
[null,""]
[null,""]
[null,""]
[null,""]
[null,""]
[null,""]
[null,""]
[null,""]
[null,{"$f":"IF(C477=0,\"\",C477-C476)","v":""}]
[null,""]
[null,""]
[null,""]
[null,""]
[null,""]
[null,""]
[null,""]
[null,""]
[null,""]
[null,""]
[null,""]
[null,""]
[null,""]
[null,""]
[null,""]
[null,""]
[null,""]
[null,""]
[null,""]
[null,""]
[null,""]
[null,""]
[null,""]
[null,""]
[null,""]
[null,""]
[null,""]
[null,""]
[null,""]
[null,""]
[null,""]
[null,""]
[null,""]
[null,""]
[null,""]
[null,""]
[null,""]
[null,""]
[null,""]
[null,""]
[null,""]
[null,""]
[null,""]
[null,""]
[null,""]
[null,""]
[null,""]
[null,""]
[null,""]
[null,""]
[null,""]
[null,""]
[null,""]
[null,""]
[null,""]
[null,""]
[null,""]
[null,""]
[null,""]
[null,""]
[null,""]
[null,""]
[null,""]
[null,{"$f":"IF(C541=0,\"\",C541-C540)","v":""}]
[null,""]
[null,""]
[null,""]
[null,""]
[null,""]
[null,""]
[null,""]
[null,""]
[null,""]
[null,""]
[null,""]
[null,""]
[null,""]
[null,""]
[null,""]
[null,""]
[null,""]
[null,""]
[null,""]
[null,""]
[null,""]
[null,""]
[null,""]
[null,""]
[null,""]
[null,""]
[null,""]
[null,""]
[null,""]
[null,""]
[null,""]
[null,""]
[null,""]
[null,""]
[null,""]
[null,""]
[null,""]
[null,""]
[null,""]
[null,""]
[null,""]
[null,""]
[null,""]
[null,""]
[null,""]
[null,""]
[null,""]
[null,""]
[null,""]
[null,""]
[null,""]
[null,""]
[null,""]
[null,""]
[null,""]
[null,""]
[null,""]
[null,""]
[null,""]
[null,""]
[null,""]
[null,""]
[null,""]
[null,{"$f":"IF(C605=0,\"\",C605-C604)","v":""}]
[null,""]
[null,""]
[null,""]
[null,""]
[null,""]
[null,""]
[null,""]
[null,""]
[null,""]
[null,""]
[null,""]
[null,""]
[null,""]
[null,""]
[null,""]
[null,""]
[null,""]
[null,""]
[null,""]
[null,""]
[null,""]
[null,""]
[null,""]
[null,""]
[null,""]
[null,""]
[null,""]
[null,""]
[null,""]
[null,""]
[null,""]
[null,""]
[null,""]
[null,""]
[null,""]
[null,""]
[null,""]
[null,""]
[null,""]
[null,""]
[null,""]
[null,""]
[null,""]
[null,""]
[null,""]
[null,""]
[null,""]
[null,""]
[null,""]
[null,""]
[null,""]
[null,""]
[null,""]
[null,""]
[null,""]
[null,""]
[null,""]
[null,""]
[null,""]
[null,""]
[null,""]
[null,""]
[null,""]
[null,{"$f":"IF(C669=0,\"\",C669-C668)","v":""}]
[null,""]
[null,""]
[null,""]
[null,""]
[null,""]
[null,""]
[null,""]
[null,""]
[null,""]
[null,""]
[null,""]
[null,""]
[null,""]
[null,""]
[null,""]
[null,""]
[null,""]
[null,""]
[null,""]
[null,""]
[null,""]
[null,""]
[null,""]
[null,""]
[null,""]
[null,""]
[null,""]
[null,""]
[null,""]
[null,""]
[null,""]
[null,""]
[null,""]
[null,""]
[null,""]
[null,""]
[null,""]
[null,""]
[null,""]
[null,""]
[null,""]
[null,""]
[null,""]
[null,""]
[null,""]
[null,""]
[null,""]
[null,""]
[null,""]
[null,""]
[null,""]
[null,""]
[null,""]
[null,""]
[null,""]
[null,""]
[null,""]
[null,""]
[null,""]
[null,""]
[null,""]
[null,""]
[null,""]
[null,{"$f":"IF(C733=0,\"\",C733-C732)","v":""}]
[null,""]
[null,""]
[null,""]
[null,""]
[null,""]
[null,""]
[null,""]
[null,""]
[null,""]
[null,""]
[null,""]
[null,""]
[null,""]
[null,""]
[null,""]
[null,""]
[null,""]
[null,""]
[null,""]
[null,""]
[null,""]
[null,""]
[null,""]
[null,""]
[null,""]
[null,""]
[null,""]
[null,""]
[null,""]
[null,""]
[null,""]
[null,""]
[null,""]
[null,""]
[null,""]
[null,""]
[null,""]
[null,""]
[null,""]
[null,""]
[null,""]
[null,""]
[null,""]
[null,""]
[null,""]
[null,""]
[null,""]
[null,""]
[null,""]
[null,""]
[null,""]
[null,""]
[null,""]
[null,""]
[null,""]
[null,""]
[null,""]
[null,""]
[null,""]
[null,""]
[null,""]
[null,""]
[null,""]
[null,{"$f":"IF(C797=0,\"\",C797-C796)","v":""}]
[null,""]
[null,""]
[null,""]
[null,""]
[null,""]
[null,""]
[null,""]
[null,""]
[null,""]
[null,""]
[null,""]
[null,""]
[null,""]
[null,""]
[null,""]
[null,""]
[null,""]
[null,""]
[null,""]
[null,""]
[null,""]
[null,""]
[null,""]
[null,""]
[null,""]
[null,""]
[null,""]
[null,""]
[null,""]
[null,""]
[null,""]
[null,""]
[null,""]
[null,""]
[null,""]
[null,""]
[null,""]
[null,""]
[null,""]
[null,""]
[null,""]
[null,""]
[null,""]
[null,""]
[null,""]
[null,""]
[null,""]
[null,""]
[null,""]
[null,""]
[null,""]
[null,""]
[null,""]
[null,""]
[null,""]
[null,""]
[null,""]
[null,""]
[null,""]
[null,""]
[null,""]
[null,""]
[null,""]
[null,{"$f":"IF(C861=0,\"\",C861-C860)","v":""}]
[null,""]
[null,""]
[null,""]
[null,""]
[null,""]
[null,""]
[null,""]
[null,""]
[null,""]
[null,""]
[null,""]
[null,""]
[null,""]
[null,""]
[null,""]
[null,""]
[null,""]
[null,""]
[null,""]
[null,""]
[null,""]
[null,""]
[null,""]
[null,""]
[null,""]
[null,""]
[null,""]
[null,""]
[null,""]
[null,""]
[null,""]
[null,""]
[null,""]
[null,""]
[null,""]
[null,""]
[null,""]
[null,""]
[null,""]
[null,""]
[null,""]
[null,""]
[null,""]
[null,""]
[null,""]
[null,""]
[null,""]
[null,""]
[null,""]
[null,""]
[null,""]
[null,""]
[null,""]
[null,""]
[null,""]
[null,""]
[null,""]
[null,""]
[null,""]
[null,""]
[null,""]
[null,""]
[null,""]
[null,{"$f":"IF(C925=0,\"\",C925-C924)","v":""}]
[null,""]
[null,""]
[null,""]
[null,""]
[null,""]
[null,""]
[null,""]
[null,""]
[null,""]
[null,""]
[null,""]
[null,""]
[null,""]
[null,""]
[null,""]
[null,""]
[null,""]
[null,""]
[null,""]
[null,""]
[null,""]
[null,""]
[null,""]
[null,""]
[null,""]
[null,""]
[null,""]
[null,""]
[null,""]
[null,""]
[null,""]
[null,""]
[null,""]
[null,""]
[null,""]
[null,""]
[null,""]
[null,""]
[null,""]
[null,""]
[null,""]
[null,""]
[null,""]
[null,""]
[null,""]
[null,""]
[null,""]
[null,""]
[null,""]
[null,""]
[null,""]
[null,""]
[null,""]
[null,""]
[null,""]
[null,""]
[null,""]
[null,""]
[null,""]
[null,""]
[null,""]
[null,""]
[null,""]
[null,{"$f":"IF(C989=0,\"\",C989-C988)","v":""}]
[null,""]
[null,""]
[null,""]
[null,""]
[null,""]
[null,""]
[null,""]
[null,""]
[null,""]
[null,""]
[null,""]
[null,""]
[null,""]
[null,""]
[null,""]
[null,""]
[null,""]
[null,""]
[null,""]
[null,""]
[null,""]
[null,""]
[null,""]
[null,""]
[null,""]
[null,""]
[null,""]
[null,""]
[null,""]
[null,""]
[null,""]
[null,""]
[null,""]
[null,""]
[null,""]
[null,""]
[null,""]
[null,""]
[null,""]
[null,""]
[null,""]
[null,""]
[null,""]
[null,""]
[null,""]
[null,""]
[null,""]
[null,""]
[null,""]
[null,""]
[null,""]
[null,""]
[null,""]
[null,""]
[null,""]
[null,""]
[null,""]
[null,""]
[null,""]
[null,""]
[null,""]
[null,""]
[null,""]
[null,{"$f":"IF(C1053=0,\"\",C1053-C1052)","v":""}]
[null,""]
[null,""]
[null,""]
[null,""]
[null,""]
[null,""]
[null,""]
[null,""]
[null,""]
[null,""]
[null,""]
[null,""]
[null,""]
[null,""]
[null,""]
[null,""]
[null,""]
[null,""]
[null,""]
[null,""]
[null,""]
[null,""]
[null,""]
[null,""]
[null,""]
[null,""]
[null,""]
[null,""]
[null,""]
[null,""]
[null,""]
[null,""]
[null,""]
[null,""]
[null,""]
[null,""]
[null,""]
[null,""]
[null,""]
[null,""]
[null,""]
[null,""]
[null,""]
[null,""]
[null,""]
[null,""]
[null,""]
[null,""]
[null,""]
[null,""]
[null,""]
[null,""]
[null,""]
[null,""]
[null,""]
[null,""]
[null,""]
[null,""]
[null,""]
[null,""]
[null,""]
[null,""]
[null,""]
[null,{"$f":"IF(C1117=0,\"\",C1117-C1116)","v":""}]
[null,""]
[null,""]
[null,""]
[null,""]
[null,""]
[null,""]
[null,""]
[null,""]
[null,""]
[null,""]
[null,""]
[null,""]
[null,""]
[null,""]
[null,""]
[null,""]
[null,""]
[null,""]
[null,""]
[null,""]
[null,""]
[null,""]
[null,""]
[null,""]
[null,""]
[null,""]
[null,""]
[null,""]
[null,""]
[null,""]
[null,""]
[null,""]
[null,""]
[null,""]
[null,""]
[null,""]
[null,""]
[null,""]
[null,""]
[null,""]
[null,""]
[null,""]
[null,""]
[null,""]
[null,""]
[null,""]
[null,""]
[null,""]
[null,""]
[null,""]
[null,""]
[null,""]
[null,""]
[null,""]
[null,""]
[null,""]
[null,""]
[null,""]
[null,""]
[null,""]
[null,""]
[null,""]
[null,""]
[null,{"$f":"IF(C1181=0,\"\",C1181-C1180)","v":""}]
[null,""]
[null,""]
[null,""]
[null,""]
[null,""]
[null,""]
[null,""]
[null,""]
[null,""]
[null,""]
[null,""]
[null,""]
[null,""]
[null,""]
[null,""]
[null,""]
[null,""]
[null,""]
[null,""]
[null,""]
[null,""]
[null,""]
[null,""]
[null,""]
[null,""]
[null,""]
[null,""]
[null,""]
[null,""]
[null,""]
[null,""]
[null,""]
[null,""]
[null,""]
[null,""]
[null,""]
[null,""]
[null,""]
[null,""]
[null,""]
[null,""]
[null,""]
[null,""]
[null,""]
[null,""]
[null,""]
[null,""]
[null,""]
[null,""]
[null,""]
[null,""]
[null,""]
[null,""]
[null,""]
[null,""]
[null,""]
[null,""]
[null,""]
[null,""]
[null,""]
[null,""]
[null,""]
[null,""]
[null,{"$f":"IF(C1245=0,\"\",C1245-C1244)","v":""}]
[null,""]
[null,""]
[null,""]
[null,""]
[null,""]
[null,""]
[null,""]
[null,""]
[null,""]
[null,""]
[null,""]
[null,""]
[null,""]
[null,""]
[null,""]
[null,""]
[null,""]
[null,""]
[null,""]
[null,""]
[null,""]
[null,""]
[null,""]
[null,""]
[null,""]
[null,""]
[null,""]
[null,""]
[null,""]
[null,""]
[null,""]
[null,""]
[null,""]
[null,""]
[null,""]
[null,""]
[null,""]
[null,""]
[null,""]
[null,""]
[null,""]
[null,""]
[null,""]
[null,""]
[null,""]
[null,""]
[null,""]
[null,""]
[null,""]
[null,""]
[null,""]
[null,""]
[null,""]
[null,""]
[null,""]
[null,""]
[null,""]
[null,""]
[null,""]
[null,""]
[null,""]
[null,""]
[null,""]
[null,{"$f":"IF(C1309=0,\"\",C1309-C1308)","v":""}]
[null,""]
[null,""]
[null,""]
[null,""]
[null,""]
[null,""]
[null,""]
[null,""]
[null,""]
[null,""]
[null,""]
[null,""]
[null,""]
[null,""]
[null,""]
[null,""]
[null,""]
[null,""]
[null,""]
[null,""]
[null,""]
[null,""]
[null,""]
[null,""]
[null,""]
[null,""]
[null,""]
[null,""]
[null,""]
[null,""]
[null,""]
[null,""]
[null,""]
[null,""]
[null,""]
[null,""]
[null,""]
[null,""]
[null,""]
[null,""]
[null,""]
[null,""]
[null,""]
[null,""]
[null,""]
[null,""]
[null,""]
[null,""]
[null,""]
[null,""]
[null,""]
[null,""]
[null,""]
[null,""]
[null,""]
[null,""]
[null,""]
[null,""]
[null,""]
[null,""]
[null,""]
[null,""]
[null,""]
[null,{"$f":"IF(C1373=0,\"\",C1373-C1372)","v":""}]
[null,""]
[null,""]
[null,""]
[null,""]
[null,""]
[null,""]
[null,""]
[null,""]
[null,""]
[null,""]
[null,""]
[null,""]
[null,""]
[null,""]
[null,""]
[null,""]
[null,""]
[null,""]
[null,""]
[null,""]
[null,""]
[null,""]
[null,""]
[null,""]
[null,""]
[null,""]
[null,""]
[null,""]
[null,""]
[null,""]
[null,""]
[null,""]
[null,""]
[null,""]
[null,""]
[null,""]
[null,""]
[null,""]
[null,""]
[null,""]
[null,""]
[null,""]
[null,""]
[null,""]
[null,""]
[null,""]
[null,""]
[null,""]
[null,""]
[null,""]
[null,""]
[null,""]
[null,""]
[null,""]
[null,""]
[null,""]
[null,""]
[null,""]
[null,""]
[null,""]
[null,""]
[null,""]
[null,""]
[null,{"$f":"IF(C1437=0,\"\",C1437-C1436)","v":""}]
[null,""]
[null,""]
[null,""]
[null,""]
[null,""]
[null,""]
[null,""]
[null,""]
[null,""]
[null,""]
[null,""]
[null,""]
[null,""]
[null,""]
[null,""]
[null,""]
[null,""]
[null,""]
[null,""]
[null,""]
[null,""]
[null,""]
[null,""]
[null,""]
[null,""]
[null,""]
[null,""]
[null,""]
[null,""]
[null,""]
[null,""]
[null,""]
[null,""]
[null,""]
[null,""]
[null,""]
[null,""]
[null,""]
[null,""]
[null,""]
[null,""]
[null,""]
[null,""]
[null,""]
[null,""]
[null,""]
[null,""]
[null,""]
[null,""]
[null,""]
[null,""]
[null,""]
[null,""]
[null,""]
[null,""]
[null,""]
[null,""]
[null,""]
[null,""]
[null,""]
[null,""]
[null,""]
[null,""]
[null,{"$f":"IF(C1501=0,\"\",C1501-C1500)","v":""}]
[null,""]
[null,""]
[null,""]
[null,""]
[null,""]
[null,""]
[null,""]
[null,""]
[null,""]
[null,""]
[null,""]
[null,""]
[null,""]
[null,""]
[null,""]
[null,""]
[null,""]
[null,""]
[null,""]
[null,""]
[null,""]
[null,""]
[null,""]
[null,""]
[null,""]
[null,""]
[null,""]
[null,""]
[null,""]
[null,""]
[null,""]
[null,""]
[null,""]
[null,""]
[null,""]
[null,""]
[null,""]
[null,""]
[null,""]
[null,""]
[null,""]
[null,""]
[null,""]
[null,""]
[null,""]
[null,""]
[null,""]
[null,""]
[null,""]
[null,""]
[null,""]
[null,""]
[null,""]
[null,""]
[null,""]
[null,""]
[null,""]
[null,""]
[null,""]
[null,""]
[null,""]
[null,""]
[null,""]
[null,{"$f":"IF(C1565=0,\"\",C1565-C1564)","v":""}]
[null,""]
[null,""]
[null,""]
[null,""]
[null,""]
[null,""]
[null,""]
[null,""]
[null,""]
[null,""]
[null,""]
[null,""]
[null,""]
[null,""]
[null,""]
[null,""]
[null,""]
[null,""]
[null,""]
[null,""]
[null,""]
[null,""]
[null,""]
[null,""]
[null,""]
[null,""]
[null,""]
[null,""]
[null,""]
[null,""]
[null,""]
[null,""]
[null,""]
[null,""]
[null,""]
[null,""]
[null,""]
[null,""]
[null,""]
[null,""]
[null,""]
[null,""]
[null,""]
[null,""]
[null,""]
[null,""]
[null,""]
[null,""]
[null,""]
[null,""]
[null,""]
[null,""]
[null,""]
[null,""]
[null,""]
[null,""]
[null,""]
[null,""]
[null,""]
[null,""]
[null,""]
[null,""]
[null,""]
[null,{"$f":"IF(C1629=0,\"\",C1629-C1628)","v":""}]
[null,""]
[null,""]
[null,""]
[null,""]
[null,""]
[null,""]
[null,""]
[null,""]
[null,""]
[null,""]
[null,""]
[null,""]
[null,""]
[null,""]
[null,""]
[null,""]
[null,""]
[null,""]
[null,""]
[null,""]
[null,""]
[null,""]
[null,""]
[null,""]
[null,""]
[null,""]
[null,""]
[null,""]
[null,""]
[null,""]
[null,""]
[null,""]
[null,""]
[null,""]
[null,""]
[null,""]
[null,""]
[null,""]
[null,""]
[null,""]
[null,""]
[null,""]
[null,""]
[null,""]
[null,""]
[null,""]
[null,""]
[null,""]
[null,""]
[null,""]
[null,""]
[null,""]
[null,""]
[null,""]
[null,""]
[null,""]
[null,""]
[null,""]
[null,""]
[null,""]
[null,""]
[null,""]
[null,""]
[null,{"$f":"IF(C1693=0,\"\",C1693-C1692)","v":""}]
[null,""]
[null,""]
[null,""]
[null,""]
[null,""]
[null,""]
[null,""]
[null,""]
[null,""]
[null,""]
[null,""]
[null,""]
[null,""]
[null,""]
[null,""]
[null,""]
[null,""]
[null,""]
[null,""]
[null,""]
[null,""]
[null,""]
[null,""]
[null,""]
[null,""]
[null,""]
[null,""]
[null,""]
[null,""]
[null,""]
[null,""]
[null,""]
[null,""]
[null,""]
[null,""]
[null,""]
[null,""]
[null,""]
[null,""]
[null,""]
[null,""]
[null,""]
[null,""]
[null,""]
[null,""]
[null,""]
[null,""]
[null,""]
[null,""]
[null,""]
[null,""]
[null,""]
[null,""]
[null,""]
[null,""]
[null,""]
[null,""]
[null,""]
[null,""]
[null,""]
[null,""]
[null,""]
[null,""]
[null,{"$f":"IF(C1757=0,\"\",C1757-C1756)","v":""}]
[null,""]
[null,""]
[null,""]
[null,""]
[null,""]
[null,""]
[null,""]
[null,""]
[null,""]
[null,""]
[null,""]
[null,""]
[null,""]
[null,""]
[null,""]
[null,""]
[null,""]
[null,""]
[null,""]
[null,""]
[null,""]
[null,""]
[null,""]
[null,""]
[null,""]
[null,""]
[null,""]
[null,""]
[null,""]
[null,""]
[null,""]
[null,""]
[null,""]
[null,""]
[null,""]
[null,""]
[null,""]
[null,""]
[null,""]
[null,""]
[null,""]
[null,""]
[null,""]
[null,""]
[null,""]
[null,""]
[null,""]
[null,""]
[null,""]
[null,""]
[null,""]
[null,""]
[null,""]
[null,""]
[null,""]
[null,""]
[null,""]
[null,""]
[null,""]
[null,""]
[null,""]
[null,""]
[null,""]
[null,{"$f":"IF(C1821=0,\"\",C1821-C1820)","v":""}]
[null,""]
[null,""]
[null,""]
[null,""]
[null,""]
[null,""]
[null,""]
[null,""]
[null,""]
[null,""]
[null,""]
[null,""]
[null,""]
[null,""]
[null,""]
[null,""]
[null,""]
[null,""]
[null,""]
[null,""]
[null,""]
[null,""]
[null,""]
[null,""]
[null,""]
[null,""]
[null,""]
[null,""]
[null,""]
[null,""]
[null,""]
[null,""]
[null,""]
[null,""]
[null,""]
[null,""]
[null,""]
[null,""]
[null,""]
[null,""]
[null,""]
[null,""]
[null,""]
[null,""]
[null,""]
[null,""]
[null,""]
[null,""]
[null,""]
[null,""]
[null,""]
[null,""]
[null,""]
[null,""]
[null,""]
[null,""]
[null,""]
[null,""]
[null,""]
[null,""]
[null,""]
[null,""]
[null,""]
[null,{"$f":"IF(C1885=0,\"\",C1885-C1884)","v":""}]
[null,""]
[null,""]
[null,""]
[null,""]
[null,""]
[null,""]
[null,""]
[null,""]
[null,""]
[null,""]
[null,""]
[null,""]
[null,""]
[null,""]
[null,""]
[null,""]
[null,""]
[null,""]
[null,""]
[null,""]
[null,""]
[null,""]
[null,""]
[null,""]
[null,""]
[null,""]
[null,""]
[null,""]
[null,""]
[null,""]
[null,""]
[null,""]
[null,""]
[null,""]
[null,""]
[null,""]
[null,""]
[null,""]
[null,""]
[null,""]
[null,""]
[null,""]
[null,""]
[null,""]
[null,""]
[null,""]
[null,""]
[null,""]
[null,""]
[null,""]
[null,""]
[null,""]
[null,""]
[null,""]
[null,""]
[null,""]
[null,""]
[null,""]
[null,""]
[null,""]
[null,""]
[null,""]
[null,""]
[null,{"$f":"IF(C1949=0,\"\",C1949-C1948)","v":""}]
[null,""]
[null,""]
[null,""]
[null,""]
[null,""]
[null,""]
[null,""]
[null,""]
[null,""]
[null,""]
[null,""]
[null,""]
[null,""]
[null,""]
[null,""]
[null,""]
[null,""]
[null,""]
[null,""]
[null,""]
[null,""]
[null,""]
[null,""]
[null,""]
[null,""]
[null,""]
[null,""]
[null,""]
[null,""]
[null,""]
[null,""]
[null,""]
[null,""]
[null,""]
[null,""]
[null,""]
[null,""]
[null,""]
[null,""]
[null,""]
[null,""]
[null,""]
[null,""]
[null,""]
[null,""]
[null,""]
[null,""]
[null,""]
[null,""]
[null,""]
[null,""]
[null,""]
[null,""]
[null,""]
[null,""]
[null,""]
[null,""]
[null,""]
[null,""]
[null,""]
[null,""]
[null,""]
[null,""]
[null,{"$f":"IF(C2013=0,\"\",C2013-C2012)","v":""}]
[null,""]
[null,""]
[null,""]
[null,""]
[null,""]
[null,""]
[null,""]
[null,""]
[null,""]
[null,""]
[null,""]
[null,""]
[null,""]
[null,""]
[null,""]
[null,""]
[null,""]
[null,""]
[null,""]
[null,""]
[null,""]
[null,""]
[null,""]
[null,""]
[null,""]
[null,""]
[null,""]
[null,""]
[null,""]
[null,""]
[null,""]
[null,""]
[null,""]
[null,""]
[null,""]
[null,""]
[null,""]
[null,""]
[null,""]
[null,""]
[null,""]
[null,""]
[null,""]
[null,""]
[null,""]
[null,""]
[null,""]
[null,""]
[null,""]
[null,""]
[null,""]
[null,""]
[null,""]
[null,""]
[null,""]
[null,""]
[null,""]
[null,""]
[null,""]
[null,""]
[null,""]
[null,""]
[null,""]
[null,{"$f":"IF(C2077=0,\"\",C2077-C2076)","v":""}]
[null,""]
[null,""]
[null,""]
[null,""]
[null,""]
[null,""]
[null,""]
[null,""]
[null,""]
[null,""]
[null,""]
[null,""]
[null,""]
[null,""]
[null,""]
[null,""]
[null,""]
[null,""]
[null,""]
[null,""]
[null,""]
[null,""]
[null,""]
[null,""]
[null,""]
[null,""]
[null,""]
[null,""]
[null,""]
[null,""]
[null,""]
[null,""]
[null,""]
[null,""]
[null,""]
[null,""]
[null,""]
[null,""]
[null,""]
[null,""]
[null,""]
[null,""]
[null,""]
[null,""]
[null,""]
[null,""]
[null,""]
[null,""]
[null,""]
[null,""]
[null,""]
[null,""]
[null,""]
[null,""]
[null,""]
[null,""]
[null,""]
[null,""]
[null,""]
[null,""]
[null,""]
[null,""]
[null,""]
[null,{"$f":"IF(C2141=0,\"\",C2141-C2140)","v":""}]
[null,""]
[null,""]
[null,""]
[null,""]
[null,""]
[null,""]
[null,""]
[null,""]
[null,""]
[null,""]
[null,""]
[null,""]
[null,""]
[null,""]
[null,""]
[null,""]
[null,""]
[null,""]
[null,""]
[null,""]
[null,""]
[null,""]
[null,""]
[null,""]
[null,""]
[null,""]
[null,""]
[null,""]
[null,""]
[null,""]
[null,""]
[null,""]
[null,""]
[null,""]
[null,""]
[null,""]
[null,""]
[null,""]
[null,""]
[null,""]
[null,""]
[null,""]
[null,""]
[null,""]
[null,""]
[null,""]
[null,""]
[null,""]
[null,""]
[null,""]
[null,""]
[null,""]
[null,""]
[null,""]
[null,""]
[null,""]
[null,""]
[null,""]
[null,""]
[null,""]
[null,""]
[null,""]
[null,""]
[null,{"$f":"IF(C2205=0,\"\",C2205-C2204)","v":""}]
[null,""]
[null,""]
[null,""]
[null,""]
[null,""]
[null,""]
[null,""]
[null,""]
[null,""]
[null,""]
[null,""]
[null,""]
[null,""]
[null,""]
[null,""]
[null,""]
[null,""]
[null,""]
[null,""]
[null,""]
[null,""]
[null,""]
[null,""]
[null,""]
[null,""]
[null,""]
[null,""]
[null,""]
[null,""]
[null,""]
[null,""]
[null,""]
[null,""]
[null,""]
[null,""]
[null,""]
[null,""]
[null,""]
[null,""]
[null,""]
[null,""]
[null,""]
[null,""]
[null,""]
[null,""]
[null,""]
[null,""]
[null,""]
[null,""]
[null,""]
[null,""]
[null,""]
[null,""]
[null,""]
[null,""]
[null,""]
[null,""]
[null,""]
[null,""]
[null,""]
[null,""]
[null,""]
[null,""]
[null,{"$f":"IF(C2269=0,\"\",C2269-C2268)","v":""}]
[null,""]
[null,""]
[null,""]
[null,""]
[null,""]
[null,""]
[null,""]
[null,""]
[null,""]
[null,""]
[null,""]
[null,""]
[null,""]
[null,""]
[null,""]
[null,""]
[null,""]
[null,""]
[null,""]
[null,""]
[null,""]
[null,""]
[null,""]
[null,""]
[null,""]
[null,""]
[null,""]
[null,""]
[null,""]
[null,""]
[null,""]
[null,""]
[null,""]
[null,""]
[null,""]
[null,""]
[null,""]
[null,""]
[null,""]
[null,""]
[null,""]
[null,""]
[null,""]
[null,""]
[null,""]
[null,""]
[null,""]
[null,""]
[null,""]
[null,""]
[null,""]
[null,""]
[null,""]
[null,""]
[null,""]
[null,""]
[null,""]
[null,""]
[null,""]
[null,""]
[null,""]
[null,""]
[null,""]
[null,{"$f":"IF(C2333=0,\"\",C2333-C2332)","v":""}]
[null,""]
[null,""]
[null,""]
[null,""]
[null,""]
[null,""]
[null,""]
[null,""]
[null,""]
[null,""]
[null,""]
[null,""]
[null,""]
[null,""]
[null,""]
[null,""]
[null,""]
[null,""]
[null,""]
[null,""]
[null,""]
[null,""]
[null,""]
[null,""]
[null,""]
[null,""]
[null,""]
[null,""]
[null,""]
[null,""]
[null,""]
[null,""]
[null,""]
[null,""]
[null,""]
[null,""]
[null,""]
[null,""]
[null,""]
[null,""]
[null,""]
[null,""]
[null,""]
[null,""]
[null,""]
[null,""]
[null,""]
[null,""]
[null,""]
[null,""]
[null,""]
[null,""]
[null,""]
[null,""]
[null,""]
[null,""]
[null,""]
[null,""]
[null,""]
[null,""]
[null,""]
[null,""]
[null,""]
[null,{"$f":"IF(C2397=0,\"\",C2397-C2396)","v":""}]
[null,""]
[null,""]
[null,""]
[null,""]
[null,""]
[null,""]
[null,""]
[null,""]
[null,""]
[null,""]
[null,""]
[null,""]
[null,""]
[null,""]
[null,""]
[null,""]
[null,""]
[null,""]
[null,""]
[null,""]
[null,""]
[null,""]
[null,""]
[null,""]
[null,""]
[null,""]
[null,""]
[null,""]
[null,""]
[null,""]
[null,""]
[null,""]
[null,""]
[null,""]
[null,""]
[null,""]
[null,""]
[null,""]
[null,""]
[null,""]
[null,""]
[null,""]
[null,""]
[null,""]
[null,""]
[null,""]
[null,""]
[null,""]
[null,""]
[null,""]
[null,""]
[null,""]
[null,""]
[null,""]
[null,""]
[null,""]
[null,""]
[null,""]
[null,""]
[null,""]
[null,""]
[null,""]
[null,""]
[null,{"$f":"IF(C2461=0,\"\",C2461-C2460)","v":""}]
[null,""]
[null,""]
[null,""]
[null,""]
[null,""]
[null,""]
[null,""]
[null,""]
[null,""]
[null,""]
[null,""]
[null,""]
[null,""]
[null,""]
[null,""]
[null,""]
[null,""]
[null,""]
[null,""]
[null,""]
[null,""]
[null,""]
[null,""]
[null,""]
[null,""]
[null,""]
[null,""]
[null,""]
[null,""]
[null,""]
[null,""]
[null,""]
[null,""]
[null,""]
[null,""]
[null,""]
[null,""]
[null,""]
[null,""]
[null,""]
[null,""]
[null,""]
[null,""]
[null,""]
[null,""]
[null,""]
[null,""]
[null,""]
[null,""]
[null,""]
[null,""]
[null,""]
[null,""]
[null,""]
[null,""]
[null,""]
[null,""]
[null,""]
[null,""]
[null,""]
[null,""]
[null,""]
[null,""]
[null,{"$f":"IF(C2525=0,\"\",C2525-C2524)","v":""}]
[null,""]
[null,""]
[null,""]
[null,""]
[null,""]
[null,""]
[null,""]
[null,""]
[null,""]
[null,""]
[null,""]
[null,""]
[null,""]
[null,""]
[null,""]
[null,""]
[null,""]
[null,""]
[null,""]
[null,""]
[null,""]
[null,""]
[null,""]
[null,""]
[null,""]
[null,""]
[null,""]
[null,""]
[null,""]
[null,""]
[null,""]
[null,""]
[null,""]
[null,""]
[null,""]
[null,""]
[null,""]
[null,""]
[null,""]
[null,""]
[null,""]
[null,""]
[null,""]
[null,""]
[null,""]
[null,""]
[null,""]
[null,""]
[null,""]
[null,""]
[null,""]
[null,""]
[null,""]
[null,""]
[null,""]
[null,""]
[null,""]
[null,""]
[null,""]
[null,""]
[null,""]
[null,""]
[null,""]
[null,{"$f":"IF(C2589=0,\"\",C2589-C2588)","v":""}]
[null,""]
[null,""]
[null,""]
[null,""]
[null,""]
[null,""]
[null,""]
[null,""]
[null,""]
[null,""]
[null,""]
[null,""]
[null,""]
[null,""]
[null,""]
[null,""]
[null,""]
[null,""]
[null,""]
[null,""]
[null,""]
[null,""]
[null,""]
[null,""]
[null,""]
[null,""]
[null,""]
[null,""]
[null,""]
[null,""]
[null,""]
[null,""]
[null,""]
[null,""]
[null,""]
[null,""]
[null,""]
[null,""]
[null,""]
[null,""]
[null,""]
[null,""]
[null,""]
[null,""]
[null,""]
[null,""]
[null,""]
[null,""]
[null,""]
[null,""]
[null,""]
[null,""]
[null,""]
[null,""]
[null,""]
[null,""]
[null,""]
[null,""]
[null,""]
[null,""]
[null,""]
[null,""]
[null,""]
[null,{"$f":"IF(C2653=0,\"\",C2653-C2652)","v":""}]
[null,""]
[null,""]
[null,""]
[null,""]
[null,""]
[null,""]
[null,""]
[null,""]
[null,""]
[null,""]
[null,""]
[null,""]
[null,""]
[null,""]
[null,""]
[null,""]
[null,""]
[null,""]
[null,""]
[null,""]
[null,""]
[null,""]
[null,""]
[null,""]
[null,""]
[null,""]
[null,""]
[null,""]
[null,""]
[null,""]
[null,""]
[null,""]
[null,""]
[null,""]
[null,""]
[null,""]
[null,""]
[null,""]
[null,""]
[null,""]
[null,""]
[null,""]
[null,""]
[null,""]
[null,""]
[null,""]
[null,""]
[null,""]
[null,""]
[null,""]
[null,""]
[null,""]
[null,""]
[null,""]
[null,""]
[null,""]
[null,""]
[null,""]
[null,""]
[null,""]
[null,""]
[null,""]
[null,""]
[null,{"$f":"IF(C2717=0,\"\",C2717-C2716)","v":""}]
[null,""]
[null,""]
[null,""]
[null,""]
[null,""]
[null,""]
[null,""]
[null,""]
[null,""]
[null,""]
[null,""]
[null,""]
[null,""]
[null,""]
[null,""]
[null,""]
[null,""]
[null,""]
[null,""]
[null,""]
[null,""]
[null,""]
[null,""]
[null,""]
[null,""]
[null,""]
[null,""]
[null,""]
[null,""]
[null,""]
[null,""]
[null,""]
[null,""]
[null,""]
[null,""]
[null,""]
[null,""]
[null,""]
[null,""]
[null,""]
[null,""]
[null,""]
[null,""]
[null,""]
[null,""]
[null,""]
[null,""]
[null,""]
[null,""]
[null,""]
[null,""]
[null,""]
[null,""]
[null,""]
[null,""]
[null,""]
[null,""]
[null,""]
[null,""]
[null,""]
[null,""]
[null,""]
[null,""]
[null,{"$f":"IF(C2781=0,\"\",C2781-C2780)","v":""}]
[null,""]
[null,""]
[null,""]
[null,""]
[null,""]
[null,""]
[null,""]
[null,""]
[null,""]
[null,""]
[null,""]
[null,""]
[null,""]
[null,""]
[null,""]
[null,""]
[null,""]
[null,""]
[null,""]
[null,""]
[null,""]
[null,""]
[null,""]
[null,""]
[null,""]
[null,""]
[null,""]
[null,""]
[null,""]
[null,""]
[null,""]
[null,""]
[null,""]
[null,""]
[null,""]
[null,""]
[null,""]
[null,""]
[null,""]
[null,""]
[null,""]
[null,""]
[null,""]
[null,""]
[null,""]
[null,""]
[null,""]
[null,""]
[null,""]
[null,""]
[null,""]
[null,""]
[null,""]
[null,""]
[null,""]
[null,""]
[null,""]
[null,""]
[null,""]
[null,""]
[null,""]
[null,""]
[null,""]
[null,{"$f":"IF(C2845=0,\"\",C2845-C2844)","v":""}]
[null,""]
[null,""]
[null,""]
[null,""]
[null,""]
[null,""]
[null,""]
[null,""]
[null,""]
[null,""]
[null,""]
[null,""]
[null,""]
[null,""]
[null,""]
[null,""]
[null,""]
[null,""]
[null,""]
[null,""]
[null,""]
[null,""]
[null,""]
[null,""]
[null,""]
[null,""]
[null,""]
[null,""]
[null,""]
[null,""]
[null,""]
[null,""]
[null,""]
[null,""]
[null,""]
[null,""]
[null,""]
[null,""]
[null,""]
[null,""]
[null,""]
[null,""]
[null,""]
[null,""]
[null,""]
[null,""]
[null,""]
[null,""]
[null,""]
[null,""]
[null,""]
[null,""]
[null,""]
[null,""]
[null,""]
[null,""]
[null,""]
[null,""]
[null,""]
[null,""]
[null,""]
[null,""]
[null,""]
[null,{"$f":"IF(C2909=0,\"\",C2909-C2908)","v":""}]
[null,""]
[null,""]
[null,""]
[null,""]
[null,""]
[null,""]
[null,""]
[null,""]
[null,""]
[null,""]
[null,""]
[null,""]
[null,""]
[null,""]
[null,""]
[null,""]
[null,""]
[null,""]
[null,""]
[null,""]
[null,""]
[null,""]
[null,""]
[null,""]
[null,""]
[null,""]
[null,""]
[null,""]
[null,""]
[null,""]
[null,""]
[null,""]
[null,""]
[null,""]
[null,""]
[null,""]
[null,""]
[null,""]
[null,""]
[null,""]
[null,""]
[null,""]
[null,""]
[null,""]
[null,""]
[null,""]
[null,""]
[null,""]
[null,""]
[null,""]
[null,""]
[null,""]
[null,""]
[null,""]
[null,""]
[null,""]
[null,""]
[null,""]
[null,""]
[null,""]
[null,""]
[null,""]
[null,""]
[null,{"$f":"IF(C2973=0,\"\",C2973-C2972)","v":""}]
[null,""]
[null,""]
[null,""]
[null,""]
[null,""]
[null,""]
[null,""]
[null,""]
[null,""]
[null,""]
[null,""]
[null,""]
[null,""]
[null,""]
[null,""]
[null,""]
[null,""]
[null,""]
[null,""]
[null,""]
[null,""]
[null,""]
[null,""]
[null,""]
[null,""]
[null,""]
[null,""]
[null,""]
[null,""]
[null,""]
[null,""]
[null,""]
[null,""]
[null,""]
[null,""]
[null,""]
[null,""]
[null,""]
[null,""]
[null,""]
[null,""]
[null,""]
[null,""]
[null,""]
[null,""]
[null,""]
[null,""]
[null,""]
[null,""]
[null,""]
[null,""]
[null,""]
[null,""]
[null,""]
[null,""]
[null,""]
[null,""]
[null,""]
[null,""]
[null,""]
[null,""]
[null,""]
[null,""]
[null,{"$f":"IF(C3037=0,\"\",C3037-C3036)","v":""}]
[null,""]
[null,""]
[null,""]
[null,""]
[null,""]
[null,""]
[null,""]
[null,""]
[null,""]
[null,""]
[null,""]
[null,""]
[null,""]
[null,""]
[null,""]
[null,""]
[null,""]
[null,""]
[null,""]
[null,""]
[null,""]
[null,""]
[null,""]
[null,""]
[null,""]
[null,""]
[null,""]
[null,""]
[null,""]
[null,""]
[null,""]
[null,""]
[null,""]
[null,""]
[null,""]
[null,""]
[null,""]
[null,""]
[null,""]
[null,""]
[null,""]
[null,""]
[null,""]
[null,""]
[null,""]
[null,""]
[null,""]
[null,""]
[null,""]
[null,""]
[null,""]
[null,""]
[null,""]
[null,""]
[null,""]
[null,""]
[null,""]
[null,""]
[null,""]
[null,""]
[null,""]
[null,""]
[null,""]
[null,{"$f":"IF(C3101=0,\"\",C3101-C3100)","v":""}]
[null,""]
[null,""]
[null,""]
[null,""]
[null,""]
[null,""]
[null,""]
[null,""]
[null,""]
[null,""]
[null,""]
[null,""]
[null,""]
[null,""]
[null,""]
[null,""]
[null,""]
[null,""]
[null,""]
[null,""]
[null,""]
[null,""]
[null,""]
[null,""]
[null,""]
[null,""]
[null,""]
[null,""]
[null,""]
[null,""]
[null,""]
[null,""]
[null,""]
[null,""]
[null,""]
[null,""]
[null,""]
[null,""]
[null,""]
[null,""]
[null,""]
[null,""]
[null,""]
[null,""]
[null,""]
[null,""]
[null,""]
[null,""]
[null,""]
[null,""]
[null,""]
[null,""]
[null,""]
[null,""]
[null,""]
[null,""]
[null,""]
[null,""]
[null,""]
[null,""]
[null,""]
[null,""]
[null,""]
[null,{"$f":"IF(C3165=0,\"\",C3165-C3164)","v":""}]
[null,""]
[null,""]
[null,""]
[null,""]
[null,""]
[null,""]
[null,""]
[null,""]
[null,""]
[null,""]
[null,""]
[null,""]
[null,""]
[null,""]
[null,""]
[null,""]
[null,""]
[null,""]
[null,""]
[null,""]
[null,""]
[null,""]
[null,""]
[null,""]
[null,""]
[null,""]
[null,""]
[null,""]
[null,""]
[null,""]
[null,""]
[null,""]
[null,""]
[null,""]
[null,""]
[null,""]
[null,""]
[null,""]
[null,""]
[null,""]
[null,""]
[null,""]
[null,""]
[null,""]
[null,""]
[null,""]
[null,""]
[null,""]
[null,""]
[null,""]
[null,""]
[null,""]
[null,""]
[null,""]
[null,""]
[null,""]
[null,""]
[null,""]
[null,""]
[null,""]
[null,""]
[null,""]
[null,""]
[null,{"$f":"IF(C3229=0,\"\",C3229-C3228)","v":""}]
[null,""]
[null,""]
[null,""]
[null,""]
[null,""]
[null,""]
[null,""]
[null,""]
[null,""]
[null,""]
[null,""]
[null,""]
[null,""]
[null,""]
[null,""]
[null,""]
[null,""]
[null,""]
[null,""]
[null,""]
[null,""]
[null,""]
[null,""]
[null,""]
[null,""]
[null,""]
[null,""]
[null,""]
[null,""]
[null,""]
[null,""]
[null,""]
[null,""]
[null,""]
[null,""]
[null,""]
[null,""]
[null,""]
[null,""]
[null,""]
[null,""]
[null,""]
[null,""]
[null,""]
[null,""]
[null,""]
[null,""]
[null,""]
[null,""]
[null,""]
[null,""]
[null,""]
[null,""]
[null,""]
[null,""]
[null,""]
[null,""]
[null,""]
[null,""]
[null,""]
[null,""]
[null,""]
[null,""]
[null,{"$f":"IF(C3293=0,\"\",C3293-C3292)","v":""}]
[null,""]
[null,""]
[null,""]
[null,""]
[null,""]
[null,""]
[null,""]
[null,""]
[null,""]
[null,""]
[null,""]
[null,""]
[null,""]
[null,""]
[null,""]
[null,""]
[null,""]
[null,""]
[null,""]
[null,""]
[null,""]
[null,""]
[null,""]
[null,""]
[null,""]
[null,""]
[null,""]
[null,""]
[null,""]
[null,""]
[null,""]
[null,""]
[null,""]
[null,""]
[null,""]
[null,""]
[null,""]
[null,""]
[null,""]
[null,""]
[null,""]
[null,""]
[null,""]
[null,""]
[null,""]
[null,""]
[null,""]
[null,""]
[null,""]
[null,""]
[null,""]
[null,""]
[null,""]
[null,""]
[null,""]
[null,""]
[null,""]
[null,""]
[null,""]
[null,""]
[null,""]
[null,""]
[null,""]
[null,{"$f":"IF(C3357=0,\"\",C3357-C3356)","v":""}]
[null,""]
[null,""]
[null,""]
[null,""]
[null,""]
[null,""]
[null,""]
[null,""]
[null,""]
[null,""]
[null,""]
[null,""]
[null,""]
[null,""]
[null,""]
[null,""]
[null,""]
[null,""]
[null,""]
[null,""]
[null,""]
[null,""]
[null,""]
[null,""]
[null,""]
[null,""]
[null,""]
[null,""]
[null,""]
[null,""]
[null,""]
[null,""]
[null,""]
[null,""]
[null,""]
[null,""]
[null,""]
[null,""]
[null,""]
[null,""]
[null,""]
[null,""]
[null,""]
[null,""]
[null,""]
[null,""]
[null,""]
[null,""]
[null,""]
[null,""]
[null,""]
[null,""]
[null,""]
[null,""]
[null,""]
[null,""]
[null,""]
[null,""]
[null,""]
[null,""]
[null,""]
[null,""]
[null,""]
[null,{"$f":"IF(C3421=0,\"\",C3421-C3420)","v":""}]
[null,""]
[null,""]
[null,""]
[null,""]
[null,""]
[null,""]
[null,""]
[null,""]
[null,""]
[null,""]
[null,""]
[null,""]
[null,""]
[null,""]
[null,""]
[null,""]
[null,""]
[null,""]
[null,""]
[null,""]
[null,""]
[null,""]
[null,""]
[null,""]
[null,""]
[null,""]
[null,""]
[null,""]
[null,""]
[null,""]
[null,""]
[null,""]
[null,""]
[null,""]
[null,""]
[null,""]
[null,""]
[null,""]
[null,""]
[null,""]
[null,""]
[null,""]
[null,""]
[null,""]
[null,""]
[null,""]
[null,""]
[null,""]
[null,""]
[null,""]
[null,""]
[null,""]
[null,""]
[null,""]
[null,""]
[null,""]
[null,""]
[null,""]
[null,""]
[null,""]
[null,""]
[null,""]
[null,""]
[null,{"$f":"IF(C3485=0,\"\",C3485-C3484)","v":""}]
[null,""]
[null,""]
[null,""]
[null,""]
[null,""]
[null,""]
[null,""]
[null,""]
[null,""]
[null,""]
[null,""]
[null,""]
[null,""]
[null,""]
[null,""]
[null,""]
[null,""]
[null,""]
[null,""]
[null,""]
[null,""]
[null,""]
[null,""]
[null,""]
[null,""]
[null,""]
[null,""]
[null,""]
[null,""]
[null,""]
[null,""]
[null,""]
[null,""]
[null,""]
[null,""]
[null,""]
[null,""]
[null,""]
[null,""]
[null,""]
[null,""]
[null,""]
[null,""]
[null,""]
[null,""]
[null,""]
[null,""]
[null,""]
[null,""]
[null,""]
[null,""]
[null,""]
[null,""]
[null,""]
[null,""]
[null,""]
[null,""]
[null,""]
[null,""]
[null,""]
[null,""]
[null,""]
[null,""]
[null,{"$f":"IF(C3549=0,\"\",C3549-C3548)","v":""}]
[null,""]
[null,""]
[null,""]
[null,""]
[null,""]
[null,""]
[null,""]
[null,""]
[null,""]
[null,""]
[null,""]
[null,""]
[null,""]
[null,""]
[null,""]
[null,""]
[null,""]
[null,""]
[null,""]
[null,""]
[null,""]
[null,""]
[null,""]
[null,""]
[null,""]
[null,""]
[null,""]
[null,""]
[null,""]
[null,""]
[null,""]
[null,""]
[null,""]
[null,""]
[null,""]
[null,""]
[null,""]
[null,""]
[null,""]
[null,""]
[null,""]
[null,""]
[null,""]
[null,""]
[null,""]
[null,""]
[null,""]
[null,""]
[null,""]
[null,""]
[null,""]
[null,""]
[null,""]
[null,""]
[null,""]
[null,""]
[null,""]
[null,""]
[null,""]
[null,""]
[null,""]
[null,""]
[null,""]
[null,{"$f":"IF(C3613=0,\"\",C3613-C3612)","v":""}]
[null,""]
[null,""]
[null,""]
[null,""]
[null,""]
[null,""]
[null,""]
[null,""]
[null,""]
[null,""]
[null,""]
[null,""]
[null,""]
[null,""]
[null,""]
[null,""]
[null,""]
[null,""]
[null,""]
[null,""]
[null,""]
[null,""]
[null,""]
[null,""]
[null,""]
[null,""]
[null,""]
[null,""]
[null,""]
[null,""]
[null,""]
[null,""]
[null,""]
[null,""]
[null,""]
[null,""]
[null,""]
[null,""]
[null,""]
[null,""]
[null,""]
[null,""]
[null,""]
[null,""]
[null,""]
[null,""]
[null,""]
[null,""]
[null,""]
[null,""]
[null,""]
[null,""]
[null,""]
[null,""]
[null,""]
[null,""]
[null,""]
[null,""]
[null,""]
[null,""]
[null,""]
[null,""]
[null,""]
[null,{"$f":"IF(C3677=0,\"\",C3677-C3676)","v":""}]
[null,""]
[null,""]
[null,""]
[null,""]
[null,""]
[null,""]
[null,""]
[null,""]
[null,""]
[null,""]
[null,""]
[null,""]
[null,""]
[null,""]
[null,""]
[null,""]
[null,""]
[null,""]
[null,""]
[null,""]
[null,""]
[null,""]
[null,""]
[null,""]
[null,""]
[null,""]
[null,""]
[null,""]
[null,""]
[null,""]
[null,""]
[null,""]
[null,""]
[null,""]
[null,""]
[null,""]
[null,""]
[null,""]
[null,""]
[null,""]
[null,""]
[null,""]
[null,""]
[null,""]
[null,""]
[null,""]
[null,""]
[null,""]
[null,""]
[null,""]
[null,""]
[null,""]
[null,""]
[null,""]
[null,""]
[null,""]
[null,""]
[null,""]
[null,""]
[null,""]
[null,""]
[null,""]
[null,""]
[null,{"$f":"IF(C3741=0,\"\",C3741-C3740)","v":""}]
[null,""]
[null,""]
[null,""]
[null,""]
[null,""]
[null,""]
[null,""]
[null,""]
[null,""]
[null,""]
[null,""]
[null,""]
[null,""]
[null,""]
[null,""]
[null,""]
[null,""]
[null,""]
[null,""]
[null,""]
[null,""]
[null,""]
[null,""]
[null,""]
[null,""]
[null,""]
[null,""]
[null,""]
[null,""]
[null,""]
[null,""]
[null,""]
[null,""]
[null,""]
[null,""]
[null,""]
[null,""]
[null,""]
[null,""]
[null,""]
[null,""]
[null,""]
[null,""]
[null,""]
[null,""]
[null,""]
[null,""]
[null,""]
[null,""]
[null,""]
[null,""]
[null,""]
[null,""]
[null,""]
[null,""]
[null,""]
[null,""]
[null,""]
[null,""]
[null,""]
[null,""]
[null,""]
[null,""]
[null,{"$f":"IF(C3805=0,\"\",C3805-C3804)","v":""}]
[null,""]
[null,""]
[null,""]
[null,""]
[null,""]
[null,""]
[null,""]
[null,""]
[null,""]
[null,""]
[null,""]
[null,""]
[null,""]
[null,""]
[null,""]
[null,""]
[null,""]
[null,""]
[null,""]
[null,""]
[null,""]
[null,""]
[null,""]
[null,""]
[null,""]
[null,""]
[null,""]
[null,""]
[null,""]
[null,""]
[null,""]
[null,""]
[null,""]
[null,""]
[null,""]
[null,""]
[null,""]
[null,""]
[null,""]
[null,""]
[null,""]
[null,""]
[null,""]
[null,""]
[null,""]
[null,""]
[null,""]
[null,""]
[null,""]
[null,""]
[null,""]
[null,""]
[null,""]
[null,""]
[null,""]
[null,""]
[null,""]
[null,""]
[null,""]
[null,""]
[null,""]
[null,""]
[null,""]
[null,{"$f":"IF(C3869=0,\"\",C3869-C3868)","v":""}]
[null,""]
[null,""]
[null,""]
[null,""]
[null,""]
[null,""]
[null,""]
[null,""]
[null,""]
[null,""]
[null,""]
[null,""]
[null,""]
[null,""]
[null,""]
[null,""]
[null,""]
[null,""]
[null,""]
[null,""]
[null,""]
[null,""]
[null,""]
[null,""]
[null,""]
[null,""]
[null,""]
[null,""]
[null,""]
[null,""]
[null,""]
[null,""]
[null,""]
[null,""]
[null,""]
[null,""]
[null,""]
[null,""]
[null,""]
[null,""]
[null,""]
[null,""]
[null,""]
[null,""]
[null,""]
[null,""]
[null,""]
[null,""]
[null,""]
[null,""]
[null,""]
[null,""]
[null,""]
[null,""]
[null,""]
[null,""]
[null,""]
[null,""]
[null,""]
[null,""]
[null,""]
[null,""]
[null,""]
[null,{"$f":"IF(C3933=0,\"\",C3933-C3932)","v":""}]
[null,""]
[null,""]
[null,""]
[null,""]
[null,""]
[null,""]
[null,""]
[null,""]
[null,""]
[null,""]
[null,""]
[null,""]
[null,""]
[null,""]
[null,""]
[null,""]
[null,""]
[null,""]
[null,""]
[null,""]
[null,""]
[null,""]
[null,""]
[null,""]
[null,""]
[null,""]
[null,""]
[null,""]
[null,""]
[null,""]
[null,""]
[null,""]
[null,""]
[null,""]
[null,""]
[null,""]
[null,""]
[null,""]
[null,""]
[null,""]
[null,""]
[null,""]
[null,""]
[null,""]
[null,""]
[null,""]
[null,""]
[null,""]
[null,""]
[null,""]
[null,""]
[null,""]
[null,""]
[null,""]
[null,""]
[null,""]
[null,""]
[null,""]
[null,""]
[null,""]
[null,""]
[null,""]
[null,""]
[null,{"$f":"IF(C3997=0,\"\",C3997-C3996)","v":""}]
[null,""]
[null,""]
[null,""]
[null,""]
[null,""]
[null,""]
[null,""]
[null,""]
[null,""]
[null,""]
[null,""]
[null,""]
[null,""]
[null,""]
[null,""]
[null,""]
[null,""]
[null,""]
[null,""]
[null,""]
[null,""]
[null,""]
[null,""]
[null,""]
[null,""]
[null,""]
[null,""]
[null,""]
[null,""]
[null,""]
[null,""]
[null,""]
[null,""]
[null,""]
[null,""]
[null,""]
[null,""]
[null,""]
[null,""]
[null,""]
[null,""]
[null,""]
[null,""]
[null,""]
[null,""]
[null,""]
[null,""]
[null,""]
[null,""]
[null,""]
[null,""]
[null,""]
[null,""]
[null,""]
[null,""]
[null,""]
[null,""]
[null,""]
[null,""]
[null,""]
[null,""]
[null,""]
[null,""]
[null,{"$f":"IF(C4061=0,\"\",C4061-C4060)","v":""}]
[null,""]
[null,""]
[null,""]
[null,""]
[null,""]
[null,""]
[null,""]
[null,""]
[null,""]
[null,""]
[null,""]
[null,""]
[null,""]
[null,""]
[null,""]
[null,""]
[null,""]
[null,""]
[null,""]
[null,""]
[null,""]
[null,""]
[null,""]
[null,""]
[null,""]
[null,""]
[null,""]
[null,""]
[null,""]
[null,""]
[null,""]
[null,""]
[null,""]
[null,""]
[null,""]
[null,""]
[null,""]
[null,""]
[null,""]
[null,""]
[null,""]
[null,""]
[null,""]
[null,""]
[null,""]
[null,""]
[null,""]
[null,""]
[null,""]
[null,""]
[null,""]
[null,""]
[null,""]
[null,""]
[null,""]
[null,""]
[null,""]
[null,""]
[null,""]
[null,""]
[null,""]
[null,""]
[null,""]
[null,{"$f":"IF(C4125=0,\"\",C4125-C4124)","v":""}]
[null,""]
[null,""]
[null,""]
[null,""]
[null,""]
[null,""]
[null,""]
[null,""]
[null,""]
[null,""]
[null,""]
[null,""]
[null,""]
[null,""]
[null,""]
[null,""]
[null,""]
[null,""]
[null,""]
[null,""]
[null,""]
[null,""]
[null,""]
[null,""]
[null,""]
[null,""]
[null,""]
[null,""]
[null,""]
[null,""]
[null,""]
[null,""]
[null,""]
[null,""]
[null,""]
[null,""]
[null,""]
[null,""]
[null,""]
[null,""]
[null,""]
[null,""]
[null,""]
[null,""]
[null,""]
[null,""]
[null,""]
[null,""]
[null,""]
[null,""]
[null,""]
[null,""]
[null,""]
[null,""]
[null,""]
[null,""]
[null,""]
[null,""]
[null,""]
[null,""]
[null,""]
[null,""]
[null,""]
[null,{"$f":"IF(C4189=0,\"\",C4189-C4188)","v":""}]
[null,""]
[null,""]
[null,""]
[null,""]
[null,""]
[null,""]
[null,""]
[null,""]
[null,""]
[null,""]
[null,""]
[null,""]
[null,""]
[null,""]
[null,""]
[null,""]
[null,""]
[null,""]
[null,""]
[null,""]
[null,""]
[null,""]
[null,""]
[null,""]
[null,""]
[null,""]
[null,""]
[null,""]
[null,""]
[null,""]
[null,""]
[null,""]
[null,""]
[null,""]
[null,""]
[null,""]
[null,""]
[null,""]
[null,""]
[null,""]
[null,""]
[null,""]
[null,""]
[null,""]
[null,""]
[null,""]
[null,""]
[null,""]
[null,""]
[null,""]
[null,""]
[null,""]
[null,""]
[null,""]
[null,""]
[null,""]
[null,""]
[null,""]
[null,""]
[null,""]
[null,""]
[null,""]
[null,""]
[null,{"$f":"IF(C4253=0,\"\",C4253-C4252)","v":""}]
[null,""]
[null,""]
[null,""]
[null,""]
[null,""]
[null,""]
[null,""]
[null,""]
[null,""]
[null,""]
[null,""]
[null,""]
[null,""]
[null,""]
[null,""]
[null,""]
[null,""]
[null,""]
[null,""]
[null,""]
[null,""]
[null,""]
[null,""]
[null,""]
[null,""]
[null,""]
[null,""]
[null,""]
[null,""]
[null,""]
[null,""]
[null,""]
[null,""]
[null,""]
[null,""]
[null,""]
[null,""]
[null,""]
[null,""]
[null,""]
[null,""]
[null,""]
[null,""]
[null,""]
[null,""]
[null,""]
[null,""]
[null,""]
[null,""]
[null,""]
[null,""]
[null,""]
[null,""]
[null,""]
[null,""]
[null,""]
[null,""]
[null,""]
[null,""]
[null,""]
[null,""]
[null,""]
[null,""]
[null,{"$f":"IF(C4317=0,\"\",C4317-C4316)","v":""}]
[null,""]
[null,""]
[null,""]
[null,""]
[null,""]
[null,""]
[null,""]
[null,""]
[null,""]
[null,""]
[null,""]
[null,""]
[null,""]
[null,""]
[null,""]
[null,""]
[null,""]
[null,""]
[null,""]
[null,""]
[null,""]
[null,""]
[null,""]
[null,""]
[null,""]
[null,""]
[null,""]
[null,""]
[null,""]
[null,""]
[null,""]
[null,""]
[null,""]
[null,""]
[null,""]
[null,""]
[null,""]
[null,""]
[null,""]
[null,""]
[null,""]
[null,""]
[null,""]
[null,""]
[null,""]
[null,""]
[null,""]
[null,""]
[null,""]
[null,""]
[null,""]
[null,""]
[null,""]
[null,""]
[null,""]
[null,""]
[null,""]
[null,""]
[null,""]
[null,""]
[null,""]
[null,""]
[null,""]
[null,{"$f":"IF(C4381=0,\"\",C4381-C4380)","v":""}]
[null,""]
[null,""]
[null,""]
[null,""]
[null,""]
[null,""]
[null,""]
[null,""]
[null,""]
[null,""]
[null,""]
[null,""]
[null,""]
[null,""]
[null,""]
[null,""]
[null,""]
[null,""]
[null,""]
[null,""]
[null,""]
[null,""]
[null,""]
[null,""]
[null,""]
[null,""]
[null,""]
[null,""]
[null,""]
[null,""]
[null,""]
[null,""]
[null,""]
[null,""]
[null,""]
[null,""]
[null,""]
[null,""]
[null,""]
[null,""]
[null,""]
[null,""]
[null,""]
[null,""]
[null,""]
[null,""]
[null,""]
[null,""]
[null,""]
[null,""]
[null,""]
[null,""]
[null,""]
[null,""]
[null,""]
[null,""]
[null,""]
[null,""]
[null,""]
[null,""]
[null,""]
[null,""]
[null,""]
[null,{"$f":"IF(C4445=0,\"\",C4445-C4444)","v":""}]
[null,""]
[null,""]
[null,""]
[null,""]
[null,""]
[null,""]
[null,""]
[null,""]
[null,""]
[null,""]
[null,""]
[null,""]
[null,""]
[null,""]
[null,""]
[null,""]
[null,""]
[null,""]
[null,""]
[null,""]
[null,""]
[null,""]
[null,""]
[null,""]
[null,""]
[null,""]
[null,""]
[null,""]
[null,""]
[null,""]
[null,""]
[null,""]
[null,""]
[null,""]
[null,""]
[null,""]
[null,""]
[null,""]
[null,""]
[null,""]
[null,""]
[null,""]
[null,""]
[null,""]
[null,""]
[null,""]
[null,""]
[null,""]
[null,""]
[null,""]
[null,""]
[null,""]
[null,""]
[null,""]
[null,""]
[null,""]
[null,""]
[null,""]
[null,""]
[null,""]
[null,""]
[null,""]
[null,""]
[null,{"$f":"IF(C4509=0,\"\",C4509-C4508)","v":""}]
[null,""]
[null,""]
[null,""]
[null,""]
[null,""]
[null,""]
[null,""]
[null,""]
[null,""]
[null,""]
[null,""]
[null,""]
[null,""]
[null,""]
[null,""]
[null,""]
[null,""]
[null,""]
[null,""]
[null,""]
[null,""]
[null,""]
[null,""]
[null,""]
[null,""]
[null,""]
[null,""]
[null,""]
[null,""]
[null,""]
[null,""]
[null,""]
[null,""]
[null,""]
[null,""]
[null,""]
[null,""]
[null,""]
[null,""]
[null,""]
[null,""]
[null,""]
[null,""]
[null,""]
[null,""]
[null,""]
[null,""]
[null,""]
[null,""]
[null,""]
[null,""]
[null,""]
[null,""]
[null,""]
[null,""]
[null,""]
[null,""]
[null,""]
[null,""]
[null,""]
[null,""]
[null,""]
[null,""]
[null,{"$f":"IF(C4573=0,\"\",C4573-C4572)","v":""}]
[null,""]
[null,""]
[null,""]
[null,""]
[null,""]
[null,""]
[null,""]
[null,""]
[null,""]
[null,""]
[null,""]
[null,""]
[null,""]
[null,""]
[null,""]
[null,""]
[null,""]
[null,""]
[null,""]
[null,""]
[null,""]
[null,""]
[null,""]
[null,""]
[null,""]
[null,""]
[null,""]
[null,""]
[null,""]
[null,""]
[null,""]
[null,""]
[null,""]
[null,""]
[null,""]
[null,""]
[null,""]
[null,""]
[null,""]
[null,""]
[null,""]
[null,""]
[null,""]
[null,""]
[null,""]
[null,""]
[null,""]
[null,""]
[null,""]
[null,""]
[null,""]
[null,""]
[null,""]
[null,""]
[null,""]
[null,""]
[null,""]
[null,""]
[null,""]
[null,""]
[null,""]
[null,""]
[null,""]
[null,{"$f":"IF(C4637=0,\"\",C4637-C4636)","v":""}]
[null,""]
[null,""]
[null,""]
[null,""]
[null,""]
[null,""]
[null,""]
[null,""]
[null,""]
[null,""]
[null,""]
[null,""]
[null,""]
[null,""]
[null,""]
[null,""]
[null,""]
[null,""]
[null,""]
[null,""]
[null,""]
[null,""]
[null,""]
[null,""]
[null,""]
[null,""]
[null,""]
[null,""]
[null,""]
[null,""]
[null,""]
[null,""]
[null,""]
[null,""]
[null,""]
[null,""]
[null,""]
[null,""]
[null,""]
[null,""]
[null,""]
[null,""]
[null,""]
[null,""]
[null,""]
[null,""]
[null,""]
[null,""]
[null,""]
[null,""]
[null,""]
[null,""]
[null,""]
[null,""]
[null,""]
[null,""]
[null,""]
[null,""]
[null,""]
[null,""]
[null,""]
[null,""]
[null,""]
[null,{"$f":"IF(C4701=0,\"\",C4701-C4700)","v":""}]
[null,""]
[null,""]
[null,""]
[null,""]
[null,""]
[null,""]
[null,""]
[null,""]
[null,""]
[null,""]
[null,""]
[null,""]
[null,""]
[null,""]
[null,""]
[null,""]
[null,""]
[null,""]
[null,""]
[null,""]
[null,""]
[null,""]
[null,""]
[null,""]
[null,""]
[null,""]
[null,""]
[null,""]
[null,""]
[null,""]
[null,""]
[null,""]
[null,""]
[null,""]
[null,""]
[null,""]
[null,""]
[null,""]
[null,""]
[null,""]
[null,""]
[null,""]
[null,""]
[null,""]
[null,""]
[null,""]
[null,""]
[null,""]
[null,""]
[null,""]
[null,""]
[null,""]
[null,""]
[null,""]
[null,""]
[null,""]
[null,""]
[null,""]
[null,""]
[null,""]
[null,""]
[null,""]
[null,""]
[null,{"$f":"IF(C4765=0,\"\",C4765-C4764)","v":""}]
[null,""]
[null,""]
[null,""]
[null,""]
[null,""]
[null,""]
[null,""]
[null,""]
[null,""]
[null,""]
[null,""]
[null,""]
[null,""]
[null,""]
[null,""]
[null,""]
[null,""]
[null,""]
[null,""]
[null,""]
[null,""]
[null,""]
[null,""]
[null,""]
[null,""]
[null,""]
[null,""]
[null,""]
[null,""]
[null,""]
[null,""]
[null,""]
[null,""]
[null,""]
[null,""]
[null,""]
[null,""]
[null,""]
[null,""]
[null,""]
[null,""]
[null,""]
[null,""]
[null,""]
[null,""]
[null,""]
[null,""]
[null,""]
[null,""]
[null,""]
[null,""]
[null,""]
[null,""]
[null,""]
[null,""]
[null,""]
[null,""]
[null,""]
[null,""]
[null,""]
[null,""]
[null,""]
[null,""]
[null,{"$f":"IF(C4829=0,\"\",C4829-C4828)","v":""}]
[null,""]
[null,""]
[null,""]
[null,""]
[null,""]
[null,""]
[null,""]
[null,""]
[null,""]
[null,""]
[null,""]
[null,""]
[null,""]
[null,""]
[null,""]
[null,""]
[null,""]
[null,""]
[null,""]
[null,""]
[null,""]
[null,""]
[null,""]
[null,""]
[null,""]
[null,""]
[null,""]
[null,""]
[null,""]
[null,""]
[null,""]
[null,""]
[null,""]
[null,""]
[null,""]
[null,""]
[null,""]
[null,""]
[null,""]
[null,""]
[null,""]
[null,""]
[null,""]
[null,""]
[null,""]
[null,""]
[null,""]
[null,""]
[null,""]
[null,""]
[null,""]
[null,""]
[null,""]
[null,""]
[null,""]
[null,""]
[null,""]
[null,""]
[null,""]
[null,""]
[null,""]
[null,""]
[null,""]
[null,{"$f":"IF(C4893=0,\"\",C4893-C4892)","v":""}]
[null,""]
[null,""]
[null,""]
[null,""]
[null,""]
[null,""]
[null,""]
[null,""]
[null,""]
[null,""]
[null,""]
[null,""]
[null,""]
[null,""]
[null,""]
[null,""]
[null,""]
[null,""]
[null,""]
[null,""]
[null,""]
[null,""]
[null,""]
[null,""]
[null,""]
[null,""]
[null,""]
[null,""]
[null,""]
[null,""]
[null,""]
[null,""]
[null,""]
[null,""]
[null,""]
[null,""]
[null,""]
[null,""]
[null,""]
[null,""]
[null,""]
[null,""]
[null,""]
[null,""]
[null,""]
[null,""]
[null,""]
[null,""]
[null,""]
[null,""]
[null,""]
[null,""]
[null,""]
[null,""]
[null,""]
[null,""]
[null,""]
[null,""]
[null,""]
[null,""]
[null,""]
[null,""]
[null,""]
[null,{"$f":"IF(C4957=0,\"\",C4957-C4956)","v":""}]
[null,""]
[null,""]
[null,""]
[null,""]
[null,""]
[null,""]
[null,""]
[null,""]
[null,""]
[null,""]
[null,""]
[null,""]
[null,""]
[null,""]
[null,""]
[null,""]
[null,""]
[null,""]
[null,""]
[null,""]
[null,""]
[null,""]
[null,""]
[null,""]
[null,""]
[null,""]
[null,""]
[null,""]
[null,""]
[null,""]
[null,""]
[null,""]
[null,""]
[null,""]
[null,""]
[null,""]
[null,""]
[null,""]
[null,""]
[null,""]
[null,""]
[null,""]
[null,""]
[null,""]
[null,""]
[null,""]
[null,""]
[null,""]
[null,""]
[null,""]
[null,""]
[null,""]
[null,""]
[null,""]
[null,""]
[null,""]
[null,""]
[null,""]
[null,""]
[null,""]
[null,""]
[null,""]
[null,""]
[null,{"$f":"IF(C5021=0,\"\",C5021-C5020)","v":""}]
[null,""]
[null,""]
[null,""]
[null,""]
[null,""]
[null,""]
[null,""]
[null,""]
[null,""]
[null,""]
[null,""]
[null,""]
[null,""]
[null,""]
[null,""]
[null,""]
[null,""]
[null,""]
[null,""]
[null,""]
[null,""]
[null,""]
[null,""]
[null,""]
[null,""]
[null,""]
[null,""]
[null,""]
[null,""]
[null,""]
[null,""]
[null,""]
[null,""]
[null,""]
[null,""]
[null,""]
[null,""]
[null,""]
[null,""]
[null,""]
[null,""]
[null,""]
[null,""]
[null,""]
[null,""]
[null,""]
[null,""]
[null,""]
[null,""]
[null,""]
[null,""]
[null,""]
[null,""]
[null,""]
[null,""]
[null,""]
[null,""]
[null,""]
[null,""]
[null,""]
[null,""]
[null,""]
[null,""]
[null,{"$f":"IF(C5085=0,\"\",C5085-C5084)","v":""}]
[null,""]
[null,""]
[null,""]
[null,""]
[null,""]
[null,""]
[null,""]
[null,""]
[null,""]
[null,""]
[null,""]
[null,""]
[null,""]
[null,""]
[null,""]
[null,""]
[null,""]
[null,""]
[null,""]
[null,""]
[null,""]
[null,""]
[null,""]
[null,""]
[null,""]
[null,""]
[null,""]
[null,""]
[null,""]
[null,""]
[null,""]
[null,""]
[null,""]
[null,""]
[null,""]
[null,""]
[null,""]
[null,""]
[null,""]
[null,""]
[null,""]
[null,""]
[null,""]
[null,""]
[null,""]
[null,""]
[null,""]
[null,""]
[null,""]
[null,""]
[null,""]
[null,""]
[null,""]
[null,""]
[null,""]
[null,""]
[null,""]
[null,""]
[null,""]
[null,""]
[null,""]
[null,""]
[null,""]
[null,{"$f":"IF(C5149=0,\"\",C5149-C5148)","v":""}]
[null,""]
[null,""]
[null,""]
[null,""]
[null,""]
[null,""]
[null,""]
[null,""]
[null,""]
[null,""]
[null,""]
[null,""]
[null,""]
[null,""]
[null,""]
[null,""]
[null,""]
[null,""]
[null,""]
[null,""]
[null,""]
[null,""]
[null,""]
[null,""]
[null,""]
[null,""]
[null,""]
[null,""]
[null,""]
[null,""]
[null,""]
[null,""]
[null,""]
[null,""]
[null,""]
[null,""]
[null,""]
[null,""]
[null,""]
[null,""]
[null,""]
[null,""]
[null,""]
[null,""]
[null,""]
[null,""]
[null,""]
[null,""]
[null,""]
[null,""]
[null,""]
[null,""]
[null,""]
[null,""]
[null,""]
[null,""]
[null,""]
[null,""]
[null,""]
[null,""]
[null,""]
[null,""]
[null,""]
[null,{"$f":"IF(C5213=0,\"\",C5213-C5212)","v":""}]
[null,""]
[null,""]
[null,""]
[null,""]
[null,""]
[null,""]
[null,""]
[null,""]
[null,""]
[null,""]
[null,""]
[null,""]
[null,""]
[null,""]
[null,""]
[null,""]
[null,""]
[null,""]
[null,""]
[null,""]
[null,""]
[null,""]
[null,""]
[null,""]
[null,""]
[null,""]
[null,""]
[null,""]
[null,""]
[null,""]
[null,""]
[null,""]
[null,""]
[null,""]
[null,""]
[null,""]
[null,""]
[null,""]
[null,""]
[null,""]
[null,""]
[null,""]
[null,""]
[null,""]
[null,""]
[null,""]
[null,""]
[null,""]
[null,""]
[null,""]
[null,""]
[null,""]
[null,""]
[null,""]
[null,""]
[null,""]
[null,""]
[null,""]
[null,""]
[null,""]
[null,""]
[null,""]
[null,""]
[null,{"$f":"IF(C5277=0,\"\",C5277-C5276)","v":""}]
[null,""]
[null,""]
[null,""]
[null,""]
[null,""]
[null,""]
[null,""]
[null,""]
[null,""]
[null,""]
[null,""]
[null,""]
[null,""]
[null,""]
[null,""]
[null,""]
[null,""]
[null,""]
[null,""]
[null,""]
[null,""]
[null,""]
[null,""]
[null,""]
[null,""]
[null,""]
[null,""]
[null,""]
[null,""]
[null,""]
[null,""]
[null,""]
[null,""]
[null,""]
[null,""]
[null,""]
[null,""]
[null,""]
[null,""]
[null,""]
[null,""]
[null,""]
[null,""]
[null,""]
[null,""]
[null,""]
[null,""]
[null,""]
[null,""]
[null,""]
[null,""]
[null,""]
[null,""]
[null,""]
[null,""]
[null,""]
[null,""]
[null,""]
[null,""]
[null,""]
[null,""]
[null,""]
[null,""]
[null,{"$f":"IF(C5341=0,\"\",C5341-C5340)","v":""}]
[null,""]
[null,""]
[null,""]
[null,""]
[null,""]
[null,""]
[null,""]
[null,""]
[null,""]
[null,""]
[null,""]
[null,""]
[null,""]
[null,""]
[null,""]
[null,""]
[null,""]
[null,""]
[null,""]
[null,""]
[null,""]
[null,""]
[null,""]
[null,""]
[null,""]
[null,""]
[null,""]
[null,""]
[null,""]
[null,""]
[null,""]
[null,""]
[null,""]
[null,""]
[null,""]
[null,""]
[null,""]
[null,""]
[null,""]
[null,""]
[null,""]
[null,""]
[null,""]
[null,""]
[null,""]
[null,""]
[null,""]
[null,""]
[null,""]
[null,""]
[null,""]
[null,""]
[null,""]
[null,""]
[null,""]
[null,""]
[null,""]
[null,""]
[null,""]
[null,""]
[null,""]
[null,""]
[null,""]
[null,{"$f":"IF(C5405=0,\"\",C5405-C5404)","v":""}]
[null,""]
[null,""]
[null,""]
[null,""]
[null,""]
[null,""]
[null,""]
[null,""]
[null,""]
[null,""]
[null,""]
[null,""]
[null,""]
[null,""]
[null,""]
[null,""]
[null,""]
[null,""]
[null,""]
[null,""]
[null,""]
[null,""]
[null,""]
[null,""]
[null,""]
[null,""]
[null,""]
[null,""]
[null,""]
[null,""]
[null,""]
[null,""]
[null,""]
[null,""]
[null,""]
[null,""]
[null,""]
[null,""]
[null,""]
[null,""]
[null,""]
[null,""]
[null,""]
[null,""]
[null,""]
[null,""]
[null,""]
[null,""]
[null,""]
[null,""]
[null,""]
[null,""]
[null,""]
[null,""]
[null,""]
[null,""]
[null,""]
[null,""]
[null,""]
[null,""]
[null,""]
[null,""]
[null,""]
[null,{"$f":"IF(C5469=0,\"\",C5469-C5468)","v":""}]
[null,""]
[null,""]
[null,""]
[null,""]
[null,""]
[null,""]
[null,""]
[null,""]
[null,""]
[null,""]
[null,""]
[null,""]
[null,""]
[null,""]
[null,""]
[null,""]
[null,""]
[null,""]
[null,""]
[null,""]
[null,""]
[null,""]
[null,""]
[null,""]
[null,""]
[null,""]
[null,""]
[null,""]
[null,""]
[null,""]
[null,""]
[null,""]
[null,""]
[null,""]
[null,""]
[null,""]
[null,""]
[null,""]
[null,""]
[null,""]
[null,""]
[null,""]
[null,""]
[null,""]
[null,""]
[null,""]
[null,""]
[null,""]
[null,""]
[null,""]
[null,""]
[null,""]
[null,""]
[null,""]
[null,""]
[null,""]
[null,""]
[null,""]
[null,""]
[null,""]
[null,""]
[null,""]
[null,""]
[null,{"$f":"IF(C5533=0,\"\",C5533-C5532)","v":""}]
[null,""]
[null,""]
[null,""]
[null,""]
[null,""]
[null,""]
[null,""]
[null,""]
[null,""]
[null,""]
[null,""]
[null,""]
[null,""]
[null,""]
[null,""]
[null,""]
[null,""]
[null,""]
[null,""]
[null,""]
[null,""]
[null,""]
[null,""]
[null,""]
[null,""]
[null,""]
[null,""]
[null,""]
[null,""]
[null,""]
[null,""]
[null,""]
[null,""]
[null,""]
[null,""]
[null,""]
[null,""]
[null,""]
[null,""]
[null,""]
[null,""]
[null,""]
[null,""]
[null,""]
[null,""]
[null,""]
[null,""]
[null,""]
[null,""]
[null,""]
[null,""]
[null,""]
[null,""]
[null,""]
[null,""]
[null,""]
[null,""]
[null,""]
[null,""]
[null,""]
[null,""]
[null,""]
[null,""]
[null,{"$f":"IF(C5597=0,\"\",C5597-C5596)","v":""}]
[null,""]
[null,""]
[null,""]
[null,""]
[null,""]
[null,""]
[null,""]
[null,""]
[null,""]
[null,""]
[null,""]
[null,""]
[null,""]
[null,""]
[null,""]
[null,""]
[null,""]
[null,""]
[null,""]
[null,""]
[null,""]
[null,""]
[null,""]
[null,""]
[null,""]
[null,""]
[null,""]
[null,""]
[null,""]
[null,""]
[null,""]
[null,""]
[null,""]
[null,""]
[null,""]
[null,""]
[null,""]
[null,""]
[null,""]
[null,""]
[null,""]
[null,""]
[null,""]
[null,""]
[null,""]
[null,""]
[null,""]
[null,""]
[null,""]
[null,""]
[null,""]
[null,""]
[null,""]
[null,""]
[null,""]
[null,""]
[null,""]
[null,""]
[null,""]
[null,""]
[null,""]
[null,""]
[null,""]
[null,{"$f":"IF(C5661=0,\"\",C5661-C5660)","v":""}]
[null,""]
[null,""]
[null,""]
[null,""]
[null,""]
[null,""]
[null,""]
[null,""]
[null,""]
[null,""]
[null,""]
[null,""]
[null,""]
[null,""]
[null,""]
[null,""]
[null,""]
[null,""]
[null,""]
[null,""]
[null,""]
[null,""]
[null,""]
[null,""]
[null,""]
[null,""]
[null,""]
[null,""]
[null,""]
[null,""]
[null,""]
[null,""]
[null,""]
[null,""]
[null,""]
[null,""]
[null,""]
[null,""]
[null,""]
[null,""]
[null,""]
[null,""]
[null,""]
[null,""]
[null,""]
[null,""]
[null,""]
[null,""]
[null,""]
[null,""]
[null,""]
[null,""]
[null,""]
[null,""]
[null,""]
[null,""]
[null,""]
[null,""]
[null,""]
[null,""]
[null,""]
[null,""]
[null,""]
[null,{"$f":"IF(C5725=0,\"\",C5725-C5724)","v":""}]
[null,""]
[null,""]
[null,""]
[null,""]
[null,""]
[null,""]
[null,""]
[null,""]
[null,""]
[null,""]
[null,""]
[null,""]
[null,""]
[null,""]
[null,""]
[null,""]
[null,""]
[null,""]
[null,""]
[null,""]
[null,""]
[null,""]
[null,""]
[null,""]
[null,""]
[null,""]
[null,""]
[null,""]
[null,""]
[null,""]
[null,""]
[null,""]
[null,""]
[null,""]
[null,""]
[null,""]
[null,""]
[null,""]
[null,""]
[null,""]
[null,""]
[null,""]
[null,""]
[null,""]
[null,""]
[null,""]
[null,""]
[null,""]
[null,""]
[null,""]
[null,""]
[null,""]
[null,""]
[null,""]
[null,""]
[null,""]
[null,""]
[null,""]
[null,""]
[null,""]
[null,""]
[null,""]
[null,""]
[null,{"$f":"IF(C5789=0,\"\",C5789-C5788)","v":""}]
[null,""]
[null,""]
[null,""]
[null,""]
[null,""]
[null,""]
[null,""]
[null,""]
[null,""]
[null,""]
[null,""]
[null,""]
[null,""]
[null,""]
[null,""]
[null,""]
[null,""]
[null,""]
[null,""]
[null,""]
[null,""]
[null,""]
[null,""]
[null,""]
[null,""]
[null,""]
[null,""]
[null,""]
[null,""]
[null,""]
[null,""]
[null,""]
[null,""]
[null,""]
[null,""]
[null,""]
[null,""]
[null,""]
[null,""]
[null,""]
[null,""]
[null,""]
[null,""]
[null,""]
[null,""]
[null,""]
[null,""]
[null,""]
[null,""]
[null,""]
[null,""]
[null,""]
[null,""]
[null,""]
[null,""]
[null,""]
[null,""]
[null,""]
[null,""]
[null,""]
[null,""]
[null,""]
[null,""]
[null,{"$f":"IF(C5853=0,\"\",C5853-C5852)","v":""}]
[null,""]
[null,""]
[null,""]
[null,""]
[null,""]
[null,""]
[null,""]
[null,""]
[null,""]
[null,""]
[null,""]
[null,""]
[null,""]
[null,""]
[null,""]
[null,""]
[null,""]
[null,""]
[null,""]
[null,""]
[null,""]
[null,""]
[null,""]
[null,""]
[null,""]
[null,""]
[null,""]
[null,""]
[null,""]
[null,""]
[null,""]
[null,""]
[null,""]
[null,""]
[null,""]
[null,""]
[null,""]
[null,""]
[null,""]
[null,""]
[null,""]
[null,""]
[null,""]
[null,""]
[null,""]
[null,""]
[null,""]
[null,""]
[null,""]
[null,""]
[null,""]
[null,""]
[null,""]
[null,""]
[null,""]
[null,""]
[null,""]
[null,""]
[null,""]
[null,""]
[null,""]
[null,""]
[null,""]
[null,{"$f":"IF(C5917=0,\"\",C5917-C5916)","v":""}]
[null,""]
[null,""]
[null,""]
[null,""]
[null,""]
[null,""]
[null,""]
[null,""]
[null,""]
[null,""]
[null,""]
[null,""]
[null,""]
[null,""]
[null,""]
[null,""]
[null,""]
[null,""]
[null,""]
[null,""]
[null,""]
[null,""]
[null,""]
[null,""]
[null,""]
[null,""]
[null,""]
[null,""]
[null,""]
[null,""]
[null,""]
[null,""]
[null,""]
[null,""]
[null,""]
[null,""]
[null,""]
[null,""]
[null,""]
[null,""]
[null,""]
[null,""]
[null,""]
[null,""]
[null,""]
[null,""]
[null,""]
[null,""]
[null,""]
[null,""]
[null,""]
[null,""]
[null,""]
[null,""]
[null,""]
[null,""]
[null,""]
[null,""]
[null,""]
[null,""]
[null,""]
[null,""]
[null,""]
[null,{"$f":"IF(C5981=0,\"\",C5981-C5980)","v":""}]
[null,""]
[null,""]
[null,""]
[null,""]
[null,""]
[null,""]
[null,""]
[null,""]
[null,""]
[null,""]
[null,""]
[null,""]
[null,""]
[null,""]
[null,""]
[null,""]
[null,""]
[null,""]
[null,""]
[null,""]
[null,""]
[null,""]
[null,""]
[null,""]
[null,""]
[null,""]
[null,""]
[null,""]
[null,""]
[null,""]
[null,""]
[null,""]
[null,""]
[null,""]
[null,""]
[null,""]
[null,""]
[null,""]
[null,""]
[null,""]
[null,""]
[null,""]
[null,""]
[null,""]
[null,""]
[null,""]
[null,""]
[null,""]
[null,""]
[null,""]
[null,""]
[null,""]
[null,""]
[null,""]
[null,""]
[null,""]
[null,""]
[null,""]
[null,""]
[null,""]
[null,""]
[null,""]
[null,""]
[null,{"$f":"IF(C6045=0,\"\",C6045-C6044)","v":""}]
[null,""]
[null,""]
[null,""]
[null,""]
[null,""]
[null,""]
[null,""]
[null,""]
[null,""]
[null,""]
[null,""]
[null,""]
[null,""]
[null,""]
[null,""]
[null,""]
[null,""]
[null,""]
[null,""]
[null,""]
[null,""]
[null,""]
[null,""]
[null,""]
[null,""]
[null,""]
[null,""]
[null,""]
[null,""]
[null,""]
[null,""]
[null,""]
[null,""]
[null,""]
[null,""]
[null,""]
[null,""]
[null,""]
[null,""]
[null,""]
[null,""]
[null,""]
[null,""]
[null,""]
[null,""]
[null,""]
[null,""]
[null,""]
[null,""]
[null,""]
[null,""]
[null,""]
[null,""]
[null,""]
[null,""]
[null,""]
[null,""]
[null,""]
[null,""]
[null,""]
[null,""]
[null,""]
[null,""]
[null,{"$f":"IF(C6109=0,\"\",C6109-C6108)","v":""}]
[null,""]
[null,""]
[null,""]
[null,""]
[null,""]
[null,""]
[null,""]
[null,""]
[null,""]
[null,""]
[null,""]
[null,""]
[null,""]
[null,""]
[null,""]
[null,""]
[null,""]
[null,""]
[null,""]
[null,""]
[null,""]
[null,""]
[null,""]
[null,""]
[null,""]
[null,""]
[null,""]
[null,""]
[null,""]
[null,""]
[null,""]
[null,""]
[null,""]
[null,""]
[null,""]
[null,""]
[null,""]
[null,""]
[null,""]
[null,""]
[null,""]
[null,""]
[null,""]
[null,""]
[null,""]
[null,""]
[null,""]
[null,""]
[null,""]
[null,""]
[null,""]
[null,""]
[null,""]
[null,""]
[null,""]
[null,""]
[null,""]
[null,""]
[null,""]
[null,""]
[null,""]
[null,""]
[null,""]
[null,{"$f":"IF(C6173=0,\"\",C6173-C6172)","v":""}]
[null,""]
[null,""]
[null,""]
[null,""]
[null,""]
[null,""]
[null,""]
[null,""]
[null,""]
[null,""]
[null,""]
[null,""]
[null,""]
[null,""]
[null,""]
[null,""]
[null,""]
[null,""]
[null,""]
[null,""]
[null,""]
[null,""]
[null,""]
[null,""]
[null,""]
[null,""]
[null,""]
[null,""]
[null,""]
[null,""]
[null,""]
[null,""]
[null,""]
[null,""]
[null,""]
[null,""]
[null,""]
[null,""]
[null,""]
[null,""]
[null,""]
[null,""]
[null,""]
[null,""]
[null,""]
[null,""]
[null,""]
[null,""]
[null,""]
[null,""]
[null,""]
[null,""]
[null,""]
[null,""]
[null,""]
[null,""]
[null,""]
[null,""]
[null,""]
[null,""]
[null,""]
[null,""]
[null,""]
[null,{"$f":"IF(C6237=0,\"\",C6237-C6236)","v":""}]
[null,""]
[null,""]
[null,""]
[null,""]
[null,""]
[null,""]
[null,""]
[null,""]
[null,""]
[null,""]
[null,""]
[null,""]
[null,""]
[null,""]
[null,""]
[null,""]
[null,""]
[null,""]
[null,""]
[null,""]
[null,""]
[null,""]
[null,""]
[null,""]
[null,""]
[null,""]
[null,""]
[null,""]
[null,""]
[null,""]
[null,""]
[null,""]
[null,""]
[null,""]
[null,""]
[null,""]
[null,""]
[null,""]
[null,""]
[null,""]
[null,""]
[null,""]
[null,""]
[null,""]
[null,""]
[null,""]
[null,""]
[null,""]
[null,""]
[null,""]
[null,""]
[null,""]
[null,""]
[null,""]
[null,""]
[null,""]
[null,""]
[null,""]
[null,""]
[null,""]
[null,""]
[null,""]
[null,""]
[null,{"$f":"IF(C6301=0,\"\",C6301-C6300)","v":""}]
[null,""]
[null,""]
[null,""]
[null,""]
[null,""]
[null,""]
[null,""]
[null,""]
[null,""]
[null,""]
[null,""]
[null,""]
[null,""]
[null,""]
[null,""]
[null,""]
[null,""]
[null,""]
[null,""]
[null,""]
[null,""]
[null,""]
[null,""]
[null,""]
[null,""]
[null,""]
[null,""]
[null,""]
[null,""]
[null,""]
[null,""]
[null,""]
[null,""]
[null,""]
[null,""]
[null,""]
[null,""]
[null,""]
[null,""]
[null,""]
[null,""]
[null,""]
[null,""]
[null,""]
[null,""]
[null,""]
[null,""]
[null,""]
[null,""]
[null,""]
[null,""]
[null,""]
[null,""]
[null,""]
[null,""]
[null,""]
[null,""]
[null,""]
[null,""]
[null,""]
[null,""]
[null,""]
[null,""]
[null,{"$f":"IF(C6365=0,\"\",C6365-C6364)","v":""}]
[null,""]
[null,""]
[null,""]
[null,""]
[null,""]
[null,""]
[null,""]
[null,""]
[null,""]
[null,""]
[null,""]
[null,""]
[null,""]
[null,""]
[null,""]
[null,""]
[null,""]
[null,""]
[null,""]
[null,""]
[null,""]
[null,""]
[null,""]
[null,""]
[null,""]
[null,""]
[null,""]
[null,""]
[null,""]
[null,""]
[null,""]
[null,""]
[null,""]
[null,""]
[null,""]
[null,""]
[null,""]
[null,""]
[null,""]
[null,""]
[null,""]
[null,""]
[null,""]
[null,""]
[null,""]
[null,""]
[null,""]
[null,""]
[null,""]
[null,""]
[null,""]
[null,""]
[null,""]
[null,""]
[null,""]
[null,""]
[null,""]
[null,""]
[null,""]
[null,""]
[null,""]
[null,""]
[null,""]
[null,{"$f":"IF(C6429=0,\"\",C6429-C6428)","v":""}]
[null,""]
[null,""]
[null,""]
[null,""]
[null,""]
[null,""]
[null,""]
[null,""]
[null,""]
[null,""]
[null,""]
[null,""]
[null,""]
[null,""]
[null,""]
[null,""]
[null,""]
[null,""]
[null,""]
[null,""]
[null,""]
[null,""]
[null,""]
[null,""]
[null,""]
[null,""]
[null,""]
[null,""]
[null,""]
[null,""]
[null,""]
[null,""]
[null,""]
[null,""]
[null,""]
[null,""]
[null,""]
[null,""]
[null,""]
[null,""]
[null,""]
[null,""]
[null,""]
[null,""]
[null,""]
[null,""]
[null,""]
[null,""]
[null,""]
[null,""]
[null,""]
[null,""]
[null,""]
[null,""]
[null,""]
[null,""]
[null,""]
[null,""]
[null,""]
[null,""]
[null,""]
[null,""]
[null,""]
[null,{"$f":"IF(C6493=0,\"\",C6493-C6492)","v":""}]
[null,""]
[null,""]
[null,""]
[null,""]
[null,""]
[null,""]
[null,""]
[null,""]
[null,""]
[null,""]
[null,""]
[null,""]
[null,""]
[null,""]
[null,""]
[null,""]
[null,""]
[null,""]
[null,""]
[null,""]
[null,""]
[null,""]
[null,""]
[null,""]
[null,""]
[null,""]
[null,""]
[null,""]
[null,""]
[null,""]
[null,""]
[null,""]
[null,""]
[null,""]
[null,""]
[null,""]
[null,""]
[null,""]
[null,""]
[null,""]
[null,""]
[null,""]
[null,""]
[null,""]
[null,""]
[null,""]
[null,""]
[null,""]
[null,""]
[null,""]
[null,""]
[null,""]
[null,""]
[null,""]
[null,""]
[null,""]
[null,""]
[null,""]
[null,""]
[null,""]
[null,""]
[null,""]
[null,""]
[null,{"$f":"IF(C6557=0,\"\",C6557-C6556)","v":""}]
[null,""]
[null,""]
[null,""]
[null,""]
[null,""]
[null,""]
[null,""]
[null,""]
[null,""]
[null,""]
[null,""]
[null,""]
[null,""]
[null,""]
[null,""]
[null,""]
[null,""]
[null,""]
[null,""]
[null,""]
[null,""]
[null,""]
[null,""]
[null,""]
[null,""]
[null,""]
[null,""]
[null,""]
[null,""]
[null,""]
[null,""]
[null,""]
[null,""]
[null,""]
[null,""]
[null,""]
[null,""]
[null,""]
[null,""]
[null,""]
[null,""]
[null,""]
[null,""]
[null,""]
[null,""]
[null,""]
[null,""]
[null,""]
[null,""]
[null,""]
[null,""]
[null,""]
[null,""]
[null,""]
[null,""]
[null,""]
[null,""]
[null,""]
[null,""]
[null,""]
[null,""]
[null,""]
[null,""]
[null,{"$f":"IF(C6621=0,\"\",C6621-C6620)","v":""}]
[null,""]
[null,""]
[null,""]
[null,""]
[null,""]
[null,""]
[null,""]
[null,""]
[null,""]
[null,""]
[null,""]
[null,""]
[null,""]
[null,""]
[null,""]
[null,""]
[null,""]
[null,""]
[null,""]
[null,""]
[null,""]
[null,""]
[null,""]
[null,""]
[null,""]
[null,""]
[null,""]
[null,""]
[null,""]
[null,""]
[null,""]
[null,""]
[null,""]
[null,""]
[null,""]
[null,""]
[null,""]
[null,""]
[null,""]
[null,""]
[null,""]
[null,""]
[null,""]
[null,""]
[null,""]
[null,""]
[null,""]
[null,""]
[null,""]
[null,""]
[null,""]
[null,""]
[null,""]
[null,""]
[null,""]
[null,""]
[null,""]
[null,""]
[null,""]
[null,""]
[null,""]
[null,""]
[null,""]
[null,{"$f":"IF(C6685=0,\"\",C6685-C6684)","v":""}]
[null,""]
[null,""]
[null,""]
[null,""]
[null,""]
[null,""]
[null,""]
[null,""]
[null,""]
[null,""]
[null,""]
[null,""]
[null,""]
[null,""]
[null,""]
[null,""]
[null,""]
[null,""]
[null,""]
[null,""]
[null,""]
[null,""]
[null,""]
[null,""]
[null,""]
[null,""]
[null,""]
[null,""]
[null,""]
[null,""]
[null,""]
[null,""]
[null,""]
[null,""]
[null,""]
[null,""]
[null,""]
[null,""]
[null,""]
[null,""]
[null,""]
[null,""]
[null,""]
[null,""]
[null,""]
[null,""]
[null,""]
[null,""]
[null,""]
[null,""]
[null,""]
[null,""]
[null,""]
[null,""]
[null,""]
[null,""]
[null,""]
[null,""]
[null,""]
[null,""]
[null,""]
[null,""]
[null,""]
[null,{"$f":"IF(C6749=0,\"\",C6749-C6748)","v":""}]
[null,""]
[null,""]
[null,""]
[null,""]
[null,""]
[null,""]
[null,""]
[null,""]
[null,""]
[null,""]
[null,""]
[null,""]
[null,""]
[null,""]
[null,""]
[null,""]
[null,""]
[null,""]
[null,""]
[null,""]
[null,""]
[null,""]
[null,""]
[null,""]
[null,""]
[null,""]
[null,""]
[null,""]
[null,""]
[null,""]
[null,""]
[null,""]
[null,""]
[null,""]
[null,""]
[null,""]
[null,""]
[null,""]
[null,""]
[null,""]
[null,""]
[null,""]
[null,""]
[null,""]
[null,""]
[null,""]
[null,""]
[null,""]
[null,""]
[null,""]
[null,""]
[null,""]
[null,""]
[null,""]
[null,""]
[null,""]
[null,""]
[null,""]
[null,""]
[null,""]
[null,""]
[null,""]
[null,""]
[null,{"$f":"IF(C6813=0,\"\",C6813-C6812)","v":""}]
[null,""]
[null,""]
[null,""]
[null,""]
[null,""]
[null,""]
[null,""]
[null,""]
[null,""]
[null,""]
[null,""]
[null,""]
[null,""]
[null,""]
[null,""]
[null,""]
[null,""]
[null,""]
[null,""]
[null,""]
[null,""]
[null,""]
[null,""]
[null,""]
[null,""]
[null,""]
[null,""]
[null,""]
[null,""]
[null,""]
[null,""]
[null,""]
[null,""]
[null,""]
[null,""]
[null,""]
[null,""]
[null,""]
[null,""]
[null,""]
[null,""]
[null,""]
[null,""]
[null,""]
[null,""]
[null,""]
[null,""]
[null,""]
[null,""]
[null,""]
[null,""]
[null,""]
[null,""]
[null,""]
[null,""]
[null,""]
[null,""]
[null,""]
[null,""]
[null,""]
[null,""]
[null,""]
[null,""]
[null,{"$f":"IF(C6877=0,\"\",C6877-C6876)","v":""}]
[null,""]
[null,""]
[null,""]
[null,""]
[null,""]
[null,""]
[null,""]
[null,""]
[null,""]
[null,""]
[null,""]
[null,""]
[null,""]
[null,""]
[null,""]
[null,""]
[null,""]
[null,""]
[null,""]
[null,""]
[null,""]
[null,""]
[null,""]
[null,""]
[null,""]
[null,""]
[null,""]
[null,""]
[null,""]
[null,""]
[null,""]
[null,""]
[null,""]
[null,""]
[null,""]
[null,""]
[null,""]
[null,""]
[null,""]
[null,""]
[null,""]
[null,""]
[null,""]
[null,""]
[null,""]
[null,""]
[null,""]
[null,""]
[null,""]
[null,""]
[null,""]
[null,""]
[null,""]
[null,""]
[null,""]
[null,""]
[null,""]
[null,""]
[null,""]
[null,""]
[null,""]
[null,""]
[null,""]
[null,{"$f":"IF(C6941=0,\"\",C6941-C6940)","v":""}]
[null,""]
[null,""]
[null,""]
[null,""]
[null,""]
[null,""]
[null,""]
[null,""]
[null,""]
[null,""]
[null,""]
[null,""]
[null,""]
[null,""]
[null,""]
[null,""]
[null,""]
[null,""]
[null,""]
[null,""]
[null,""]
[null,""]
[null,""]
[null,""]
[null,""]
[null,""]
[null,""]
[null,""]
[null,""]
[null,""]
[null,""]
[null,""]
[null,""]
[null,""]
[null,""]
[null,""]
[null,""]
[null,""]
[null,""]
[null,""]
[null,""]
[null,""]
[null,""]
[null,""]
[null,""]
[null,""]
[null,""]
[null,""]
[null,""]
[null,""]
[null,""]
[null,""]
[null,""]
[null,""]
[null,""]
[null,""]
[null,""]
[null,""]
[null,""]
[null,""]
[null,""]
[null,""]
[null,""]
[null,{"$f":"IF(C7005=0,\"\",C7005-C7004)","v":""}]
[null,""]
[null,""]
[null,""]
[null,""]
[null,""]
[null,""]
[null,""]
[null,""]
[null,""]
[null,""]
[null,""]
[null,""]
[null,""]
[null,""]
[null,""]
[null,""]
[null,""]
[null,""]
[null,""]
[null,""]
[null,""]
[null,""]
[null,""]
[null,""]
[null,""]
[null,""]
[null,""]
[null,""]
[null,""]
[null,""]
[null,""]
[null,""]
[null,""]
[null,""]
[null,""]
[null,""]
[null,""]
[null,""]
[null,""]
[null,""]
[null,""]
[null,""]
[null,""]
[null,""]
[null,""]
[null,""]
[null,""]
[null,""]
[null,""]
[null,""]
[null,""]
[null,""]
[null,""]
[null,""]
[null,""]
[null,""]
[null,""]
[null,""]
[null,""]
[null,""]
[null,""]
[null,""]
[null,""]
[null,{"$f":"IF(C7069=0,\"\",C7069-C7068)","v":""}]
[null,""]
[null,""]
[null,""]
[null,""]
[null,""]
[null,""]
[null,""]
[null,""]
[null,""]
[null,""]
[null,""]
[null,""]
[null,""]
[null,""]
[null,""]
[null,""]
[null,""]
[null,""]
[null,""]
[null,""]
[null,""]
[null,""]
[null,""]
[null,""]
[null,""]
[null,""]
[null,""]
[null,""]
[null,""]
[null,""]
[null,""]
[null,""]
[null,""]
[null,""]
[null,""]
[null,""]
[null,""]
[null,""]
[null,""]
[null,""]
[null,""]
[null,""]
[null,""]
[null,""]
[null,""]
[null,""]
[null,""]
[null,""]
[null,""]
[null,""]
[null,""]
[null,""]
[null,""]
[null,""]
[null,""]
[null,""]
[null,""]
[null,""]
[null,""]
[null,""]
[null,""]
[null,""]
[null,""]
[null,{"$f":"IF(C7133=0,\"\",C7133-C7132)","v":""}]
[null,""]
[null,""]
[null,""]
[null,""]
[null,""]
[null,""]
[null,""]
[null,""]
[null,""]
[null,""]
[null,""]
[null,""]
[null,""]
[null,""]
[null,""]
[null,""]
[null,""]
[null,""]
[null,""]
[null,""]
[null,""]
[null,""]
[null,""]
[null,""]
[null,""]
[null,""]
[null,""]
[null,""]
[null,""]
[null,""]
[null,""]
[null,""]
[null,""]
[null,""]
[null,""]
[null,""]
[null,""]
[null,""]
[null,""]
[null,""]
[null,""]
[null,""]
[null,""]
[null,""]
[null,""]
[null,""]
[null,""]
[null,""]
[null,""]
[null,""]
[null,""]
[null,""]
[null,""]
[null,""]
[null,""]
[null,""]
[null,""]
[null,""]
[null,""]
[null,""]
[null,""]
[null,""]
[null,""]
[null,{"$f":"IF(C7197=0,\"\",C7197-C7196)","v":""}]
[null,""]
[null,""]
[null,""]
[null,""]
[null,""]
[null,""]
[null,""]
[null,""]
[null,""]
[null,""]
[null,""]
[null,""]
[null,""]
[null,""]
[null,""]
[null,""]
[null,""]
[null,""]
[null,""]
[null,""]
[null,""]
[null,""]
[null,""]
[null,""]
[null,""]
[null,""]
[null,""]
[null,""]
[null,""]
[null,""]
[null,""]
[null,""]
[null,""]
[null,""]
[null,""]
[null,""]
[null,""]
[null,""]
[null,""]
[null,""]
[null,""]
[null,""]
[null,""]
[null,""]
[null,""]
[null,""]
[null,""]
[null,""]
[null,""]
[null,""]
[null,""]
[null,""]
[null,""]
[null,""]
[null,""]
[null,""]
[null,""]
[null,""]
[null,""]
[null,""]
[null,""]
[null,""]
[null,""]
[null,{"$f":"IF(C7261=0,\"\",C7261-C7260)","v":""}]
[null,""]
[null,""]
[null,""]
[null,""]
[null,""]
[null,""]
[null,""]
[null,""]
[null,""]
[null,""]
[null,""]
[null,""]
[null,""]
[null,""]
[null,""]
[null,""]
[null,""]
[null,""]
[null,""]
[null,""]
[null,""]
[null,""]
[null,""]
[null,""]
[null,""]
[null,""]
[null,""]
[null,""]
[null,""]
[null,""]
[null,""]
[null,""]
[null,""]
[null,""]
[null,""]
[null,""]
[null,""]
[null,""]
[null,""]
[null,""]
[null,""]
[null,""]
[null,""]
[null,""]
[null,""]
[null,""]
[null,""]
[null,""]
[null,""]
[null,""]
[null,""]
[null,""]
[null,""]
[null,""]
[null,""]
[null,""]
[null,""]
[null,""]
[null,""]
[null,""]
[null,""]
[null,""]
[null,""]
[null,{"$f":"IF(C7325=0,\"\",C7325-C7324)","v":""}]
[null,""]
[null,""]
[null,""]
[null,""]
[null,""]
[null,""]
[null,""]
[null,""]
[null,""]
[null,""]
[null,""]
[null,""]
[null,""]
[null,""]
[null,""]
[null,""]
[null,""]
[null,""]
[null,""]
[null,""]
[null,""]
[null,""]
[null,""]
[null,""]
[null,""]
[null,""]
[null,""]
[null,""]
[null,""]
[null,""]
[null,""]
[null,""]
[null,""]
[null,""]
[null,""]
[null,""]
[null,""]
[null,""]
[null,""]
[null,""]
[null,""]
[null,""]
[null,""]
[null,""]
[null,""]
[null,""]
[null,""]
[null,""]
[null,""]
[null,""]
[null,""]
[null,""]
[null,""]
[null,""]
[null,""]
[null,""]
[null,""]
[null,""]
[null,""]
[null,""]
[null,""]
[null,""]
[null,""]
[null,{"$f":"IF(C7389=0,\"\",C7389-C7388)","v":""}]
[null,""]
[null,""]
[null,""]
[null,""]
[null,""]
[null,""]
[null,""]
[null,""]
[null,""]
[null,""]
[null,""]
[null,""]
[null,""]
[null,""]
[null,""]
[null,""]
[null,""]
[null,""]
[null,""]
[null,""]
[null,""]
[null,""]
[null,""]
[null,""]
[null,""]
[null,""]
[null,""]
[null,""]
[null,""]
[null,""]
[null,""]
[null,""]
[null,""]
[null,""]
[null,""]
[null,""]
[null,""]
[null,""]
[null,""]
[null,""]
[null,""]
[null,""]
[null,""]
[null,""]
[null,""]
[null,""]
[null,""]
[null,""]
[null,""]
[null,""]
[null,""]
[null,""]
[null,""]
[null,""]
[null,""]
[null,""]
[null,""]
[null,""]
[null,""]
[null,""]
[null,""]
[null,""]
[null,""]
[null,{"$f":"IF(C7453=0,\"\",C7453-C7452)","v":""}]
[null,""]
[null,""]
[null,""]
[null,""]
[null,""]
[null,""]
[null,""]
[null,""]
[null,""]
[null,""]
[null,""]
[null,""]
[null,""]
[null,""]
[null,""]
[null,""]
[null,""]
[null,""]
[null,""]
[null,""]
[null,""]
[null,""]
[null,""]
[null,""]
[null,""]
[null,""]
[null,""]
[null,""]
[null,""]
[null,""]
[null,""]
[null,""]
[null,""]
[null,""]
[null,""]
[null,""]
[null,""]
[null,""]
[null,""]
[null,""]
[null,""]
[null,""]
[null,""]
[null,""]
[null,""]
[null,""]
[null,""]
[null,""]
[null,""]
[null,""]
[null,""]
[null,""]
[null,""]
[null,""]
[null,""]
[null,""]
[null,""]
[null,""]
[null,""]
[null,""]
[null,""]
[null,""]
[null,""]
[null,{"$f":"IF(C7517=0,\"\",C7517-C7516)","v":""}]
[null,""]
[null,""]
[null,""]
[null,""]
[null,""]
[null,""]
[null,""]
[null,""]
[null,""]
[null,""]
[null,""]
[null,""]
[null,""]
[null,""]
[null,""]
[null,""]
[null,""]
[null,""]
[null,""]
[null,""]
[null,""]
[null,""]
[null,""]
[null,""]
[null,""]
[null,""]
[null,""]
[null,""]
[null,""]
[null,""]
[null,""]
[null,""]
[null,""]
[null,""]
[null,""]
[null,""]
[null,""]
[null,""]
[null,""]
[null,""]
[null,""]
[null,""]
[null,""]
[null,""]
[null,""]
[null,""]
[null,""]
[null,""]
[null,""]
[null,""]
[null,""]
[null,""]
[null,""]
[null,""]
[null,""]
[null,""]
[null,""]
[null,""]
[null,""]
[null,""]
[null,""]
[null,""]
[null,""]
[null,{"$f":"IF(C7581=0,\"\",C7581-C7580)","v":""}]
[null,""]
[null,""]
[null,""]
[null,""]
[null,""]
[null,""]
[null,""]
[null,""]
[null,""]
[null,""]
[null,""]
[null,""]
[null,""]
[null,""]
[null,""]
[null,""]
[null,""]
[null,""]
[null,""]
[null,""]
[null,""]
[null,""]
[null,""]
[null,""]
[null,""]
[null,""]
[null,""]
[null,""]
[null,""]
[null,""]
[null,""]
[null,""]
[null,""]
[null,""]
[null,""]
[null,""]
[null,""]
[null,""]
[null,""]
[null,""]
[null,""]
[null,""]
[null,""]
[null,""]
[null,""]
[null,""]
[null,""]
[null,""]
[null,""]
[null,""]
[null,""]
[null,""]
[null,""]
[null,""]
[null,""]
[null,""]
[null,""]
[null,""]
[null,""]
[null,""]
[null,""]
[null,""]
[null,""]
[null,{"$f":"IF(C7645=0,\"\",C7645-C7644)","v":""}]
[null,""]
[null,""]
[null,""]
[null,""]
[null,""]
[null,""]
[null,""]
[null,""]
[null,""]
[null,""]
[null,""]
[null,""]
[null,""]
[null,""]
[null,""]
[null,""]
[null,""]
[null,""]
[null,""]
[null,""]
[null,""]
[null,""]
[null,""]
[null,""]
[null,""]
[null,""]
[null,""]
[null,""]
[null,""]
[null,""]
[null,""]
[null,""]
[null,""]
[null,""]
[null,""]
[null,""]
[null,""]
[null,""]
[null,""]
[null,""]
[null,""]
[null,""]
[null,""]
[null,""]
[null,""]
[null,""]
[null,""]
[null,""]
[null,""]
[null,""]
[null,""]
[null,""]
[null,""]
[null,""]
[null,""]
[null,""]
[null,""]
[null,""]
[null,""]
[null,""]
[null,""]
[null,""]
[null,""]
[null,{"$f":"IF(C7709=0,\"\",C7709-C7708)","v":""}]
[null,""]
[null,""]
[null,""]
[null,""]
[null,""]
[null,""]
[null,""]
[null,""]
[null,""]
[null,""]
[null,""]
[null,""]
[null,""]
[null,""]
[null,""]
[null,""]
[null,""]
[null,""]
[null,""]
[null,""]
[null,""]
[null,""]
[null,""]
[null,""]
[null,""]
[null,""]
[null,""]
[null,""]
[null,""]
[null,""]
[null,""]
[null,""]
[null,""]
[null,""]
[null,""]
[null,""]
[null,""]
[null,""]
[null,""]
[null,""]
[null,""]
[null,""]
[null,""]
[null,""]
[null,""]
[null,""]
[null,""]
[null,""]
[null,""]
[null,""]
[null,""]
[null,""]
[null,""]
[null,""]
[null,""]
[null,""]
[null,""]
[null,""]
[null,""]
[null,""]
[null,""]
[null,""]
[null,""]
[null,{"$f":"IF(C7773=0,\"\",C7773-C7772)","v":""}]
[null,""]
[null,""]
[null,""]
[null,""]
[null,""]
[null,""]
[null,""]
[null,""]
[null,""]
[null,""]
[null,""]
[null,""]
[null,""]
[null,""]
[null,""]
[null,""]
[null,""]
[null,""]
[null,""]
[null,""]
[null,""]
[null,""]
[null,""]
[null,""]
[null,""]
[null,""]
[null,""]
[null,""]
[null,""]
[null,""]
[null,""]
[null,""]
[null,""]
[null,""]
[null,""]
[null,""]
[null,""]
[null,""]
[null,""]
[null,""]
[null,""]
[null,""]
[null,""]
[null,""]
[null,""]
[null,""]
[null,""]
[null,""]
[null,""]
[null,""]
[null,""]
[null,""]
[null,""]
[null,""]
[null,""]
[null,""]
[null,""]
[null,""]
[null,""]
[null,""]
[null,""]
[null,""]
[null,""]
[null,{"$f":"IF(C7837=0,\"\",C7837-C7836)","v":""}]
[null,""]
[null,""]
[null,""]
[null,""]
[null,""]
[null,""]
[null,""]
[null,""]
[null,""]
[null,""]
[null,""]
[null,""]
[null,""]
[null,""]
[null,""]
[null,""]
[null,""]
[null,""]
[null,""]
[null,""]
[null,""]
[null,""]
[null,""]
[null,""]
[null,""]
[null,""]
[null,""]
[null,""]
[null,""]
[null,""]
[null,""]
[null,""]
[null,""]
[null,""]
[null,""]
[null,""]
[null,""]
[null,""]
[null,""]
[null,""]
[null,""]
[null,""]
[null,""]
[null,""]
[null,""]
[null,""]
[null,""]
[null,""]
[null,""]
[null,""]
[null,""]
[null,""]
[null,""]
[null,""]
[null,""]
[null,""]
[null,""]
[null,""]
[null,""]
[null,""]
[null,""]
[null,""]
[null,""]
[null,{"$f":"IF(C7901=0,\"\",C7901-C7900)","v":""}]
[null,""]
[null,""]
[null,""]
[null,""]
[null,""]
[null,""]
[null,""]
[null,""]
[null,""]
[null,""]
[null,""]
[null,""]
[null,""]
[null,""]
[null,""]
[null,""]
[null,""]
[null,""]
[null,""]
[null,""]
[null,""]
[null,""]
[null,""]
[null,""]
[null,""]
[null,""]
[null,""]
[null,""]
[null,""]
[null,""]
[null,""]
[null,""]
[null,""]
[null,""]
[null,""]
[null,""]
[null,""]
[null,""]
[null,""]
[null,""]
[null,""]
[null,""]
[null,""]
[null,""]
[null,""]
[null,""]
[null,""]
[null,""]
[null,""]
[null,""]
[null,""]
[null,""]
[null,""]
[null,""]
[null,""]
[null,""]
[null,""]
[null,""]
[null,""]
[null,""]
[null,""]
[null,""]
[null,""]
[null,{"$f":"IF(C7965=0,\"\",C7965-C7964)","v":""}]
[null,""]
[null,""]
[null,""]
[null,""]
[null,""]
[null,""]
[null,""]
[null,""]
[null,""]
[null,""]
[null,""]
[null,""]
[null,""]
[null,""]
[null,""]
[null,""]
[null,""]
[null,""]
[null,""]
[null,""]
[null,""]
[null,""]
[null,""]
[null,""]
[null,""]
[null,""]
[null,""]
[null,""]
[null,""]
[null,""]
[null,""]
[null,""]
[null,""]
[null,""]
[null,""]
[null,""]
[null,""]
[null,""]
[null,""]
[null,""]
[null,""]
[null,""]
[null,""]
[null,""]
[null,""]
[null,""]
[null,""]
[null,""]
[null,""]
[null,""]
[null,""]
[null,""]
[null,""]
[null,""]
[null,""]
[null,""]
[null,""]
[null,""]
[null,""]
[null,""]
[null,""]
[null,""]
[null,""]
[null,{"$f":"IF(C8029=0,\"\",C8029-C8028)","v":""}]
[null,""]
[null,""]
[null,""]
[null,""]
[null,""]
[null,""]
[null,""]
[null,""]
[null,""]
[null,""]
[null,""]
[null,""]
[null,""]
[null,""]
[null,""]
[null,""]
[null,""]
[null,""]
[null,""]
[null,""]
[null,""]
[null,""]
[null,""]
[null,""]
[null,""]
[null,""]
[null,""]
[null,""]
[null,""]
[null,""]
[null,""]
[null,""]
[null,""]
[null,""]
[null,""]
[null,""]
[null,""]
[null,""]
[null,""]
[null,""]
[null,""]
[null,""]
[null,""]
[null,""]
[null,""]
[null,""]
[null,""]
[null,""]
[null,""]
[null,""]
[null,""]
[null,""]
[null,""]
[null,""]
[null,""]
[null,""]
[null,""]
[null,""]
[null,""]
[null,""]
[null,""]
[null,""]
[null,""]
[null,{"$f":"IF(C8093=0,\"\",C8093-C8092)","v":""}]
[null,""]
[null,""]
[null,""]
[null,""]
[null,""]
[null,""]
[null,""]
[null,""]
[null,""]
[null,""]
[null,""]
[null,""]
[null,""]
[null,""]
[null,""]
[null,""]
[null,""]
[null,""]
[null,""]
[null,""]
[null,""]
[null,""]
[null,""]
[null,""]
[null,""]
[null,""]
[null,""]
[null,""]
[null,""]
[null,""]
[null,""]
[null,""]
[null,""]
[null,""]
[null,""]
[null,""]
[null,""]
[null,""]
[null,""]
[null,""]
[null,""]
[null,""]
[null,""]
[null,""]
[null,""]
[null,""]
[null,""]
[null,""]
[null,""]
[null,""]
[null,""]
[null,""]
[null,""]
[null,""]
[null,""]
[null,""]
[null,""]
[null,""]
[null,""]
[null,""]
[null,""]
[null,""]
[null,""]
[null,{"$f":"IF(C8157=0,\"\",C8157-C8156)","v":""}]
[null,""]
[null,""]
[null,""]
[null,""]
[null,""]
[null,""]
[null,""]
[null,""]
[null,""]
[null,""]
[null,""]
[null,""]
[null,""]
[null,""]
[null,""]
[null,""]
[null,""]
[null,""]
[null,""]
[null,""]
[null,""]
[null,""]
[null,""]
[null,""]
[null,""]
[null,""]
[null,""]
[null,""]
[null,""]
[null,""]
[null,""]
[null,""]
[null,""]
[null,""]
[null,""]
[null,""]
[null,""]
[null,""]
[null,""]
[null,""]
[null,""]
[null,""]
[null,""]
[null,""]
[null,""]
[null,""]
[null,""]
[null,""]
[null,""]
[null,""]
[null,""]
[null,""]
[null,""]
[null,""]
[null,""]
[null,""]
[null,""]
[null,""]
[null,""]
[null,""]
[null,""]
[null,""]
[null,""]
[null,{"$f":"IF(C8221=0,\"\",C8221-C8220)","v":""}]
[null,""]
[null,""]
[null,""]
[null,""]
[null,""]
[null,""]
[null,""]
[null,""]
[null,""]
[null,""]
[null,""]
[null,""]
[null,""]
[null,""]
[null,""]
[null,""]
[null,""]
[null,""]
[null,""]
[null,""]
[null,""]
[null,""]
[null,""]
[null,""]
[null,""]
[null,""]
[null,""]
[null,""]
[null,""]
[null,""]
[null,""]
[null,""]
[null,""]
[null,""]
[null,""]
[null,""]
[null,""]
[null,""]
[null,""]
[null,""]
[null,""]
[null,""]
[null,""]
[null,""]
[null,""]
[null,""]
[null,""]
[null,""]
[null,""]
[null,""]
[null,""]
[null,""]
[null,""]
[null,""]
[null,""]
[null,""]
[null,""]
[null,""]
[null,""]
[null,""]
[null,""]
[null,""]
[null,""]
[null,{"$f":"IF(C8285=0,\"\",C8285-C8284)","v":""}]
[null,""]
[null,""]
[null,""]
[null,""]
[null,""]
[null,""]
[null,""]
[null,""]
[null,""]
[null,""]
[null,""]
[null,""]
[null,""]
[null,""]
[null,""]
[null,""]
[null,""]
[null,""]
[null,""]
[null,""]
[null,""]
[null,""]
[null,""]
[null,""]
[null,""]
[null,""]
[null,""]
[null,""]
[null,""]
[null,""]
[null,""]
[null,""]
[null,""]
[null,""]
[null,""]
[null,""]
[null,""]
[null,""]
[null,""]
[null,""]
[null,""]
[null,""]
[null,""]
[null,""]
[null,""]
[null,""]
[null,""]
[null,""]
[null,""]
[null,""]
[null,""]
[null,""]
[null,""]
[null,""]
[null,""]
[null,""]
[null,""]
[null,""]
[null,""]
[null,""]
[null,""]
[null,""]
[null,""]
[null,{"$f":"IF(C8349=0,\"\",C8349-C8348)","v":""}]
[null,""]
[null,""]
[null,""]
[null,""]
[null,""]
[null,""]
[null,""]
[null,""]
[null,""]
[null,""]
[null,""]
[null,""]
[null,""]
[null,""]
[null,""]
[null,""]
[null,""]
[null,""]
[null,""]
[null,""]
[null,""]
[null,""]
[null,""]
[null,""]
[null,""]
[null,""]
[null,""]
[null,""]
[null,""]
[null,""]
[null,""]
[null,""]
[null,""]
[null,""]
[null,""]
[null,""]
[null,""]
[null,""]
[null,""]
[null,""]
[null,""]
[null,""]
[null,""]
[null,""]
[null,""]
[null,""]
[null,""]
[null,""]
[null,""]
[null,""]
[null,""]
[null,""]
[null,""]
[null,""]
[null,""]
[null,""]
[null,""]
[null,""]
[null,""]
[null,""]
[null,""]
[null,""]
[null,""]
[null,{"$f":"IF(C8413=0,\"\",C8413-C8412)","v":""}]
[null,""]
[null,""]
[null,""]
[null,""]
[null,""]
[null,""]
[null,""]
[null,""]
[null,""]
[null,""]
[null,""]
[null,""]
[null,""]
[null,""]
[null,""]
[null,""]
[null,""]
[null,""]
[null,""]
[null,""]
[null,""]
[null,""]
[null,""]
[null,""]
[null,""]
[null,""]
[null,""]
[null,""]
[null,""]
[null,""]
[null,""]
[null,""]
[null,""]
[null,""]
[null,""]
[null,""]
[null,""]
[null,""]
[null,""]
[null,""]
[null,""]
[null,""]
[null,""]
[null,""]
[null,""]
[null,""]
[null,""]
[null,""]
[null,""]
[null,""]
[null,""]
[null,""]
[null,""]
[null,""]
[null,""]
[null,""]
[null,""]
[null,""]
[null,""]
[null,""]
[null,""]
[null,""]
[null,""]
[null,{"$f":"IF(C8477=0,\"\",C8477-C8476)","v":""}]
[null,""]
[null,""]
[null,""]
[null,""]
[null,""]
[null,""]
[null,""]
[null,""]
[null,""]
[null,""]
[null,""]
[null,""]
[null,""]
[null,""]
[null,""]
[null,""]
[null,""]
[null,""]
[null,""]
[null,""]
[null,""]
[null,""]
[null,""]
[null,""]
[null,""]
[null,""]
[null,""]
[null,""]
[null,""]
[null,""]
[null,""]
[null,""]
[null,""]
[null,""]
[null,""]
[null,""]
[null,""]
[null,""]
[null,""]
[null,""]
[null,""]
[null,""]
[null,""]
[null,""]
[null,""]
[null,""]
[null,""]
[null,""]
[null,""]
[null,""]
[null,""]
[null,""]
[null,""]
[null,""]
[null,""]
[null,""]
[null,""]
[null,""]
[null,""]
[null,""]
[null,""]
[null,""]
[null,""]
[null,{"$f":"IF(C8541=0,\"\",C8541-C8540)","v":""}]
[null,""]
[null,""]
[null,""]
[null,""]
[null,""]
[null,""]
[null,""]
[null,""]
[null,""]
[null,""]
[null,""]
[null,""]
[null,""]
[null,""]
[null,""]
[null,""]
[null,""]
[null,""]
[null,""]
[null,""]
[null,""]
[null,""]
[null,""]
[null,""]
[null,""]
[null,""]
[null,""]
[null,""]
[null,""]
[null,""]
[null,""]
[null,""]
[null,""]
[null,""]
[null,""]
[null,""]
[null,""]
[null,""]
[null,""]
[null,""]
[null,""]
[null,""]
[null,""]
[null,""]
[null,""]
[null,""]
[null,""]
[null,""]
[null,""]
[null,""]
[null,""]
[null,""]
[null,""]
[null,""]
[null,""]
[null,""]
[null,""]
[null,""]
[null,""]
[null,""]
[null,""]
[null,""]
[null,""]
[null,{"$f":"IF(C8605=0,\"\",C8605-C8604)","v":""}]
[null,""]
[null,""]
[null,""]
[null,""]
[null,""]
[null,""]
[null,""]
[null,""]
[null,""]
[null,""]
[null,""]
[null,""]
[null,""]
[null,""]
[null,""]
[null,""]
[null,""]
[null,""]
[null,""]
[null,""]
[null,""]
[null,""]
[null,""]
[null,""]
[null,""]
[null,""]
[null,""]
[null,""]
[null,""]
[null,""]
[null,""]
[null,""]
[null,""]
[null,""]
[null,""]
[null,""]
[null,""]
[null,""]
[null,""]
[null,""]
[null,""]
[null,""]
[null,""]
[null,""]
[null,""]
[null,""]
[null,""]
[null,""]
[null,""]
[null,""]
[null,""]
[null,""]
[null,""]
[null,""]
[null,""]
[null,""]
[null,""]
[null,""]
[null,""]
[null,""]
[null,""]
[null,""]
[null,""]
[null,{"$f":"IF(C8669=0,\"\",C8669-C8668)","v":""}]
[null,""]
[null,""]
[null,""]
[null,""]
[null,""]
[null,""]
[null,""]
[null,""]
[null,""]
[null,""]
[null,""]
[null,""]
[null,""]
[null,""]
[null,""]
[null,""]
[null,""]
[null,""]
[null,""]
[null,""]
[null,""]
[null,""]
[null,""]
[null,""]
[null,""]
[null,""]
[null,""]
[null,""]
[null,""]
[null,""]
[null,""]
[null,""]
[null,""]
[null,""]
[null,""]
[null,""]
[null,""]
[null,""]
[null,""]
[null,""]
[null,""]
[null,""]
[null,""]
[null,""]
[null,""]
[null,""]
[null,""]
[null,""]
[null,""]
[null,""]
[null,""]
[null,""]
[null,""]
[null,""]
[null,""]
[null,""]
[null,""]
[null,""]
[null,""]
[null,""]
[null,""]
[null,""]
[null,""]
[null,{"$f":"IF(C8733=0,\"\",C8733-C8732)","v":""}]
[null,""]
[null,""]
[null,""]
[null,""]
[null,""]
[null,""]
[null,""]
[null,""]
[null,""]
[null,""]
[null,""]
[null,""]
[null,""]
[null,""]
[null,""]
[null,""]
[null,""]
[null,""]
[null,""]
[null,""]
[null,""]
[null,""]
[null,""]
[null,""]
[null,""]
[null,""]
[null,""]
[null,""]
[null,""]
[null,""]
[null,""]
[null,""]
[null,""]
[null,""]
[null,""]
[null,""]
[null,""]
[null,""]
[null,""]
[null,""]
[null,""]
[null,""]
[null,""]
[null,""]
[null,""]
[null,""]
[null,""]
[null,""]
[null,""]
[null,""]
[null,""]
[null,""]
[null,""]
[null,""]
[null,""]
[null,""]
[null,""]
[null,""]
[null,""]
[null,""]
[null,""]
[null,""]
[null,""]
[null,{"$f":"IF(C8797=0,\"\",C8797-C8796)","v":""}]
[null,""]
[null,""]
[null,""]
[null,""]
[null,""]
[null,""]
[null,""]
[null,""]
[null,""]
[null,""]
[null,""]
[null,""]
[null,""]
[null,""]
[null,""]
[null,""]
[null,""]
[null,""]
[null,""]
[null,""]
[null,""]
[null,""]
[null,""]
[null,""]
[null,""]
[null,""]
[null,""]
[null,""]
[null,""]
[null,""]
[null,""]
[null,""]
[null,""]
[null,""]
[null,""]
[null,""]
[null,""]
[null,""]
[null,""]
[null,""]
[null,""]
[null,""]
[null,""]
[null,""]
[null,""]
[null,""]
[null,""]
[null,""]
[null,""]
[null,""]
[null,""]
[null,""]
[null,""]
[null,""]
[null,""]
[null,""]
[null,""]
[null,""]
[null,""]
[null,""]
[null,""]
[null,""]
[null,""]
[null,{"$f":"IF(C8861=0,\"\",C8861-C8860)","v":""}]
[null,""]
[null,""]
[null,""]
[null,""]
[null,""]
[null,""]
[null,""]
[null,""]
[null,""]
[null,""]
[null,""]
[null,""]
[null,""]
[null,""]
[null,""]
[null,""]
[null,""]
[null,""]
[null,""]
[null,""]
[null,""]
[null,""]
[null,""]
[null,""]
[null,""]
[null,""]
[null,""]
[null,""]
[null,""]
[null,""]
[null,""]
[null,""]
[null,""]
[null,""]
[null,""]
[null,""]
[null,""]
[null,""]
[null,""]
[null,""]
[null,""]
[null,""]
[null,""]
[null,""]
[null,""]
[null,""]
[null,""]
[null,""]
[null,""]
[null,""]
[null,""]
[null,""]
[null,""]
[null,""]
[null,""]
[null,""]
[null,""]
[null,""]
[null,""]
[null,""]
[null,""]
[null,""]
[null,""]
[null,{"$f":"IF(C8925=0,\"\",C8925-C8924)","v":""}]
[null,""]
[null,""]
[null,""]
[null,""]
[null,""]
[null,""]
[null,""]
[null,""]
[null,""]
[null,""]
[null,""]
[null,""]
[null,""]
[null,""]
[null,""]
[null,""]
[null,""]
[null,""]
[null,""]
[null,""]
[null,""]
[null,""]
[null,""]
[null,""]
[null,""]
[null,""]
[null,""]
[null,""]
[null,""]
[null,""]
[null,""]
[null,""]
[null,""]
[null,""]
[null,""]
[null,""]
[null,""]
[null,""]
[null,""]
[null,""]
[null,""]
[null,""]
[null,""]
[null,""]
[null,""]
[null,""]
[null,""]
[null,""]
[null,""]
[null,""]
[null,""]
[null,""]
[null,""]
[null,""]
[null,""]
[null,""]
[null,""]
[null,""]
[null,""]
[null,""]
[null,""]
[null,""]
[null,""]
[null,{"$f":"IF(C8989=0,\"\",C8989-C8988)","v":""}]
[null,""]
[null,""]
[null,""]
[null,""]
[null,""]
[null,""]
[null,""]
[null,""]
[null,""]
[null,""]
[null,""]
[null,""]
[null,""]
[null,""]
[null,""]
[null,""]
[null,""]
[null,""]
[null,""]
[null,""]
[null,""]
[null,""]
[null,""]
[null,""]
[null,""]
[null,""]
[null,""]
[null,""]
[null,""]
[null,""]
[null,""]
[null,""]
[null,""]
[null,""]
[null,""]
[null,""]
[null,""]
[null,""]
[null,""]
[null,""]
[null,""]
[null,""]
[null,""]
[null,""]
[null,""]
[null,""]
[null,""]
[null,""]
[null,""]
[null,""]
[null,""]
[null,""]
[null,""]
[null,""]
[null,""]
[null,""]
[null,""]
[null,""]
[null,""]
[null,""]
[null,""]
[null,""]
[null,""]
[null,{"$f":"IF(C9053=0,\"\",C9053-C9052)","v":""}]
[null,""]
[null,""]
[null,""]
[null,""]
[null,""]
[null,""]
[null,""]
[null,""]
[null,""]
[null,""]
[null,""]
[null,""]
[null,""]
[null,""]
[null,""]
[null,""]
[null,""]
[null,""]
[null,""]
[null,""]
[null,""]
[null,""]
[null,""]
[null,""]
[null,""]
[null,""]
[null,""]
[null,""]
[null,""]
[null,""]
[null,""]
[null,""]
[null,""]
[null,""]
[null,""]
[null,""]
[null,""]
[null,""]
[null,""]
[null,""]
[null,""]
[null,""]
[null,""]
[null,""]
[null,""]
[null,""]
[null,""]
[null,""]
[null,""]
[null,""]
[null,""]
[null,""]
[null,""]
[null,""]
[null,""]
[null,""]
[null,""]
[null,""]
[null,""]
[null,""]
[null,""]
[null,""]
[null,""]
[null,{"$f":"IF(C9117=0,\"\",C9117-C9116)","v":""}]
[null,""]
[null,""]
[null,""]
[null,""]
[null,""]
[null,""]
[null,""]
[null,""]
[null,""]
[null,""]
[null,""]
[null,""]
[null,""]
[null,""]
[null,""]
[null,""]
[null,""]
[null,""]
[null,""]
[null,""]
[null,""]
[null,""]
[null,""]
[null,""]
[null,""]
[null,""]
[null,""]
[null,""]
[null,""]
[null,""]
[null,""]
[null,""]
[null,""]
[null,""]
[null,""]
[null,""]
[null,""]
[null,""]
[null,""]
[null,""]
[null,""]
[null,""]
[null,""]
[null,""]
[null,""]
[null,""]
[null,""]
[null,""]
[null,""]
[null,""]
[null,""]
[null,""]
[null,""]
[null,""]
[null,""]
[null,""]
[null,""]
[null,""]
[null,""]
[null,""]
[null,""]
[null,""]
[null,""]
[null,{"$f":"IF(C9181=0,\"\",C9181-C9180)","v":""}]
[null,""]
[null,""]
[null,""]
[null,""]
[null,""]
[null,""]
[null,""]
[null,""]
[null,""]
[null,""]
[null,""]
[null,""]
[null,""]
[null,""]
[null,""]
[null,""]
[null,""]
[null,""]
[null,""]
[null,""]
[null,""]
[null,""]
[null,""]
[null,""]
[null,""]
[null,""]
[null,""]
[null,""]
[null,""]
[null,""]
[null,""]
[null,""]
[null,""]
[null,""]
[null,""]
[null,""]
[null,""]
[null,""]
[null,""]
[null,""]
[null,""]
[null,""]
[null,""]
[null,""]
[null,""]
[null,""]
[null,""]
[null,""]
[null,""]
[null,""]
[null,""]
[null,""]
[null,""]
[null,""]
[null,""]
[null,""]
[null,""]
[null,""]
[null,""]
[null,""]
[null,""]
[null,""]
[null,""]
[null,{"$f":"IF(C9245=0,\"\",C9245-C9244)","v":""}]
[null,""]
[null,""]
[null,""]
[null,""]
[null,""]
[null,""]
[null,""]
[null,""]
[null,""]
[null,""]
[null,""]
[null,""]
[null,""]
[null,""]
[null,""]
[null,""]
[null,""]
[null,""]
[null,""]
[null,""]
[null,""]
[null,""]
[null,""]
[null,""]
[null,""]
[null,""]
[null,""]
[null,""]
[null,""]
[null,""]
[null,""]
[null,""]
[null,""]
[null,""]
[null,""]
[null,""]
[null,""]
[null,""]
[null,""]
[null,""]
[null,""]
[null,""]
[null,""]
[null,""]
[null,""]
[null,""]
[null,""]
[null,""]
[null,""]
[null,""]
[null,""]
[null,""]
[null,""]
[null,""]
[null,""]
[null,""]
[null,""]
[null,""]
[null,""]
[null,""]
[null,""]
[null,""]
[null,""]
[null,{"$f":"IF(C9309=0,\"\",C9309-C9308)","v":""}]
[null,""]
[null,""]
[null,""]
[null,""]
[null,""]
[null,""]
[null,""]
[null,""]
[null,""]
[null,""]
[null,""]
[null,""]
[null,""]
[null,""]
[null,""]
[null,""]
[null,""]
[null,""]
[null,""]
[null,""]
[null,""]
[null,""]
[null,""]
[null,""]
[null,""]
[null,""]
[null,""]
[null,""]
[null,""]
[null,""]
[null,""]
[null,""]
[null,""]
[null,""]
[null,""]
[null,""]
[null,""]
[null,""]
[null,""]
[null,""]
[null,""]
[null,""]
[null,""]
[null,""]
[null,""]
[null,""]
[null,""]
[null,""]
[null,""]
[null,""]
[null,""]
[null,""]
[null,""]
[null,""]
[null,""]
[null,""]
[null,""]
[null,""]
[null,""]
[null,""]
[null,""]
[null,""]
[null,""]
[null,{"$f":"IF(C9373=0,\"\",C9373-C9372)","v":""}]
[null,""]
[null,""]
[null,""]
[null,""]
[null,""]
[null,""]
[null,""]
[null,""]
[null,""]
[null,""]
[null,""]
[null,""]
[null,""]
[null,""]
[null,""]
[null,""]
[null,""]
[null,""]
[null,""]
[null,""]
[null,""]
[null,""]
[null,""]
[null,""]
[null,""]
[null,""]
[null,""]
[null,""]
[null,""]
[null,""]
[null,""]
[null,""]
[null,""]
[null,""]
[null,""]
[null,""]
[null,""]
[null,""]
[null,""]
[null,""]
[null,""]
[null,""]
[null,""]
[null,""]
[null,""]
[null,""]
[null,""]
[null,""]
[null,""]
[null,""]
[null,""]
[null,""]
[null,""]
[null,""]
[null,""]
[null,""]
[null,""]
[null,""]
[null,""]
[null,""]
[null,""]
[null,""]
[null,""]
[null,{"$f":"IF(C9437=0,\"\",C9437-C9436)","v":""}]
[null,""]
[null,""]
[null,""]
[null,""]
[null,""]
[null,""]
[null,""]
[null,""]
[null,""]
[null,""]
[null,""]
[null,""]
[null,""]
[null,""]
[null,""]
[null,""]
[null,""]
[null,""]
[null,""]
[null,""]
[null,""]
[null,""]
[null,""]
[null,""]
[null,""]
[null,""]
[null,""]
[null,""]
[null,""]
[null,""]
[null,""]
[null,""]
[null,""]
[null,""]
[null,""]
[null,""]
[null,""]
[null,""]
[null,""]
[null,""]
[null,""]
[null,""]
[null,""]
[null,""]
[null,""]
[null,""]
[null,""]
[null,""]
[null,""]
[null,""]
[null,""]
[null,""]
[null,""]
[null,""]
[null,""]
[null,""]
[null,""]
[null,""]
[null,""]
[null,""]
[null,""]
[null,""]
[null,""]
[null,{"$f":"IF(C9501=0,\"\",C9501-C9500)","v":""}]
[null,""]
[null,""]
[null,""]
[null,""]
[null,""]
[null,""]
[null,""]
[null,""]
[null,""]
[null,""]
[null,""]
[null,""]
[null,""]
[null,""]
[null,""]
[null,""]
[null,""]
[null,""]
[null,""]
[null,""]
[null,""]
[null,""]
[null,""]
[null,""]
[null,""]
[null,""]
[null,""]
[null,""]
[null,""]
[null,""]
[null,""]
[null,""]
[null,""]
[null,""]
[null,""]
[null,""]
[null,""]
[null,""]
[null,""]
[null,""]
[null,""]
[null,""]
[null,""]
[null,""]
[null,""]
[null,""]
[null,""]
[null,""]
[null,""]
[null,""]
[null,""]
[null,""]
[null,""]
[null,""]
[null,""]
[null,""]
[null,""]
[null,""]
[null,""]
[null,""]
[null,""]
[null,""]
[null,""]
[null,{"$f":"IF(C9565=0,\"\",C9565-C9564)","v":""}]
[null,""]
[null,""]
[null,""]
[null,""]
[null,""]
[null,""]
[null,""]
[null,""]
[null,""]
[null,""]
[null,""]
[null,""]
[null,""]
[null,""]
[null,""]
[null,""]
[null,""]
[null,""]
[null,""]
[null,""]
[null,""]
[null,""]
[null,""]
[null,""]
[null,""]
[null,""]
[null,""]
[null,""]
[null,""]
[null,""]
[null,""]
[null,""]
[null,""]
[null,""]
[null,""]
[null,""]
[null,""]
[null,""]
[null,""]
[null,""]
[null,""]
[null,""]
[null,""]
[null,""]
[null,""]
[null,""]
[null,""]
[null,""]
[null,""]
[null,""]
[null,""]
[null,""]
[null,""]
[null,""]
[null,""]
[null,""]
[null,""]
[null,""]
[null,""]
[null,""]
[null,""]
[null,""]
[null,""]
[null,{"$f":"IF(C9629=0,\"\",C9629-C9628)","v":""}]
[null,""]
[null,""]
[null,""]
[null,""]
[null,""]
[null,""]
[null,""]
[null,""]
[null,""]
[null,""]
[null,""]
[null,""]
[null,""]
[null,""]
[null,""]
[null,""]
[null,""]
[null,""]
[null,""]
[null,""]
[null,""]
[null,""]
[null,""]
[null,""]
[null,""]
[null,""]
[null,""]
[null,""]
[null,""]
[null,""]
[null,""]
[null,""]
[null,""]
[null,""]
[null,""]
[null,""]
[null,""]
[null,""]
[null,""]
[null,""]
[null,""]
[null,""]
[null,""]
[null,""]
[null,""]
[null,""]
[null,""]
[null,""]
[null,""]
[null,""]
[null,""]
[null,""]
[null,""]
[null,""]
[null,""]
[null,""]
[null,""]
[null,""]
[null,""]
[null,""]
[null,""]
[null,""]
[null,""]
[null,{"$f":"IF(C9693=0,\"\",C9693-C9692)","v":""}]
[null,""]
[null,""]
[null,""]
[null,""]
[null,""]
[null,""]
[null,""]
[null,""]
[null,""]
[null,""]
[null,""]
[null,""]
[null,""]
[null,""]
[null,""]
[null,""]
[null,""]
[null,""]
[null,""]
[null,""]
[null,""]
[null,""]
[null,""]
[null,""]
[null,""]
[null,""]
[null,""]
[null,""]
[null,""]
[null,""]
[null,""]
[null,""]
[null,""]
[null,""]
[null,""]
[null,""]
[null,""]
[null,""]
[null,""]
[null,""]
[null,""]
[null,""]
[null,""]
[null,""]
[null,""]
[null,""]
[null,""]
[null,""]
[null,""]
[null,""]
[null,""]
[null,""]
[null,""]
[null,""]
[null,""]
[null,""]
[null,""]
[null,""]
[null,""]
[null,""]
[null,""]
[null,""]
[null,""]
[null,{"$f":"IF(C9757=0,\"\",C9757-C9756)","v":""}]
[null,""]
[null,""]
[null,""]
[null,""]
[null,""]
[null,""]
[null,""]
[null,""]
[null,""]
[null,""]
[null,""]
[null,""]
[null,""]
[null,""]
[null,""]
[null,""]
[null,""]
[null,""]
[null,""]
[null,""]
[null,""]
[null,""]
[null,""]
[null,""]
[null,""]
[null,""]
[null,""]
[null,""]
[null,""]
[null,""]
[null,""]
[null,""]
[null,""]
[null,""]
[null,""]
[null,""]
[null,""]
[null,""]
[null,""]
[null,""]
[null,""]
[null,""]
[null,""]
[null,""]
[null,""]
[null,""]
[null,""]
[null,""]
[null,""]
[null,""]
[null,""]
[null,""]
[null,""]
[null,""]
[null,""]
[null,""]
[null,""]
[null,""]
[null,""]
[null,""]
[null,""]
[null,""]
[null,""]
[null,{"$f":"IF(C9821=0,\"\",C9821-C9820)","v":""}]
[null,""]
[null,""]
[null,""]
[null,""]
[null,""]
[null,""]
[null,""]
[null,""]
[null,""]
[null,""]
[null,""]
[null,""]
[null,""]
[null,""]
[null,""]
[null,""]
[null,""]
[null,""]
[null,""]
[null,""]
[null,""]
[null,""]
[null,""]
[null,""]
[null,""]
[null,""]
[null,""]
[null,""]
[null,""]
[null,""]
[null,""]
[null,""]
[null,""]
[null,""]
[null,""]
[null,""]
[null,""]
[null,""]
[null,""]
[null,""]
[null,""]
[null,""]
[null,""]
[null,""]
[null,""]
[null,""]
[null,""]
[null,""]
[null,""]
[null,""]
[null,""]
[null,""]
[null,""]
[null,""]
[null,""]
[null,""]
[null,""]
[null,""]
[null,""]
[null,""]
[null,""]
[null,""]
[null,""]
[null,{"$f":"IF(C9885=0,\"\",C9885-C9884)","v":""}]
[null,""]
[null,""]
[null,""]
[null,""]
[null,""]
[null,""]
[null,""]
[null,""]
[null,""]
[null,""]
[null,""]
[null,""]
[null,""]
[null,""]
[null,""]
[null,""]
[null,""]
[null,""]
[null,""]
[null,""]
[null,""]
[null,""]
[null,""]
[null,""]
[null,""]
[null,""]
[null,""]
[null,""]
[null,""]
[null,""]
[null,""]
[null,""]
[null,""]
[null,""]
[null,""]
[null,""]
[null,""]
[null,""]
[null,""]
[null,""]
[null,""]
[null,""]
[null,""]
[null,""]
[null,""]
[null,""]
[null,""]
[null,""]
[null,""]
[null,""]
[null,""]
[null,""]
[null,""]
[null,""]
[null,""]
[null,""]
[null,""]
[null,""]
[null,""]
[null,""]
[null,""]
[null,""]
[null,""]
[null,{"$f":"IF(C9949=0,\"\",C9949-C9948)","v":""}]
[null,""]
[null,""]
[null,""]
[null,""]
[null,""]
[null,""]
[null,""]
[null,""]
[null,""]
[null,""]
[null,""]
[null,""]
[null,""]
[null,""]
[null,""]
[null,""]
[null,""]
[null,""]
[null,""]
[null,""]
[null,""]
[null,""]
[null,""]
[null,""]
[null,""]
[null,""]
[null,""]
[null,""]
[null,""]
[null,""]
[null,""]
[null,""]
[null,""]
[null,""]
[null,""]
[null,""]
[null,""]
[null,""]
[null,""]
[null,""]
[null,""]
[null,""]
[null,""]
[null,""]
[null,""]
[null,""]
[null,""]
[null,""]
[null,""]
[null,""]
[null,""]
[null,""]
[null,""]
[null,""]
[null,""]
[null,""]
[null,""]
[null,""]
[null,""]
[null,""]
[null,""]
[null,""]
[null,""]
[null,{"$f":"IF(C10013=0,\"\",C10013-C10012)","v":""}]
[null,""]
[null,""]
[null,""]
[null,""]
[null,""]
[null,""]
[null,""]
[null,""]
[null,""]
[null,""]
[null,""]
[null,""]
[null,""]
[null,""]
[null,""]
[null,""]
[null,""]
[null,""]
[null,""]
[null,""]
[null,""]
[null,""]
[null,""]
[null,""]
[null,""]
[null,""]
[null,""]
[null,""]
[null,""]
[null,""]
[null,""]
[null,""]
[null,""]
[null,""]
[null,""]
[null,""]
[null,""]
[null,""]
[null,""]
[null,""]
[null,""]
[null,""]
[null,""]
[null,""]
[null,""]
[null,""]
[null,""]
[null,""]
[null,""]
[null,""]
[null,""]
[null,""]
[null,""]
[null,""]
[null,""]
[null,""]
[null,""]
[null,""]
[null,""]
[null,""]
[null,""]
[null,""]
[null,""]
[null,{"$f":"IF(C10077=0,\"\",C10077-C10076)","v":""}]
[null,""]
[null,""]
[null,""]
[null,""]
[null,""]
[null,""]
[null,{"$f":"IF(C10084=0,\"\",C10084-C10083)","v":""}]

{"sheet":"Fan Cycling Condition - Low","index":16,"n_rows":10083,"n_cols":30,"rows_kept":10083,"cut":false,"hidden":true,"merged":[[205,0,205,3],[206,0,210,1],[206,2,206,3],[207,2,207,3],[208,2,208,3],[209,2,209,3],[210,2,210,3],[211,0,211,3],[212,0,216,1],[212,2,212,3],[213,2,213,3],[214,2,214,3],[215,2,215,3],[216,2,216,3],[193,0,193,3],[194,0,198,1],[194,2,194,3],[195,2,195,3],[196,2,196,3],[197,2,197,3],[198,2,198,3],[199,0,199,3],[200,0,204,1],[200,2,200,3],[201,2,201,3],[202,2,202,3],[203,2,203,3],[204,2,204,3],[181,0,181,3],[182,0,186,1],[182,2,182,3],[183,2,183,3],[184,2,184,3],[185,2,185,3],[186,2,186,3],[187,0,187,3],[188,0,192,1],[188,2,188,3],[189,2,189,3],[190,2,190,3],[191,2,191,3],[192,2,192,3],[169,0,169,3],[170,0,174,1],[170,2,170,3],[171,2,171,3],[172,2,172,3],[173,2,173,3],[174,2,174,3],[175,0,175,3],[176,0,180,1],[176,2,176,3],[177,2,177,3],[178,2,178,3],[179,2,179,3],[180,2,180,3],[157,0,157,3],[158,0,162,1],[158,2,158,3],[159,2,159,3],[160,2,160,3],[161,2,161,3],[162,2,162,3],[163,0,163,3],[164,0,168,1],[164,2,164,3],[165,2,165,3],[166,2,166,3],[167,2,167,3],[168,2,168,3],[10,7,10,9],[10,10,10,12],[10,13,10,15],[10,16,10,18],[11,7,22,9],[11,10,22,12],[11,13,22,15],[11,16,22,18],[239,15,239,29],[240,3,240,5],[240,6,240,8],[240,9,240,11],[240,15,240,17],[240,19,240,22],[240,23,240,26],[240,27,240,29],[241,5,242,5],[241,8,242,8],[241,17,242,17],[235,0,235,3],[236,0,236,3],[237,0,237,3],[238,0,238,6],[239,3,239,12],[239,13,239,14],[229,0,229,3],[230,0,230,3],[231,0,231,3],[232,0,232,3],[233,0,233,6],[234,0,234,3],[223,0,223,3],[224,0,224,3],[225,0,225,3],[226,0,226,3],[227,0,227,3],[228,0,228,3],[217,0,217,6],[218,0,218,3],[219,0,219,3],[220,0,220,3],[221,0,221,3],[222,0,222,3],[151,0,151,3],[152,0,156,1],[152,2,152,3],[153,2,153,3],[154,2,154,3],[155,2,155,3],[156,2,156,3],[145,0,145,3],[146,0,150,1],[146,2,146,3],[147,2,147,3],[148,2,148,3],[149,2,149,3],[150,2,150,3],[139,0,139,3],[140,0,144,1],[140,2,140,3],[141,2,141,3],[142,2,142,3],[143,2,143,3],[144,2,144,3],[133,0,133,3],[134,0,138,1],[134,2,134,3],[135,2,135,3],[136,2,136,3],[137,2,137,3],[138,2,138,3],[127,0,127,3],[128,0,132,1],[128,2,128,3],[129,2,129,3],[130,2,130,3],[131,2,131,3],[132,2,132,3],[121,0,121,3],[122,0,126,1],[122,2,122,3],[123,2,123,3],[124,2,124,3],[125,2,125,3],[126,2,126,3],[115,0,115,3],[116,0,120,1],[116,2,116,3],[117,2,117,3],[118,2,118,3],[119,2,119,3],[120,2,120,3],[109,0,109,3],[110,0,114,1],[110,2,110,3],[111,2,111,3],[112,2,112,3],[113,2,113,3],[114,2,114,3],[102,2,102,3],[103,0,103,3],[104,0,108,1],[104,2,104,3],[105,2,105,3],[106,2,106,3],[107,2,107,3],[108,2,108,3],[94,0,95,0],[94,1,94,3],[95,1,95,3],[96,0,96,3],[97,0,97,3],[98,0,102,1],[98,2,98,3],[99,2,99,3],[100,2,100,3],[101,2,101,3],[90,0,91,0],[90,1,90,3],[91,1,91,3],[92,0,93,0],[92,1,92,3],[93,1,93,3],[84,0,85,0],[84,1,84,3],[85,1,85,3],[86,0,86,3],[87,0,87,3],[88,0,89,0],[88,1,88,3],[89,1,89,3],[80,0,81,0],[80,1,80,3],[81,1,81,3],[82,0,83,0],[82,1,82,3],[83,1,83,3],[74,0,75,0],[74,1,74,3],[75,1,75,3],[76,0,76,3],[77,0,77,3],[78,0,79,0],[78,1,78,3],[79,1,79,3],[70,0,71,0],[70,1,70,3],[71,1,71,3],[72,0,73,0],[72,1,72,3],[73,1,73,3],[64,0,65,0],[64,1,64,3],[65,1,65,3],[66,0,66,3],[67,0,67,3],[68,0,69,0],[68,1,68,3],[69,1,69,3],[60,0,61,0],[60,1,60,3],[61,1,61,3],[62,0,63,0],[62,1,62,3],[63,1,63,3],[54,0,55,0],[54,1,54,3],[55,1,55,3],[56,0,56,3],[57,0,57,3],[58,0,59,0],[58,1,58,3],[59,1,59,3],[50,0,51,0],[50,1,50,3],[51,1,51,3],[52,0,53,0],[52,1,52,3],[53,1,53,3],[44,0,45,0],[44,1,44,3],[45,1,45,3],[46,0,46,3],[47,0,47,3],[48,0,49,0],[48,1,48,3],[49,1,49,3],[40,0,41,0],[40,1,40,3],[41,1,41,3],[42,0,43,0],[42,1,42,3],[43,1,43,3],[35,0,35,3],[36,0,36,3],[37,0,37,3],[38,0,39,0],[38,1,38,3],[39,1,39,3],[30,0,31,2],[30,5,30,6],[31,5,31,6],[32,0,32,6],[33,0,33,3],[34,0,34,3],[34,4,34,6],[23,0,23,6],[24,0,24,3],[24,5,24,6],[25,0,25,3],[25,5,25,6],[26,0,29,2],[26,5,26,6],[27,5,27,6],[28,5,28,6],[29,5,29,6],[15,0,16,2],[17,0,18,2],[19,0,20,2],[21,0,22,1],[21,2,21,3],[22,2,22,3],[5,0,5,2],[5,3,5,6],[6,0,6,6],[7,0,8,0],[9,0,9,6],[10,0,10,3],[0,0,0,6],[2,0,2,2],[2,3,2,6],[3,0,3,2],[3,3,3,6],[4,0,4,2],[4,3,4,6],[11,0,12,2],[13,0,14,2],[1,0,1,2],[1,3,1,6]]}
[{"$f":"'Test Plan'!$A$116","v":"Fan Cycling Condition - Low"}]
["AHRI Test Stand Inspection Number",null,null,{"$f":"IF('Test Plan'!$B$3=0,\" \",'Test Plan'!$B$2)","v":"FIACCL-230##-1"}]
["AHRI Test Number",null,null,{"$f":"IF('Test Plan'!$B$3=0,\" \",'Test Plan'!$B$3)","v":"ACCL-230##-1-A"}]
["Model Designation",{"$f":"IF('[2]WCCL-DS2'!B4:D4=0,\" \",'[2]WCCL-DS2'!B4:D4)","v":"DEF"},null,{"$f":"IF('Test Plan'!$B$4=0,\" \",'Test Plan'!$B$4)","v":" "}]
["Manufacturer",{"$f":"IF('[2]WCCL-DS2'!B5:D5=0,\" \",'[2]WCCL-DS2'!B5:D5)","v":43101},null,{"$f":"IF('Test Plan'!$B$5=0,\" \",'Test Plan'!$B$5)","v":" "}]
["Test Date",{"$f":"IF('[2]WCCL-DS2'!B6:D6=0,\" \",'[2]WCCL-DS2'!B6:D6)","v":{"$error":"#REF!"}}]
[]
["Measurement Time","Data Points","Units","Period (min)","Mean Intvl. (s)","Max. Intvl. (s)","Max. Intvl. for Avg. of Data (s)"]
[null,{"$f":"COUNTA(C252:C10083)","v":0},"h:mm:ss:ms",{"$f":"(INDEX(C252:C10083,$B$9)-C252)*24*60","v":{"$error":"#VALUE!"}},{"$f":"D9*60/(B9-1)","v":{"$error":"#VALUE!"}},{"$f":"MAX(B252:B10083)*60*60*24","v":0},{"$f":"D9*60/60","v":{"$error":"#VALUE!"}}]
[]
["Air and Water Measurements",null,null,null,"Units","Evaporator","Condenser","Chiller Condenser Side 1",null,null,"Chiller Condenser Side 2",null,null,"Chiller Condenser Side 3",null,null,"Chiller Condenser Side 4"]
["Atmospheric Pressure",null,null,"Mean",{"$f":"'Test Plan'!$B$41","v":"kPa"},null,{"$f":"IF(O246=\"Yes\",$O$244,$O$250)","v":{"$error":"#DIV/0!"}},"Photo",null,null,"Photo",null,null,"Photo",null,null,"Photo"]
[null,null,null,"St. Dev.",{"$f":"'Test Plan'!$B$41","v":"kPa"},null,{"$f":"IF(O246=\"Yes\",\"Lab Data\",$O$251)","v":{"$error":"#DIV/0!"}}]
["Leaving Water Temperature",null,null,"Mean",{"$f":"'Test Conditions'!$B$18","v":"°C"},{"$f":"IF(F246=\"Yes\",$F$244,$F$250)","v":{"$error":"#DIV/0!"}}]
[null,null,null,"St. Dev.",{"$f":"'Test Conditions'!$B$18","v":"°C"},{"$f":"IF(F246=\"Yes\",\"Lab Data\",$F$251)","v":{"$error":"#DIV/0!"}}]
["Entering Db Air and Water Temperatures",null,null,"Mean",{"$f":"'Test Conditions'!$B$19","v":"°C"},{"$f":"IF(I246=\"Yes\",$I$244,$I$250)","v":{"$error":"#DIV/0!"}},{"$f":"IF(N246=\"Yes\",$N$244,$N$250)","v":{"$error":"#DIV/0!"}}]
[null,null,null,"St. Dev.",{"$f":"'Test Conditions'!$B$19","v":"°C"},{"$f":"IF(I246=\"Yes\",\"Lab Data\",$I$251)","v":{"$error":"#DIV/0!"}},{"$f":"IF(N246=\"Yes\",\"Lab Data\",$N$251)","v":{"$error":"#DIV/0!"}}]
["Water Flow Rate",null,null,"Mean",{"$f":"'Test Conditions'!$B$20","v":"m³/h"},{"$f":"$L$250","v":{"$error":"#DIV/0!"}}]
[null,null,null,"St. Dev.",{"$f":"'Test Conditions'!$B$20","v":"m³/h"},{"$f":"$L$251","v":{"$error":"#DIV/0!"}}]
["Water Pressure Drop",null,null,"Mean",{"$f":"'Test Plan'!$B$127","v":"kPa"},{"$f":"IF('Test Plan'!$B$19=\"I-P\",IF(M246=\"Yes\",$M$244/0.4331,$M$250/0.4331),IF(M246=\"Yes\",$M$244,$M$250))","v":{"$error":"#DIV/0!"}}]
[null,null,null,"St. Dev.",{"$f":"'Test Plan'!$B$127","v":"kPa"},{"$f":"IF(M246=\"Yes\",\"Lab Data\",IF('Test Plan'!$B$19=\"I-P\",$M$251/0.4331,$M$251))","v":{"$error":"#DIV/0!"}}]
[null,null,"Correction (∆padj)",null,{"$f":"'Test Plan'!$B$127","v":"kPa"}]
[null,null,"Corrected (∆pcorrected)",null,{"$f":"'Test Plan'!$B$127","v":"kPa"},{"$f":"F20-F22","v":{"$error":"#DIV/0!"}}]
[]
["Electrical Measurements",null,null,null,"Units","Total"]
["Power",null,null,null,"kW",{"$f":"IF(R246=\"Yes\",$R$244,$R$250)","v":{"$error":"#DIV/0!"}}]
["Voltage",null,null,"Mean","V",{"$f":"IF(R246=\"Yes\",\"Lab Data\",$S$250)","v":{"$error":"#DIV/0!"}}]
[null,null,null,"St. Dev.",{"$f":"E27","v":"V"},{"$f":"IF(R246=\"Yes\",\"Lab Data\",$S$251)","v":{"$error":"#DIV/0!"}}]
[null,null,null,"V1 Balance","%",{"$f":"IF(R246=\"Yes\",\"Lab Data\",ROUND(MAX(ABS($U$250-$T$250),ABS($V$250-$T$250),ABS($W$250-$T$250))/$T$250,4-(1+INT(LOG10(ABS(MAX(ABS($U$250-$T$250),ABS($V$250-$T$250),ABS($W$250-$T$250))/$T$250))))))","v":{"$error":"#DIV/0!"}}]
[null,null,null,"V2 Balance","%",{"$f":"IF(R246=\"Yes\",\"Lab Data\",ROUND(MAX(ABS($Y$250-$X$250),ABS($Z$250-$X$250),ABS($AA$250-$X$250))/$X$250,4-(1+INT(LOG10(ABS(MAX(ABS($Y$250-$X$250),ABS($Z$250-$X$250),ABS($AA$250-$X$250))/$X$250))))))","v":{"$error":"#DIV/0!"}}]
["Frequency",null,null,"Mean","Hz",{"$f":"IF(R246=\"Yes\",\"Lab Data\",$AB$250)","v":{"$error":"#DIV/0!"}}]
[null,null,null,"St. Dev.",{"$f":"E31","v":"Hz"},{"$f":"IF(R246=\"Yes\",\"Lab Data\",$AB$251)","v":{"$error":"#DIV/0!"}}]
[]
["Air Temperature Measurement",null,null,null,"Units",null,"Condenser"]
["Measurement Method"]
["# of Aspirating Psychrometers",null,null,null,"#"]
["Aspirating Psychrometer #1, Mean Air Temperature",null,null,null,{"$f":"'Test Conditions'!$B$19","v":"°C"}]
["# of Air Sampling Trees on Aspirating Psychrometer #1",null,null,null,"#",null,4]
["#1-A\nTemperatures","Air Sampling Tree Thermopile Grid",null,null,{"$f":"'Test Conditions'!$B$19","v":"°C"}]
[null,"Recirculation Thermocouple",null,null,{"$f":"'Test Conditions'!$B$19","v":"°C"}]
["#1-B\nTemperatures","Air Sampling Tree Thermopile Grid",null,null,{"$f":"'Test Conditions'!$B$19","v":"°C"}]
[null,"Recirculation Thermocouple",null,null,{"$f":"'Test Conditions'!$B$19","v":"°C"}]
["#1-C\nTemperatures","Air Sampling Tree Thermopile Grid",null,null,{"$f":"'Test Conditions'!$B$19","v":"°C"}]
[null,"Recirculation Thermocouple",null,null,{"$f":"'Test Conditions'!$B$19","v":"°C"}]
["#1-D\nTemperatures","Air Sampling Tree Thermopile Grid",null,null,{"$f":"'Test Conditions'!$B$19","v":"°C"}]
[null,"Recirculation Thermocouple",null,null,{"$f":"'Test Conditions'!$B$19","v":"°C"}]
["Aspirating Psychrometer #2, Mean Air Temperature",null,null,null,{"$f":"'Test Conditions'!$B$19","v":"°C"}]
["# of Air Sampling Trees on Aspirating Psychrometer #2",null,null,null,"#",null,4]
["#2-A\nTemperatures","Air Sampling Tree Thermopile Grid",null,null,{"$f":"'Test Conditions'!$B$19","v":"°C"}]
[null,"Recirculation Thermocouple",null,null,{"$f":"'Test Conditions'!$B$19","v":"°C"}]
["#2-B\nTemperatures","Air Sampling Tree Thermopile Grid",null,null,{"$f":"'Test Conditions'!$B$19","v":"°C"}]
[null,"Recirculation Thermocouple",null,null,{"$f":"'Test Conditions'!$B$19","v":"°C"}]
["#2-C\nTemperatures","Air Sampling Tree Thermopile Grid",null,null,{"$f":"'Test Conditions'!$B$19","v":"°C"}]
[null,"Recirculation Thermocouple",null,null,{"$f":"'Test Conditions'!$B$19","v":"°C"}]
["#2-D\nTemperatures","Air Sampling Tree Thermopile Grid",null,null,{"$f":"'Test Conditions'!$B$19","v":"°C"}]
[null,"Recirculation Thermocouple",null,null,{"$f":"'Test Conditions'!$B$19","v":"°C"}]
["Aspirating Psychrometer #3, Mean Air Temperature",null,null,null,{"$f":"'Test Conditions'!$B$19","v":"°C"}]
["# of Air Sampling Trees on Aspirating Psychrometer #3",null,null,null,"#",null,4]
["#3-A\nTemperatures","Air Sampling Tree Thermopile Grid",null,null,{"$f":"'Test Conditions'!$B$19","v":"°C"}]
[null,"Recirculation Thermocouple",null,null,{"$f":"'Test Conditions'!$B$19","v":"°C"}]
["#3-B\nTemperatures","Air Sampling Tree Thermopile Grid",null,null,{"$f":"'Test Conditions'!$B$19","v":"°C"}]
[null,"Recirculation Thermocouple",null,null,{"$f":"'Test Conditions'!$B$19","v":"°C"}]
["#3-C\nTemperatures","Air Sampling Tree Thermopile Grid",null,null,{"$f":"'Test Conditions'!$B$19","v":"°C"}]
[null,"Recirculation Thermocouple",null,null,{"$f":"'Test Conditions'!$B$19","v":"°C"}]
["#3-D\nTemperatures","Air Sampling Tree Thermopile Grid",null,null,{"$f":"'Test Conditions'!$B$19","v":"°C"}]
[null,"Recirculation Thermocouple",null,null,{"$f":"'Test Conditions'!$B$19","v":"°C"}]
["Aspirating Psychrometer #4, Mean Air Temperature",null,null,null,{"$f":"'Test Conditions'!$B$19","v":"°C"}]
["# of Air Sampling Trees on Aspirating Psychrometer #4",null,null,null,"#",null,4]
["#4-A\nTemperatures","Air Sampling Tree Thermopile Grid",null,null,{"$f":"'Test Conditions'!$B$19","v":"°C"}]
[null,"Recirculation Thermocouple",null,null,{"$f":"'Test Conditions'!$B$19","v":"°C"}]
["#4-B\nTemperatures","Air Sampling Tree Thermopile Grid",null,null,{"$f":"'Test Conditions'!$B$19","v":"°C"}]
[null,"Recirculation Thermocouple",null,null,{"$f":"'Test Conditions'!$B$19","v":"°C"}]
["#4-C\nTemperatures","Air Sampling Tree Thermopile Grid",null,null,{"$f":"'Test Conditions'!$B$19","v":"°C"}]
[null,"Recirculation Thermocouple",null,null,{"$f":"'Test Conditions'!$B$19","v":"°C"}]
["#4-D\nTemperatures","Air Sampling Tree Thermopile Grid",null,null,{"$f":"'Test Conditions'!$B$19","v":"°C"}]
[null,"Recirculation Thermocouple",null,null,{"$f":"'Test Conditions'!$B$19","v":"°C"}]
["Aspirating Psychrometer #5, Mean Air Temperature",null,null,null,{"$f":"'Test Conditions'!$B$19","v":"°C"}]
["# of Air Sampling Trees on Aspirating Psychrometer #5",null,null,null,"#",null,4]
["#5-A\nTemperatures","Air Sampling Tree Thermopile Grid",null,null,{"$f":"'Test Conditions'!$B$19","v":"°C"}]
[null,"Recirculation Thermocouple",null,null,{"$f":"'Test Conditions'!$B$19","v":"°C"}]
["#5-B\nTemperatures","Air Sampling Tree Thermopile Grid",null,null,{"$f":"'Test Conditions'!$B$19","v":"°C"}]
[null,"Recirculation Thermocouple",null,null,{"$f":"'Test Conditions'!$B$19","v":"°C"}]
["#5-C\nTemperatures","Air Sampling Tree Thermopile Grid",null,null,{"$f":"'Test Conditions'!$B$19","v":"°C"}]
[null,"Recirculation Thermocouple",null,null,{"$f":"'Test Conditions'!$B$19","v":"°C"}]
["#5-D\nTemperatures","Air Sampling Tree Thermopile Grid",null,null,{"$f":"'Test Conditions'!$B$19","v":"°C"}]
[null,"Recirculation Thermocouple",null,null,{"$f":"'Test Conditions'!$B$19","v":"°C"}]
["Aspirating Psychrometer #6, Mean Air Temperature",null,null,null,{"$f":"'Test Conditions'!$B$19","v":"°C"}]
["# of Air Sampling Trees on Aspirating Psychrometer #6",null,null,null,"#",null,4]
["#6-A\nTemperatures","Air Sampling Tree Thermopile Grid",null,null,{"$f":"'Test Conditions'!$B$19","v":"°C"}]
[null,"Recirculation Thermocouple",null,null,{"$f":"'Test Conditions'!$B$19","v":"°C"}]
["#6-B\nTemperatures","Air Sampling Tree Thermopile Grid",null,null,{"$f":"'Test Conditions'!$B$19","v":"°C"}]
[null,"Recirculation Thermocouple",null,null,{"$f":"'Test Conditions'!$B$19","v":"°C"}]
["#6-C\nTemperatures","Air Sampling Tree Thermopile Grid",null,null,{"$f":"'Test Conditions'!$B$19","v":"°C"}]
[null,"Recirculation Thermocouple",null,null,{"$f":"'Test Conditions'!$B$19","v":"°C"}]
["#6-D\nTemperatures","Air Sampling Tree Thermopile Grid",null,null,{"$f":"'Test Conditions'!$B$19","v":"°C"}]
[null,"Recirculation Thermocouple",null,null,{"$f":"'Test Conditions'!$B$19","v":"°C"}]
["# of Air Sampling Arrays",null,null,null,"#"]
["Air Sampling Array #1, Mean Air Temperature",null,null,null,{"$f":"'Test Conditions'!$B$19","v":"°C"},null,{"$f":"AVERAGE(G99:G102)","v":{"$error":"#DIV/0!"}}]
["Air Sampling Array Individual \nMeasurement Temperatures",null,"#1-A",null,{"$f":"'Test Conditions'!$B$19","v":"°C"}]
[null,null,"#1-B",null,{"$f":"'Test Conditions'!$B$19","v":"°C"}]
[null,null,"#1-C",null,{"$f":"'Test Conditions'!$B$19","v":"°C"}]
[null,null,"#1-D",null,{"$f":"'Test Conditions'!$B$19","v":"°C"}]
[null,null,"Recirculation Thermocouple",null,{"$f":"'Test Conditions'!$B$19","v":"°C"}]
["Air Sampling Array #2, Mean Air Temperature",null,null,null,{"$f":"'Test Conditions'!$B$19","v":"°C"},null,{"$f":"AVERAGE(G105:G108)","v":{"$error":"#DIV/0!"}}]
["Air Sampling Array Individual \nMeasurement Temperatures",null,"#2-A",null,{"$f":"'Test Conditions'!$B$19","v":"°C"}]
[null,null,"#2-B",null,{"$f":"'Test Conditions'!$B$19","v":"°C"}]
[null,null,"#2-C",null,{"$f":"'Test Conditions'!$B$19","v":"°C"}]
[null,null,"#2-D",null,{"$f":"'Test Conditions'!$B$19","v":"°C"}]
[null,null,"Recirculation Thermocouple",null,{"$f":"'Test Conditions'!$B$19","v":"°C"}]
["Air Sampling Array #3, Mean Air Temperature",null,null,null,{"$f":"'Test Conditions'!$B$19","v":"°C"},null,{"$f":"AVERAGE(G111:G114)","v":{"$error":"#DIV/0!"}}]
["Air Sampling Array Individual \nMeasurement Temperatures",null,"#3-A",null,{"$f":"'Test Conditions'!$B$19","v":"°C"}]
[null,null,"#3-B",null,{"$f":"'Test Conditions'!$B$19","v":"°C"}]
[null,null,"#3-C",null,{"$f":"'Test Conditions'!$B$19","v":"°C"}]
[null,null,"#3-D",null,{"$f":"'Test Conditions'!$B$19","v":"°C"}]
[null,null,"Recirculation Thermocouple",null,{"$f":"'Test Conditions'!$B$19","v":"°C"}]
["Air Sampling Array #4, Mean Air Temperature",null,null,null,{"$f":"'Test Conditions'!$B$19","v":"°C"},null,{"$f":"AVERAGE(G117:G120)","v":{"$error":"#DIV/0!"}}]
["Air Sampling Array Individual \nMeasurement Temperatures",null,"#4-A",null,{"$f":"'Test Conditions'!$B$19","v":"°C"}]
[null,null,"#4-B",null,{"$f":"'Test Conditions'!$B$19","v":"°C"}]
[null,null,"#4-C",null,{"$f":"'Test Conditions'!$B$19","v":"°C"}]
[null,null,"#4-D",null,{"$f":"'Test Conditions'!$B$19","v":"°C"}]
[null,null,"Recirculation Thermocouple",null,{"$f":"'Test Conditions'!$B$19","v":"°C"}]
["Air Sampling Array #5, Mean Air Temperature",null,null,null,{"$f":"'Test Conditions'!$B$19","v":"°C"},null,{"$f":"AVERAGE(G123:G126)","v":{"$error":"#DIV/0!"}}]
["Air Sampling Array Individual \nMeasurement Temperatures",null,"#5-A",null,{"$f":"'Test Conditions'!$B$19","v":"°C"}]
[null,null,"#5-B",null,{"$f":"'Test Conditions'!$B$19","v":"°C"}]
[null,null,"#5-C",null,{"$f":"'Test Conditions'!$B$19","v":"°C"}]
[null,null,"#5-D",null,{"$f":"'Test Conditions'!$B$19","v":"°C"}]
[null,null,"Recirculation Thermocouple",null,{"$f":"'Test Conditions'!$B$19","v":"°C"}]
["Air Sampling Array #6, Mean Air Temperature",null,null,null,{"$f":"'Test Conditions'!$B$19","v":"°C"},null,{"$f":"AVERAGE(G129:G132)","v":{"$error":"#DIV/0!"}}]
["Air Sampling Array Individual \nMeasurement Temperatures",null,"#6-A",null,{"$f":"'Test Conditions'!$B$19","v":"°C"}]
[null,null,"#6-B",null,{"$f":"'Test Conditions'!$B$19","v":"°C"}]
[null,null,"#6-C",null,{"$f":"'Test Conditions'!$B$19","v":"°C"}]
[null,null,"#6-D",null,{"$f":"'Test Conditions'!$B$19","v":"°C"}]
[null,null,"Recirculation Thermocouple",null,{"$f":"'Test Conditions'!$B$19","v":"°C"}]
["Air Sampling Array #7, Mean Air Temperature",null,null,null,{"$f":"'Test Conditions'!$B$19","v":"°C"},null,{"$f":"AVERAGE(G135:G138)","v":{"$error":"#DIV/0!"}}]
["Air Sampling Array Individual \nMeasurement Temperatures",null,"#7-A",null,{"$f":"'Test Conditions'!$B$19","v":"°C"}]
[null,null,"#7-B",null,{"$f":"'Test Conditions'!$B$19","v":"°C"}]
[null,null,"#7-C",null,{"$f":"'Test Conditions'!$B$19","v":"°C"}]
[null,null,"#7-D",null,{"$f":"'Test Conditions'!$B$19","v":"°C"}]
[null,null,"Recirculation Thermocouple",null,{"$f":"'Test Conditions'!$B$19","v":"°C"}]
["Air Sampling Array #8, Mean Air Temperature",null,null,null,{"$f":"'Test Conditions'!$B$19","v":"°C"},null,{"$f":"AVERAGE(G141:G144)","v":{"$error":"#DIV/0!"}}]
["Air Sampling Array Individual \nMeasurement Temperatures",null,"#8-A",null,{"$f":"'Test Conditions'!$B$19","v":"°C"}]
[null,null,"#8-B",null,{"$f":"'Test Conditions'!$B$19","v":"°C"}]
[null,null,"#8-C",null,{"$f":"'Test Conditions'!$B$19","v":"°C"}]
[null,null,"#8-D",null,{"$f":"'Test Conditions'!$B$19","v":"°C"}]
[null,null,"Recirculation Thermocouple",null,{"$f":"'Test Conditions'!$B$19","v":"°C"}]
["Air Sampling Array #9, Mean Air Temperature",null,null,null,{"$f":"'Test Conditions'!$B$19","v":"°C"},null,{"$f":"AVERAGE(G147:G150)","v":{"$error":"#DIV/0!"}}]
["Air Sampling Array Individual \nMeasurement Temperatures",null,"#9-A",null,{"$f":"'Test Conditions'!$B$19","v":"°C"}]
[null,null,"#9-B",null,{"$f":"'Test Conditions'!$B$19","v":"°C"}]
[null,null,"#9-C",null,{"$f":"'Test Conditions'!$B$19","v":"°C"}]
[null,null,"#9-D",null,{"$f":"'Test Conditions'!$B$19","v":"°C"}]
[null,null,"Recirculation Thermocouple",null,{"$f":"'Test Conditions'!$B$19","v":"°C"}]
["Air Sampling Array #10, Mean Air Temperature",null,null,null,{"$f":"'Test Conditions'!$B$19","v":"°C"},null,{"$f":"AVERAGE(G153:G156)","v":{"$error":"#DIV/0!"}}]
["Air Sampling Array Individual \nMeasurement Temperatures",null,"#10-A",null,{"$f":"'Test Conditions'!$B$19","v":"°C"}]
[null,null,"#10-B",null,{"$f":"'Test Conditions'!$B$19","v":"°C"}]
[null,null,"#10-C",null,{"$f":"'Test Conditions'!$B$19","v":"°C"}]
[null,null,"#10-D",null,{"$f":"'Test Conditions'!$B$19","v":"°C"}]
[null,null,"Recirculation Thermocouple",null,{"$f":"'Test Conditions'!$B$19","v":"°C"}]
["Air Sampling Array #11, Mean Air Temperature",null,null,null,{"$f":"'Test Conditions'!$B$19","v":"°C"},null,{"$f":"AVERAGE(G159:G162)","v":{"$error":"#DIV/0!"}}]
["Air Sampling Array Individual \nMeasurement Temperatures",null,"#11-A",null,{"$f":"'Test Conditions'!$B$19","v":"°C"}]
[null,null,"#11-B",null,{"$f":"'Test Conditions'!$B$19","v":"°C"}]
[null,null,"#11-C",null,{"$f":"'Test Conditions'!$B$19","v":"°C"}]
[null,null,"#11-D",null,{"$f":"'Test Conditions'!$B$19","v":"°C"}]
[null,null,"Recirculation Thermocouple",null,{"$f":"'Test Conditions'!$B$19","v":"°C"}]
["Air Sampling Array #12, Mean Air Temperature",null,null,null,{"$f":"'Test Conditions'!$B$19","v":"°C"},null,{"$f":"AVERAGE(G165:G168)","v":{"$error":"#DIV/0!"}}]
["Air Sampling Array Individual \nMeasurement Temperatures",null,"#12-A",null,{"$f":"'Test Conditions'!$B$19","v":"°C"}]
[null,null,"#12-B",null,{"$f":"'Test Conditions'!$B$19","v":"°C"}]
[null,null,"#12-C",null,{"$f":"'Test Conditions'!$B$19","v":"°C"}]
[null,null,"#12-D",null,{"$f":"'Test Conditions'!$B$19","v":"°C"}]
[null,null,"Recirculation Thermocouple",null,{"$f":"'Test Conditions'!$B$19","v":"°C"}]
["Air Sampling Array #13, Mean Air Temperature",null,null,null,{"$f":"'Test Conditions'!$B$19","v":"°C"},null,{"$f":"AVERAGE(G171:G174)","v":{"$error":"#DIV/0!"}}]
["Air Sampling Array Individual \nMeasurement Temperatures",null,"#13-A",null,{"$f":"'Test Conditions'!$B$19","v":"°C"}]
[null,null,"#13-B",null,{"$f":"'Test Conditions'!$B$19","v":"°C"}]
[null,null,"#13-C",null,{"$f":"'Test Conditions'!$B$19","v":"°C"}]
[null,null,"#13-D",null,{"$f":"'Test Conditions'!$B$19","v":"°C"}]
[null,null,"Recirculation Thermocouple",null,{"$f":"'Test Conditions'!$B$19","v":"°C"}]
["Air Sampling Array #14, Mean Air Temperature",null,null,null,{"$f":"'Test Conditions'!$B$19","v":"°C"},null,{"$f":"AVERAGE(G177:G180)","v":{"$error":"#DIV/0!"}}]
["Air Sampling Array Individual \nMeasurement Temperatures",null,"#14-A",null,{"$f":"'Test Conditions'!$B$19","v":"°C"}]
[null,null,"#14-B",null,{"$f":"'Test Conditions'!$B$19","v":"°C"}]
[null,null,"#14-C",null,{"$f":"'Test Conditions'!$B$19","v":"°C"}]
[null,null,"#14-D",null,{"$f":"'Test Conditions'!$B$19","v":"°C"}]
[null,null,"Recirculation Thermocouple",null,{"$f":"'Test Conditions'!$B$19","v":"°C"}]
["Air Sampling Array #15, Mean Air Temperature",null,null,null,{"$f":"'Test Conditions'!$B$19","v":"°C"},null,{"$f":"AVERAGE(G183:G186)","v":{"$error":"#DIV/0!"}}]
["Air Sampling Array Individual \nMeasurement Temperatures",null,"#15-A",null,{"$f":"'Test Conditions'!$B$19","v":"°C"}]
[null,null,"#15-B",null,{"$f":"'Test Conditions'!$B$19","v":"°C"}]
[null,null,"#15-C",null,{"$f":"'Test Conditions'!$B$19","v":"°C"}]
[null,null,"#15-D",null,{"$f":"'Test Conditions'!$B$19","v":"°C"}]
[null,null,"Recirculation Thermocouple",null,{"$f":"'Test Conditions'!$B$19","v":"°C"}]
["Air Sampling Array #16, Mean Air Temperature",null,null,null,{"$f":"'Test Conditions'!$B$19","v":"°C"},null,{"$f":"AVERAGE(G189:G192)","v":{"$error":"#DIV/0!"}}]
["Air Sampling Array Individual \nMeasurement Temperatures",null,"#16-A",null,{"$f":"'Test Conditions'!$B$19","v":"°C"}]
[null,null,"#16-B",null,{"$f":"'Test Conditions'!$B$19","v":"°C"}]
[null,null,"#16-C",null,{"$f":"'Test Conditions'!$B$19","v":"°C"}]
[null,null,"#16-D",null,{"$f":"'Test Conditions'!$B$19","v":"°C"}]
[null,null,"Recirculation Thermocouple",null,{"$f":"'Test Conditions'!$B$19","v":"°C"}]
["Air Sampling Array #17, Mean Air Temperature",null,null,null,{"$f":"'Test Conditions'!$B$19","v":"°C"},null,{"$f":"AVERAGE(G195:G198)","v":{"$error":"#DIV/0!"}}]
["Air Sampling Array Individual \nMeasurement Temperatures",null,"#17-A",null,{"$f":"'Test Conditions'!$B$19","v":"°C"}]
[null,null,"#17-B",null,{"$f":"'Test Conditions'!$B$19","v":"°C"}]
[null,null,"#17-C",null,{"$f":"'Test Conditions'!$B$19","v":"°C"}]
[null,null,"#17-D",null,{"$f":"'Test Conditions'!$B$19","v":"°C"}]
[null,null,"Recirculation Thermocouple",null,{"$f":"'Test Conditions'!$B$19","v":"°C"}]
["Air Sampling Array #18, Mean Air Temperature",null,null,null,{"$f":"'Test Conditions'!$B$19","v":"°C"},null,{"$f":"AVERAGE(G201:G204)","v":{"$error":"#DIV/0!"}}]
["Air Sampling Array Individual \nMeasurement Temperatures",null,"#18-A",null,{"$f":"'Test Conditions'!$B$19","v":"°C"}]
[null,null,"#18-B",null,{"$f":"'Test Conditions'!$B$19","v":"°C"}]
[null,null,"#18-C",null,{"$f":"'Test Conditions'!$B$19","v":"°C"}]
[null,null,"#18-D",null,{"$f":"'Test Conditions'!$B$19","v":"°C"}]
[null,null,"Recirculation Thermocouple",null,{"$f":"'Test Conditions'!$B$19","v":"°C"}]
["Air Sampling Array #19, Mean Air Temperature",null,null,null,{"$f":"'Test Conditions'!$B$19","v":"°C"},null,{"$f":"AVERAGE(G207:G210)","v":{"$error":"#DIV/0!"}}]
["Air Sampling Array Individual \nMeasurement Temperatures",null,"#19-A",null,{"$f":"'Test Conditions'!$B$19","v":"°C"}]
[null,null,"#19-B",null,{"$f":"'Test Conditions'!$B$19","v":"°C"}]
[null,null,"#19-C",null,{"$f":"'Test Conditions'!$B$19","v":"°C"}]
[null,null,"#19-D",null,{"$f":"'Test Conditions'!$B$19","v":"°C"}]
[null,null,"Recirculation Thermocouple",null,{"$f":"'Test Conditions'!$B$19","v":"°C"}]
["Air Sampling Array #20, Mean Air Temperature",null,null,null,{"$f":"'Test Conditions'!$B$19","v":"°C"},null,{"$f":"AVERAGE(G213:G216)","v":{"$error":"#DIV/0!"}}]
["Air Sampling Array Individual \nMeasurement Temperatures",null,"#20-A",null,{"$f":"'Test Conditions'!$B$19","v":"°C"}]
[null,null,"#20-B",null,{"$f":"'Test Conditions'!$B$19","v":"°C"}]
[null,null,"#20-C",null,{"$f":"'Test Conditions'!$B$19","v":"°C"}]
[null,null,"#20-D",null,{"$f":"'Test Conditions'!$B$19","v":"°C"}]
[null,null,"Recirculation Thermocouple",null,{"$f":"'Test Conditions'!$B$19","v":"°C"}]
[]
["Atmospheric Pressure Correction",null,null,null,"Units","Evaporator","Condenser"]
["Location of Water Flow Meter Relative to Chiller",null,null,null,"-"]
["Water Temperature (T) for Density",null,null,null,{"$f":"'Test Conditions'!$B$18","v":"°C"},{"$f":"IF($F$220=\"Entering\",$F$16,$F$14)","v":{"$error":"#DIV/0!"}}]
["Water Density (ρ)",null,null,null,{"$f":"IF('Test Plan'!$B$19=\"I-P\",'Unit Conversion'!$B$10,'Unit Conversion'!$C$10)","v":"kg/m³"},{"$f":"IF('Test Plan'!$B$19=\"I-P\",(-0.00000000074704*$F$221^4)+(0.00000052643*$F$221^3)+(-0.00018846*$F$221^2)+(0.012164*$F$221)+62.227,((-0.00000012556*$F$221^4)+(0.000040229*$F$221^3)+(-0.0073948*$F$221^2)+(0.046734*$F$221)+1000.2))","v":{"$error":"#DIV/0!"}}]
["Average Water Temperature (T) for Specific Heat & ∆pcorrected Density",null,null,null,{"$f":"'Test Conditions'!$B$18","v":"°C"},{"$f":"AVERAGE($F$14,$F$16)","v":{"$error":"#DIV/0!"}}]
["Water Specific Heat (cp)",null,null,null,{"$f":"IF('Test Plan'!$B$19=\"I-P\",'Unit Conversion'!$B$13,'Unit Conversion'!$C$13)","v":"kJ/kg·K"},{"$f":"IF('Test Plan'!$B$19=\"I-P\",(-0.00000000000040739*$F$223^5)+(0.00000000031031*$F$223^4)+(-0.000000092501*$F$223^3)+(0.000014071*$F$223^2)+(-0.0010677*$F$223)+1.0295,((-0.00000000003222*$F$223^5)+(0.00000001077*$F$223^4)+(-0.0000013901*$F$223^3)+(0.000094433*$F$223^2)+(-0.0031103*$F$223)+4.216))","v":{"$error":"#DIV/0!"}}]
["Water Density (ρ) for ∆pcorrected",null,null,null,{"$f":"IF('Test Plan'!$B$19=\"I-P\",'Unit Conversion'!$B$10,'Unit Conversion'!$C$10)","v":"kg/m³"},{"$f":"IF('Test Plan'!$B$19=\"I-P\",(-0.00000000074704*$F$223^4)+(0.00000052643*$F$223^3)+(-0.00018846*$F$223^2)+(0.012164*$F$223)+62.227,((-0.00000012556*$F$223^4)+(0.000040229*$F$223^3)+(-0.0073948*$F$223^2)+(0.046734*$F$223)+1000.2))","v":{"$error":"#DIV/0!"}}]
["Water Mass Flow Rate (mw)",null,null,null,{"$f":"IF('Test Plan'!$B$19=\"I-P\",'Unit Conversion'!$B$11,'Unit Conversion'!$C$11)","v":"kg/h"},{"$f":"IF('Test Plan'!$B$19=\"I-P\",$F$18*$F$222/0.124675,$F$18*$F$222)","v":{"$error":"#DIV/0!"}}]
["Gross Refrigeranting Capacity (Q'ev)",null,null,null,{"$f":"'Test Plan'!$B$125","v":"kW"},{"$f":"IF('Test Plan'!$B$19=\"I-P\",$F$226*($F$224*ABS($F$16-$F$14)+(0.18505*$F$23/$F$225*0.4331))/12000,$F$226*($F$224*ABS($F$16-$F$14)+($F$23/$F$225))/3600)","v":{"$error":"#DIV/0!"}}]
["Net Refrigerating Capacity (Qev)",null,null,null,{"$f":"'Test Plan'!$B$125","v":"kW"},{"$f":"IF('Test Plan'!$B$19=\"I-P\",$F$226*($F$224*ABS($F$16-$F$14))/12000,$F$226*($F$224*ABS($F$16-$F$14))/3600)","v":{"$error":"#DIV/0!"}}]
["Cooling Energy Efficiency",null,null,null,{"$f":"'Test Plan'!$B$126","v":"kW/kW"},{"$f":"IF('Test Plan'!$B$19=\"I-P\",$F$26/$F$228,$F$228/$F$26)","v":{"$error":"#DIV/0!"}}]
["Coefficient Correction Factor (Capacity), DQ",null,null,null,"-",null,{"$f":"IF('Test Plan'!$B$19=\"I-P\",0.0011273*$G$12^2-0.041272*$G$12+1.36304,0.000023713*$G$12^2-0.005986*$G$12+1.36304)","v":{"$error":"#DIV/0!"}}]
["Coefficient Correction Factor (Efficiency), Dƞ",null,null,null,"-",null,{"$f":"IF('Test Plan'!$B$19=\"I-P\",0.0024308*$G$12^2-0.090075*$G$12+1.79872,0.000051135*$G$12^2-0.013064*$G$12+1.79872)","v":{"$error":"#DIV/0!"}}]
["Correction Factor (Capacity), CFQ",null,null,null,"-",null,{"$f":"IF('Test Plan'!$B$19=\"I-P\",1+($F$228/'100% Load Condition '!$F$228)*($G$230-1)*EXP(-0.35*(($G$231*(12/'100% Load Condition '!$F$229))-9.6)),1+($F$228/'100% Load Condition '!$F$228)*($G$230-1)*EXP(-0.35*((3.41214*$G$231*'100% Load Condition '!$F$229)-9.6)))","v":{"$error":"#DIV/0!"}}]
["Correction Factor (Efficiency), CFƞ",null,null,null,"-",null,{"$f":"IF('Test Plan'!$B$19=\"I-P\",1+($F$228/'100% Load Condition '!$F$228)*($G$231-1)*EXP(-0.35*(($G$231*(12/'100% Load Condition '!$F$229))-9.6)),1+($F$228/'100% Load Condition '!$F$228)*($G$231-1)*EXP(-0.35*((3.41214*$G$231*'100% Load Condition '!$F$229)-9.6)))","v":{"$error":"#DIV/0!"}}]
[]
["Test Result",null,null,null,"Units","Evaporator"]
["Corrected Net Refrigerating Capacity (Qev)",null,null,null,{"$f":"'Test Plan'!$B$125","v":"kW"},{"$f":"$F$228*$G$232","v":{"$error":"#DIV/0!"}}]
["Corrected Cooling Energy Efficiency",null,null,null,{"$f":"'Test Plan'!$B$126","v":"kW/kW"},{"$f":"IF('Test Plan'!$B$19=\"I-P\",$F$229/$G$233,$F$229*$G$233)","v":{"$error":"#DIV/0!"}}]
["Water Pressure Drop",null,null,null,{"$f":"'Test Plan'!$B$127","v":"kPa"},{"$f":"$F$23","v":{"$error":"#DIV/0!"}}]
[]
[null,null,null,"Evaporator Water",null,null,null,null,null,null,null,null,null,"Condenser Air",null,"Electrical"]
[null,null,null,"Lvg. Temp.",null,null,"Ent. Temp.",null,null,"Flow Rate",null,null,null,null,null,"Power",null,null,"Total Voltage","Voltage 1",null,null,null,"Voltage 2",null,null,null,"Frequency"]
["Laboratory Data","Start Time","Stop Time",null,null,{"$f":"'Test Conditions'!$B$18","v":"°C"},null,null,{"$f":"'Test Conditions'!$B$18","v":"°C"},null,null,null,"Press. Drop","Ent. Temp.","Atm Press.",null,null,"kW"]
["Unit",{"$f":"$C$9","v":"h:mm:ss:ms"},{"$f":"$C$9","v":"h:mm:ss:ms"},null,null,null,null,null,null,null,null,null,{"$f":"IF('Test Plan'!$B$19=\"I-P\",'Unit Conversion'!$B$9,'Unit Conversion'!$C$9)","v":"kPa"},{"$f":"'Test Conditions'!$B$19","v":"°C"},{"$f":"IF('Test Plan'!$B$19=\"I-P\",'Unit Conversion'!$B$7,'Unit Conversion'!$C$7)","v":"kPa"}]
["Mean"]
["Data Comparison",{"$f":"ABS(B244-Zero)*24*60*60","v":0},{"$f":"ABS(C244-INDEX(Zero:C10196,$B$10))*24*60*60","v":{"$error":"#VALUE!"}},null,null,{"$f":"ABS(F244-F250)","v":{"$error":"#DIV/0!"}},null,null,{"$f":"ABS(I244-I250)","v":{"$error":"#DIV/0!"}},null,null,null,{"$f":"ABS(M244-M250)","v":{"$error":"#DIV/0!"}},{"$f":"ABS(N244-N250)","v":{"$error":"#DIV/0!"}},{"$f":"ABS(O244-O250)/O250","v":{"$error":"#DIV/0!"}},null,null,{"$f":"ABS(R244-R250)/R250","v":{"$error":"#DIV/0!"}}]
["Use Lab Data?"]
["Test Stand Data","Time Interval","Time Stamp",1,2,"Avg.",1,2,"Avg.",1,2,"Avg.","Press. Drop","Ent. Temp.","Atm Press.",1,2,"Avg.","Avg","Avg."," A-B"," B-C"," C-A","Avg."," A-B"," B-C"," C-A","Avg.",1,2]
["Unit",{"$f":"$C$9","v":"h:mm:ss:ms"},{"$f":"$C$9","v":"h:mm:ss:ms"},{"$f":"'Test Conditions'!$B$18","v":"°C"},{"$f":"'Test Conditions'!$B$18","v":"°C"},{"$f":"'Test Conditions'!$B$18","v":"°C"},{"$f":"'Test Conditions'!$B$19","v":"°C"},{"$f":"'Test Conditions'!$B$19","v":"°C"},{"$f":"'Test Conditions'!$B$19","v":"°C"},{"$f":"'Test Conditions'!$B$20","v":"m³/h"},{"$f":"'Test Conditions'!$B$20","v":"m³/h"},{"$f":"'Test Conditions'!$B$20","v":"m³/h"},{"$f":"IF('Test Plan'!$B$19=\"I-P\",'Unit Conversion'!$B$9,'Unit Conversion'!$C$9)","v":"kPa"},{"$f":"'Test Conditions'!$B$19","v":"°C"},{"$f":"IF('Test Plan'!$B$19=\"I-P\",'Unit Conversion'!$B$7,'Unit Conversion'!$C$7)","v":"kPa"},"kW","kW","kW","V","V","V","V","V","V","V","V","V","Hz","Hz","Hz"]
["Rating","-","-",{"$f":"'Test Conditions'!$C$118","v":0},{"$f":"'Test Conditions'!$C$118","v":0},{"$f":"'Test Conditions'!$C$118","v":0},{"$f":"'Test Plan'!$C$118","v":0},{"$f":"'Test Plan'!$C$118","v":0},{"$f":"'Test Plan'!$C$118","v":0},{"$f":"'Test Plan'!$C$120","v":0},{"$f":"'Test Plan'!$C$120","v":0},{"$f":"'Test Plan'!$C$120","v":0},{"$f":"IF('Test Plan'!$B$19=\"I-P\",'Test Plan'!$D$127*0.4331,'Test Plan'!$D$127)","v":0},{"$f":"'Test Conditions'!$D$119","v":0},{"$f":"'Test Plan'!$C$41","v":101.33},{"$f":"'Test Plan'!$C$122","v":""},{"$f":"'Test Plan'!$C$122","v":""},{"$f":"'Test Plan'!$C$122","v":""},{"$f":"'Test Plan'!$B$14","v":0},{"$f":"'Test Plan'!$B$14","v":0},{"$f":"'Test Plan'!$B$14","v":0},{"$f":"'Test Plan'!$B$14","v":0},{"$f":"'Test Plan'!$B$14","v":0},{"$f":"'Test Plan'!$B$14","v":0},{"$f":"'Test Plan'!$B$14","v":0},{"$f":"'Test Plan'!$B$14","v":0},{"$f":"'Test Plan'!$B$14","v":0},{"$f":"'Test Plan'!$D$14","v":0},{"$f":"'Test Plan'!$D$14","v":0},{"$f":"'Test Plan'!$D$14","v":0}]
["Mean","-","-",{"$f":"AVERAGE(D252:INDEX(D252:D10083,$B$9))","v":{"$error":"#DIV/0!"}},{"$f":"AVERAGE(E252:INDEX(E252:E10083,$B$9))","v":{"$error":"#DIV/0!"}},{"$f":"AVERAGE(D250:E250)","v":{"$error":"#DIV/0!"}},{"$f":"AVERAGE(G252:INDEX(G252:G10083,$B$9))","v":{"$error":"#DIV/0!"}},{"$f":"AVERAGE(H252:INDEX(H252:H10083,$B$9))","v":{"$error":"#DIV/0!"}},{"$f":"AVERAGE(G250:H250)","v":{"$error":"#DIV/0!"}},{"$f":"AVERAGE(J252:INDEX(J252:J10083,$B$9))","v":{"$error":"#DIV/0!"}},{"$f":"AVERAGE(K252:INDEX(K252:K10083,$B$9))","v":{"$error":"#DIV/0!"}},{"$f":"AVERAGE(J250:K250)","v":{"$error":"#DIV/0!"}},{"$f":"AVERAGE(M252:INDEX(M252:M10083,$B$9))","v":{"$error":"#DIV/0!"}},{"$f":"AVERAGE(N252:INDEX(N252:N10083,$B$9))","v":{"$error":"#DIV/0!"}},{"$f":"AVERAGE(O252:INDEX(O252:O10083,$B$9))","v":{"$error":"#DIV/0!"}},{"$f":"AVERAGE(P252:INDEX(P252:P10083,$B$9))","v":{"$error":"#DIV/0!"}},{"$f":"AVERAGE(Q252:INDEX(Q252:Q10083,$B$9))","v":{"$error":"#DIV/0!"}},{"$f":"AVERAGE(P250:Q250)","v":{"$error":"#DIV/0!"}},{"$f":"AVERAGE(T250,X250)","v":{"$error":"#DIV/0!"}},{"$f":"AVERAGE(T252:INDEX(T252:T10083,$B$9))","v":{"$error":"#DIV/0!"}},{"$f":"AVERAGE(U252:INDEX(U252:U10083,$B$9))","v":{"$error":"#DIV/0!"}},{"$f":"AVERAGE(V252:INDEX(V252:V10083,$B$9))","v":{"$error":"#DIV/0!"}},{"$f":"AVERAGE(W252:INDEX(W252:W10083,$B$9))","v":{"$error":"#DIV/0!"}},{"$f":"AVERAGE(X252:INDEX(X252:X10083,$B$9))","v":{"$error":"#DIV/0!"}},{"$f":"AVERAGE(Y252:INDEX(Y252:Y10083,$B$9))","v":{"$error":"#DIV/0!"}},{"$f":"AVERAGE(Z252:INDEX(Z252:Z10083,$B$9))","v":{"$error":"#DIV/0!"}},{"$f":"AVERAGE(AA252:INDEX(AA252:AA10083,$B$9))","v":{"$error":"#DIV/0!"}},{"$f":"AVERAGE(AC250:AD250)","v":{"$error":"#DIV/0!"}},{"$f":"AVERAGE(AC252:INDEX(AC252:AC10083,$B$9))","v":{"$error":"#DIV/0!"}},{"$f":"AVERAGE(AD252:INDEX(AD252:AD10083,$B$9))","v":{"$error":"#DIV/0!"}}]
["St. Dev.","-","-",{"$f":"_xlfn.STDEV.S(D252:INDEX(D252:D10083,$B$9))","v":{"$error":"#DIV/0!"}},{"$f":"_xlfn.STDEV.S(E252:INDEX(E252:E10083,$B$9))","v":{"$error":"#DIV/0!"}},{"$f":"SQRT((D251^2+E251^2)/2)","v":{"$error":"#DIV/0!"}},{"$f":"_xlfn.STDEV.S(G252:INDEX(G252:G10083,$B$9))","v":{"$error":"#DIV/0!"}},{"$f":"_xlfn.STDEV.S(H252:INDEX(H252:H10083,$B$9))","v":{"$error":"#DIV/0!"}},{"$f":"SQRT((G251^2+H251^2)/2)","v":{"$error":"#DIV/0!"}},{"$f":"_xlfn.STDEV.S(J252:INDEX(J252:J10083,$B$9))","v":{"$error":"#DIV/0!"}},{"$f":"_xlfn.STDEV.S(K252:INDEX(K252:K10083,$B$9))","v":{"$error":"#DIV/0!"}},{"$f":"SQRT((J251^2+K251^2)/2)","v":{"$error":"#DIV/0!"}},{"$f":"_xlfn.STDEV.S(M252:INDEX(M252:M10083,$B$9))","v":{"$error":"#DIV/0!"}},{"$f":"_xlfn.STDEV.S(N252:INDEX(N252:N10083,$B$9))","v":{"$error":"#DIV/0!"}},{"$f":"_xlfn.STDEV.S(O252:INDEX(O252:O10083,$B$9))","v":{"$error":"#DIV/0!"}},{"$f":"_xlfn.STDEV.S(P252:INDEX(P252:P10083,$B$9))","v":{"$error":"#DIV/0!"}},{"$f":"_xlfn.STDEV.S(Q252:INDEX(Q252:Q10083,$B$9))","v":{"$error":"#DIV/0!"}},{"$f":"SQRT((P251^2+Q251^2)/2)","v":{"$error":"#DIV/0!"}},{"$f":"SQRT((T251^2+X251^2)/2)","v":{"$error":"#DIV/0!"}},{"$f":"_xlfn.STDEV.S(T252:INDEX(T252:T10083,$B$9))","v":{"$error":"#DIV/0!"}},{"$f":"_xlfn.STDEV.S(U252:INDEX(U252:U10083,$B$9))","v":{"$error":"#DIV/0!"}},{"$f":"_xlfn.STDEV.S(V252:INDEX(V252:V10083,$B$9))","v":{"$error":"#DIV/0!"}},{"$f":"_xlfn.STDEV.S(W252:INDEX(W252:W10083,$B$9))","v":{"$error":"#DIV/0!"}},{"$f":"_xlfn.STDEV.S(X252:INDEX(X252:X10083,$B$9))","v":{"$error":"#DIV/0!"}},{"$f":"_xlfn.STDEV.S(Y252:INDEX(Y252:Y10083,$B$9))","v":{"$error":"#DIV/0!"}},{"$f":"_xlfn.STDEV.S(Z252:INDEX(Z252:Z10083,$B$9))","v":{"$error":"#DIV/0!"}},{"$f":"_xlfn.STDEV.S(AA252:INDEX(AA252:AA10083,$B$9))","v":{"$error":"#DIV/0!"}},{"$f":"SQRT((AC251^2+AD251^2)/2)","v":{"$error":"#DIV/0!"}},{"$f":"_xlfn.STDEV.S(AC252:INDEX(AC252:AC10083,$B$9))","v":{"$error":"#DIV/0!"}},{"$f":"_xlfn.STDEV.S(AD252:INDEX(AD252:AD10083,$B$9))","v":{"$error":"#DIV/0!"}}]
[null,{"$f":"C253-C252","v":"00:00:00"}]
[null,{"$f":"C254-C253","v":"00:00:00"}]
[null,{"$f":"C255-C254","v":"00:00:00"}]
[null,"00:00:00"]
[null,"00:00:00"]
[null,"00:00:00"]
[null,"00:00:00"]
[null,"00:00:00"]
[null,"00:00:00"]
[null,"00:00:00"]
[null,"00:00:00"]
[null,"00:00:00"]
[null,"00:00:00"]
[null,"00:00:00"]
[null,"00:00:00"]
[null,"00:00:00"]
[null,"00:00:00"]
[null,"00:00:00"]
[null,"00:00:00"]
[null,"00:00:00"]
[null,"00:00:00"]
[null,"00:00:00"]
[null,"00:00:00"]
[null,"00:00:00"]
[null,"00:00:00"]
[null,"00:00:00"]
[null,"00:00:00"]
[null,{"$f":"C280-C279","v":"00:00:00"}]
[null,{"$f":"C281-C280","v":"00:00:00"}]
[null,{"$f":"IF(C282=0,\"\",C282-C281)","v":""}]
[null,{"$f":"IF(C283=0,\"\",C283-C282)","v":""}]
[null,{"$f":"IF(C284=0,\"\",C284-C283)","v":""}]
[null,{"$f":"IF(C285=0,\"\",C285-C284)","v":""}]
[null,""]
[null,""]
[null,""]
[null,""]
[null,""]
[null,""]
[null,""]
[null,""]
[null,""]
[null,""]
[null,""]
[null,""]
[null,""]
[null,""]
[null,""]
[null,""]
[null,""]
[null,""]
[null,""]
[null,""]
[null,""]
[null,""]
[null,""]
[null,""]
[null,""]
[null,""]
[null,""]
[null,""]
[null,""]
[null,""]
[null,""]
[null,""]
[null,""]
[null,""]
[null,""]
[null,""]
[null,""]
[null,""]
[null,""]
[null,""]
[null,""]
[null,""]
[null,""]
[null,""]
[null,""]
[null,""]
[null,""]
[null,""]
[null,""]
[null,""]
[null,""]
[null,""]
[null,""]
[null,""]
[null,""]
[null,""]
[null,""]
[null,""]
[null,""]
[null,""]
[null,""]
[null,""]
[null,""]
[null,{"$f":"IF(C349=0,\"\",C349-C348)","v":""}]
[null,""]
[null,""]
[null,""]
[null,""]
[null,""]
[null,""]
[null,""]
[null,""]
[null,""]
[null,""]
[null,""]
[null,""]
[null,""]
[null,""]
[null,""]
[null,""]
[null,""]
[null,""]
[null,""]
[null,""]
[null,""]
[null,""]
[null,""]
[null,""]
[null,""]
[null,""]
[null,""]
[null,""]
[null,""]
[null,""]
[null,""]
[null,""]
[null,""]
[null,""]
[null,""]
[null,""]
[null,""]
[null,""]
[null,""]
[null,""]
[null,""]
[null,""]
[null,""]
[null,""]
[null,""]
[null,""]
[null,""]
[null,""]
[null,""]
[null,""]
[null,""]
[null,""]
[null,""]
[null,""]
[null,""]
[null,""]
[null,""]
[null,""]
[null,""]
[null,""]
[null,""]
[null,""]
[null,""]
[null,{"$f":"IF(C413=0,\"\",C413-C412)","v":""}]
[null,""]
[null,""]
[null,""]
[null,""]
[null,""]
[null,""]
[null,""]
[null,""]
[null,""]
[null,""]
[null,""]
[null,""]
[null,""]
[null,""]
[null,""]
[null,""]
[null,""]
[null,""]
[null,""]
[null,""]
[null,""]
[null,""]
[null,""]
[null,""]
[null,""]
[null,""]
[null,""]
[null,""]
[null,""]
[null,""]
[null,""]
[null,""]
[null,""]
[null,""]
[null,""]
[null,""]
[null,""]
[null,""]
[null,""]
[null,""]
[null,""]
[null,""]
[null,""]
[null,""]
[null,""]
[null,""]
[null,""]
[null,""]
[null,""]
[null,""]
[null,""]
[null,""]
[null,""]
[null,""]
[null,""]
[null,""]
[null,""]
[null,""]
[null,""]
[null,""]
[null,""]
[null,""]
[null,""]
[null,{"$f":"IF(C477=0,\"\",C477-C476)","v":""}]
[null,""]
[null,""]
[null,""]
[null,""]
[null,""]
[null,""]
[null,""]
[null,""]
[null,""]
[null,""]
[null,""]
[null,""]
[null,""]
[null,""]
[null,""]
[null,""]
[null,""]
[null,""]
[null,""]
[null,""]
[null,""]
[null,""]
[null,""]
[null,""]
[null,""]
[null,""]
[null,""]
[null,""]
[null,""]
[null,""]
[null,""]
[null,""]
[null,""]
[null,""]
[null,""]
[null,""]
[null,""]
[null,""]
[null,""]
[null,""]
[null,""]
[null,""]
[null,""]
[null,""]
[null,""]
[null,""]
[null,""]
[null,""]
[null,""]
[null,""]
[null,""]
[null,""]
[null,""]
[null,""]
[null,""]
[null,""]
[null,""]
[null,""]
[null,""]
[null,""]
[null,""]
[null,""]
[null,""]
[null,{"$f":"IF(C541=0,\"\",C541-C540)","v":""}]
[null,""]
[null,""]
[null,""]
[null,""]
[null,""]
[null,""]
[null,""]
[null,""]
[null,""]
[null,""]
[null,""]
[null,""]
[null,""]
[null,""]
[null,""]
[null,""]
[null,""]
[null,""]
[null,""]
[null,""]
[null,""]
[null,""]
[null,""]
[null,""]
[null,""]
[null,""]
[null,""]
[null,""]
[null,""]
[null,""]
[null,""]
[null,""]
[null,""]
[null,""]
[null,""]
[null,""]
[null,""]
[null,""]
[null,""]
[null,""]
[null,""]
[null,""]
[null,""]
[null,""]
[null,""]
[null,""]
[null,""]
[null,""]
[null,""]
[null,""]
[null,""]
[null,""]
[null,""]
[null,""]
[null,""]
[null,""]
[null,""]
[null,""]
[null,""]
[null,""]
[null,""]
[null,""]
[null,""]
[null,{"$f":"IF(C605=0,\"\",C605-C604)","v":""}]
[null,""]
[null,""]
[null,""]
[null,""]
[null,""]
[null,""]
[null,""]
[null,""]
[null,""]
[null,""]
[null,""]
[null,""]
[null,""]
[null,""]
[null,""]
[null,""]
[null,""]
[null,""]
[null,""]
[null,""]
[null,""]
[null,""]
[null,""]
[null,""]
[null,""]
[null,""]
[null,""]
[null,""]
[null,""]
[null,""]
[null,""]
[null,""]
[null,""]
[null,""]
[null,""]
[null,""]
[null,""]
[null,""]
[null,""]
[null,""]
[null,""]
[null,""]
[null,""]
[null,""]
[null,""]
[null,""]
[null,""]
[null,""]
[null,""]
[null,""]
[null,""]
[null,""]
[null,""]
[null,""]
[null,""]
[null,""]
[null,""]
[null,""]
[null,""]
[null,""]
[null,""]
[null,""]
[null,""]
[null,{"$f":"IF(C669=0,\"\",C669-C668)","v":""}]
[null,""]
[null,""]
[null,""]
[null,""]
[null,""]
[null,""]
[null,""]
[null,""]
[null,""]
[null,""]
[null,""]
[null,""]
[null,""]
[null,""]
[null,""]
[null,""]
[null,""]
[null,""]
[null,""]
[null,""]
[null,""]
[null,""]
[null,""]
[null,""]
[null,""]
[null,""]
[null,""]
[null,""]
[null,""]
[null,""]
[null,""]
[null,""]
[null,""]
[null,""]
[null,""]
[null,""]
[null,""]
[null,""]
[null,""]
[null,""]
[null,""]
[null,""]
[null,""]
[null,""]
[null,""]
[null,""]
[null,""]
[null,""]
[null,""]
[null,""]
[null,""]
[null,""]
[null,""]
[null,""]
[null,""]
[null,""]
[null,""]
[null,""]
[null,""]
[null,""]
[null,""]
[null,""]
[null,""]
[null,{"$f":"IF(C733=0,\"\",C733-C732)","v":""}]
[null,""]
[null,""]
[null,""]
[null,""]
[null,""]
[null,""]
[null,""]
[null,""]
[null,""]
[null,""]
[null,""]
[null,""]
[null,""]
[null,""]
[null,""]
[null,""]
[null,""]
[null,""]
[null,""]
[null,""]
[null,""]
[null,""]
[null,""]
[null,""]
[null,""]
[null,""]
[null,""]
[null,""]
[null,""]
[null,""]
[null,""]
[null,""]
[null,""]
[null,""]
[null,""]
[null,""]
[null,""]
[null,""]
[null,""]
[null,""]
[null,""]
[null,""]
[null,""]
[null,""]
[null,""]
[null,""]
[null,""]
[null,""]
[null,""]
[null,""]
[null,""]
[null,""]
[null,""]
[null,""]
[null,""]
[null,""]
[null,""]
[null,""]
[null,""]
[null,""]
[null,""]
[null,""]
[null,""]
[null,{"$f":"IF(C797=0,\"\",C797-C796)","v":""}]
[null,""]
[null,""]
[null,""]
[null,""]
[null,""]
[null,""]
[null,""]
[null,""]
[null,""]
[null,""]
[null,""]
[null,""]
[null,""]
[null,""]
[null,""]
[null,""]
[null,""]
[null,""]
[null,""]
[null,""]
[null,""]
[null,""]
[null,""]
[null,""]
[null,""]
[null,""]
[null,""]
[null,""]
[null,""]
[null,""]
[null,""]
[null,""]
[null,""]
[null,""]
[null,""]
[null,""]
[null,""]
[null,""]
[null,""]
[null,""]
[null,""]
[null,""]
[null,""]
[null,""]
[null,""]
[null,""]
[null,""]
[null,""]
[null,""]
[null,""]
[null,""]
[null,""]
[null,""]
[null,""]
[null,""]
[null,""]
[null,""]
[null,""]
[null,""]
[null,""]
[null,""]
[null,""]
[null,""]
[null,{"$f":"IF(C861=0,\"\",C861-C860)","v":""}]
[null,""]
[null,""]
[null,""]
[null,""]
[null,""]
[null,""]
[null,""]
[null,""]
[null,""]
[null,""]
[null,""]
[null,""]
[null,""]
[null,""]
[null,""]
[null,""]
[null,""]
[null,""]
[null,""]
[null,""]
[null,""]
[null,""]
[null,""]
[null,""]
[null,""]
[null,""]
[null,""]
[null,""]
[null,""]
[null,""]
[null,""]
[null,""]
[null,""]
[null,""]
[null,""]
[null,""]
[null,""]
[null,""]
[null,""]
[null,""]
[null,""]
[null,""]
[null,""]
[null,""]
[null,""]
[null,""]
[null,""]
[null,""]
[null,""]
[null,""]
[null,""]
[null,""]
[null,""]
[null,""]
[null,""]
[null,""]
[null,""]
[null,""]
[null,""]
[null,""]
[null,""]
[null,""]
[null,""]
[null,{"$f":"IF(C925=0,\"\",C925-C924)","v":""}]
[null,""]
[null,""]
[null,""]
[null,""]
[null,""]
[null,""]
[null,""]
[null,""]
[null,""]
[null,""]
[null,""]
[null,""]
[null,""]
[null,""]
[null,""]
[null,""]
[null,""]
[null,""]
[null,""]
[null,""]
[null,""]
[null,""]
[null,""]
[null,""]
[null,""]
[null,""]
[null,""]
[null,""]
[null,""]
[null,""]
[null,""]
[null,""]
[null,""]
[null,""]
[null,""]
[null,""]
[null,""]
[null,""]
[null,""]
[null,""]
[null,""]
[null,""]
[null,""]
[null,""]
[null,""]
[null,""]
[null,""]
[null,""]
[null,""]
[null,""]
[null,""]
[null,""]
[null,""]
[null,""]
[null,""]
[null,""]
[null,""]
[null,""]
[null,""]
[null,""]
[null,""]
[null,""]
[null,""]
[null,{"$f":"IF(C989=0,\"\",C989-C988)","v":""}]
[null,""]
[null,""]
[null,""]
[null,""]
[null,""]
[null,""]
[null,""]
[null,""]
[null,""]
[null,""]
[null,""]
[null,""]
[null,""]
[null,""]
[null,""]
[null,""]
[null,""]
[null,""]
[null,""]
[null,""]
[null,""]
[null,""]
[null,""]
[null,""]
[null,""]
[null,""]
[null,""]
[null,""]
[null,""]
[null,""]
[null,""]
[null,""]
[null,""]
[null,""]
[null,""]
[null,""]
[null,""]
[null,""]
[null,""]
[null,""]
[null,""]
[null,""]
[null,""]
[null,""]
[null,""]
[null,""]
[null,""]
[null,""]
[null,""]
[null,""]
[null,""]
[null,""]
[null,""]
[null,""]
[null,""]
[null,""]
[null,""]
[null,""]
[null,""]
[null,""]
[null,""]
[null,""]
[null,""]
[null,{"$f":"IF(C1053=0,\"\",C1053-C1052)","v":""}]
[null,""]
[null,""]
[null,""]
[null,""]
[null,""]
[null,""]
[null,""]
[null,""]
[null,""]
[null,""]
[null,""]
[null,""]
[null,""]
[null,""]
[null,""]
[null,""]
[null,""]
[null,""]
[null,""]
[null,""]
[null,""]
[null,""]
[null,""]
[null,""]
[null,""]
[null,""]
[null,""]
[null,""]
[null,""]
[null,""]
[null,""]
[null,""]
[null,""]
[null,""]
[null,""]
[null,""]
[null,""]
[null,""]
[null,""]
[null,""]
[null,""]
[null,""]
[null,""]
[null,""]
[null,""]
[null,""]
[null,""]
[null,""]
[null,""]
[null,""]
[null,""]
[null,""]
[null,""]
[null,""]
[null,""]
[null,""]
[null,""]
[null,""]
[null,""]
[null,""]
[null,""]
[null,""]
[null,""]
[null,{"$f":"IF(C1117=0,\"\",C1117-C1116)","v":""}]
[null,""]
[null,""]
[null,""]
[null,""]
[null,""]
[null,""]
[null,""]
[null,""]
[null,""]
[null,""]
[null,""]
[null,""]
[null,""]
[null,""]
[null,""]
[null,""]
[null,""]
[null,""]
[null,""]
[null,""]
[null,""]
[null,""]
[null,""]
[null,""]
[null,""]
[null,""]
[null,""]
[null,""]
[null,""]
[null,""]
[null,""]
[null,""]
[null,""]
[null,""]
[null,""]
[null,""]
[null,""]
[null,""]
[null,""]
[null,""]
[null,""]
[null,""]
[null,""]
[null,""]
[null,""]
[null,""]
[null,""]
[null,""]
[null,""]
[null,""]
[null,""]
[null,""]
[null,""]
[null,""]
[null,""]
[null,""]
[null,""]
[null,""]
[null,""]
[null,""]
[null,""]
[null,""]
[null,""]
[null,{"$f":"IF(C1181=0,\"\",C1181-C1180)","v":""}]
[null,""]
[null,""]
[null,""]
[null,""]
[null,""]
[null,""]
[null,""]
[null,""]
[null,""]
[null,""]
[null,""]
[null,""]
[null,""]
[null,""]
[null,""]
[null,""]
[null,""]
[null,""]
[null,""]
[null,""]
[null,""]
[null,""]
[null,""]
[null,""]
[null,""]
[null,""]
[null,""]
[null,""]
[null,""]
[null,""]
[null,""]
[null,""]
[null,""]
[null,""]
[null,""]
[null,""]
[null,""]
[null,""]
[null,""]
[null,""]
[null,""]
[null,""]
[null,""]
[null,""]
[null,""]
[null,""]
[null,""]
[null,""]
[null,""]
[null,""]
[null,""]
[null,""]
[null,""]
[null,""]
[null,""]
[null,""]
[null,""]
[null,""]
[null,""]
[null,""]
[null,""]
[null,""]
[null,""]
[null,{"$f":"IF(C1245=0,\"\",C1245-C1244)","v":""}]
[null,""]
[null,""]
[null,""]
[null,""]
[null,""]
[null,""]
[null,""]
[null,""]
[null,""]
[null,""]
[null,""]
[null,""]
[null,""]
[null,""]
[null,""]
[null,""]
[null,""]
[null,""]
[null,""]
[null,""]
[null,""]
[null,""]
[null,""]
[null,""]
[null,""]
[null,""]
[null,""]
[null,""]
[null,""]
[null,""]
[null,""]
[null,""]
[null,""]
[null,""]
[null,""]
[null,""]
[null,""]
[null,""]
[null,""]
[null,""]
[null,""]
[null,""]
[null,""]
[null,""]
[null,""]
[null,""]
[null,""]
[null,""]
[null,""]
[null,""]
[null,""]
[null,""]
[null,""]
[null,""]
[null,""]
[null,""]
[null,""]
[null,""]
[null,""]
[null,""]
[null,""]
[null,""]
[null,""]
[null,{"$f":"IF(C1309=0,\"\",C1309-C1308)","v":""}]
[null,""]
[null,""]
[null,""]
[null,""]
[null,""]
[null,""]
[null,""]
[null,""]
[null,""]
[null,""]
[null,""]
[null,""]
[null,""]
[null,""]
[null,""]
[null,""]
[null,""]
[null,""]
[null,""]
[null,""]
[null,""]
[null,""]
[null,""]
[null,""]
[null,""]
[null,""]
[null,""]
[null,""]
[null,""]
[null,""]
[null,""]
[null,""]
[null,""]
[null,""]
[null,""]
[null,""]
[null,""]
[null,""]
[null,""]
[null,""]
[null,""]
[null,""]
[null,""]
[null,""]
[null,""]
[null,""]
[null,""]
[null,""]
[null,""]
[null,""]
[null,""]
[null,""]
[null,""]
[null,""]
[null,""]
[null,""]
[null,""]
[null,""]
[null,""]
[null,""]
[null,""]
[null,""]
[null,""]
[null,{"$f":"IF(C1373=0,\"\",C1373-C1372)","v":""}]
[null,""]
[null,""]
[null,""]
[null,""]
[null,""]
[null,""]
[null,""]
[null,""]
[null,""]
[null,""]
[null,""]
[null,""]
[null,""]
[null,""]
[null,""]
[null,""]
[null,""]
[null,""]
[null,""]
[null,""]
[null,""]
[null,""]
[null,""]
[null,""]
[null,""]
[null,""]
[null,""]
[null,""]
[null,""]
[null,""]
[null,""]
[null,""]
[null,""]
[null,""]
[null,""]
[null,""]
[null,""]
[null,""]
[null,""]
[null,""]
[null,""]
[null,""]
[null,""]
[null,""]
[null,""]
[null,""]
[null,""]
[null,""]
[null,""]
[null,""]
[null,""]
[null,""]
[null,""]
[null,""]
[null,""]
[null,""]
[null,""]
[null,""]
[null,""]
[null,""]
[null,""]
[null,""]
[null,""]
[null,{"$f":"IF(C1437=0,\"\",C1437-C1436)","v":""}]
[null,""]
[null,""]
[null,""]
[null,""]
[null,""]
[null,""]
[null,""]
[null,""]
[null,""]
[null,""]
[null,""]
[null,""]
[null,""]
[null,""]
[null,""]
[null,""]
[null,""]
[null,""]
[null,""]
[null,""]
[null,""]
[null,""]
[null,""]
[null,""]
[null,""]
[null,""]
[null,""]
[null,""]
[null,""]
[null,""]
[null,""]
[null,""]
[null,""]
[null,""]
[null,""]
[null,""]
[null,""]
[null,""]
[null,""]
[null,""]
[null,""]
[null,""]
[null,""]
[null,""]
[null,""]
[null,""]
[null,""]
[null,""]
[null,""]
[null,""]
[null,""]
[null,""]
[null,""]
[null,""]
[null,""]
[null,""]
[null,""]
[null,""]
[null,""]
[null,""]
[null,""]
[null,""]
[null,""]
[null,{"$f":"IF(C1501=0,\"\",C1501-C1500)","v":""}]
[null,""]
[null,""]
[null,""]
[null,""]
[null,""]
[null,""]
[null,""]
[null,""]
[null,""]
[null,""]
[null,""]
[null,""]
[null,""]
[null,""]
[null,""]
[null,""]
[null,""]
[null,""]
[null,""]
[null,""]
[null,""]
[null,""]
[null,""]
[null,""]
[null,""]
[null,""]
[null,""]
[null,""]
[null,""]
[null,""]
[null,""]
[null,""]
[null,""]
[null,""]
[null,""]
[null,""]
[null,""]
[null,""]
[null,""]
[null,""]
[null,""]
[null,""]
[null,""]
[null,""]
[null,""]
[null,""]
[null,""]
[null,""]
[null,""]
[null,""]
[null,""]
[null,""]
[null,""]
[null,""]
[null,""]
[null,""]
[null,""]
[null,""]
[null,""]
[null,""]
[null,""]
[null,""]
[null,""]
[null,{"$f":"IF(C1565=0,\"\",C1565-C1564)","v":""}]
[null,""]
[null,""]
[null,""]
[null,""]
[null,""]
[null,""]
[null,""]
[null,""]
[null,""]
[null,""]
[null,""]
[null,""]
[null,""]
[null,""]
[null,""]
[null,""]
[null,""]
[null,""]
[null,""]
[null,""]
[null,""]
[null,""]
[null,""]
[null,""]
[null,""]
[null,""]
[null,""]
[null,""]
[null,""]
[null,""]
[null,""]
[null,""]
[null,""]
[null,""]
[null,""]
[null,""]
[null,""]
[null,""]
[null,""]
[null,""]
[null,""]
[null,""]
[null,""]
[null,""]
[null,""]
[null,""]
[null,""]
[null,""]
[null,""]
[null,""]
[null,""]
[null,""]
[null,""]
[null,""]
[null,""]
[null,""]
[null,""]
[null,""]
[null,""]
[null,""]
[null,""]
[null,""]
[null,""]
[null,{"$f":"IF(C1629=0,\"\",C1629-C1628)","v":""}]
[null,""]
[null,""]
[null,""]
[null,""]
[null,""]
[null,""]
[null,""]
[null,""]
[null,""]
[null,""]
[null,""]
[null,""]
[null,""]
[null,""]
[null,""]
[null,""]
[null,""]
[null,""]
[null,""]
[null,""]
[null,""]
[null,""]
[null,""]
[null,""]
[null,""]
[null,""]
[null,""]
[null,""]
[null,""]
[null,""]
[null,""]
[null,""]
[null,""]
[null,""]
[null,""]
[null,""]
[null,""]
[null,""]
[null,""]
[null,""]
[null,""]
[null,""]
[null,""]
[null,""]
[null,""]
[null,""]
[null,""]
[null,""]
[null,""]
[null,""]
[null,""]
[null,""]
[null,""]
[null,""]
[null,""]
[null,""]
[null,""]
[null,""]
[null,""]
[null,""]
[null,""]
[null,""]
[null,""]
[null,{"$f":"IF(C1693=0,\"\",C1693-C1692)","v":""}]
[null,""]
[null,""]
[null,""]
[null,""]
[null,""]
[null,""]
[null,""]
[null,""]
[null,""]
[null,""]
[null,""]
[null,""]
[null,""]
[null,""]
[null,""]
[null,""]
[null,""]
[null,""]
[null,""]
[null,""]
[null,""]
[null,""]
[null,""]
[null,""]
[null,""]
[null,""]
[null,""]
[null,""]
[null,""]
[null,""]
[null,""]
[null,""]
[null,""]
[null,""]
[null,""]
[null,""]
[null,""]
[null,""]
[null,""]
[null,""]
[null,""]
[null,""]
[null,""]
[null,""]
[null,""]
[null,""]
[null,""]
[null,""]
[null,""]
[null,""]
[null,""]
[null,""]
[null,""]
[null,""]
[null,""]
[null,""]
[null,""]
[null,""]
[null,""]
[null,""]
[null,""]
[null,""]
[null,""]
[null,{"$f":"IF(C1757=0,\"\",C1757-C1756)","v":""}]
[null,""]
[null,""]
[null,""]
[null,""]
[null,""]
[null,""]
[null,""]
[null,""]
[null,""]
[null,""]
[null,""]
[null,""]
[null,""]
[null,""]
[null,""]
[null,""]
[null,""]
[null,""]
[null,""]
[null,""]
[null,""]
[null,""]
[null,""]
[null,""]
[null,""]
[null,""]
[null,""]
[null,""]
[null,""]
[null,""]
[null,""]
[null,""]
[null,""]
[null,""]
[null,""]
[null,""]
[null,""]
[null,""]
[null,""]
[null,""]
[null,""]
[null,""]
[null,""]
[null,""]
[null,""]
[null,""]
[null,""]
[null,""]
[null,""]
[null,""]
[null,""]
[null,""]
[null,""]
[null,""]
[null,""]
[null,""]
[null,""]
[null,""]
[null,""]
[null,""]
[null,""]
[null,""]
[null,""]
[null,{"$f":"IF(C1821=0,\"\",C1821-C1820)","v":""}]
[null,""]
[null,""]
[null,""]
[null,""]
[null,""]
[null,""]
[null,""]
[null,""]
[null,""]
[null,""]
[null,""]
[null,""]
[null,""]
[null,""]
[null,""]
[null,""]
[null,""]
[null,""]
[null,""]
[null,""]
[null,""]
[null,""]
[null,""]
[null,""]
[null,""]
[null,""]
[null,""]
[null,""]
[null,""]
[null,""]
[null,""]
[null,""]
[null,""]
[null,""]
[null,""]
[null,""]
[null,""]
[null,""]
[null,""]
[null,""]
[null,""]
[null,""]
[null,""]
[null,""]
[null,""]
[null,""]
[null,""]
[null,""]
[null,""]
[null,""]
[null,""]
[null,""]
[null,""]
[null,""]
[null,""]
[null,""]
[null,""]
[null,""]
[null,""]
[null,""]
[null,""]
[null,""]
[null,""]
[null,{"$f":"IF(C1885=0,\"\",C1885-C1884)","v":""}]
[null,""]
[null,""]
[null,""]
[null,""]
[null,""]
[null,""]
[null,""]
[null,""]
[null,""]
[null,""]
[null,""]
[null,""]
[null,""]
[null,""]
[null,""]
[null,""]
[null,""]
[null,""]
[null,""]
[null,""]
[null,""]
[null,""]
[null,""]
[null,""]
[null,""]
[null,""]
[null,""]
[null,""]
[null,""]
[null,""]
[null,""]
[null,""]
[null,""]
[null,""]
[null,""]
[null,""]
[null,""]
[null,""]
[null,""]
[null,""]
[null,""]
[null,""]
[null,""]
[null,""]
[null,""]
[null,""]
[null,""]
[null,""]
[null,""]
[null,""]
[null,""]
[null,""]
[null,""]
[null,""]
[null,""]
[null,""]
[null,""]
[null,""]
[null,""]
[null,""]
[null,""]
[null,""]
[null,""]
[null,{"$f":"IF(C1949=0,\"\",C1949-C1948)","v":""}]
[null,""]
[null,""]
[null,""]
[null,""]
[null,""]
[null,""]
[null,""]
[null,""]
[null,""]
[null,""]
[null,""]
[null,""]
[null,""]
[null,""]
[null,""]
[null,""]
[null,""]
[null,""]
[null,""]
[null,""]
[null,""]
[null,""]
[null,""]
[null,""]
[null,""]
[null,""]
[null,""]
[null,""]
[null,""]
[null,""]
[null,""]
[null,""]
[null,""]
[null,""]
[null,""]
[null,""]
[null,""]
[null,""]
[null,""]
[null,""]
[null,""]
[null,""]
[null,""]
[null,""]
[null,""]
[null,""]
[null,""]
[null,""]
[null,""]
[null,""]
[null,""]
[null,""]
[null,""]
[null,""]
[null,""]
[null,""]
[null,""]
[null,""]
[null,""]
[null,""]
[null,""]
[null,""]
[null,""]
[null,{"$f":"IF(C2013=0,\"\",C2013-C2012)","v":""}]
[null,""]
[null,""]
[null,""]
[null,""]
[null,""]
[null,""]
[null,""]
[null,""]
[null,""]
[null,""]
[null,""]
[null,""]
[null,""]
[null,""]
[null,""]
[null,""]
[null,""]
[null,""]
[null,""]
[null,""]
[null,""]
[null,""]
[null,""]
[null,""]
[null,""]
[null,""]
[null,""]
[null,""]
[null,""]
[null,""]
[null,""]
[null,""]
[null,""]
[null,""]
[null,""]
[null,""]
[null,""]
[null,""]
[null,""]
[null,""]
[null,""]
[null,""]
[null,""]
[null,""]
[null,""]
[null,""]
[null,""]
[null,""]
[null,""]
[null,""]
[null,""]
[null,""]
[null,""]
[null,""]
[null,""]
[null,""]
[null,""]
[null,""]
[null,""]
[null,""]
[null,""]
[null,""]
[null,""]
[null,{"$f":"IF(C2077=0,\"\",C2077-C2076)","v":""}]
[null,""]
[null,""]
[null,""]
[null,""]
[null,""]
[null,""]
[null,""]
[null,""]
[null,""]
[null,""]
[null,""]
[null,""]
[null,""]
[null,""]
[null,""]
[null,""]
[null,""]
[null,""]
[null,""]
[null,""]
[null,""]
[null,""]
[null,""]
[null,""]
[null,""]
[null,""]
[null,""]
[null,""]
[null,""]
[null,""]
[null,""]
[null,""]
[null,""]
[null,""]
[null,""]
[null,""]
[null,""]
[null,""]
[null,""]
[null,""]
[null,""]
[null,""]
[null,""]
[null,""]
[null,""]
[null,""]
[null,""]
[null,""]
[null,""]
[null,""]
[null,""]
[null,""]
[null,""]
[null,""]
[null,""]
[null,""]
[null,""]
[null,""]
[null,""]
[null,""]
[null,""]
[null,""]
[null,""]
[null,{"$f":"IF(C2141=0,\"\",C2141-C2140)","v":""}]
[null,""]
[null,""]
[null,""]
[null,""]
[null,""]
[null,""]
[null,""]
[null,""]
[null,""]
[null,""]
[null,""]
[null,""]
[null,""]
[null,""]
[null,""]
[null,""]
[null,""]
[null,""]
[null,""]
[null,""]
[null,""]
[null,""]
[null,""]
[null,""]
[null,""]
[null,""]
[null,""]
[null,""]
[null,""]
[null,""]
[null,""]
[null,""]
[null,""]
[null,""]
[null,""]
[null,""]
[null,""]
[null,""]
[null,""]
[null,""]
[null,""]
[null,""]
[null,""]
[null,""]
[null,""]
[null,""]
[null,""]
[null,""]
[null,""]
[null,""]
[null,""]
[null,""]
[null,""]
[null,""]
[null,""]
[null,""]
[null,""]
[null,""]
[null,""]
[null,""]
[null,""]
[null,""]
[null,""]
[null,{"$f":"IF(C2205=0,\"\",C2205-C2204)","v":""}]
[null,""]
[null,""]
[null,""]
[null,""]
[null,""]
[null,""]
[null,""]
[null,""]
[null,""]
[null,""]
[null,""]
[null,""]
[null,""]
[null,""]
[null,""]
[null,""]
[null,""]
[null,""]
[null,""]
[null,""]
[null,""]
[null,""]
[null,""]
[null,""]
[null,""]
[null,""]
[null,""]
[null,""]
[null,""]
[null,""]
[null,""]
[null,""]
[null,""]
[null,""]
[null,""]
[null,""]
[null,""]
[null,""]
[null,""]
[null,""]
[null,""]
[null,""]
[null,""]
[null,""]
[null,""]
[null,""]
[null,""]
[null,""]
[null,""]
[null,""]
[null,""]
[null,""]
[null,""]
[null,""]
[null,""]
[null,""]
[null,""]
[null,""]
[null,""]
[null,""]
[null,""]
[null,""]
[null,""]
[null,{"$f":"IF(C2269=0,\"\",C2269-C2268)","v":""}]
[null,""]
[null,""]
[null,""]
[null,""]
[null,""]
[null,""]
[null,""]
[null,""]
[null,""]
[null,""]
[null,""]
[null,""]
[null,""]
[null,""]
[null,""]
[null,""]
[null,""]
[null,""]
[null,""]
[null,""]
[null,""]
[null,""]
[null,""]
[null,""]
[null,""]
[null,""]
[null,""]
[null,""]
[null,""]
[null,""]
[null,""]
[null,""]
[null,""]
[null,""]
[null,""]
[null,""]
[null,""]
[null,""]
[null,""]
[null,""]
[null,""]
[null,""]
[null,""]
[null,""]
[null,""]
[null,""]
[null,""]
[null,""]
[null,""]
[null,""]
[null,""]
[null,""]
[null,""]
[null,""]
[null,""]
[null,""]
[null,""]
[null,""]
[null,""]
[null,""]
[null,""]
[null,""]
[null,""]
[null,{"$f":"IF(C2333=0,\"\",C2333-C2332)","v":""}]
[null,""]
[null,""]
[null,""]
[null,""]
[null,""]
[null,""]
[null,""]
[null,""]
[null,""]
[null,""]
[null,""]
[null,""]
[null,""]
[null,""]
[null,""]
[null,""]
[null,""]
[null,""]
[null,""]
[null,""]
[null,""]
[null,""]
[null,""]
[null,""]
[null,""]
[null,""]
[null,""]
[null,""]
[null,""]
[null,""]
[null,""]
[null,""]
[null,""]
[null,""]
[null,""]
[null,""]
[null,""]
[null,""]
[null,""]
[null,""]
[null,""]
[null,""]
[null,""]
[null,""]
[null,""]
[null,""]
[null,""]
[null,""]
[null,""]
[null,""]
[null,""]
[null,""]
[null,""]
[null,""]
[null,""]
[null,""]
[null,""]
[null,""]
[null,""]
[null,""]
[null,""]
[null,""]
[null,""]
[null,{"$f":"IF(C2397=0,\"\",C2397-C2396)","v":""}]
[null,""]
[null,""]
[null,""]
[null,""]
[null,""]
[null,""]
[null,""]
[null,""]
[null,""]
[null,""]
[null,""]
[null,""]
[null,""]
[null,""]
[null,""]
[null,""]
[null,""]
[null,""]
[null,""]
[null,""]
[null,""]
[null,""]
[null,""]
[null,""]
[null,""]
[null,""]
[null,""]
[null,""]
[null,""]
[null,""]
[null,""]
[null,""]
[null,""]
[null,""]
[null,""]
[null,""]
[null,""]
[null,""]
[null,""]
[null,""]
[null,""]
[null,""]
[null,""]
[null,""]
[null,""]
[null,""]
[null,""]
[null,""]
[null,""]
[null,""]
[null,""]
[null,""]
[null,""]
[null,""]
[null,""]
[null,""]
[null,""]
[null,""]
[null,""]
[null,""]
[null,""]
[null,""]
[null,""]
[null,{"$f":"IF(C2461=0,\"\",C2461-C2460)","v":""}]
[null,""]
[null,""]
[null,""]
[null,""]
[null,""]
[null,""]
[null,""]
[null,""]
[null,""]
[null,""]
[null,""]
[null,""]
[null,""]
[null,""]
[null,""]
[null,""]
[null,""]
[null,""]
[null,""]
[null,""]
[null,""]
[null,""]
[null,""]
[null,""]
[null,""]
[null,""]
[null,""]
[null,""]
[null,""]
[null,""]
[null,""]
[null,""]
[null,""]
[null,""]
[null,""]
[null,""]
[null,""]
[null,""]
[null,""]
[null,""]
[null,""]
[null,""]
[null,""]
[null,""]
[null,""]
[null,""]
[null,""]
[null,""]
[null,""]
[null,""]
[null,""]
[null,""]
[null,""]
[null,""]
[null,""]
[null,""]
[null,""]
[null,""]
[null,""]
[null,""]
[null,""]
[null,""]
[null,""]
[null,{"$f":"IF(C2525=0,\"\",C2525-C2524)","v":""}]
[null,""]
[null,""]
[null,""]
[null,""]
[null,""]
[null,""]
[null,""]
[null,""]
[null,""]
[null,""]
[null,""]
[null,""]
[null,""]
[null,""]
[null,""]
[null,""]
[null,""]
[null,""]
[null,""]
[null,""]
[null,""]
[null,""]
[null,""]
[null,""]
[null,""]
[null,""]
[null,""]
[null,""]
[null,""]
[null,""]
[null,""]
[null,""]
[null,""]
[null,""]
[null,""]
[null,""]
[null,""]
[null,""]
[null,""]
[null,""]
[null,""]
[null,""]
[null,""]
[null,""]
[null,""]
[null,""]
[null,""]
[null,""]
[null,""]
[null,""]
[null,""]
[null,""]
[null,""]
[null,""]
[null,""]
[null,""]
[null,""]
[null,""]
[null,""]
[null,""]
[null,""]
[null,""]
[null,""]
[null,{"$f":"IF(C2589=0,\"\",C2589-C2588)","v":""}]
[null,""]
[null,""]
[null,""]
[null,""]
[null,""]
[null,""]
[null,""]
[null,""]
[null,""]
[null,""]
[null,""]
[null,""]
[null,""]
[null,""]
[null,""]
[null,""]
[null,""]
[null,""]
[null,""]
[null,""]
[null,""]
[null,""]
[null,""]
[null,""]
[null,""]
[null,""]
[null,""]
[null,""]
[null,""]
[null,""]
[null,""]
[null,""]
[null,""]
[null,""]
[null,""]
[null,""]
[null,""]
[null,""]
[null,""]
[null,""]
[null,""]
[null,""]
[null,""]
[null,""]
[null,""]
[null,""]
[null,""]
[null,""]
[null,""]
[null,""]
[null,""]
[null,""]
[null,""]
[null,""]
[null,""]
[null,""]
[null,""]
[null,""]
[null,""]
[null,""]
[null,""]
[null,""]
[null,""]
[null,{"$f":"IF(C2653=0,\"\",C2653-C2652)","v":""}]
[null,""]
[null,""]
[null,""]
[null,""]
[null,""]
[null,""]
[null,""]
[null,""]
[null,""]
[null,""]
[null,""]
[null,""]
[null,""]
[null,""]
[null,""]
[null,""]
[null,""]
[null,""]
[null,""]
[null,""]
[null,""]
[null,""]
[null,""]
[null,""]
[null,""]
[null,""]
[null,""]
[null,""]
[null,""]
[null,""]
[null,""]
[null,""]
[null,""]
[null,""]
[null,""]
[null,""]
[null,""]
[null,""]
[null,""]
[null,""]
[null,""]
[null,""]
[null,""]
[null,""]
[null,""]
[null,""]
[null,""]
[null,""]
[null,""]
[null,""]
[null,""]
[null,""]
[null,""]
[null,""]
[null,""]
[null,""]
[null,""]
[null,""]
[null,""]
[null,""]
[null,""]
[null,""]
[null,""]
[null,{"$f":"IF(C2717=0,\"\",C2717-C2716)","v":""}]
[null,""]
[null,""]
[null,""]
[null,""]
[null,""]
[null,""]
[null,""]
[null,""]
[null,""]
[null,""]
[null,""]
[null,""]
[null,""]
[null,""]
[null,""]
[null,""]
[null,""]
[null,""]
[null,""]
[null,""]
[null,""]
[null,""]
[null,""]
[null,""]
[null,""]
[null,""]
[null,""]
[null,""]
[null,""]
[null,""]
[null,""]
[null,""]
[null,""]
[null,""]
[null,""]
[null,""]
[null,""]
[null,""]
[null,""]
[null,""]
[null,""]
[null,""]
[null,""]
[null,""]
[null,""]
[null,""]
[null,""]
[null,""]
[null,""]
[null,""]
[null,""]
[null,""]
[null,""]
[null,""]
[null,""]
[null,""]
[null,""]
[null,""]
[null,""]
[null,""]
[null,""]
[null,""]
[null,""]
[null,{"$f":"IF(C2781=0,\"\",C2781-C2780)","v":""}]
[null,""]
[null,""]
[null,""]
[null,""]
[null,""]
[null,""]
[null,""]
[null,""]
[null,""]
[null,""]
[null,""]
[null,""]
[null,""]
[null,""]
[null,""]
[null,""]
[null,""]
[null,""]
[null,""]
[null,""]
[null,""]
[null,""]
[null,""]
[null,""]
[null,""]
[null,""]
[null,""]
[null,""]
[null,""]
[null,""]
[null,""]
[null,""]
[null,""]
[null,""]
[null,""]
[null,""]
[null,""]
[null,""]
[null,""]
[null,""]
[null,""]
[null,""]
[null,""]
[null,""]
[null,""]
[null,""]
[null,""]
[null,""]
[null,""]
[null,""]
[null,""]
[null,""]
[null,""]
[null,""]
[null,""]
[null,""]
[null,""]
[null,""]
[null,""]
[null,""]
[null,""]
[null,""]
[null,""]
[null,{"$f":"IF(C2845=0,\"\",C2845-C2844)","v":""}]
[null,""]
[null,""]
[null,""]
[null,""]
[null,""]
[null,""]
[null,""]
[null,""]
[null,""]
[null,""]
[null,""]
[null,""]
[null,""]
[null,""]
[null,""]
[null,""]
[null,""]
[null,""]
[null,""]
[null,""]
[null,""]
[null,""]
[null,""]
[null,""]
[null,""]
[null,""]
[null,""]
[null,""]
[null,""]
[null,""]
[null,""]
[null,""]
[null,""]
[null,""]
[null,""]
[null,""]
[null,""]
[null,""]
[null,""]
[null,""]
[null,""]
[null,""]
[null,""]
[null,""]
[null,""]
[null,""]
[null,""]
[null,""]
[null,""]
[null,""]
[null,""]
[null,""]
[null,""]
[null,""]
[null,""]
[null,""]
[null,""]
[null,""]
[null,""]
[null,""]
[null,""]
[null,""]
[null,""]
[null,{"$f":"IF(C2909=0,\"\",C2909-C2908)","v":""}]
[null,""]
[null,""]
[null,""]
[null,""]
[null,""]
[null,""]
[null,""]
[null,""]
[null,""]
[null,""]
[null,""]
[null,""]
[null,""]
[null,""]
[null,""]
[null,""]
[null,""]
[null,""]
[null,""]
[null,""]
[null,""]
[null,""]
[null,""]
[null,""]
[null,""]
[null,""]
[null,""]
[null,""]
[null,""]
[null,""]
[null,""]
[null,""]
[null,""]
[null,""]
[null,""]
[null,""]
[null,""]
[null,""]
[null,""]
[null,""]
[null,""]
[null,""]
[null,""]
[null,""]
[null,""]
[null,""]
[null,""]
[null,""]
[null,""]
[null,""]
[null,""]
[null,""]
[null,""]
[null,""]
[null,""]
[null,""]
[null,""]
[null,""]
[null,""]
[null,""]
[null,""]
[null,""]
[null,""]
[null,{"$f":"IF(C2973=0,\"\",C2973-C2972)","v":""}]
[null,""]
[null,""]
[null,""]
[null,""]
[null,""]
[null,""]
[null,""]
[null,""]
[null,""]
[null,""]
[null,""]
[null,""]
[null,""]
[null,""]
[null,""]
[null,""]
[null,""]
[null,""]
[null,""]
[null,""]
[null,""]
[null,""]
[null,""]
[null,""]
[null,""]
[null,""]
[null,""]
[null,""]
[null,""]
[null,""]
[null,""]
[null,""]
[null,""]
[null,""]
[null,""]
[null,""]
[null,""]
[null,""]
[null,""]
[null,""]
[null,""]
[null,""]
[null,""]
[null,""]
[null,""]
[null,""]
[null,""]
[null,""]
[null,""]
[null,""]
[null,""]
[null,""]
[null,""]
[null,""]
[null,""]
[null,""]
[null,""]
[null,""]
[null,""]
[null,""]
[null,""]
[null,""]
[null,""]
[null,{"$f":"IF(C3037=0,\"\",C3037-C3036)","v":""}]
[null,""]
[null,""]
[null,""]
[null,""]
[null,""]
[null,""]
[null,""]
[null,""]
[null,""]
[null,""]
[null,""]
[null,""]
[null,""]
[null,""]
[null,""]
[null,""]
[null,""]
[null,""]
[null,""]
[null,""]
[null,""]
[null,""]
[null,""]
[null,""]
[null,""]
[null,""]
[null,""]
[null,""]
[null,""]
[null,""]
[null,""]
[null,""]
[null,""]
[null,""]
[null,""]
[null,""]
[null,""]
[null,""]
[null,""]
[null,""]
[null,""]
[null,""]
[null,""]
[null,""]
[null,""]
[null,""]
[null,""]
[null,""]
[null,""]
[null,""]
[null,""]
[null,""]
[null,""]
[null,""]
[null,""]
[null,""]
[null,""]
[null,""]
[null,""]
[null,""]
[null,""]
[null,""]
[null,""]
[null,{"$f":"IF(C3101=0,\"\",C3101-C3100)","v":""}]
[null,""]
[null,""]
[null,""]
[null,""]
[null,""]
[null,""]
[null,""]
[null,""]
[null,""]
[null,""]
[null,""]
[null,""]
[null,""]
[null,""]
[null,""]
[null,""]
[null,""]
[null,""]
[null,""]
[null,""]
[null,""]
[null,""]
[null,""]
[null,""]
[null,""]
[null,""]
[null,""]
[null,""]
[null,""]
[null,""]
[null,""]
[null,""]
[null,""]
[null,""]
[null,""]
[null,""]
[null,""]
[null,""]
[null,""]
[null,""]
[null,""]
[null,""]
[null,""]
[null,""]
[null,""]
[null,""]
[null,""]
[null,""]
[null,""]
[null,""]
[null,""]
[null,""]
[null,""]
[null,""]
[null,""]
[null,""]
[null,""]
[null,""]
[null,""]
[null,""]
[null,""]
[null,""]
[null,""]
[null,{"$f":"IF(C3165=0,\"\",C3165-C3164)","v":""}]
[null,""]
[null,""]
[null,""]
[null,""]
[null,""]
[null,""]
[null,""]
[null,""]
[null,""]
[null,""]
[null,""]
[null,""]
[null,""]
[null,""]
[null,""]
[null,""]
[null,""]
[null,""]
[null,""]
[null,""]
[null,""]
[null,""]
[null,""]
[null,""]
[null,""]
[null,""]
[null,""]
[null,""]
[null,""]
[null,""]
[null,""]
[null,""]
[null,""]
[null,""]
[null,""]
[null,""]
[null,""]
[null,""]
[null,""]
[null,""]
[null,""]
[null,""]
[null,""]
[null,""]
[null,""]
[null,""]
[null,""]
[null,""]
[null,""]
[null,""]
[null,""]
[null,""]
[null,""]
[null,""]
[null,""]
[null,""]
[null,""]
[null,""]
[null,""]
[null,""]
[null,""]
[null,""]
[null,""]
[null,{"$f":"IF(C3229=0,\"\",C3229-C3228)","v":""}]
[null,""]
[null,""]
[null,""]
[null,""]
[null,""]
[null,""]
[null,""]
[null,""]
[null,""]
[null,""]
[null,""]
[null,""]
[null,""]
[null,""]
[null,""]
[null,""]
[null,""]
[null,""]
[null,""]
[null,""]
[null,""]
[null,""]
[null,""]
[null,""]
[null,""]
[null,""]
[null,""]
[null,""]
[null,""]
[null,""]
[null,""]
[null,""]
[null,""]
[null,""]
[null,""]
[null,""]
[null,""]
[null,""]
[null,""]
[null,""]
[null,""]
[null,""]
[null,""]
[null,""]
[null,""]
[null,""]
[null,""]
[null,""]
[null,""]
[null,""]
[null,""]
[null,""]
[null,""]
[null,""]
[null,""]
[null,""]
[null,""]
[null,""]
[null,""]
[null,""]
[null,""]
[null,""]
[null,""]
[null,{"$f":"IF(C3293=0,\"\",C3293-C3292)","v":""}]
[null,""]
[null,""]
[null,""]
[null,""]
[null,""]
[null,""]
[null,""]
[null,""]
[null,""]
[null,""]
[null,""]
[null,""]
[null,""]
[null,""]
[null,""]
[null,""]
[null,""]
[null,""]
[null,""]
[null,""]
[null,""]
[null,""]
[null,""]
[null,""]
[null,""]
[null,""]
[null,""]
[null,""]
[null,""]
[null,""]
[null,""]
[null,""]
[null,""]
[null,""]
[null,""]
[null,""]
[null,""]
[null,""]
[null,""]
[null,""]
[null,""]
[null,""]
[null,""]
[null,""]
[null,""]
[null,""]
[null,""]
[null,""]
[null,""]
[null,""]
[null,""]
[null,""]
[null,""]
[null,""]
[null,""]
[null,""]
[null,""]
[null,""]
[null,""]
[null,""]
[null,""]
[null,""]
[null,""]
[null,{"$f":"IF(C3357=0,\"\",C3357-C3356)","v":""}]
[null,""]
[null,""]
[null,""]
[null,""]
[null,""]
[null,""]
[null,""]
[null,""]
[null,""]
[null,""]
[null,""]
[null,""]
[null,""]
[null,""]
[null,""]
[null,""]
[null,""]
[null,""]
[null,""]
[null,""]
[null,""]
[null,""]
[null,""]
[null,""]
[null,""]
[null,""]
[null,""]
[null,""]
[null,""]
[null,""]
[null,""]
[null,""]
[null,""]
[null,""]
[null,""]
[null,""]
[null,""]
[null,""]
[null,""]
[null,""]
[null,""]
[null,""]
[null,""]
[null,""]
[null,""]
[null,""]
[null,""]
[null,""]
[null,""]
[null,""]
[null,""]
[null,""]
[null,""]
[null,""]
[null,""]
[null,""]
[null,""]
[null,""]
[null,""]
[null,""]
[null,""]
[null,""]
[null,""]
[null,{"$f":"IF(C3421=0,\"\",C3421-C3420)","v":""}]
[null,""]
[null,""]
[null,""]
[null,""]
[null,""]
[null,""]
[null,""]
[null,""]
[null,""]
[null,""]
[null,""]
[null,""]
[null,""]
[null,""]
[null,""]
[null,""]
[null,""]
[null,""]
[null,""]
[null,""]
[null,""]
[null,""]
[null,""]
[null,""]
[null,""]
[null,""]
[null,""]
[null,""]
[null,""]
[null,""]
[null,""]
[null,""]
[null,""]
[null,""]
[null,""]
[null,""]
[null,""]
[null,""]
[null,""]
[null,""]
[null,""]
[null,""]
[null,""]
[null,""]
[null,""]
[null,""]
[null,""]
[null,""]
[null,""]
[null,""]
[null,""]
[null,""]
[null,""]
[null,""]
[null,""]
[null,""]
[null,""]
[null,""]
[null,""]
[null,""]
[null,""]
[null,""]
[null,""]
[null,{"$f":"IF(C3485=0,\"\",C3485-C3484)","v":""}]
[null,""]
[null,""]
[null,""]
[null,""]
[null,""]
[null,""]
[null,""]
[null,""]
[null,""]
[null,""]
[null,""]
[null,""]
[null,""]
[null,""]
[null,""]
[null,""]
[null,""]
[null,""]
[null,""]
[null,""]
[null,""]
[null,""]
[null,""]
[null,""]
[null,""]
[null,""]
[null,""]
[null,""]
[null,""]
[null,""]
[null,""]
[null,""]
[null,""]
[null,""]
[null,""]
[null,""]
[null,""]
[null,""]
[null,""]
[null,""]
[null,""]
[null,""]
[null,""]
[null,""]
[null,""]
[null,""]
[null,""]
[null,""]
[null,""]
[null,""]
[null,""]
[null,""]
[null,""]
[null,""]
[null,""]
[null,""]
[null,""]
[null,""]
[null,""]
[null,""]
[null,""]
[null,""]
[null,""]
[null,{"$f":"IF(C3549=0,\"\",C3549-C3548)","v":""}]
[null,""]
[null,""]
[null,""]
[null,""]
[null,""]
[null,""]
[null,""]
[null,""]
[null,""]
[null,""]
[null,""]
[null,""]
[null,""]
[null,""]
[null,""]
[null,""]
[null,""]
[null,""]
[null,""]
[null,""]
[null,""]
[null,""]
[null,""]
[null,""]
[null,""]
[null,""]
[null,""]
[null,""]
[null,""]
[null,""]
[null,""]
[null,""]
[null,""]
[null,""]
[null,""]
[null,""]
[null,""]
[null,""]
[null,""]
[null,""]
[null,""]
[null,""]
[null,""]
[null,""]
[null,""]
[null,""]
[null,""]
[null,""]
[null,""]
[null,""]
[null,""]
[null,""]
[null,""]
[null,""]
[null,""]
[null,""]
[null,""]
[null,""]
[null,""]
[null,""]
[null,""]
[null,""]
[null,""]
[null,{"$f":"IF(C3613=0,\"\",C3613-C3612)","v":""}]
[null,""]
[null,""]
[null,""]
[null,""]
[null,""]
[null,""]
[null,""]
[null,""]
[null,""]
[null,""]
[null,""]
[null,""]
[null,""]
[null,""]
[null,""]
[null,""]
[null,""]
[null,""]
[null,""]
[null,""]
[null,""]
[null,""]
[null,""]
[null,""]
[null,""]
[null,""]
[null,""]
[null,""]
[null,""]
[null,""]
[null,""]
[null,""]
[null,""]
[null,""]
[null,""]
[null,""]
[null,""]
[null,""]
[null,""]
[null,""]
[null,""]
[null,""]
[null,""]
[null,""]
[null,""]
[null,""]
[null,""]
[null,""]
[null,""]
[null,""]
[null,""]
[null,""]
[null,""]
[null,""]
[null,""]
[null,""]
[null,""]
[null,""]
[null,""]
[null,""]
[null,""]
[null,""]
[null,""]
[null,{"$f":"IF(C3677=0,\"\",C3677-C3676)","v":""}]
[null,""]
[null,""]
[null,""]
[null,""]
[null,""]
[null,""]
[null,""]
[null,""]
[null,""]
[null,""]
[null,""]
[null,""]
[null,""]
[null,""]
[null,""]
[null,""]
[null,""]
[null,""]
[null,""]
[null,""]
[null,""]
[null,""]
[null,""]
[null,""]
[null,""]
[null,""]
[null,""]
[null,""]
[null,""]
[null,""]
[null,""]
[null,""]
[null,""]
[null,""]
[null,""]
[null,""]
[null,""]
[null,""]
[null,""]
[null,""]
[null,""]
[null,""]
[null,""]
[null,""]
[null,""]
[null,""]
[null,""]
[null,""]
[null,""]
[null,""]
[null,""]
[null,""]
[null,""]
[null,""]
[null,""]
[null,""]
[null,""]
[null,""]
[null,""]
[null,""]
[null,""]
[null,""]
[null,""]
[null,{"$f":"IF(C3741=0,\"\",C3741-C3740)","v":""}]
[null,""]
[null,""]
[null,""]
[null,""]
[null,""]
[null,""]
[null,""]
[null,""]
[null,""]
[null,""]
[null,""]
[null,""]
[null,""]
[null,""]
[null,""]
[null,""]
[null,""]
[null,""]
[null,""]
[null,""]
[null,""]
[null,""]
[null,""]
[null,""]
[null,""]
[null,""]
[null,""]
[null,""]
[null,""]
[null,""]
[null,""]
[null,""]
[null,""]
[null,""]
[null,""]
[null,""]
[null,""]
[null,""]
[null,""]
[null,""]
[null,""]
[null,""]
[null,""]
[null,""]
[null,""]
[null,""]
[null,""]
[null,""]
[null,""]
[null,""]
[null,""]
[null,""]
[null,""]
[null,""]
[null,""]
[null,""]
[null,""]
[null,""]
[null,""]
[null,""]
[null,""]
[null,""]
[null,""]
[null,{"$f":"IF(C3805=0,\"\",C3805-C3804)","v":""}]
[null,""]
[null,""]
[null,""]
[null,""]
[null,""]
[null,""]
[null,""]
[null,""]
[null,""]
[null,""]
[null,""]
[null,""]
[null,""]
[null,""]
[null,""]
[null,""]
[null,""]
[null,""]
[null,""]
[null,""]
[null,""]
[null,""]
[null,""]
[null,""]
[null,""]
[null,""]
[null,""]
[null,""]
[null,""]
[null,""]
[null,""]
[null,""]
[null,""]
[null,""]
[null,""]
[null,""]
[null,""]
[null,""]
[null,""]
[null,""]
[null,""]
[null,""]
[null,""]
[null,""]
[null,""]
[null,""]
[null,""]
[null,""]
[null,""]
[null,""]
[null,""]
[null,""]
[null,""]
[null,""]
[null,""]
[null,""]
[null,""]
[null,""]
[null,""]
[null,""]
[null,""]
[null,""]
[null,""]
[null,{"$f":"IF(C3869=0,\"\",C3869-C3868)","v":""}]
[null,""]
[null,""]
[null,""]
[null,""]
[null,""]
[null,""]
[null,""]
[null,""]
[null,""]
[null,""]
[null,""]
[null,""]
[null,""]
[null,""]
[null,""]
[null,""]
[null,""]
[null,""]
[null,""]
[null,""]
[null,""]
[null,""]
[null,""]
[null,""]
[null,""]
[null,""]
[null,""]
[null,""]
[null,""]
[null,""]
[null,""]
[null,""]
[null,""]
[null,""]
[null,""]
[null,""]
[null,""]
[null,""]
[null,""]
[null,""]
[null,""]
[null,""]
[null,""]
[null,""]
[null,""]
[null,""]
[null,""]
[null,""]
[null,""]
[null,""]
[null,""]
[null,""]
[null,""]
[null,""]
[null,""]
[null,""]
[null,""]
[null,""]
[null,""]
[null,""]
[null,""]
[null,""]
[null,""]
[null,{"$f":"IF(C3933=0,\"\",C3933-C3932)","v":""}]
[null,""]
[null,""]
[null,""]
[null,""]
[null,""]
[null,""]
[null,""]
[null,""]
[null,""]
[null,""]
[null,""]
[null,""]
[null,""]
[null,""]
[null,""]
[null,""]
[null,""]
[null,""]
[null,""]
[null,""]
[null,""]
[null,""]
[null,""]
[null,""]
[null,""]
[null,""]
[null,""]
[null,""]
[null,""]
[null,""]
[null,""]
[null,""]
[null,""]
[null,""]
[null,""]
[null,""]
[null,""]
[null,""]
[null,""]
[null,""]
[null,""]
[null,""]
[null,""]
[null,""]
[null,""]
[null,""]
[null,""]
[null,""]
[null,""]
[null,""]
[null,""]
[null,""]
[null,""]
[null,""]
[null,""]
[null,""]
[null,""]
[null,""]
[null,""]
[null,""]
[null,""]
[null,""]
[null,""]
[null,{"$f":"IF(C3997=0,\"\",C3997-C3996)","v":""}]
[null,""]
[null,""]
[null,""]
[null,""]
[null,""]
[null,""]
[null,""]
[null,""]
[null,""]
[null,""]
[null,""]
[null,""]
[null,""]
[null,""]
[null,""]
[null,""]
[null,""]
[null,""]
[null,""]
[null,""]
[null,""]
[null,""]
[null,""]
[null,""]
[null,""]
[null,""]
[null,""]
[null,""]
[null,""]
[null,""]
[null,""]
[null,""]
[null,""]
[null,""]
[null,""]
[null,""]
[null,""]
[null,""]
[null,""]
[null,""]
[null,""]
[null,""]
[null,""]
[null,""]
[null,""]
[null,""]
[null,""]
[null,""]
[null,""]
[null,""]
[null,""]
[null,""]
[null,""]
[null,""]
[null,""]
[null,""]
[null,""]
[null,""]
[null,""]
[null,""]
[null,""]
[null,""]
[null,""]
[null,{"$f":"IF(C4061=0,\"\",C4061-C4060)","v":""}]
[null,""]
[null,""]
[null,""]
[null,""]
[null,""]
[null,""]
[null,""]
[null,""]
[null,""]
[null,""]
[null,""]
[null,""]
[null,""]
[null,""]
[null,""]
[null,""]
[null,""]
[null,""]
[null,""]
[null,""]
[null,""]
[null,""]
[null,""]
[null,""]
[null,""]
[null,""]
[null,""]
[null,""]
[null,""]
[null,""]
[null,""]
[null,""]
[null,""]
[null,""]
[null,""]
[null,""]
[null,""]
[null,""]
[null,""]
[null,""]
[null,""]
[null,""]
[null,""]
[null,""]
[null,""]
[null,""]
[null,""]
[null,""]
[null,""]
[null,""]
[null,""]
[null,""]
[null,""]
[null,""]
[null,""]
[null,""]
[null,""]
[null,""]
[null,""]
[null,""]
[null,""]
[null,""]
[null,""]
[null,{"$f":"IF(C4125=0,\"\",C4125-C4124)","v":""}]
[null,""]
[null,""]
[null,""]
[null,""]
[null,""]
[null,""]
[null,""]
[null,""]
[null,""]
[null,""]
[null,""]
[null,""]
[null,""]
[null,""]
[null,""]
[null,""]
[null,""]
[null,""]
[null,""]
[null,""]
[null,""]
[null,""]
[null,""]
[null,""]
[null,""]
[null,""]
[null,""]
[null,""]
[null,""]
[null,""]
[null,""]
[null,""]
[null,""]
[null,""]
[null,""]
[null,""]
[null,""]
[null,""]
[null,""]
[null,""]
[null,""]
[null,""]
[null,""]
[null,""]
[null,""]
[null,""]
[null,""]
[null,""]
[null,""]
[null,""]
[null,""]
[null,""]
[null,""]
[null,""]
[null,""]
[null,""]
[null,""]
[null,""]
[null,""]
[null,""]
[null,""]
[null,""]
[null,""]
[null,{"$f":"IF(C4189=0,\"\",C4189-C4188)","v":""}]
[null,""]
[null,""]
[null,""]
[null,""]
[null,""]
[null,""]
[null,""]
[null,""]
[null,""]
[null,""]
[null,""]
[null,""]
[null,""]
[null,""]
[null,""]
[null,""]
[null,""]
[null,""]
[null,""]
[null,""]
[null,""]
[null,""]
[null,""]
[null,""]
[null,""]
[null,""]
[null,""]
[null,""]
[null,""]
[null,""]
[null,""]
[null,""]
[null,""]
[null,""]
[null,""]
[null,""]
[null,""]
[null,""]
[null,""]
[null,""]
[null,""]
[null,""]
[null,""]
[null,""]
[null,""]
[null,""]
[null,""]
[null,""]
[null,""]
[null,""]
[null,""]
[null,""]
[null,""]
[null,""]
[null,""]
[null,""]
[null,""]
[null,""]
[null,""]
[null,""]
[null,""]
[null,""]
[null,""]
[null,{"$f":"IF(C4253=0,\"\",C4253-C4252)","v":""}]
[null,""]
[null,""]
[null,""]
[null,""]
[null,""]
[null,""]
[null,""]
[null,""]
[null,""]
[null,""]
[null,""]
[null,""]
[null,""]
[null,""]
[null,""]
[null,""]
[null,""]
[null,""]
[null,""]
[null,""]
[null,""]
[null,""]
[null,""]
[null,""]
[null,""]
[null,""]
[null,""]
[null,""]
[null,""]
[null,""]
[null,""]
[null,""]
[null,""]
[null,""]
[null,""]
[null,""]
[null,""]
[null,""]
[null,""]
[null,""]
[null,""]
[null,""]
[null,""]
[null,""]
[null,""]
[null,""]
[null,""]
[null,""]
[null,""]
[null,""]
[null,""]
[null,""]
[null,""]
[null,""]
[null,""]
[null,""]
[null,""]
[null,""]
[null,""]
[null,""]
[null,""]
[null,""]
[null,""]
[null,{"$f":"IF(C4317=0,\"\",C4317-C4316)","v":""}]
[null,""]
[null,""]
[null,""]
[null,""]
[null,""]
[null,""]
[null,""]
[null,""]
[null,""]
[null,""]
[null,""]
[null,""]
[null,""]
[null,""]
[null,""]
[null,""]
[null,""]
[null,""]
[null,""]
[null,""]
[null,""]
[null,""]
[null,""]
[null,""]
[null,""]
[null,""]
[null,""]
[null,""]
[null,""]
[null,""]
[null,""]
[null,""]
[null,""]
[null,""]
[null,""]
[null,""]
[null,""]
[null,""]
[null,""]
[null,""]
[null,""]
[null,""]
[null,""]
[null,""]
[null,""]
[null,""]
[null,""]
[null,""]
[null,""]
[null,""]
[null,""]
[null,""]
[null,""]
[null,""]
[null,""]
[null,""]
[null,""]
[null,""]
[null,""]
[null,""]
[null,""]
[null,""]
[null,""]
[null,{"$f":"IF(C4381=0,\"\",C4381-C4380)","v":""}]
[null,""]
[null,""]
[null,""]
[null,""]
[null,""]
[null,""]
[null,""]
[null,""]
[null,""]
[null,""]
[null,""]
[null,""]
[null,""]
[null,""]
[null,""]
[null,""]
[null,""]
[null,""]
[null,""]
[null,""]
[null,""]
[null,""]
[null,""]
[null,""]
[null,""]
[null,""]
[null,""]
[null,""]
[null,""]
[null,""]
[null,""]
[null,""]
[null,""]
[null,""]
[null,""]
[null,""]
[null,""]
[null,""]
[null,""]
[null,""]
[null,""]
[null,""]
[null,""]
[null,""]
[null,""]
[null,""]
[null,""]
[null,""]
[null,""]
[null,""]
[null,""]
[null,""]
[null,""]
[null,""]
[null,""]
[null,""]
[null,""]
[null,""]
[null,""]
[null,""]
[null,""]
[null,""]
[null,""]
[null,{"$f":"IF(C4445=0,\"\",C4445-C4444)","v":""}]
[null,""]
[null,""]
[null,""]
[null,""]
[null,""]
[null,""]
[null,""]
[null,""]
[null,""]
[null,""]
[null,""]
[null,""]
[null,""]
[null,""]
[null,""]
[null,""]
[null,""]
[null,""]
[null,""]
[null,""]
[null,""]
[null,""]
[null,""]
[null,""]
[null,""]
[null,""]
[null,""]
[null,""]
[null,""]
[null,""]
[null,""]
[null,""]
[null,""]
[null,""]
[null,""]
[null,""]
[null,""]
[null,""]
[null,""]
[null,""]
[null,""]
[null,""]
[null,""]
[null,""]
[null,""]
[null,""]
[null,""]
[null,""]
[null,""]
[null,""]
[null,""]
[null,""]
[null,""]
[null,""]
[null,""]
[null,""]
[null,""]
[null,""]
[null,""]
[null,""]
[null,""]
[null,""]
[null,""]
[null,{"$f":"IF(C4509=0,\"\",C4509-C4508)","v":""}]
[null,""]
[null,""]
[null,""]
[null,""]
[null,""]
[null,""]
[null,""]
[null,""]
[null,""]
[null,""]
[null,""]
[null,""]
[null,""]
[null,""]
[null,""]
[null,""]
[null,""]
[null,""]
[null,""]
[null,""]
[null,""]
[null,""]
[null,""]
[null,""]
[null,""]
[null,""]
[null,""]
[null,""]
[null,""]
[null,""]
[null,""]
[null,""]
[null,""]
[null,""]
[null,""]
[null,""]
[null,""]
[null,""]
[null,""]
[null,""]
[null,""]
[null,""]
[null,""]
[null,""]
[null,""]
[null,""]
[null,""]
[null,""]
[null,""]
[null,""]
[null,""]
[null,""]
[null,""]
[null,""]
[null,""]
[null,""]
[null,""]
[null,""]
[null,""]
[null,""]
[null,""]
[null,""]
[null,""]
[null,{"$f":"IF(C4573=0,\"\",C4573-C4572)","v":""}]
[null,""]
[null,""]
[null,""]
[null,""]
[null,""]
[null,""]
[null,""]
[null,""]
[null,""]
[null,""]
[null,""]
[null,""]
[null,""]
[null,""]
[null,""]
[null,""]
[null,""]
[null,""]
[null,""]
[null,""]
[null,""]
[null,""]
[null,""]
[null,""]
[null,""]
[null,""]
[null,""]
[null,""]
[null,""]
[null,""]
[null,""]
[null,""]
[null,""]
[null,""]
[null,""]
[null,""]
[null,""]
[null,""]
[null,""]
[null,""]
[null,""]
[null,""]
[null,""]
[null,""]
[null,""]
[null,""]
[null,""]
[null,""]
[null,""]
[null,""]
[null,""]
[null,""]
[null,""]
[null,""]
[null,""]
[null,""]
[null,""]
[null,""]
[null,""]
[null,""]
[null,""]
[null,""]
[null,""]
[null,{"$f":"IF(C4637=0,\"\",C4637-C4636)","v":""}]
[null,""]
[null,""]
[null,""]
[null,""]
[null,""]
[null,""]
[null,""]
[null,""]
[null,""]
[null,""]
[null,""]
[null,""]
[null,""]
[null,""]
[null,""]
[null,""]
[null,""]
[null,""]
[null,""]
[null,""]
[null,""]
[null,""]
[null,""]
[null,""]
[null,""]
[null,""]
[null,""]
[null,""]
[null,""]
[null,""]
[null,""]
[null,""]
[null,""]
[null,""]
[null,""]
[null,""]
[null,""]
[null,""]
[null,""]
[null,""]
[null,""]
[null,""]
[null,""]
[null,""]
[null,""]
[null,""]
[null,""]
[null,""]
[null,""]
[null,""]
[null,""]
[null,""]
[null,""]
[null,""]
[null,""]
[null,""]
[null,""]
[null,""]
[null,""]
[null,""]
[null,""]
[null,""]
[null,""]
[null,{"$f":"IF(C4701=0,\"\",C4701-C4700)","v":""}]
[null,""]
[null,""]
[null,""]
[null,""]
[null,""]
[null,""]
[null,""]
[null,""]
[null,""]
[null,""]
[null,""]
[null,""]
[null,""]
[null,""]
[null,""]
[null,""]
[null,""]
[null,""]
[null,""]
[null,""]
[null,""]
[null,""]
[null,""]
[null,""]
[null,""]
[null,""]
[null,""]
[null,""]
[null,""]
[null,""]
[null,""]
[null,""]
[null,""]
[null,""]
[null,""]
[null,""]
[null,""]
[null,""]
[null,""]
[null,""]
[null,""]
[null,""]
[null,""]
[null,""]
[null,""]
[null,""]
[null,""]
[null,""]
[null,""]
[null,""]
[null,""]
[null,""]
[null,""]
[null,""]
[null,""]
[null,""]
[null,""]
[null,""]
[null,""]
[null,""]
[null,""]
[null,""]
[null,""]
[null,{"$f":"IF(C4765=0,\"\",C4765-C4764)","v":""}]
[null,""]
[null,""]
[null,""]
[null,""]
[null,""]
[null,""]
[null,""]
[null,""]
[null,""]
[null,""]
[null,""]
[null,""]
[null,""]
[null,""]
[null,""]
[null,""]
[null,""]
[null,""]
[null,""]
[null,""]
[null,""]
[null,""]
[null,""]
[null,""]
[null,""]
[null,""]
[null,""]
[null,""]
[null,""]
[null,""]
[null,""]
[null,""]
[null,""]
[null,""]
[null,""]
[null,""]
[null,""]
[null,""]
[null,""]
[null,""]
[null,""]
[null,""]
[null,""]
[null,""]
[null,""]
[null,""]
[null,""]
[null,""]
[null,""]
[null,""]
[null,""]
[null,""]
[null,""]
[null,""]
[null,""]
[null,""]
[null,""]
[null,""]
[null,""]
[null,""]
[null,""]
[null,""]
[null,""]
[null,{"$f":"IF(C4829=0,\"\",C4829-C4828)","v":""}]
[null,""]
[null,""]
[null,""]
[null,""]
[null,""]
[null,""]
[null,""]
[null,""]
[null,""]
[null,""]
[null,""]
[null,""]
[null,""]
[null,""]
[null,""]
[null,""]
[null,""]
[null,""]
[null,""]
[null,""]
[null,""]
[null,""]
[null,""]
[null,""]
[null,""]
[null,""]
[null,""]
[null,""]
[null,""]
[null,""]
[null,""]
[null,""]
[null,""]
[null,""]
[null,""]
[null,""]
[null,""]
[null,""]
[null,""]
[null,""]
[null,""]
[null,""]
[null,""]
[null,""]
[null,""]
[null,""]
[null,""]
[null,""]
[null,""]
[null,""]
[null,""]
[null,""]
[null,""]
[null,""]
[null,""]
[null,""]
[null,""]
[null,""]
[null,""]
[null,""]
[null,""]
[null,""]
[null,""]
[null,{"$f":"IF(C4893=0,\"\",C4893-C4892)","v":""}]
[null,""]
[null,""]
[null,""]
[null,""]
[null,""]
[null,""]
[null,""]
[null,""]
[null,""]
[null,""]
[null,""]
[null,""]
[null,""]
[null,""]
[null,""]
[null,""]
[null,""]
[null,""]
[null,""]
[null,""]
[null,""]
[null,""]
[null,""]
[null,""]
[null,""]
[null,""]
[null,""]
[null,""]
[null,""]
[null,""]
[null,""]
[null,""]
[null,""]
[null,""]
[null,""]
[null,""]
[null,""]
[null,""]
[null,""]
[null,""]
[null,""]
[null,""]
[null,""]
[null,""]
[null,""]
[null,""]
[null,""]
[null,""]
[null,""]
[null,""]
[null,""]
[null,""]
[null,""]
[null,""]
[null,""]
[null,""]
[null,""]
[null,""]
[null,""]
[null,""]
[null,""]
[null,""]
[null,""]
[null,{"$f":"IF(C4957=0,\"\",C4957-C4956)","v":""}]
[null,""]
[null,""]
[null,""]
[null,""]
[null,""]
[null,""]
[null,""]
[null,""]
[null,""]
[null,""]
[null,""]
[null,""]
[null,""]
[null,""]
[null,""]
[null,""]
[null,""]
[null,""]
[null,""]
[null,""]
[null,""]
[null,""]
[null,""]
[null,""]
[null,""]
[null,""]
[null,""]
[null,""]
[null,""]
[null,""]
[null,""]
[null,""]
[null,""]
[null,""]
[null,""]
[null,""]
[null,""]
[null,""]
[null,""]
[null,""]
[null,""]
[null,""]
[null,""]
[null,""]
[null,""]
[null,""]
[null,""]
[null,""]
[null,""]
[null,""]
[null,""]
[null,""]
[null,""]
[null,""]
[null,""]
[null,""]
[null,""]
[null,""]
[null,""]
[null,""]
[null,""]
[null,""]
[null,""]
[null,{"$f":"IF(C5021=0,\"\",C5021-C5020)","v":""}]
[null,""]
[null,""]
[null,""]
[null,""]
[null,""]
[null,""]
[null,""]
[null,""]
[null,""]
[null,""]
[null,""]
[null,""]
[null,""]
[null,""]
[null,""]
[null,""]
[null,""]
[null,""]
[null,""]
[null,""]
[null,""]
[null,""]
[null,""]
[null,""]
[null,""]
[null,""]
[null,""]
[null,""]
[null,""]
[null,""]
[null,""]
[null,""]
[null,""]
[null,""]
[null,""]
[null,""]
[null,""]
[null,""]
[null,""]
[null,""]
[null,""]
[null,""]
[null,""]
[null,""]
[null,""]
[null,""]
[null,""]
[null,""]
[null,""]
[null,""]
[null,""]
[null,""]
[null,""]
[null,""]
[null,""]
[null,""]
[null,""]
[null,""]
[null,""]
[null,""]
[null,""]
[null,""]
[null,""]
[null,{"$f":"IF(C5085=0,\"\",C5085-C5084)","v":""}]
[null,""]
[null,""]
[null,""]
[null,""]
[null,""]
[null,""]
[null,""]
[null,""]
[null,""]
[null,""]
[null,""]
[null,""]
[null,""]
[null,""]
[null,""]
[null,""]
[null,""]
[null,""]
[null,""]
[null,""]
[null,""]
[null,""]
[null,""]
[null,""]
[null,""]
[null,""]
[null,""]
[null,""]
[null,""]
[null,""]
[null,""]
[null,""]
[null,""]
[null,""]
[null,""]
[null,""]
[null,""]
[null,""]
[null,""]
[null,""]
[null,""]
[null,""]
[null,""]
[null,""]
[null,""]
[null,""]
[null,""]
[null,""]
[null,""]
[null,""]
[null,""]
[null,""]
[null,""]
[null,""]
[null,""]
[null,""]
[null,""]
[null,""]
[null,""]
[null,""]
[null,""]
[null,""]
[null,""]
[null,{"$f":"IF(C5149=0,\"\",C5149-C5148)","v":""}]
[null,""]
[null,""]
[null,""]
[null,""]
[null,""]
[null,""]
[null,""]
[null,""]
[null,""]
[null,""]
[null,""]
[null,""]
[null,""]
[null,""]
[null,""]
[null,""]
[null,""]
[null,""]
[null,""]
[null,""]
[null,""]
[null,""]
[null,""]
[null,""]
[null,""]
[null,""]
[null,""]
[null,""]
[null,""]
[null,""]
[null,""]
[null,""]
[null,""]
[null,""]
[null,""]
[null,""]
[null,""]
[null,""]
[null,""]
[null,""]
[null,""]
[null,""]
[null,""]
[null,""]
[null,""]
[null,""]
[null,""]
[null,""]
[null,""]
[null,""]
[null,""]
[null,""]
[null,""]
[null,""]
[null,""]
[null,""]
[null,""]
[null,""]
[null,""]
[null,""]
[null,""]
[null,""]
[null,""]
[null,{"$f":"IF(C5213=0,\"\",C5213-C5212)","v":""}]
[null,""]
[null,""]
[null,""]
[null,""]
[null,""]
[null,""]
[null,""]
[null,""]
[null,""]
[null,""]
[null,""]
[null,""]
[null,""]
[null,""]
[null,""]
[null,""]
[null,""]
[null,""]
[null,""]
[null,""]
[null,""]
[null,""]
[null,""]
[null,""]
[null,""]
[null,""]
[null,""]
[null,""]
[null,""]
[null,""]
[null,""]
[null,""]
[null,""]
[null,""]
[null,""]
[null,""]
[null,""]
[null,""]
[null,""]
[null,""]
[null,""]
[null,""]
[null,""]
[null,""]
[null,""]
[null,""]
[null,""]
[null,""]
[null,""]
[null,""]
[null,""]
[null,""]
[null,""]
[null,""]
[null,""]
[null,""]
[null,""]
[null,""]
[null,""]
[null,""]
[null,""]
[null,""]
[null,""]
[null,{"$f":"IF(C5277=0,\"\",C5277-C5276)","v":""}]
[null,""]
[null,""]
[null,""]
[null,""]
[null,""]
[null,""]
[null,""]
[null,""]
[null,""]
[null,""]
[null,""]
[null,""]
[null,""]
[null,""]
[null,""]
[null,""]
[null,""]
[null,""]
[null,""]
[null,""]
[null,""]
[null,""]
[null,""]
[null,""]
[null,""]
[null,""]
[null,""]
[null,""]
[null,""]
[null,""]
[null,""]
[null,""]
[null,""]
[null,""]
[null,""]
[null,""]
[null,""]
[null,""]
[null,""]
[null,""]
[null,""]
[null,""]
[null,""]
[null,""]
[null,""]
[null,""]
[null,""]
[null,""]
[null,""]
[null,""]
[null,""]
[null,""]
[null,""]
[null,""]
[null,""]
[null,""]
[null,""]
[null,""]
[null,""]
[null,""]
[null,""]
[null,""]
[null,""]
[null,{"$f":"IF(C5341=0,\"\",C5341-C5340)","v":""}]
[null,""]
[null,""]
[null,""]
[null,""]
[null,""]
[null,""]
[null,""]
[null,""]
[null,""]
[null,""]
[null,""]
[null,""]
[null,""]
[null,""]
[null,""]
[null,""]
[null,""]
[null,""]
[null,""]
[null,""]
[null,""]
[null,""]
[null,""]
[null,""]
[null,""]
[null,""]
[null,""]
[null,""]
[null,""]
[null,""]
[null,""]
[null,""]
[null,""]
[null,""]
[null,""]
[null,""]
[null,""]
[null,""]
[null,""]
[null,""]
[null,""]
[null,""]
[null,""]
[null,""]
[null,""]
[null,""]
[null,""]
[null,""]
[null,""]
[null,""]
[null,""]
[null,""]
[null,""]
[null,""]
[null,""]
[null,""]
[null,""]
[null,""]
[null,""]
[null,""]
[null,""]
[null,""]
[null,""]
[null,{"$f":"IF(C5405=0,\"\",C5405-C5404)","v":""}]
[null,""]
[null,""]
[null,""]
[null,""]
[null,""]
[null,""]
[null,""]
[null,""]
[null,""]
[null,""]
[null,""]
[null,""]
[null,""]
[null,""]
[null,""]
[null,""]
[null,""]
[null,""]
[null,""]
[null,""]
[null,""]
[null,""]
[null,""]
[null,""]
[null,""]
[null,""]
[null,""]
[null,""]
[null,""]
[null,""]
[null,""]
[null,""]
[null,""]
[null,""]
[null,""]
[null,""]
[null,""]
[null,""]
[null,""]
[null,""]
[null,""]
[null,""]
[null,""]
[null,""]
[null,""]
[null,""]
[null,""]
[null,""]
[null,""]
[null,""]
[null,""]
[null,""]
[null,""]
[null,""]
[null,""]
[null,""]
[null,""]
[null,""]
[null,""]
[null,""]
[null,""]
[null,""]
[null,""]
[null,{"$f":"IF(C5469=0,\"\",C5469-C5468)","v":""}]
[null,""]
[null,""]
[null,""]
[null,""]
[null,""]
[null,""]
[null,""]
[null,""]
[null,""]
[null,""]
[null,""]
[null,""]
[null,""]
[null,""]
[null,""]
[null,""]
[null,""]
[null,""]
[null,""]
[null,""]
[null,""]
[null,""]
[null,""]
[null,""]
[null,""]
[null,""]
[null,""]
[null,""]
[null,""]
[null,""]
[null,""]
[null,""]
[null,""]
[null,""]
[null,""]
[null,""]
[null,""]
[null,""]
[null,""]
[null,""]
[null,""]
[null,""]
[null,""]
[null,""]
[null,""]
[null,""]
[null,""]
[null,""]
[null,""]
[null,""]
[null,""]
[null,""]
[null,""]
[null,""]
[null,""]
[null,""]
[null,""]
[null,""]
[null,""]
[null,""]
[null,""]
[null,""]
[null,""]
[null,{"$f":"IF(C5533=0,\"\",C5533-C5532)","v":""}]
[null,""]
[null,""]
[null,""]
[null,""]
[null,""]
[null,""]
[null,""]
[null,""]
[null,""]
[null,""]
[null,""]
[null,""]
[null,""]
[null,""]
[null,""]
[null,""]
[null,""]
[null,""]
[null,""]
[null,""]
[null,""]
[null,""]
[null,""]
[null,""]
[null,""]
[null,""]
[null,""]
[null,""]
[null,""]
[null,""]
[null,""]
[null,""]
[null,""]
[null,""]
[null,""]
[null,""]
[null,""]
[null,""]
[null,""]
[null,""]
[null,""]
[null,""]
[null,""]
[null,""]
[null,""]
[null,""]
[null,""]
[null,""]
[null,""]
[null,""]
[null,""]
[null,""]
[null,""]
[null,""]
[null,""]
[null,""]
[null,""]
[null,""]
[null,""]
[null,""]
[null,""]
[null,""]
[null,""]
[null,{"$f":"IF(C5597=0,\"\",C5597-C5596)","v":""}]
[null,""]
[null,""]
[null,""]
[null,""]
[null,""]
[null,""]
[null,""]
[null,""]
[null,""]
[null,""]
[null,""]
[null,""]
[null,""]
[null,""]
[null,""]
[null,""]
[null,""]
[null,""]
[null,""]
[null,""]
[null,""]
[null,""]
[null,""]
[null,""]
[null,""]
[null,""]
[null,""]
[null,""]
[null,""]
[null,""]
[null,""]
[null,""]
[null,""]
[null,""]
[null,""]
[null,""]
[null,""]
[null,""]
[null,""]
[null,""]
[null,""]
[null,""]
[null,""]
[null,""]
[null,""]
[null,""]
[null,""]
[null,""]
[null,""]
[null,""]
[null,""]
[null,""]
[null,""]
[null,""]
[null,""]
[null,""]
[null,""]
[null,""]
[null,""]
[null,""]
[null,""]
[null,""]
[null,""]
[null,{"$f":"IF(C5661=0,\"\",C5661-C5660)","v":""}]
[null,""]
[null,""]
[null,""]
[null,""]
[null,""]
[null,""]
[null,""]
[null,""]
[null,""]
[null,""]
[null,""]
[null,""]
[null,""]
[null,""]
[null,""]
[null,""]
[null,""]
[null,""]
[null,""]
[null,""]
[null,""]
[null,""]
[null,""]
[null,""]
[null,""]
[null,""]
[null,""]
[null,""]
[null,""]
[null,""]
[null,""]
[null,""]
[null,""]
[null,""]
[null,""]
[null,""]
[null,""]
[null,""]
[null,""]
[null,""]
[null,""]
[null,""]
[null,""]
[null,""]
[null,""]
[null,""]
[null,""]
[null,""]
[null,""]
[null,""]
[null,""]
[null,""]
[null,""]
[null,""]
[null,""]
[null,""]
[null,""]
[null,""]
[null,""]
[null,""]
[null,""]
[null,""]
[null,""]
[null,{"$f":"IF(C5725=0,\"\",C5725-C5724)","v":""}]
[null,""]
[null,""]
[null,""]
[null,""]
[null,""]
[null,""]
[null,""]
[null,""]
[null,""]
[null,""]
[null,""]
[null,""]
[null,""]
[null,""]
[null,""]
[null,""]
[null,""]
[null,""]
[null,""]
[null,""]
[null,""]
[null,""]
[null,""]
[null,""]
[null,""]
[null,""]
[null,""]
[null,""]
[null,""]
[null,""]
[null,""]
[null,""]
[null,""]
[null,""]
[null,""]
[null,""]
[null,""]
[null,""]
[null,""]
[null,""]
[null,""]
[null,""]
[null,""]
[null,""]
[null,""]
[null,""]
[null,""]
[null,""]
[null,""]
[null,""]
[null,""]
[null,""]
[null,""]
[null,""]
[null,""]
[null,""]
[null,""]
[null,""]
[null,""]
[null,""]
[null,""]
[null,""]
[null,""]
[null,{"$f":"IF(C5789=0,\"\",C5789-C5788)","v":""}]
[null,""]
[null,""]
[null,""]
[null,""]
[null,""]
[null,""]
[null,""]
[null,""]
[null,""]
[null,""]
[null,""]
[null,""]
[null,""]
[null,""]
[null,""]
[null,""]
[null,""]
[null,""]
[null,""]
[null,""]
[null,""]
[null,""]
[null,""]
[null,""]
[null,""]
[null,""]
[null,""]
[null,""]
[null,""]
[null,""]
[null,""]
[null,""]
[null,""]
[null,""]
[null,""]
[null,""]
[null,""]
[null,""]
[null,""]
[null,""]
[null,""]
[null,""]
[null,""]
[null,""]
[null,""]
[null,""]
[null,""]
[null,""]
[null,""]
[null,""]
[null,""]
[null,""]
[null,""]
[null,""]
[null,""]
[null,""]
[null,""]
[null,""]
[null,""]
[null,""]
[null,""]
[null,""]
[null,""]
[null,{"$f":"IF(C5853=0,\"\",C5853-C5852)","v":""}]
[null,""]
[null,""]
[null,""]
[null,""]
[null,""]
[null,""]
[null,""]
[null,""]
[null,""]
[null,""]
[null,""]
[null,""]
[null,""]
[null,""]
[null,""]
[null,""]
[null,""]
[null,""]
[null,""]
[null,""]
[null,""]
[null,""]
[null,""]
[null,""]
[null,""]
[null,""]
[null,""]
[null,""]
[null,""]
[null,""]
[null,""]
[null,""]
[null,""]
[null,""]
[null,""]
[null,""]
[null,""]
[null,""]
[null,""]
[null,""]
[null,""]
[null,""]
[null,""]
[null,""]
[null,""]
[null,""]
[null,""]
[null,""]
[null,""]
[null,""]
[null,""]
[null,""]
[null,""]
[null,""]
[null,""]
[null,""]
[null,""]
[null,""]
[null,""]
[null,""]
[null,""]
[null,""]
[null,""]
[null,{"$f":"IF(C5917=0,\"\",C5917-C5916)","v":""}]
[null,""]
[null,""]
[null,""]
[null,""]
[null,""]
[null,""]
[null,""]
[null,""]
[null,""]
[null,""]
[null,""]
[null,""]
[null,""]
[null,""]
[null,""]
[null,""]
[null,""]
[null,""]
[null,""]
[null,""]
[null,""]
[null,""]
[null,""]
[null,""]
[null,""]
[null,""]
[null,""]
[null,""]
[null,""]
[null,""]
[null,""]
[null,""]
[null,""]
[null,""]
[null,""]
[null,""]
[null,""]
[null,""]
[null,""]
[null,""]
[null,""]
[null,""]
[null,""]
[null,""]
[null,""]
[null,""]
[null,""]
[null,""]
[null,""]
[null,""]
[null,""]
[null,""]
[null,""]
[null,""]
[null,""]
[null,""]
[null,""]
[null,""]
[null,""]
[null,""]
[null,""]
[null,""]
[null,""]
[null,{"$f":"IF(C5981=0,\"\",C5981-C5980)","v":""}]
[null,""]
[null,""]
[null,""]
[null,""]
[null,""]
[null,""]
[null,""]
[null,""]
[null,""]
[null,""]
[null,""]
[null,""]
[null,""]
[null,""]
[null,""]
[null,""]
[null,""]
[null,""]
[null,""]
[null,""]
[null,""]
[null,""]
[null,""]
[null,""]
[null,""]
[null,""]
[null,""]
[null,""]
[null,""]
[null,""]
[null,""]
[null,""]
[null,""]
[null,""]
[null,""]
[null,""]
[null,""]
[null,""]
[null,""]
[null,""]
[null,""]
[null,""]
[null,""]
[null,""]
[null,""]
[null,""]
[null,""]
[null,""]
[null,""]
[null,""]
[null,""]
[null,""]
[null,""]
[null,""]
[null,""]
[null,""]
[null,""]
[null,""]
[null,""]
[null,""]
[null,""]
[null,""]
[null,""]
[null,{"$f":"IF(C6045=0,\"\",C6045-C6044)","v":""}]
[null,""]
[null,""]
[null,""]
[null,""]
[null,""]
[null,""]
[null,""]
[null,""]
[null,""]
[null,""]
[null,""]
[null,""]
[null,""]
[null,""]
[null,""]
[null,""]
[null,""]
[null,""]
[null,""]
[null,""]
[null,""]
[null,""]
[null,""]
[null,""]
[null,""]
[null,""]
[null,""]
[null,""]
[null,""]
[null,""]
[null,""]
[null,""]
[null,""]
[null,""]
[null,""]
[null,""]
[null,""]
[null,""]
[null,""]
[null,""]
[null,""]
[null,""]
[null,""]
[null,""]
[null,""]
[null,""]
[null,""]
[null,""]
[null,""]
[null,""]
[null,""]
[null,""]
[null,""]
[null,""]
[null,""]
[null,""]
[null,""]
[null,""]
[null,""]
[null,""]
[null,""]
[null,""]
[null,""]
[null,{"$f":"IF(C6109=0,\"\",C6109-C6108)","v":""}]
[null,""]
[null,""]
[null,""]
[null,""]
[null,""]
[null,""]
[null,""]
[null,""]
[null,""]
[null,""]
[null,""]
[null,""]
[null,""]
[null,""]
[null,""]
[null,""]
[null,""]
[null,""]
[null,""]
[null,""]
[null,""]
[null,""]
[null,""]
[null,""]
[null,""]
[null,""]
[null,""]
[null,""]
[null,""]
[null,""]
[null,""]
[null,""]
[null,""]
[null,""]
[null,""]
[null,""]
[null,""]
[null,""]
[null,""]
[null,""]
[null,""]
[null,""]
[null,""]
[null,""]
[null,""]
[null,""]
[null,""]
[null,""]
[null,""]
[null,""]
[null,""]
[null,""]
[null,""]
[null,""]
[null,""]
[null,""]
[null,""]
[null,""]
[null,""]
[null,""]
[null,""]
[null,""]
[null,""]
[null,{"$f":"IF(C6173=0,\"\",C6173-C6172)","v":""}]
[null,""]
[null,""]
[null,""]
[null,""]
[null,""]
[null,""]
[null,""]
[null,""]
[null,""]
[null,""]
[null,""]
[null,""]
[null,""]
[null,""]
[null,""]
[null,""]
[null,""]
[null,""]
[null,""]
[null,""]
[null,""]
[null,""]
[null,""]
[null,""]
[null,""]
[null,""]
[null,""]
[null,""]
[null,""]
[null,""]
[null,""]
[null,""]
[null,""]
[null,""]
[null,""]
[null,""]
[null,""]
[null,""]
[null,""]
[null,""]
[null,""]
[null,""]
[null,""]
[null,""]
[null,""]
[null,""]
[null,""]
[null,""]
[null,""]
[null,""]
[null,""]
[null,""]
[null,""]
[null,""]
[null,""]
[null,""]
[null,""]
[null,""]
[null,""]
[null,""]
[null,""]
[null,""]
[null,""]
[null,{"$f":"IF(C6237=0,\"\",C6237-C6236)","v":""}]
[null,""]
[null,""]
[null,""]
[null,""]
[null,""]
[null,""]
[null,""]
[null,""]
[null,""]
[null,""]
[null,""]
[null,""]
[null,""]
[null,""]
[null,""]
[null,""]
[null,""]
[null,""]
[null,""]
[null,""]
[null,""]
[null,""]
[null,""]
[null,""]
[null,""]
[null,""]
[null,""]
[null,""]
[null,""]
[null,""]
[null,""]
[null,""]
[null,""]
[null,""]
[null,""]
[null,""]
[null,""]
[null,""]
[null,""]
[null,""]
[null,""]
[null,""]
[null,""]
[null,""]
[null,""]
[null,""]
[null,""]
[null,""]
[null,""]
[null,""]
[null,""]
[null,""]
[null,""]
[null,""]
[null,""]
[null,""]
[null,""]
[null,""]
[null,""]
[null,""]
[null,""]
[null,""]
[null,""]
[null,{"$f":"IF(C6301=0,\"\",C6301-C6300)","v":""}]
[null,""]
[null,""]
[null,""]
[null,""]
[null,""]
[null,""]
[null,""]
[null,""]
[null,""]
[null,""]
[null,""]
[null,""]
[null,""]
[null,""]
[null,""]
[null,""]
[null,""]
[null,""]
[null,""]
[null,""]
[null,""]
[null,""]
[null,""]
[null,""]
[null,""]
[null,""]
[null,""]
[null,""]
[null,""]
[null,""]
[null,""]
[null,""]
[null,""]
[null,""]
[null,""]
[null,""]
[null,""]
[null,""]
[null,""]
[null,""]
[null,""]
[null,""]
[null,""]
[null,""]
[null,""]
[null,""]
[null,""]
[null,""]
[null,""]
[null,""]
[null,""]
[null,""]
[null,""]
[null,""]
[null,""]
[null,""]
[null,""]
[null,""]
[null,""]
[null,""]
[null,""]
[null,""]
[null,""]
[null,{"$f":"IF(C6365=0,\"\",C6365-C6364)","v":""}]
[null,""]
[null,""]
[null,""]
[null,""]
[null,""]
[null,""]
[null,""]
[null,""]
[null,""]
[null,""]
[null,""]
[null,""]
[null,""]
[null,""]
[null,""]
[null,""]
[null,""]
[null,""]
[null,""]
[null,""]
[null,""]
[null,""]
[null,""]
[null,""]
[null,""]
[null,""]
[null,""]
[null,""]
[null,""]
[null,""]
[null,""]
[null,""]
[null,""]
[null,""]
[null,""]
[null,""]
[null,""]
[null,""]
[null,""]
[null,""]
[null,""]
[null,""]
[null,""]
[null,""]
[null,""]
[null,""]
[null,""]
[null,""]
[null,""]
[null,""]
[null,""]
[null,""]
[null,""]
[null,""]
[null,""]
[null,""]
[null,""]
[null,""]
[null,""]
[null,""]
[null,""]
[null,""]
[null,""]
[null,{"$f":"IF(C6429=0,\"\",C6429-C6428)","v":""}]
[null,""]
[null,""]
[null,""]
[null,""]
[null,""]
[null,""]
[null,""]
[null,""]
[null,""]
[null,""]
[null,""]
[null,""]
[null,""]
[null,""]
[null,""]
[null,""]
[null,""]
[null,""]
[null,""]
[null,""]
[null,""]
[null,""]
[null,""]
[null,""]
[null,""]
[null,""]
[null,""]
[null,""]
[null,""]
[null,""]
[null,""]
[null,""]
[null,""]
[null,""]
[null,""]
[null,""]
[null,""]
[null,""]
[null,""]
[null,""]
[null,""]
[null,""]
[null,""]
[null,""]
[null,""]
[null,""]
[null,""]
[null,""]
[null,""]
[null,""]
[null,""]
[null,""]
[null,""]
[null,""]
[null,""]
[null,""]
[null,""]
[null,""]
[null,""]
[null,""]
[null,""]
[null,""]
[null,""]
[null,{"$f":"IF(C6493=0,\"\",C6493-C6492)","v":""}]
[null,""]
[null,""]
[null,""]
[null,""]
[null,""]
[null,""]
[null,""]
[null,""]
[null,""]
[null,""]
[null,""]
[null,""]
[null,""]
[null,""]
[null,""]
[null,""]
[null,""]
[null,""]
[null,""]
[null,""]
[null,""]
[null,""]
[null,""]
[null,""]
[null,""]
[null,""]
[null,""]
[null,""]
[null,""]
[null,""]
[null,""]
[null,""]
[null,""]
[null,""]
[null,""]
[null,""]
[null,""]
[null,""]
[null,""]
[null,""]
[null,""]
[null,""]
[null,""]
[null,""]
[null,""]
[null,""]
[null,""]
[null,""]
[null,""]
[null,""]
[null,""]
[null,""]
[null,""]
[null,""]
[null,""]
[null,""]
[null,""]
[null,""]
[null,""]
[null,""]
[null,""]
[null,""]
[null,""]
[null,{"$f":"IF(C6557=0,\"\",C6557-C6556)","v":""}]
[null,""]
[null,""]
[null,""]
[null,""]
[null,""]
[null,""]
[null,""]
[null,""]
[null,""]
[null,""]
[null,""]
[null,""]
[null,""]
[null,""]
[null,""]
[null,""]
[null,""]
[null,""]
[null,""]
[null,""]
[null,""]
[null,""]
[null,""]
[null,""]
[null,""]
[null,""]
[null,""]
[null,""]
[null,""]
[null,""]
[null,""]
[null,""]
[null,""]
[null,""]
[null,""]
[null,""]
[null,""]
[null,""]
[null,""]
[null,""]
[null,""]
[null,""]
[null,""]
[null,""]
[null,""]
[null,""]
[null,""]
[null,""]
[null,""]
[null,""]
[null,""]
[null,""]
[null,""]
[null,""]
[null,""]
[null,""]
[null,""]
[null,""]
[null,""]
[null,""]
[null,""]
[null,""]
[null,""]
[null,{"$f":"IF(C6621=0,\"\",C6621-C6620)","v":""}]
[null,""]
[null,""]
[null,""]
[null,""]
[null,""]
[null,""]
[null,""]
[null,""]
[null,""]
[null,""]
[null,""]
[null,""]
[null,""]
[null,""]
[null,""]
[null,""]
[null,""]
[null,""]
[null,""]
[null,""]
[null,""]
[null,""]
[null,""]
[null,""]
[null,""]
[null,""]
[null,""]
[null,""]
[null,""]
[null,""]
[null,""]
[null,""]
[null,""]
[null,""]
[null,""]
[null,""]
[null,""]
[null,""]
[null,""]
[null,""]
[null,""]
[null,""]
[null,""]
[null,""]
[null,""]
[null,""]
[null,""]
[null,""]
[null,""]
[null,""]
[null,""]
[null,""]
[null,""]
[null,""]
[null,""]
[null,""]
[null,""]
[null,""]
[null,""]
[null,""]
[null,""]
[null,""]
[null,""]
[null,{"$f":"IF(C6685=0,\"\",C6685-C6684)","v":""}]
[null,""]
[null,""]
[null,""]
[null,""]
[null,""]
[null,""]
[null,""]
[null,""]
[null,""]
[null,""]
[null,""]
[null,""]
[null,""]
[null,""]
[null,""]
[null,""]
[null,""]
[null,""]
[null,""]
[null,""]
[null,""]
[null,""]
[null,""]
[null,""]
[null,""]
[null,""]
[null,""]
[null,""]
[null,""]
[null,""]
[null,""]
[null,""]
[null,""]
[null,""]
[null,""]
[null,""]
[null,""]
[null,""]
[null,""]
[null,""]
[null,""]
[null,""]
[null,""]
[null,""]
[null,""]
[null,""]
[null,""]
[null,""]
[null,""]
[null,""]
[null,""]
[null,""]
[null,""]
[null,""]
[null,""]
[null,""]
[null,""]
[null,""]
[null,""]
[null,""]
[null,""]
[null,""]
[null,""]
[null,{"$f":"IF(C6749=0,\"\",C6749-C6748)","v":""}]
[null,""]
[null,""]
[null,""]
[null,""]
[null,""]
[null,""]
[null,""]
[null,""]
[null,""]
[null,""]
[null,""]
[null,""]
[null,""]
[null,""]
[null,""]
[null,""]
[null,""]
[null,""]
[null,""]
[null,""]
[null,""]
[null,""]
[null,""]
[null,""]
[null,""]
[null,""]
[null,""]
[null,""]
[null,""]
[null,""]
[null,""]
[null,""]
[null,""]
[null,""]
[null,""]
[null,""]
[null,""]
[null,""]
[null,""]
[null,""]
[null,""]
[null,""]
[null,""]
[null,""]
[null,""]
[null,""]
[null,""]
[null,""]
[null,""]
[null,""]
[null,""]
[null,""]
[null,""]
[null,""]
[null,""]
[null,""]
[null,""]
[null,""]
[null,""]
[null,""]
[null,""]
[null,""]
[null,""]
[null,{"$f":"IF(C6813=0,\"\",C6813-C6812)","v":""}]
[null,""]
[null,""]
[null,""]
[null,""]
[null,""]
[null,""]
[null,""]
[null,""]
[null,""]
[null,""]
[null,""]
[null,""]
[null,""]
[null,""]
[null,""]
[null,""]
[null,""]
[null,""]
[null,""]
[null,""]
[null,""]
[null,""]
[null,""]
[null,""]
[null,""]
[null,""]
[null,""]
[null,""]
[null,""]
[null,""]
[null,""]
[null,""]
[null,""]
[null,""]
[null,""]
[null,""]
[null,""]
[null,""]
[null,""]
[null,""]
[null,""]
[null,""]
[null,""]
[null,""]
[null,""]
[null,""]
[null,""]
[null,""]
[null,""]
[null,""]
[null,""]
[null,""]
[null,""]
[null,""]
[null,""]
[null,""]
[null,""]
[null,""]
[null,""]
[null,""]
[null,""]
[null,""]
[null,""]
[null,{"$f":"IF(C6877=0,\"\",C6877-C6876)","v":""}]
[null,""]
[null,""]
[null,""]
[null,""]
[null,""]
[null,""]
[null,""]
[null,""]
[null,""]
[null,""]
[null,""]
[null,""]
[null,""]
[null,""]
[null,""]
[null,""]
[null,""]
[null,""]
[null,""]
[null,""]
[null,""]
[null,""]
[null,""]
[null,""]
[null,""]
[null,""]
[null,""]
[null,""]
[null,""]
[null,""]
[null,""]
[null,""]
[null,""]
[null,""]
[null,""]
[null,""]
[null,""]
[null,""]
[null,""]
[null,""]
[null,""]
[null,""]
[null,""]
[null,""]
[null,""]
[null,""]
[null,""]
[null,""]
[null,""]
[null,""]
[null,""]
[null,""]
[null,""]
[null,""]
[null,""]
[null,""]
[null,""]
[null,""]
[null,""]
[null,""]
[null,""]
[null,""]
[null,""]
[null,{"$f":"IF(C6941=0,\"\",C6941-C6940)","v":""}]
[null,""]
[null,""]
[null,""]
[null,""]
[null,""]
[null,""]
[null,""]
[null,""]
[null,""]
[null,""]
[null,""]
[null,""]
[null,""]
[null,""]
[null,""]
[null,""]
[null,""]
[null,""]
[null,""]
[null,""]
[null,""]
[null,""]
[null,""]
[null,""]
[null,""]
[null,""]
[null,""]
[null,""]
[null,""]
[null,""]
[null,""]
[null,""]
[null,""]
[null,""]
[null,""]
[null,""]
[null,""]
[null,""]
[null,""]
[null,""]
[null,""]
[null,""]
[null,""]
[null,""]
[null,""]
[null,""]
[null,""]
[null,""]
[null,""]
[null,""]
[null,""]
[null,""]
[null,""]
[null,""]
[null,""]
[null,""]
[null,""]
[null,""]
[null,""]
[null,""]
[null,""]
[null,""]
[null,""]
[null,{"$f":"IF(C7005=0,\"\",C7005-C7004)","v":""}]
[null,""]
[null,""]
[null,""]
[null,""]
[null,""]
[null,""]
[null,""]
[null,""]
[null,""]
[null,""]
[null,""]
[null,""]
[null,""]
[null,""]
[null,""]
[null,""]
[null,""]
[null,""]
[null,""]
[null,""]
[null,""]
[null,""]
[null,""]
[null,""]
[null,""]
[null,""]
[null,""]
[null,""]
[null,""]
[null,""]
[null,""]
[null,""]
[null,""]
[null,""]
[null,""]
[null,""]
[null,""]
[null,""]
[null,""]
[null,""]
[null,""]
[null,""]
[null,""]
[null,""]
[null,""]
[null,""]
[null,""]
[null,""]
[null,""]
[null,""]
[null,""]
[null,""]
[null,""]
[null,""]
[null,""]
[null,""]
[null,""]
[null,""]
[null,""]
[null,""]
[null,""]
[null,""]
[null,""]
[null,{"$f":"IF(C7069=0,\"\",C7069-C7068)","v":""}]
[null,""]
[null,""]
[null,""]
[null,""]
[null,""]
[null,""]
[null,""]
[null,""]
[null,""]
[null,""]
[null,""]
[null,""]
[null,""]
[null,""]
[null,""]
[null,""]
[null,""]
[null,""]
[null,""]
[null,""]
[null,""]
[null,""]
[null,""]
[null,""]
[null,""]
[null,""]
[null,""]
[null,""]
[null,""]
[null,""]
[null,""]
[null,""]
[null,""]
[null,""]
[null,""]
[null,""]
[null,""]
[null,""]
[null,""]
[null,""]
[null,""]
[null,""]
[null,""]
[null,""]
[null,""]
[null,""]
[null,""]
[null,""]
[null,""]
[null,""]
[null,""]
[null,""]
[null,""]
[null,""]
[null,""]
[null,""]
[null,""]
[null,""]
[null,""]
[null,""]
[null,""]
[null,""]
[null,""]
[null,{"$f":"IF(C7133=0,\"\",C7133-C7132)","v":""}]
[null,""]
[null,""]
[null,""]
[null,""]
[null,""]
[null,""]
[null,""]
[null,""]
[null,""]
[null,""]
[null,""]
[null,""]
[null,""]
[null,""]
[null,""]
[null,""]
[null,""]
[null,""]
[null,""]
[null,""]
[null,""]
[null,""]
[null,""]
[null,""]
[null,""]
[null,""]
[null,""]
[null,""]
[null,""]
[null,""]
[null,""]
[null,""]
[null,""]
[null,""]
[null,""]
[null,""]
[null,""]
[null,""]
[null,""]
[null,""]
[null,""]
[null,""]
[null,""]
[null,""]
[null,""]
[null,""]
[null,""]
[null,""]
[null,""]
[null,""]
[null,""]
[null,""]
[null,""]
[null,""]
[null,""]
[null,""]
[null,""]
[null,""]
[null,""]
[null,""]
[null,""]
[null,""]
[null,""]
[null,{"$f":"IF(C7197=0,\"\",C7197-C7196)","v":""}]
[null,""]
[null,""]
[null,""]
[null,""]
[null,""]
[null,""]
[null,""]
[null,""]
[null,""]
[null,""]
[null,""]
[null,""]
[null,""]
[null,""]
[null,""]
[null,""]
[null,""]
[null,""]
[null,""]
[null,""]
[null,""]
[null,""]
[null,""]
[null,""]
[null,""]
[null,""]
[null,""]
[null,""]
[null,""]
[null,""]
[null,""]
[null,""]
[null,""]
[null,""]
[null,""]
[null,""]
[null,""]
[null,""]
[null,""]
[null,""]
[null,""]
[null,""]
[null,""]
[null,""]
[null,""]
[null,""]
[null,""]
[null,""]
[null,""]
[null,""]
[null,""]
[null,""]
[null,""]
[null,""]
[null,""]
[null,""]
[null,""]
[null,""]
[null,""]
[null,""]
[null,""]
[null,""]
[null,""]
[null,{"$f":"IF(C7261=0,\"\",C7261-C7260)","v":""}]
[null,""]
[null,""]
[null,""]
[null,""]
[null,""]
[null,""]
[null,""]
[null,""]
[null,""]
[null,""]
[null,""]
[null,""]
[null,""]
[null,""]
[null,""]
[null,""]
[null,""]
[null,""]
[null,""]
[null,""]
[null,""]
[null,""]
[null,""]
[null,""]
[null,""]
[null,""]
[null,""]
[null,""]
[null,""]
[null,""]
[null,""]
[null,""]
[null,""]
[null,""]
[null,""]
[null,""]
[null,""]
[null,""]
[null,""]
[null,""]
[null,""]
[null,""]
[null,""]
[null,""]
[null,""]
[null,""]
[null,""]
[null,""]
[null,""]
[null,""]
[null,""]
[null,""]
[null,""]
[null,""]
[null,""]
[null,""]
[null,""]
[null,""]
[null,""]
[null,""]
[null,""]
[null,""]
[null,""]
[null,{"$f":"IF(C7325=0,\"\",C7325-C7324)","v":""}]
[null,""]
[null,""]
[null,""]
[null,""]
[null,""]
[null,""]
[null,""]
[null,""]
[null,""]
[null,""]
[null,""]
[null,""]
[null,""]
[null,""]
[null,""]
[null,""]
[null,""]
[null,""]
[null,""]
[null,""]
[null,""]
[null,""]
[null,""]
[null,""]
[null,""]
[null,""]
[null,""]
[null,""]
[null,""]
[null,""]
[null,""]
[null,""]
[null,""]
[null,""]
[null,""]
[null,""]
[null,""]
[null,""]
[null,""]
[null,""]
[null,""]
[null,""]
[null,""]
[null,""]
[null,""]
[null,""]
[null,""]
[null,""]
[null,""]
[null,""]
[null,""]
[null,""]
[null,""]
[null,""]
[null,""]
[null,""]
[null,""]
[null,""]
[null,""]
[null,""]
[null,""]
[null,""]
[null,""]
[null,{"$f":"IF(C7389=0,\"\",C7389-C7388)","v":""}]
[null,""]
[null,""]
[null,""]
[null,""]
[null,""]
[null,""]
[null,""]
[null,""]
[null,""]
[null,""]
[null,""]
[null,""]
[null,""]
[null,""]
[null,""]
[null,""]
[null,""]
[null,""]
[null,""]
[null,""]
[null,""]
[null,""]
[null,""]
[null,""]
[null,""]
[null,""]
[null,""]
[null,""]
[null,""]
[null,""]
[null,""]
[null,""]
[null,""]
[null,""]
[null,""]
[null,""]
[null,""]
[null,""]
[null,""]
[null,""]
[null,""]
[null,""]
[null,""]
[null,""]
[null,""]
[null,""]
[null,""]
[null,""]
[null,""]
[null,""]
[null,""]
[null,""]
[null,""]
[null,""]
[null,""]
[null,""]
[null,""]
[null,""]
[null,""]
[null,""]
[null,""]
[null,""]
[null,""]
[null,{"$f":"IF(C7453=0,\"\",C7453-C7452)","v":""}]
[null,""]
[null,""]
[null,""]
[null,""]
[null,""]
[null,""]
[null,""]
[null,""]
[null,""]
[null,""]
[null,""]
[null,""]
[null,""]
[null,""]
[null,""]
[null,""]
[null,""]
[null,""]
[null,""]
[null,""]
[null,""]
[null,""]
[null,""]
[null,""]
[null,""]
[null,""]
[null,""]
[null,""]
[null,""]
[null,""]
[null,""]
[null,""]
[null,""]
[null,""]
[null,""]
[null,""]
[null,""]
[null,""]
[null,""]
[null,""]
[null,""]
[null,""]
[null,""]
[null,""]
[null,""]
[null,""]
[null,""]
[null,""]
[null,""]
[null,""]
[null,""]
[null,""]
[null,""]
[null,""]
[null,""]
[null,""]
[null,""]
[null,""]
[null,""]
[null,""]
[null,""]
[null,""]
[null,""]
[null,{"$f":"IF(C7517=0,\"\",C7517-C7516)","v":""}]
[null,""]
[null,""]
[null,""]
[null,""]
[null,""]
[null,""]
[null,""]
[null,""]
[null,""]
[null,""]
[null,""]
[null,""]
[null,""]
[null,""]
[null,""]
[null,""]
[null,""]
[null,""]
[null,""]
[null,""]
[null,""]
[null,""]
[null,""]
[null,""]
[null,""]
[null,""]
[null,""]
[null,""]
[null,""]
[null,""]
[null,""]
[null,""]
[null,""]
[null,""]
[null,""]
[null,""]
[null,""]
[null,""]
[null,""]
[null,""]
[null,""]
[null,""]
[null,""]
[null,""]
[null,""]
[null,""]
[null,""]
[null,""]
[null,""]
[null,""]
[null,""]
[null,""]
[null,""]
[null,""]
[null,""]
[null,""]
[null,""]
[null,""]
[null,""]
[null,""]
[null,""]
[null,""]
[null,""]
[null,{"$f":"IF(C7581=0,\"\",C7581-C7580)","v":""}]
[null,""]
[null,""]
[null,""]
[null,""]
[null,""]
[null,""]
[null,""]
[null,""]
[null,""]
[null,""]
[null,""]
[null,""]
[null,""]
[null,""]
[null,""]
[null,""]
[null,""]
[null,""]
[null,""]
[null,""]
[null,""]
[null,""]
[null,""]
[null,""]
[null,""]
[null,""]
[null,""]
[null,""]
[null,""]
[null,""]
[null,""]
[null,""]
[null,""]
[null,""]
[null,""]
[null,""]
[null,""]
[null,""]
[null,""]
[null,""]
[null,""]
[null,""]
[null,""]
[null,""]
[null,""]
[null,""]
[null,""]
[null,""]
[null,""]
[null,""]
[null,""]
[null,""]
[null,""]
[null,""]
[null,""]
[null,""]
[null,""]
[null,""]
[null,""]
[null,""]
[null,""]
[null,""]
[null,""]
[null,{"$f":"IF(C7645=0,\"\",C7645-C7644)","v":""}]
[null,""]
[null,""]
[null,""]
[null,""]
[null,""]
[null,""]
[null,""]
[null,""]
[null,""]
[null,""]
[null,""]
[null,""]
[null,""]
[null,""]
[null,""]
[null,""]
[null,""]
[null,""]
[null,""]
[null,""]
[null,""]
[null,""]
[null,""]
[null,""]
[null,""]
[null,""]
[null,""]
[null,""]
[null,""]
[null,""]
[null,""]
[null,""]
[null,""]
[null,""]
[null,""]
[null,""]
[null,""]
[null,""]
[null,""]
[null,""]
[null,""]
[null,""]
[null,""]
[null,""]
[null,""]
[null,""]
[null,""]
[null,""]
[null,""]
[null,""]
[null,""]
[null,""]
[null,""]
[null,""]
[null,""]
[null,""]
[null,""]
[null,""]
[null,""]
[null,""]
[null,""]
[null,""]
[null,""]
[null,{"$f":"IF(C7709=0,\"\",C7709-C7708)","v":""}]
[null,""]
[null,""]
[null,""]
[null,""]
[null,""]
[null,""]
[null,""]
[null,""]
[null,""]
[null,""]
[null,""]
[null,""]
[null,""]
[null,""]
[null,""]
[null,""]
[null,""]
[null,""]
[null,""]
[null,""]
[null,""]
[null,""]
[null,""]
[null,""]
[null,""]
[null,""]
[null,""]
[null,""]
[null,""]
[null,""]
[null,""]
[null,""]
[null,""]
[null,""]
[null,""]
[null,""]
[null,""]
[null,""]
[null,""]
[null,""]
[null,""]
[null,""]
[null,""]
[null,""]
[null,""]
[null,""]
[null,""]
[null,""]
[null,""]
[null,""]
[null,""]
[null,""]
[null,""]
[null,""]
[null,""]
[null,""]
[null,""]
[null,""]
[null,""]
[null,""]
[null,""]
[null,""]
[null,""]
[null,{"$f":"IF(C7773=0,\"\",C7773-C7772)","v":""}]
[null,""]
[null,""]
[null,""]
[null,""]
[null,""]
[null,""]
[null,""]
[null,""]
[null,""]
[null,""]
[null,""]
[null,""]
[null,""]
[null,""]
[null,""]
[null,""]
[null,""]
[null,""]
[null,""]
[null,""]
[null,""]
[null,""]
[null,""]
[null,""]
[null,""]
[null,""]
[null,""]
[null,""]
[null,""]
[null,""]
[null,""]
[null,""]
[null,""]
[null,""]
[null,""]
[null,""]
[null,""]
[null,""]
[null,""]
[null,""]
[null,""]
[null,""]
[null,""]
[null,""]
[null,""]
[null,""]
[null,""]
[null,""]
[null,""]
[null,""]
[null,""]
[null,""]
[null,""]
[null,""]
[null,""]
[null,""]
[null,""]
[null,""]
[null,""]
[null,""]
[null,""]
[null,""]
[null,""]
[null,{"$f":"IF(C7837=0,\"\",C7837-C7836)","v":""}]
[null,""]
[null,""]
[null,""]
[null,""]
[null,""]
[null,""]
[null,""]
[null,""]
[null,""]
[null,""]
[null,""]
[null,""]
[null,""]
[null,""]
[null,""]
[null,""]
[null,""]
[null,""]
[null,""]
[null,""]
[null,""]
[null,""]
[null,""]
[null,""]
[null,""]
[null,""]
[null,""]
[null,""]
[null,""]
[null,""]
[null,""]
[null,""]
[null,""]
[null,""]
[null,""]
[null,""]
[null,""]
[null,""]
[null,""]
[null,""]
[null,""]
[null,""]
[null,""]
[null,""]
[null,""]
[null,""]
[null,""]
[null,""]
[null,""]
[null,""]
[null,""]
[null,""]
[null,""]
[null,""]
[null,""]
[null,""]
[null,""]
[null,""]
[null,""]
[null,""]
[null,""]
[null,""]
[null,""]
[null,{"$f":"IF(C7901=0,\"\",C7901-C7900)","v":""}]
[null,""]
[null,""]
[null,""]
[null,""]
[null,""]
[null,""]
[null,""]
[null,""]
[null,""]
[null,""]
[null,""]
[null,""]
[null,""]
[null,""]
[null,""]
[null,""]
[null,""]
[null,""]
[null,""]
[null,""]
[null,""]
[null,""]
[null,""]
[null,""]
[null,""]
[null,""]
[null,""]
[null,""]
[null,""]
[null,""]
[null,""]
[null,""]
[null,""]
[null,""]
[null,""]
[null,""]
[null,""]
[null,""]
[null,""]
[null,""]
[null,""]
[null,""]
[null,""]
[null,""]
[null,""]
[null,""]
[null,""]
[null,""]
[null,""]
[null,""]
[null,""]
[null,""]
[null,""]
[null,""]
[null,""]
[null,""]
[null,""]
[null,""]
[null,""]
[null,""]
[null,""]
[null,""]
[null,""]
[null,{"$f":"IF(C7965=0,\"\",C7965-C7964)","v":""}]
[null,""]
[null,""]
[null,""]
[null,""]
[null,""]
[null,""]
[null,""]
[null,""]
[null,""]
[null,""]
[null,""]
[null,""]
[null,""]
[null,""]
[null,""]
[null,""]
[null,""]
[null,""]
[null,""]
[null,""]
[null,""]
[null,""]
[null,""]
[null,""]
[null,""]
[null,""]
[null,""]
[null,""]
[null,""]
[null,""]
[null,""]
[null,""]
[null,""]
[null,""]
[null,""]
[null,""]
[null,""]
[null,""]
[null,""]
[null,""]
[null,""]
[null,""]
[null,""]
[null,""]
[null,""]
[null,""]
[null,""]
[null,""]
[null,""]
[null,""]
[null,""]
[null,""]
[null,""]
[null,""]
[null,""]
[null,""]
[null,""]
[null,""]
[null,""]
[null,""]
[null,""]
[null,""]
[null,""]
[null,{"$f":"IF(C8029=0,\"\",C8029-C8028)","v":""}]
[null,""]
[null,""]
[null,""]
[null,""]
[null,""]
[null,""]
[null,""]
[null,""]
[null,""]
[null,""]
[null,""]
[null,""]
[null,""]
[null,""]
[null,""]
[null,""]
[null,""]
[null,""]
[null,""]
[null,""]
[null,""]
[null,""]
[null,""]
[null,""]
[null,""]
[null,""]
[null,""]
[null,""]
[null,""]
[null,""]
[null,""]
[null,""]
[null,""]
[null,""]
[null,""]
[null,""]
[null,""]
[null,""]
[null,""]
[null,""]
[null,""]
[null,""]
[null,""]
[null,""]
[null,""]
[null,""]
[null,""]
[null,""]
[null,""]
[null,""]
[null,""]
[null,""]
[null,""]
[null,""]
[null,""]
[null,""]
[null,""]
[null,""]
[null,""]
[null,""]
[null,""]
[null,""]
[null,""]
[null,{"$f":"IF(C8093=0,\"\",C8093-C8092)","v":""}]
[null,""]
[null,""]
[null,""]
[null,""]
[null,""]
[null,""]
[null,""]
[null,""]
[null,""]
[null,""]
[null,""]
[null,""]
[null,""]
[null,""]
[null,""]
[null,""]
[null,""]
[null,""]
[null,""]
[null,""]
[null,""]
[null,""]
[null,""]
[null,""]
[null,""]
[null,""]
[null,""]
[null,""]
[null,""]
[null,""]
[null,""]
[null,""]
[null,""]
[null,""]
[null,""]
[null,""]
[null,""]
[null,""]
[null,""]
[null,""]
[null,""]
[null,""]
[null,""]
[null,""]
[null,""]
[null,""]
[null,""]
[null,""]
[null,""]
[null,""]
[null,""]
[null,""]
[null,""]
[null,""]
[null,""]
[null,""]
[null,""]
[null,""]
[null,""]
[null,""]
[null,""]
[null,""]
[null,""]
[null,{"$f":"IF(C8157=0,\"\",C8157-C8156)","v":""}]
[null,""]
[null,""]
[null,""]
[null,""]
[null,""]
[null,""]
[null,""]
[null,""]
[null,""]
[null,""]
[null,""]
[null,""]
[null,""]
[null,""]
[null,""]
[null,""]
[null,""]
[null,""]
[null,""]
[null,""]
[null,""]
[null,""]
[null,""]
[null,""]
[null,""]
[null,""]
[null,""]
[null,""]
[null,""]
[null,""]
[null,""]
[null,""]
[null,""]
[null,""]
[null,""]
[null,""]
[null,""]
[null,""]
[null,""]
[null,""]
[null,""]
[null,""]
[null,""]
[null,""]
[null,""]
[null,""]
[null,""]
[null,""]
[null,""]
[null,""]
[null,""]
[null,""]
[null,""]
[null,""]
[null,""]
[null,""]
[null,""]
[null,""]
[null,""]
[null,""]
[null,""]
[null,""]
[null,""]
[null,{"$f":"IF(C8221=0,\"\",C8221-C8220)","v":""}]
[null,""]
[null,""]
[null,""]
[null,""]
[null,""]
[null,""]
[null,""]
[null,""]
[null,""]
[null,""]
[null,""]
[null,""]
[null,""]
[null,""]
[null,""]
[null,""]
[null,""]
[null,""]
[null,""]
[null,""]
[null,""]
[null,""]
[null,""]
[null,""]
[null,""]
[null,""]
[null,""]
[null,""]
[null,""]
[null,""]
[null,""]
[null,""]
[null,""]
[null,""]
[null,""]
[null,""]
[null,""]
[null,""]
[null,""]
[null,""]
[null,""]
[null,""]
[null,""]
[null,""]
[null,""]
[null,""]
[null,""]
[null,""]
[null,""]
[null,""]
[null,""]
[null,""]
[null,""]
[null,""]
[null,""]
[null,""]
[null,""]
[null,""]
[null,""]
[null,""]
[null,""]
[null,""]
[null,""]
[null,{"$f":"IF(C8285=0,\"\",C8285-C8284)","v":""}]
[null,""]
[null,""]
[null,""]
[null,""]
[null,""]
[null,""]
[null,""]
[null,""]
[null,""]
[null,""]
[null,""]
[null,""]
[null,""]
[null,""]
[null,""]
[null,""]
[null,""]
[null,""]
[null,""]
[null,""]
[null,""]
[null,""]
[null,""]
[null,""]
[null,""]
[null,""]
[null,""]
[null,""]
[null,""]
[null,""]
[null,""]
[null,""]
[null,""]
[null,""]
[null,""]
[null,""]
[null,""]
[null,""]
[null,""]
[null,""]
[null,""]
[null,""]
[null,""]
[null,""]
[null,""]
[null,""]
[null,""]
[null,""]
[null,""]
[null,""]
[null,""]
[null,""]
[null,""]
[null,""]
[null,""]
[null,""]
[null,""]
[null,""]
[null,""]
[null,""]
[null,""]
[null,""]
[null,""]
[null,{"$f":"IF(C8349=0,\"\",C8349-C8348)","v":""}]
[null,""]
[null,""]
[null,""]
[null,""]
[null,""]
[null,""]
[null,""]
[null,""]
[null,""]
[null,""]
[null,""]
[null,""]
[null,""]
[null,""]
[null,""]
[null,""]
[null,""]
[null,""]
[null,""]
[null,""]
[null,""]
[null,""]
[null,""]
[null,""]
[null,""]
[null,""]
[null,""]
[null,""]
[null,""]
[null,""]
[null,""]
[null,""]
[null,""]
[null,""]
[null,""]
[null,""]
[null,""]
[null,""]
[null,""]
[null,""]
[null,""]
[null,""]
[null,""]
[null,""]
[null,""]
[null,""]
[null,""]
[null,""]
[null,""]
[null,""]
[null,""]
[null,""]
[null,""]
[null,""]
[null,""]
[null,""]
[null,""]
[null,""]
[null,""]
[null,""]
[null,""]
[null,""]
[null,""]
[null,{"$f":"IF(C8413=0,\"\",C8413-C8412)","v":""}]
[null,""]
[null,""]
[null,""]
[null,""]
[null,""]
[null,""]
[null,""]
[null,""]
[null,""]
[null,""]
[null,""]
[null,""]
[null,""]
[null,""]
[null,""]
[null,""]
[null,""]
[null,""]
[null,""]
[null,""]
[null,""]
[null,""]
[null,""]
[null,""]
[null,""]
[null,""]
[null,""]
[null,""]
[null,""]
[null,""]
[null,""]
[null,""]
[null,""]
[null,""]
[null,""]
[null,""]
[null,""]
[null,""]
[null,""]
[null,""]
[null,""]
[null,""]
[null,""]
[null,""]
[null,""]
[null,""]
[null,""]
[null,""]
[null,""]
[null,""]
[null,""]
[null,""]
[null,""]
[null,""]
[null,""]
[null,""]
[null,""]
[null,""]
[null,""]
[null,""]
[null,""]
[null,""]
[null,""]
[null,{"$f":"IF(C8477=0,\"\",C8477-C8476)","v":""}]
[null,""]
[null,""]
[null,""]
[null,""]
[null,""]
[null,""]
[null,""]
[null,""]
[null,""]
[null,""]
[null,""]
[null,""]
[null,""]
[null,""]
[null,""]
[null,""]
[null,""]
[null,""]
[null,""]
[null,""]
[null,""]
[null,""]
[null,""]
[null,""]
[null,""]
[null,""]
[null,""]
[null,""]
[null,""]
[null,""]
[null,""]
[null,""]
[null,""]
[null,""]
[null,""]
[null,""]
[null,""]
[null,""]
[null,""]
[null,""]
[null,""]
[null,""]
[null,""]
[null,""]
[null,""]
[null,""]
[null,""]
[null,""]
[null,""]
[null,""]
[null,""]
[null,""]
[null,""]
[null,""]
[null,""]
[null,""]
[null,""]
[null,""]
[null,""]
[null,""]
[null,""]
[null,""]
[null,""]
[null,{"$f":"IF(C8541=0,\"\",C8541-C8540)","v":""}]
[null,""]
[null,""]
[null,""]
[null,""]
[null,""]
[null,""]
[null,""]
[null,""]
[null,""]
[null,""]
[null,""]
[null,""]
[null,""]
[null,""]
[null,""]
[null,""]
[null,""]
[null,""]
[null,""]
[null,""]
[null,""]
[null,""]
[null,""]
[null,""]
[null,""]
[null,""]
[null,""]
[null,""]
[null,""]
[null,""]
[null,""]
[null,""]
[null,""]
[null,""]
[null,""]
[null,""]
[null,""]
[null,""]
[null,""]
[null,""]
[null,""]
[null,""]
[null,""]
[null,""]
[null,""]
[null,""]
[null,""]
[null,""]
[null,""]
[null,""]
[null,""]
[null,""]
[null,""]
[null,""]
[null,""]
[null,""]
[null,""]
[null,""]
[null,""]
[null,""]
[null,""]
[null,""]
[null,""]
[null,{"$f":"IF(C8605=0,\"\",C8605-C8604)","v":""}]
[null,""]
[null,""]
[null,""]
[null,""]
[null,""]
[null,""]
[null,""]
[null,""]
[null,""]
[null,""]
[null,""]
[null,""]
[null,""]
[null,""]
[null,""]
[null,""]
[null,""]
[null,""]
[null,""]
[null,""]
[null,""]
[null,""]
[null,""]
[null,""]
[null,""]
[null,""]
[null,""]
[null,""]
[null,""]
[null,""]
[null,""]
[null,""]
[null,""]
[null,""]
[null,""]
[null,""]
[null,""]
[null,""]
[null,""]
[null,""]
[null,""]
[null,""]
[null,""]
[null,""]
[null,""]
[null,""]
[null,""]
[null,""]
[null,""]
[null,""]
[null,""]
[null,""]
[null,""]
[null,""]
[null,""]
[null,""]
[null,""]
[null,""]
[null,""]
[null,""]
[null,""]
[null,""]
[null,""]
[null,{"$f":"IF(C8669=0,\"\",C8669-C8668)","v":""}]
[null,""]
[null,""]
[null,""]
[null,""]
[null,""]
[null,""]
[null,""]
[null,""]
[null,""]
[null,""]
[null,""]
[null,""]
[null,""]
[null,""]
[null,""]
[null,""]
[null,""]
[null,""]
[null,""]
[null,""]
[null,""]
[null,""]
[null,""]
[null,""]
[null,""]
[null,""]
[null,""]
[null,""]
[null,""]
[null,""]
[null,""]
[null,""]
[null,""]
[null,""]
[null,""]
[null,""]
[null,""]
[null,""]
[null,""]
[null,""]
[null,""]
[null,""]
[null,""]
[null,""]
[null,""]
[null,""]
[null,""]
[null,""]
[null,""]
[null,""]
[null,""]
[null,""]
[null,""]
[null,""]
[null,""]
[null,""]
[null,""]
[null,""]
[null,""]
[null,""]
[null,""]
[null,""]
[null,""]
[null,{"$f":"IF(C8733=0,\"\",C8733-C8732)","v":""}]
[null,""]
[null,""]
[null,""]
[null,""]
[null,""]
[null,""]
[null,""]
[null,""]
[null,""]
[null,""]
[null,""]
[null,""]
[null,""]
[null,""]
[null,""]
[null,""]
[null,""]
[null,""]
[null,""]
[null,""]
[null,""]
[null,""]
[null,""]
[null,""]
[null,""]
[null,""]
[null,""]
[null,""]
[null,""]
[null,""]
[null,""]
[null,""]
[null,""]
[null,""]
[null,""]
[null,""]
[null,""]
[null,""]
[null,""]
[null,""]
[null,""]
[null,""]
[null,""]
[null,""]
[null,""]
[null,""]
[null,""]
[null,""]
[null,""]
[null,""]
[null,""]
[null,""]
[null,""]
[null,""]
[null,""]
[null,""]
[null,""]
[null,""]
[null,""]
[null,""]
[null,""]
[null,""]
[null,""]
[null,{"$f":"IF(C8797=0,\"\",C8797-C8796)","v":""}]
[null,""]
[null,""]
[null,""]
[null,""]
[null,""]
[null,""]
[null,""]
[null,""]
[null,""]
[null,""]
[null,""]
[null,""]
[null,""]
[null,""]
[null,""]
[null,""]
[null,""]
[null,""]
[null,""]
[null,""]
[null,""]
[null,""]
[null,""]
[null,""]
[null,""]
[null,""]
[null,""]
[null,""]
[null,""]
[null,""]
[null,""]
[null,""]
[null,""]
[null,""]
[null,""]
[null,""]
[null,""]
[null,""]
[null,""]
[null,""]
[null,""]
[null,""]
[null,""]
[null,""]
[null,""]
[null,""]
[null,""]
[null,""]
[null,""]
[null,""]
[null,""]
[null,""]
[null,""]
[null,""]
[null,""]
[null,""]
[null,""]
[null,""]
[null,""]
[null,""]
[null,""]
[null,""]
[null,""]
[null,{"$f":"IF(C8861=0,\"\",C8861-C8860)","v":""}]
[null,""]
[null,""]
[null,""]
[null,""]
[null,""]
[null,""]
[null,""]
[null,""]
[null,""]
[null,""]
[null,""]
[null,""]
[null,""]
[null,""]
[null,""]
[null,""]
[null,""]
[null,""]
[null,""]
[null,""]
[null,""]
[null,""]
[null,""]
[null,""]
[null,""]
[null,""]
[null,""]
[null,""]
[null,""]
[null,""]
[null,""]
[null,""]
[null,""]
[null,""]
[null,""]
[null,""]
[null,""]
[null,""]
[null,""]
[null,""]
[null,""]
[null,""]
[null,""]
[null,""]
[null,""]
[null,""]
[null,""]
[null,""]
[null,""]
[null,""]
[null,""]
[null,""]
[null,""]
[null,""]
[null,""]
[null,""]
[null,""]
[null,""]
[null,""]
[null,""]
[null,""]
[null,""]
[null,""]
[null,{"$f":"IF(C8925=0,\"\",C8925-C8924)","v":""}]
[null,""]
[null,""]
[null,""]
[null,""]
[null,""]
[null,""]
[null,""]
[null,""]
[null,""]
[null,""]
[null,""]
[null,""]
[null,""]
[null,""]
[null,""]
[null,""]
[null,""]
[null,""]
[null,""]
[null,""]
[null,""]
[null,""]
[null,""]
[null,""]
[null,""]
[null,""]
[null,""]
[null,""]
[null,""]
[null,""]
[null,""]
[null,""]
[null,""]
[null,""]
[null,""]
[null,""]
[null,""]
[null,""]
[null,""]
[null,""]
[null,""]
[null,""]
[null,""]
[null,""]
[null,""]
[null,""]
[null,""]
[null,""]
[null,""]
[null,""]
[null,""]
[null,""]
[null,""]
[null,""]
[null,""]
[null,""]
[null,""]
[null,""]
[null,""]
[null,""]
[null,""]
[null,""]
[null,""]
[null,{"$f":"IF(C8989=0,\"\",C8989-C8988)","v":""}]
[null,""]
[null,""]
[null,""]
[null,""]
[null,""]
[null,""]
[null,""]
[null,""]
[null,""]
[null,""]
[null,""]
[null,""]
[null,""]
[null,""]
[null,""]
[null,""]
[null,""]
[null,""]
[null,""]
[null,""]
[null,""]
[null,""]
[null,""]
[null,""]
[null,""]
[null,""]
[null,""]
[null,""]
[null,""]
[null,""]
[null,""]
[null,""]
[null,""]
[null,""]
[null,""]
[null,""]
[null,""]
[null,""]
[null,""]
[null,""]
[null,""]
[null,""]
[null,""]
[null,""]
[null,""]
[null,""]
[null,""]
[null,""]
[null,""]
[null,""]
[null,""]
[null,""]
[null,""]
[null,""]
[null,""]
[null,""]
[null,""]
[null,""]
[null,""]
[null,""]
[null,""]
[null,""]
[null,""]
[null,{"$f":"IF(C9053=0,\"\",C9053-C9052)","v":""}]
[null,""]
[null,""]
[null,""]
[null,""]
[null,""]
[null,""]
[null,""]
[null,""]
[null,""]
[null,""]
[null,""]
[null,""]
[null,""]
[null,""]
[null,""]
[null,""]
[null,""]
[null,""]
[null,""]
[null,""]
[null,""]
[null,""]
[null,""]
[null,""]
[null,""]
[null,""]
[null,""]
[null,""]
[null,""]
[null,""]
[null,""]
[null,""]
[null,""]
[null,""]
[null,""]
[null,""]
[null,""]
[null,""]
[null,""]
[null,""]
[null,""]
[null,""]
[null,""]
[null,""]
[null,""]
[null,""]
[null,""]
[null,""]
[null,""]
[null,""]
[null,""]
[null,""]
[null,""]
[null,""]
[null,""]
[null,""]
[null,""]
[null,""]
[null,""]
[null,""]
[null,""]
[null,""]
[null,""]
[null,{"$f":"IF(C9117=0,\"\",C9117-C9116)","v":""}]
[null,""]
[null,""]
[null,""]
[null,""]
[null,""]
[null,""]
[null,""]
[null,""]
[null,""]
[null,""]
[null,""]
[null,""]
[null,""]
[null,""]
[null,""]
[null,""]
[null,""]
[null,""]
[null,""]
[null,""]
[null,""]
[null,""]
[null,""]
[null,""]
[null,""]
[null,""]
[null,""]
[null,""]
[null,""]
[null,""]
[null,""]
[null,""]
[null,""]
[null,""]
[null,""]
[null,""]
[null,""]
[null,""]
[null,""]
[null,""]
[null,""]
[null,""]
[null,""]
[null,""]
[null,""]
[null,""]
[null,""]
[null,""]
[null,""]
[null,""]
[null,""]
[null,""]
[null,""]
[null,""]
[null,""]
[null,""]
[null,""]
[null,""]
[null,""]
[null,""]
[null,""]
[null,""]
[null,""]
[null,{"$f":"IF(C9181=0,\"\",C9181-C9180)","v":""}]
[null,""]
[null,""]
[null,""]
[null,""]
[null,""]
[null,""]
[null,""]
[null,""]
[null,""]
[null,""]
[null,""]
[null,""]
[null,""]
[null,""]
[null,""]
[null,""]
[null,""]
[null,""]
[null,""]
[null,""]
[null,""]
[null,""]
[null,""]
[null,""]
[null,""]
[null,""]
[null,""]
[null,""]
[null,""]
[null,""]
[null,""]
[null,""]
[null,""]
[null,""]
[null,""]
[null,""]
[null,""]
[null,""]
[null,""]
[null,""]
[null,""]
[null,""]
[null,""]
[null,""]
[null,""]
[null,""]
[null,""]
[null,""]
[null,""]
[null,""]
[null,""]
[null,""]
[null,""]
[null,""]
[null,""]
[null,""]
[null,""]
[null,""]
[null,""]
[null,""]
[null,""]
[null,""]
[null,""]
[null,{"$f":"IF(C9245=0,\"\",C9245-C9244)","v":""}]
[null,""]
[null,""]
[null,""]
[null,""]
[null,""]
[null,""]
[null,""]
[null,""]
[null,""]
[null,""]
[null,""]
[null,""]
[null,""]
[null,""]
[null,""]
[null,""]
[null,""]
[null,""]
[null,""]
[null,""]
[null,""]
[null,""]
[null,""]
[null,""]
[null,""]
[null,""]
[null,""]
[null,""]
[null,""]
[null,""]
[null,""]
[null,""]
[null,""]
[null,""]
[null,""]
[null,""]
[null,""]
[null,""]
[null,""]
[null,""]
[null,""]
[null,""]
[null,""]
[null,""]
[null,""]
[null,""]
[null,""]
[null,""]
[null,""]
[null,""]
[null,""]
[null,""]
[null,""]
[null,""]
[null,""]
[null,""]
[null,""]
[null,""]
[null,""]
[null,""]
[null,""]
[null,""]
[null,""]
[null,{"$f":"IF(C9309=0,\"\",C9309-C9308)","v":""}]
[null,""]
[null,""]
[null,""]
[null,""]
[null,""]
[null,""]
[null,""]
[null,""]
[null,""]
[null,""]
[null,""]
[null,""]
[null,""]
[null,""]
[null,""]
[null,""]
[null,""]
[null,""]
[null,""]
[null,""]
[null,""]
[null,""]
[null,""]
[null,""]
[null,""]
[null,""]
[null,""]
[null,""]
[null,""]
[null,""]
[null,""]
[null,""]
[null,""]
[null,""]
[null,""]
[null,""]
[null,""]
[null,""]
[null,""]
[null,""]
[null,""]
[null,""]
[null,""]
[null,""]
[null,""]
[null,""]
[null,""]
[null,""]
[null,""]
[null,""]
[null,""]
[null,""]
[null,""]
[null,""]
[null,""]
[null,""]
[null,""]
[null,""]
[null,""]
[null,""]
[null,""]
[null,""]
[null,""]
[null,{"$f":"IF(C9373=0,\"\",C9373-C9372)","v":""}]
[null,""]
[null,""]
[null,""]
[null,""]
[null,""]
[null,""]
[null,""]
[null,""]
[null,""]
[null,""]
[null,""]
[null,""]
[null,""]
[null,""]
[null,""]
[null,""]
[null,""]
[null,""]
[null,""]
[null,""]
[null,""]
[null,""]
[null,""]
[null,""]
[null,""]
[null,""]
[null,""]
[null,""]
[null,""]
[null,""]
[null,""]
[null,""]
[null,""]
[null,""]
[null,""]
[null,""]
[null,""]
[null,""]
[null,""]
[null,""]
[null,""]
[null,""]
[null,""]
[null,""]
[null,""]
[null,""]
[null,""]
[null,""]
[null,""]
[null,""]
[null,""]
[null,""]
[null,""]
[null,""]
[null,""]
[null,""]
[null,""]
[null,""]
[null,""]
[null,""]
[null,""]
[null,""]
[null,""]
[null,{"$f":"IF(C9437=0,\"\",C9437-C9436)","v":""}]
[null,""]
[null,""]
[null,""]
[null,""]
[null,""]
[null,""]
[null,""]
[null,""]
[null,""]
[null,""]
[null,""]
[null,""]
[null,""]
[null,""]
[null,""]
[null,""]
[null,""]
[null,""]
[null,""]
[null,""]
[null,""]
[null,""]
[null,""]
[null,""]
[null,""]
[null,""]
[null,""]
[null,""]
[null,""]
[null,""]
[null,""]
[null,""]
[null,""]
[null,""]
[null,""]
[null,""]
[null,""]
[null,""]
[null,""]
[null,""]
[null,""]
[null,""]
[null,""]
[null,""]
[null,""]
[null,""]
[null,""]
[null,""]
[null,""]
[null,""]
[null,""]
[null,""]
[null,""]
[null,""]
[null,""]
[null,""]
[null,""]
[null,""]
[null,""]
[null,""]
[null,""]
[null,""]
[null,""]
[null,{"$f":"IF(C9501=0,\"\",C9501-C9500)","v":""}]
[null,""]
[null,""]
[null,""]
[null,""]
[null,""]
[null,""]
[null,""]
[null,""]
[null,""]
[null,""]
[null,""]
[null,""]
[null,""]
[null,""]
[null,""]
[null,""]
[null,""]
[null,""]
[null,""]
[null,""]
[null,""]
[null,""]
[null,""]
[null,""]
[null,""]
[null,""]
[null,""]
[null,""]
[null,""]
[null,""]
[null,""]
[null,""]
[null,""]
[null,""]
[null,""]
[null,""]
[null,""]
[null,""]
[null,""]
[null,""]
[null,""]
[null,""]
[null,""]
[null,""]
[null,""]
[null,""]
[null,""]
[null,""]
[null,""]
[null,""]
[null,""]
[null,""]
[null,""]
[null,""]
[null,""]
[null,""]
[null,""]
[null,""]
[null,""]
[null,""]
[null,""]
[null,""]
[null,""]
[null,{"$f":"IF(C9565=0,\"\",C9565-C9564)","v":""}]
[null,""]
[null,""]
[null,""]
[null,""]
[null,""]
[null,""]
[null,""]
[null,""]
[null,""]
[null,""]
[null,""]
[null,""]
[null,""]
[null,""]
[null,""]
[null,""]
[null,""]
[null,""]
[null,""]
[null,""]
[null,""]
[null,""]
[null,""]
[null,""]
[null,""]
[null,""]
[null,""]
[null,""]
[null,""]
[null,""]
[null,""]
[null,""]
[null,""]
[null,""]
[null,""]
[null,""]
[null,""]
[null,""]
[null,""]
[null,""]
[null,""]
[null,""]
[null,""]
[null,""]
[null,""]
[null,""]
[null,""]
[null,""]
[null,""]
[null,""]
[null,""]
[null,""]
[null,""]
[null,""]
[null,""]
[null,""]
[null,""]
[null,""]
[null,""]
[null,""]
[null,""]
[null,""]
[null,""]
[null,{"$f":"IF(C9629=0,\"\",C9629-C9628)","v":""}]
[null,""]
[null,""]
[null,""]
[null,""]
[null,""]
[null,""]
[null,""]
[null,""]
[null,""]
[null,""]
[null,""]
[null,""]
[null,""]
[null,""]
[null,""]
[null,""]
[null,""]
[null,""]
[null,""]
[null,""]
[null,""]
[null,""]
[null,""]
[null,""]
[null,""]
[null,""]
[null,""]
[null,""]
[null,""]
[null,""]
[null,""]
[null,""]
[null,""]
[null,""]
[null,""]
[null,""]
[null,""]
[null,""]
[null,""]
[null,""]
[null,""]
[null,""]
[null,""]
[null,""]
[null,""]
[null,""]
[null,""]
[null,""]
[null,""]
[null,""]
[null,""]
[null,""]
[null,""]
[null,""]
[null,""]
[null,""]
[null,""]
[null,""]
[null,""]
[null,""]
[null,""]
[null,""]
[null,""]
[null,{"$f":"IF(C9693=0,\"\",C9693-C9692)","v":""}]
[null,""]
[null,""]
[null,""]
[null,""]
[null,""]
[null,""]
[null,""]
[null,""]
[null,""]
[null,""]
[null,""]
[null,""]
[null,""]
[null,""]
[null,""]
[null,""]
[null,""]
[null,""]
[null,""]
[null,""]
[null,""]
[null,""]
[null,""]
[null,""]
[null,""]
[null,""]
[null,""]
[null,""]
[null,""]
[null,""]
[null,""]
[null,""]
[null,""]
[null,""]
[null,""]
[null,""]
[null,""]
[null,""]
[null,""]
[null,""]
[null,""]
[null,""]
[null,""]
[null,""]
[null,""]
[null,""]
[null,""]
[null,""]
[null,""]
[null,""]
[null,""]
[null,""]
[null,""]
[null,""]
[null,""]
[null,""]
[null,""]
[null,""]
[null,""]
[null,""]
[null,""]
[null,""]
[null,""]
[null,{"$f":"IF(C9757=0,\"\",C9757-C9756)","v":""}]
[null,""]
[null,""]
[null,""]
[null,""]
[null,""]
[null,""]
[null,""]
[null,""]
[null,""]
[null,""]
[null,""]
[null,""]
[null,""]
[null,""]
[null,""]
[null,""]
[null,""]
[null,""]
[null,""]
[null,""]
[null,""]
[null,""]
[null,""]
[null,""]
[null,""]
[null,""]
[null,""]
[null,""]
[null,""]
[null,""]
[null,""]
[null,""]
[null,""]
[null,""]
[null,""]
[null,""]
[null,""]
[null,""]
[null,""]
[null,""]
[null,""]
[null,""]
[null,""]
[null,""]
[null,""]
[null,""]
[null,""]
[null,""]
[null,""]
[null,""]
[null,""]
[null,""]
[null,""]
[null,""]
[null,""]
[null,""]
[null,""]
[null,""]
[null,""]
[null,""]
[null,""]
[null,""]
[null,""]
[null,{"$f":"IF(C9821=0,\"\",C9821-C9820)","v":""}]
[null,""]
[null,""]
[null,""]
[null,""]
[null,""]
[null,""]
[null,""]
[null,""]
[null,""]
[null,""]
[null,""]
[null,""]
[null,""]
[null,""]
[null,""]
[null,""]
[null,""]
[null,""]
[null,""]
[null,""]
[null,""]
[null,""]
[null,""]
[null,""]
[null,""]
[null,""]
[null,""]
[null,""]
[null,""]
[null,""]
[null,""]
[null,""]
[null,""]
[null,""]
[null,""]
[null,""]
[null,""]
[null,""]
[null,""]
[null,""]
[null,""]
[null,""]
[null,""]
[null,""]
[null,""]
[null,""]
[null,""]
[null,""]
[null,""]
[null,""]
[null,""]
[null,""]
[null,""]
[null,""]
[null,""]
[null,""]
[null,""]
[null,""]
[null,""]
[null,""]
[null,""]
[null,""]
[null,""]
[null,{"$f":"IF(C9885=0,\"\",C9885-C9884)","v":""}]
[null,""]
[null,""]
[null,""]
[null,""]
[null,""]
[null,""]
[null,""]
[null,""]
[null,""]
[null,""]
[null,""]
[null,""]
[null,""]
[null,""]
[null,""]
[null,""]
[null,""]
[null,""]
[null,""]
[null,""]
[null,""]
[null,""]
[null,""]
[null,""]
[null,""]
[null,""]
[null,""]
[null,""]
[null,""]
[null,""]
[null,""]
[null,""]
[null,""]
[null,""]
[null,""]
[null,""]
[null,""]
[null,""]
[null,""]
[null,""]
[null,""]
[null,""]
[null,""]
[null,""]
[null,""]
[null,""]
[null,""]
[null,""]
[null,""]
[null,""]
[null,""]
[null,""]
[null,""]
[null,""]
[null,""]
[null,""]
[null,""]
[null,""]
[null,""]
[null,""]
[null,""]
[null,""]
[null,""]
[null,{"$f":"IF(C9949=0,\"\",C9949-C9948)","v":""}]
[null,""]
[null,""]
[null,""]
[null,""]
[null,""]
[null,""]
[null,""]
[null,""]
[null,""]
[null,""]
[null,""]
[null,""]
[null,""]
[null,""]
[null,""]
[null,""]
[null,""]
[null,""]
[null,""]
[null,""]
[null,""]
[null,""]
[null,""]
[null,""]
[null,""]
[null,""]
[null,""]
[null,""]
[null,""]
[null,""]
[null,""]
[null,""]
[null,""]
[null,""]
[null,""]
[null,""]
[null,""]
[null,""]
[null,""]
[null,""]
[null,""]
[null,""]
[null,""]
[null,""]
[null,""]
[null,""]
[null,""]
[null,""]
[null,""]
[null,""]
[null,""]
[null,""]
[null,""]
[null,""]
[null,""]
[null,""]
[null,""]
[null,""]
[null,""]
[null,""]
[null,""]
[null,""]
[null,""]
[null,{"$f":"IF(C10013=0,\"\",C10013-C10012)","v":""}]
[null,""]
[null,""]
[null,""]
[null,""]
[null,""]
[null,""]
[null,""]
[null,""]
[null,""]
[null,""]
[null,""]
[null,""]
[null,""]
[null,""]
[null,""]
[null,""]
[null,""]
[null,""]
[null,""]
[null,""]
[null,""]
[null,""]
[null,""]
[null,""]
[null,""]
[null,""]
[null,""]
[null,""]
[null,""]
[null,""]
[null,""]
[null,""]
[null,""]
[null,""]
[null,""]
[null,""]
[null,""]
[null,""]
[null,""]
[null,""]
[null,""]
[null,""]
[null,""]
[null,""]
[null,""]
[null,""]
[null,""]
[null,""]
[null,""]
[null,""]
[null,""]
[null,""]
[null,""]
[null,""]
[null,""]
[null,""]
[null,""]
[null,""]
[null,""]
[null,""]
[null,""]
[null,""]
[null,""]
[null,{"$f":"IF(C10077=0,\"\",C10077-C10076)","v":""}]
[null,""]
[null,""]
[null,""]
[null,""]
[null,""]
[null,""]
[null,{"$f":"IF(C10084=0,\"\",C10084-C10083)","v":""}]

{"sheet":"Test Report","index":17,"n_rows":89,"n_cols":8,"rows_kept":89,"cut":false,"hidden":false,"merged":[[44,0,44,7],[53,0,53,7],[54,0,54,7],[55,0,80,7],[81,0,83,3],[81,4,83,7],[45,0,45,7],[46,0,46,7],[47,0,47,7],[48,0,52,7],[87,0,87,7],[88,0,88,7],[89,0,101,7],[84,0,84,3],[84,4,84,7],[85,0,85,3],[85,4,85,7],[86,0,86,3],[86,4,86,7],[25,0,25,7],[26,0,26,1],[27,0,30,0],[27,1,27,2],[28,1,28,2],[29,1,29,2],[30,1,30,2],[40,1,40,2],[41,1,41,2],[42,1,42,2],[31,0,34,0],[31,1,31,2],[37,0,39,0],[37,1,37,2],[38,1,38,2],[39,1,39,2],[32,1,32,2],[33,1,33,2],[34,1,34,2],[35,0,35,7],[36,0,36,1],[24,1,24,2],[17,0,17,1],[17,2,17,3],[17,5,17,7],[18,0,18,7],[19,0,19,7],[20,0,20,1],[20,2,20,3],[20,5,20,7],[21,0,21,1],[21,2,21,3],[21,5,21,7],[22,0,22,7],[23,0,23,7],[16,0,16,1],[16,2,16,3],[16,5,16,7],[10,5,10,7],[11,0,11,3],[11,4,12,4],[11,5,11,7],[12,0,12,1],[12,2,12,3],[12,5,12,7],[13,0,13,1],[13,2,13,3],[13,5,13,7],[14,0,14,7],[15,0,15,7],[10,1,10,3],[9,5,9,7],[5,0,5,1],[5,2,5,3],[5,5,5,7],[6,0,6,1],[6,2,6,3],[6,5,6,7],[7,5,7,7],[7,0,7,3],[8,1,8,3],[9,1,9,3],[4,0,4,3],[4,4,4,7],[0,0,0,1],[1,0,1,7],[2,0,2,7],[3,0,3,7],[0,2,0,4],[0,5,0,7]]}
["[3rd Party Lab Name]\n[3rd Party Lab Address]\n",null,null,null,null,"Page [page number]\n3rd Party Lab Report Number.:  [report number]\nReport Version Number: [version number]\nDate: [##/##/##]  "]
["Air-Cooled Water Chilling Packages (ACCL) Certification Program"]
[{"$f":"IF('Test Plan'!$B$3=0,\" \",'Test Plan'!$B$3)","v":"ACCL-230##-1-A"}]
[]
["Manufacturer Information",null,null,null,"Model Information"]
["Manufacturer:",null,{"$f":"IF('Unit Selection'!$B$4=0,\" \",'Unit Selection'!$B$4)","v":" "},null,"  AHRI Ref #:",{"$f":"IF('Unit Selection'!$B$25=0,\" \",'Unit Selection'!$B$25)","v":" "}]
["Manufacturer's Contact:",null,{"$f":"IF('Unit Selection'!$B$5=0,\" \",'Unit Selection'!$B$5)","v":" "},null,"  Model Number:",{"$f":"IF('Test Plan'!$B$4=0,\" \",'Test Plan'!$B$4)","v":" "}]
["Facility Contact",null,null,null,"  Serial Number:"]
["Name:",{"$f":"IF('Unit Selection'!B26=\"In-house\",\"N/A\",IF('Test Plan'!$B$30=0,\"\",'Test Plan'!$B$30))","v":""},null,null,"  V/Ø/Hz:",{"$f":"IF('Test Plan'!$B$14=0,\" \",'Test Plan'!$B$14)","v":" "},{"$f":"IF('Test Plan'!$C$14=0,\" \",'Test Plan'!$C$14)","v":" "},{"$f":"IF('Test Plan'!$D$14=0,\" \",'Test Plan'!$D$14)","v":" "}]
["Phone:",{"$f":"IF('Unit Selection'!B26=\"In-house\",\"N/A\",IF('Test Plan'!$D$30=0,\" \",'Test Plan'!$D$30))","v":" "},null,null,"  BMG ID:",{"$f":"IF('Test Plan'!$B$8=0,\" \",'Test Plan'!$B$8)","v":" "}]
["Email:",{"$f":"IF('Unit Selection'!B26=\"In-house\",\"N/A\",IF('Test Plan'!$B$31=0,\" \",'Test Plan'!$B$31))","v":" "},null,null,"Country of Origin:",{"$f":"IF('Test Plan'!$B$12=0,\" \",'Test Plan'!$B$12)","v":" "}]
["AHRI Information",null,null,null,"Compressor Type and Designation:",{"$f":"IF('Test Plan'!$B$10=0,\" \",'Test Plan'!$B$10)","v":" "}]
["Test Standard:",null,{"$f":"IF('Test Plan'!$B$17=0,\" \",'Test Plan'!$B$17)","v":" "},null,null,{"$f":"IF('Test Plan'!$B$11=0,\" \",'Test Plan'!$B$11)","v":" "}]
["AHRI Certification Engineer:",null,{"$f":"IF('Unit Selection'!$B$6=0,\" \",'Unit Selection'!$B$6)","v":" "},null,"Refrigerant:",{"$f":"IF('Test Plan'!$B$9=0,\" \",'Test Plan'!$B$9)","v":" "}]
[]
["3rd Party Lab Information (in-house testing)"]
["Date Unit Arrived:",null,null,null,"Test Stand:"]
["Date(s) of Test:"]
[]
["Manufacturer's Lab Information (witness testing)"]
["Date(s) of Test:",null,null,null,"Facility Address:",{"$f":"IF('Test Plan'!$B$27=0,\" \",'Test Plan'!$B$27)","v":""}]
["Test Stand Designation:",null,{"$f":"IF('Test Plan'!$B$29=0,\" \",'Test Plan'!$B$29)","v":""},null,null,{"$f":"IF('Test Plan'!$B$28=0,\" \",'Test Plan'!$B$28)","v":""}]
[]
["Test Results"]
[null,"Title of Test",null,"Units","Certified","Measured","Limit","Results of Test1"]
["Standard Rating"]
["Test Tolerances:",null,"Tol1:",{"$f":"IF('Test Plan'!$B$17=\"AHRI 550/590\",\n       IF('Test Plan'!$B$19=\"I-P\",\n            0.105-(0.07*1)+(0.15/(('Test Plan'!$C$46-'Test Plan'!$C$45)*1)),\n            0.105-(0.07*1)+(0.15/((('Test Plan'!$C$46-'Test Plan'!$C$45)*1.8)*1))),\n       IF('Test Plan'!$B$19=\"I-P\",\n            0.105-(0.07*1)+(0.0833/((('Test Plan'!$C$46-'Test Plan'!$C$45)/1.8)*1)),\n            0.105-(0.07*1)+(0.0833/(('Test Plan'!$C$46-'Test Plan'!$C$45)*1))))","v":{"$error":"#VALUE!"}},"Tol2:",{"$f":"IF('Test Plan'!$B$17=\"AHRI 550/590\",\n       IF('Test Plan'!$B$19=\"I-P\",\n            0.065+(0.35/('Test Plan'!$C$46-'Test Plan'!$C$45)),\n            0.065+(0.35/(('Test Plan'!$C$46-'Test Plan'!$C$45)*1.8+32))),\n       IF('Test Plan'!$B$19=\"I-P\",\n            0.065+(0.194/((('Test Plan'!$C$46-'Test Plan'!$C$45)-32)/1.8)),\n            0.065+(0.194/('Test Plan'!$C$46-'Test Plan'!$C$45))))","v":{"$error":"#VALUE!"}}]
["Standard \nSection 5.1","Net Cooling Capacity",null,{"$f":"'Test Plan'!$B$93","v":"kW"},{"$f":"ROUND('Test Plan'!$C$44,4-(1+INT(LOG10(ABS('Test Plan'!$C$44)))))","v":{"$error":"#NUM!"}},{"$f":"ROUND('100% Load Condition '!$F$242,4-(1+INT(LOG10(ABS('100% Load Condition '!$F$242)))))","v":{"$error":"#DIV/0!"}},{"$f":"ROUND((1-$D$27)*$E$28,4-(1+INT(LOG10(ABS((1-$D$27)*$E$28)))))","v":{"$error":"#VALUE!"}},{"$f":"IF('Test Plan'!$B$16=\"Continuous\",IF(AND($F$28>=$G$28,$F$28<=ROUND(((1+$D$27)*$E$28),4-(1+INT(LOG10(ABS((1+$D$27)*$E$28))))))=TRUE,\"P\",\"F\"),IF($F$28>=$G$28,\"P\",\"F\"))","v":{"$error":"#DIV/0!"}}]
[null,"Cooling Efficiency ",null,{"$f":"'Test Plan'!$B$126","v":"kW/kW"},{"$f":"ROUND('Test Plan'!$C$126,4-(1+INT(LOG10(ABS('Test Plan'!$C$126)))))","v":{"$error":"#NUM!"}},{"$f":"ROUND('100% Load Condition '!$F$243,4-(1+INT(LOG10(ABS('100% Load Condition '!$F$243)))))","v":{"$error":"#DIV/0!"}},{"$f":"ROUND(IF('Test Plan'!$B$19=\"I-P\",(1+$D$27)*$E$29,$E$29/(1+$D$27)),4-(1+INT(LOG10(ABS(IF('Test Plan'!$B$19=\"I-P\",(1+$D$27)*$E$29,$E$29/(1+$D$27)))))))","v":{"$error":"#NUM!"}},{"$f":"IF('Test Plan'!$B$19=\"I-P\",IF($F$29<=$G$29,\"P\",\"F\"),IF($F$29>=$G$29,\"P\",\"F\"))","v":{"$error":"#DIV/0!"}}]
[null,"Evaporator Water Pressure Drop ",null,{"$f":"'Test Plan'!$B$127","v":"kPa"},{"$f":"ROUND('Test Plan'!$C$127,3-(1+INT(LOG10(ABS('Test Plan'!$C$127)))))","v":{"$error":"#NUM!"}},{"$f":"ROUND('100% Load Condition '!$F$244,3-(1+INT(LOG10(ABS('100% Load Condition '!$F$244)))))","v":{"$error":"#DIV/0!"}},{"$f":"ROUND(IF('Test Plan'!$B$19=\"I-P\",MAX(1.15*$E$30,2+$E$30),MAX(1.15*$E$30,6+$E$30)),3-(1+INT(LOG10(ABS(IF('Test Plan'!$B$19=\"I-P\",MAX(1.15*$E$30,2+$E$30),MAX(1.15*$E$30,6+$E$30)))))))","v":{"$error":"#NUM!"}},{"$f":"IF($F$30<=$G$30,\"P\",\"F\")","v":{"$error":"#DIV/0!"}}]
[null,{"$f":"IPLV!$A$1","v":"IPLV"},null,{"$f":"'Test Plan'!$B$128","v":"kW/kW"},{"$f":"ROUND('Test Plan'!$C$128,4-(1+INT(LOG10(ABS('Test Plan'!$C$128)))))","v":{"$error":"#NUM!"}},{"$f":"ROUND(IF('Test Plan'!$B$17=\"EN 14511 and 14825\",IPLV!$F$38,IPLV!$E$23),4-(1+INT(LOG10(ABS(IF('Test Plan'!$B$17=\"EN 14511 and 14825\",IPLV!$F$38,IPLV!$E$23))))))","v":{"$error":"#VALUE!"}},{"$f":"ROUND(IF('Test Plan'!$B$19=\"I-P\",(1+$F$27)*$E$31,$E$31/(1+$F$27)),4-(1+INT(LOG10(ABS(IF('Test Plan'!$B$19=\"I-P\",(1+$F$27)*$E$31,$E$31/(1+$F$27)))))))","v":{"$error":"#NUM!"}},{"$f":"IF('Test Plan'!$B$19=\"I-P\",IF($F$31<=$G$31,\"P\",\"F\"),IF($F$31>=$G$31,\"P\",\"F\"))","v":{"$error":"#VALUE!"}}]
[null,{"$f":"$B$28","v":"Net Cooling Capacity"},null,{"$f":"IF('Test Plan'!$B$19=\"I-P\",'Unit Conversion'!$C$4,'Unit Conversion'!$B$4)","v":"ton"},{"$f":"IF('Test Plan'!$B$19=\"I-P\",E28*3.51685,E28/3.51685)","v":{"$error":"#NUM!"}},{"$f":"IF('Test Plan'!$B$19=\"I-P\",F28*3.51685,F28/3.51685)","v":{"$error":"#DIV/0!"}}]
[null,{"$f":"$B$29","v":"Cooling Efficiency "},null,{"$f":"IF('Test Plan'!$B$19=\"I-P\",'Unit Conversion'!$C$14,'Unit Conversion'!$B$14)","v":"kW/ton"},{"$f":"12/(E29*3.41214)","v":{"$error":"#NUM!"}},{"$f":"12/(F29*3.41214)","v":{"$error":"#DIV/0!"}}]
[null,"Evaporator Water Pressure Drop ",null,{"$f":"IF('Test Plan'!$B$19=\"I-P\",'Unit Conversion'!$C$8,'Unit Conversion'!$B$8)","v":"ft H2O"},{"$f":"IF('Test Plan'!$B$19=\"I-P\",E30*2.9885,E30/2.9885)","v":{"$error":"#NUM!"}},{"$f":"IF('Test Plan'!$B$19=\"I-P\",F30*2.9885,F30/2.9885)","v":{"$error":"#DIV/0!"}}]
[null,{"$f":"IPLV!$A$1","v":"IPLV"},null,{"$f":"IF('Test Plan'!$B$19=\"I-P\",'Unit Conversion'!$C$14,'Unit Conversion'!$B$14)","v":"kW/ton"},{"$f":"12/(E31*3.41214)","v":{"$error":"#NUM!"}},{"$f":"12/(F31*3.41214)","v":{"$error":"#VALUE!"}}]
["Application Rating"]
["Test Tolerances:",null,"Tol1:",{"$f":"IF('Test Plan'!$B$17=\"AHRI 550/590\",\n       IF('Test Plan'!$B$19=\"I-P\",\n            0.105-(0.07*(MIN('Test Plan'!$D$125/'Test Plan'!$C$44,1)))+(0.15/(('Test Plan'!$C$46-'Test Plan'!$C$45)*MIN('Test Plan'!$D$125/'Test Plan'!$C$44,1))),\n            0.105-(0.07*(MIN('Test Plan'!$D$125/'Test Plan'!$C$44,1)))+(0.15/((('Test Plan'!$C$46-'Test Plan'!$C$45)*1.8)*MIN('Test Plan'!$D$125/'Test Plan'!$C$44,1)))),\n       IF('Test Plan'!$B$19=\"I-P\",\n            0.105-(0.07*(MIN('Test Plan'!$D$125/'Test Plan'!$C$44,1)))+(0.0833/((('Test Plan'!$C$46-'Test Plan'!$C$45)/1.8)*MIN('Test Plan'!$D$125/'Test Plan'!$C$44,1))),\n            0.105-(0.07*(MIN('Test Plan'!$D$125/'Test Plan'!$C$44,1)))+(0.0833/(('Test Plan'!$C$46-'Test Plan'!$C$45)*MIN('Test Plan'!$D$125/'Test Plan'!$C$44,1)))))","v":{"$error":"#DIV/0!"}},"Test Type:","Tested",{"$f":"IF($F$37=\"Degraded\",\"CD (LF):\",\"\")","v":""},{"$f":"IF($F$37=\"Degraded\",(-0.13*($E$38/$E$28)*$E$28/$F$38+1.13),\"\")","v":""}]
["Standard \nSection 5.3",{"$f":"$B$28","v":"Net Cooling Capacity"},null,{"$f":"'Test Plan'!$B$93","v":"kW"},{"$f":"ROUND('Test Plan'!$D$125,4-(1+INT(LOG10(ABS('Test Plan'!$D$125)))))","v":{"$error":"#NUM!"}},{"$f":"ROUND(IF('Test Plan'!$D$101=\"Yes\",AVERAGE('Fan Cycling Condition - High'!$F$236,'Fan Cycling Condition - Low'!$F$236),'AHRI Selected Condition'!$F$236),4-(1+INT(LOG10(ABS(IF('Test Plan'!$D$101=\"Yes\",AVERAGE('Fan Cycling Condition - High'!$F$236,'Fan Cycling Condition - Low'!$F$236),'AHRI Selected Condition'!$F$236))))))","v":{"$error":"#DIV/0!"}},{"$f":"IF(OR(F37=\"Interpolated\",F37=\"Degraded\"),\"-\",ROUND((1-$D$37)*$E$38,4-(1+INT(LOG10(ABS((1-$D$37)*$E$38))))))","v":{"$error":"#DIV/0!"}},{"$f":"IF(OR(F37=\"Interpolated\",F37=\"Degraded\"),\"-\",IF('Test Plan'!$B$16=\"Continuous\",IF(AND($F$38>=$G$38,$F$38<=ROUND(((1+$D$37)*$E$38),4-(1+INT(LOG10(ABS((1+$D$37)*$E$38))))))=TRUE,\"P\",\"F\"),IF($F$38>=$G$38,\"P\",\"F\")))","v":{"$error":"#DIV/0!"}}]
[null,{"$f":"$B$29","v":"Cooling Efficiency "},null,{"$f":"'Test Plan'!$B$126","v":"kW/kW"},{"$f":"ROUND('Test Plan'!$D$126,4-(1+INT(LOG10(ABS('Test Plan'!$D$126)))))","v":{"$error":"#NUM!"}},{"$f":"ROUND(VLOOKUP(F37,'5th Point Eff'!A7:B9,2,FALSE),4-(1+INT(LOG10(ABS((VLOOKUP(F37,'5th Point Eff'!A7:B9,2,FALSE)))))))","v":{"$error":"#DIV/0!"}},{"$f":"ROUND(IF('Test Plan'!$B$19=\"I-P\",(1+$D$37)*$E$39,$E$39/(1+$D$37)),4-(1+INT(LOG10(ABS(IF('Test Plan'!$B$19=\"I-P\",(1+$D$37)*$E$39,$E$39/(1+$D$37)))))))","v":{"$error":"#NUM!"}},{"$f":"IF('Test Plan'!$B$19=\"I-P\",IF($F$39<=$G$39,\"P\",\"F\"),IF($F$39>=$G$39,\"P\",\"F\"))","v":{"$error":"#DIV/0!"}}]
[null,"Evaporator Water Pressure Drop",null,{"$f":"'Test Plan'!$B$127","v":"kPa"},{"$f":"ROUND('Test Plan'!$D$127,3-(1+INT(LOG10(ABS('Test Plan'!$D$127)))))","v":{"$error":"#NUM!"}},{"$f":"ROUND(IF('Test Plan'!$D$101=\"Yes\",AVERAGE('Fan Cycling Condition - High'!$F$238,'Fan Cycling Condition - Low'!$F$238),'AHRI Selected Condition'!$F$238),3-(1+INT(LOG10(ABS(IF('Test Plan'!$D$101=\"Yes\",AVERAGE('Fan Cycling Condition - High'!$F$238,'Fan Cycling Condition - Low'!$F$238),'AHRI Selected Condition'!$F$238))))))","v":{"$error":"#DIV/0!"}},{"$f":"ROUND(IF('Test Plan'!$B$19=\"I-P\",MAX(1.15*$E$40,2+$E$40),MAX(1.15*$E$40,6+$E$40)),3-(1+INT(LOG10(ABS(IF('Test Plan'!$B$19=\"I-P\",MAX(1.15*$E$40,2+$E$40),MAX(1.15*$E$40,6+$E$40)))))))","v":{"$error":"#NUM!"}},{"$f":"IF($F$40<=$G$40,\"P\",\"F\")","v":{"$error":"#DIV/0!"}}]
[null,{"$f":"$B$28","v":"Net Cooling Capacity"},null,{"$f":"IF('Test Plan'!$B$19=\"I-P\",'Unit Conversion'!$C$4,'Unit Conversion'!$B$4)","v":"ton"},{"$f":"IF('Test Plan'!$B$19=\"I-P\",E38*3.51685,E38/3.51685)","v":{"$error":"#NUM!"}},{"$f":"IF('Test Plan'!$B$19=\"I-P\",F38*3.51685,F38/3.51685)","v":{"$error":"#DIV/0!"}}]
[null,{"$f":"$B$29","v":"Cooling Efficiency "},null,{"$f":"IF('Test Plan'!$B$19=\"I-P\",'Unit Conversion'!$C$14,'Unit Conversion'!$B$14)","v":"kW/ton"},{"$f":"12/(E39*3.41214)","v":{"$error":"#NUM!"}},{"$f":"12/(F39*3.41214)","v":{"$error":"#DIV/0!"}}]
[null,"Evaporator Water Pressure Drop ",null,{"$f":"IF('Test Plan'!$B$19=\"I-P\",'Unit Conversion'!$C$8,'Unit Conversion'!$B$8)","v":"ft H2O"},{"$f":"IF('Test Plan'!$B$19=\"I-P\",E40*2.9885,E40/2.9885)","v":{"$error":"#NUM!"}},{"$f":"IF('Test Plan'!$B$19=\"I-P\",F40*2.9885,F40/2.9885)","v":{"$error":"#DIV/0!"}}]
["Notes:"]
["1.  Codes: P-Pass, F-Fail, IS-Inoperable Sample, NP-Not Performed, SR-See \"Remarks\""]
["2.  For units that require conversion, the factors shown in Section 7 of AHRI Standards 550/590 and 551/591 shall be used."]
[]
["3rd Party Lab Disclaimer"]
[]
[]
[]
[]
[]
[]
["Remarks"]
[]
[]
[]
[]
[]
[]
[]
[]
[]
[]
[]
[]
[]
[]
[]
[]
[]
[]
[]
[]
[]
[]
[]
[]
[]
[]
["Test Supervised By:",null,null,null,"Report Approved By:"]
[]
[]
["[Signature]",null,null,null,"[Signature]"]
["[Name]",null,null,null,"[Name]"]
["[Title]",null,null,null,"[Title]"]
[]
["Attachments"]

{"sheet":"5th Point Eff","index":18,"n_rows":9,"n_cols":2,"rows_kept":9,"cut":false,"hidden":true,"merged":[]}
["% Load 1",{"$f":"'AHRI Selected Condition'!F236/'Test Plan'!C44","v":{"$error":"#DIV/0!"}}]
["Efficiency 1",{"$f":"'AHRI Selected Condition'!F237","v":{"$error":"#DIV/0!"}}]
["% Load 2",{"$f":"'AHRI Selected Condition-Interp'!F236/'Test Plan'!C44","v":{"$error":"#DIV/0!"}}]
["Efficiency 2",{"$f":"'AHRI Selected Condition-Interp'!F237","v":{"$error":"#DIV/0!"}}]
["Selected % Load",{"$f":"'Test Plan'!D125/'Test Plan'!C44","v":{"$error":"#DIV/0!"}}]
["Exponent",{"$f":"LOG10(B2)+(B5-B1)*(LOG10(B4)-LOG10(B2))/(B3-B1)","v":{"$error":"#DIV/0!"}}]
["Interpolated",{"$f":"10^B6","v":{"$error":"#DIV/0!"}}]
["Tested",{"$f":"IF('Test Plan'!D101=\"Yes\",AVERAGE('Fan Cycling Condition - High'!F237,'Fan Cycling Condition - Low'!F237),'AHRI Selected Condition'!F237)","v":{"$error":"#DIV/0!"}}]
["Degraded",{"$f":"IF('Test Plan'!$B$19=\"I-P\",'AHRI Selected Condition'!F237*'Test Report'!H37,'AHRI Selected Condition'!$F$237/'Test Report'!H37)","v":{"$error":"#DIV/0!"}}]

{"sheet":"Inspection Report","index":19,"n_rows":58,"n_cols":6,"rows_kept":58,"cut":false,"hidden":true,"merged":[[23,0,42,5],[43,0,43,5],[44,0,48,5],[57,0,69,5],[53,0,53,1],[53,3,53,5],[54,0,54,1],[54,3,54,5],[55,0,55,5],[56,0,56,5],[8,3,8,5],[52,0,52,1],[52,3,52,5],[11,3,11,5],[12,3,12,5],[14,0,14,5],[15,0,15,5],[16,0,20,5],[21,0,21,5],[22,0,22,5],[49,0,51,1],[49,3,51,5],[11,0,11,1],[9,3,9,4],[13,3,13,4],[10,2,10,5],[7,0,7,1],[4,0,4,1],[4,2,4,5],[0,1,0,2],[0,3,0,5],[1,0,1,5],[2,0,2,5],[3,0,3,5],[5,3,5,5],[6,2,7,2],[6,3,6,5],[7,3,7,5]]}
["[3rd Party Lab Name]\n[3rd Party Lab Address]\n",null,null,"Page [page number]\n3rd Party Lab Report Number.:  [report number]\nReport Version Number: [version number]\nDate: [##/##/##]  "]
["Air-Cooled Water Chilling Packages (ACCL) Certification Program"]
[{"$f":"IF('Test Plan'!$B$2=0,\" \",'Test Plan'!$B$2)","v":"FIACCL-230##-1"}]
[]
["Manufacturer Information",null,"Test Stand Information"]
["Manufacturer:",{"$f":"IF('Test Plan'!$B$5=0,\" \",'Test Plan'!$B$5)","v":" "},"Test Stand Location:",{"$f":"IF('Unit Selection'!$B$10=0,\" \",'Unit Selection'!$B$10)","v":" "}]
["Manufacturer's Contact:",{"$f":"IF('Unit Selection'!$B$5=0,\" \",'Unit Selection'!$B$5)","v":" "},"Facility Address:",{"$f":"IF('Unit Selection'!$B$11=0,\" \",'Unit Selection'!$B$11)","v":" "}]
["Facility Contact",null,null,{"$f":"IF('Unit Selection'!$B$12=0,\" \",'Unit Selection'!$B$12)","v":" "}]
["Name:",{"$f":"IF('Test Plan'!$B$30=0,\" \",'Test Plan'!$B$30)","v":" "},"Test Stand Designation:",{"$f":"IF('Unit Selection'!$B$13=0,\" \",'Unit Selection'!$B$13)","v":" "}]
["Phone:",{"$f":"IF('Test Plan'!$D$30=0,\" \",'Test Plan'!$D$30)","v":" "},"Declared Maximum Capacity:",null,null,{"$f":"'100% Load Condition '!E242","v":"kW"}]
["Email:",{"$f":"IF('Test Plan'!$B$31=0,\" \",'Test Plan'!$B$31)","v":" "},"Inspection Results"]
["AHRI Information",null,"Inspection Category:",{"$f":"IF('Unit Selection'!$B$14=0,\" \",'Unit Selection'!$B$14)","v":" "}]
["Test Standard:",{"$f":"IF('Test Plan'!$B$17=0,\" \",'Test Plan'!$B$17)","v":" "},"Inspection Date(s):"]
["AHRI Certification Engineer:",{"$f":"IF('Unit Selection'!$B$6=0,\" \",'Unit Selection'!$B$6)","v":" "},"Tested Capacity:",{"$f":"IF(F10=\"kW\",IF(('100% Load Condition '!$F$242)>2110.1,2110.1,'100% Load Condition '!$F$242),IF(('100% Load Condition '!$F$242)>600,600,'100% Load Condition '!$F$242))","v":{"$error":"#DIV/0!"}},null,{"$f":"'100% Load Condition '!E242","v":"kW"}]
[]
["3rd Party Lab Disclaimer"]
[]
[]
[]
[]
[]
[]
["Remarks"]
[]
[]
[]
[]
[]
[]
[]
[]
[]
[]
[]
[]
[]
[]
[]
[]
[]
[]
[]
[]
["3rd Party Lab's Recommendation"]
["3rd Party Labs, please use the template statement below to convey your recommendation of the facility inpsection\n\n[3rd Party Lab] has conducted a facility inspection for [Test Stand Designation] at [Manufacturer] and [recommend/does not recommend] that approval be granted per the AHRI Standard 550/590 (551/591).  AHRI shall determine facility approval, maximum approved capacity, and approval expiration for this test stand per the ACCL Operations Manual."]
[]
[]
[]
[]
["Test Supervised By:",null,null,"Report Approved By:"]
[]
[]
["[Signature]",null,null,"[Signature]"]
["[Name]",null,null,"[Name]"]
["[Title]",null,null,"[Title]"]
[]
["Attachments"]
["1. Test Stand Approval (FA) Forms\n2. System Calibration Reports and Worksheets\n3. Test Stand Schematic Drawing\n4. Test Stand Photographs\n5. Air Sample Tree Drawing\n6. Air Sample Tree Placement Drawing or Photographs"]

{"sheet":"Unit Conversion","index":20,"n_rows":30,"n_cols":10,"rows_kept":30,"cut":false,"hidden":true,"merged":[[0,7,0,9],[16,0,16,7],[17,0,19,0],[17,1,19,1],[17,2,17,5],[17,6,17,7],[18,2,18,3],[18,4,18,5],[18,6,18,7],[24,3,24,4],[23,1,23,6],[23,7,24,7],[24,1,24,2],[22,0,22,7],[24,5,24,6]]}
["Unit","I-P","SI","Notes",null,null,null,"Part-Load Condenser EDB (Table 6)"]
["Fouling Factor","h·ft²·°F/Btu","m²·K/kW",null,null,null,null,"550/590","551/591","Result"]
["Surface Area","ft²","m^2",null,null,null,"75% Load",80,27,{"$f":"IF('Test Plan'!$B$19=$B$1,H3,I3)","v":27}]
["Capacity","ton","kW",null,null,null,"50% Load",65,19,{"$f":"IF('Test Plan'!$B$19=$B$1,H4,I4)","v":19}]
["Temperature","°F","°C",null,null,null,"25% Load",55,13,{"$f":"IF('Test Plan'!$B$19=$B$1,H5,I5)","v":13}]
["Water Flow Rate","gpm","m³/h"]
["Atmospheric Pressure","psia","kPa"]
["Water Pressure Drop","ft H2O","kPa"]
["Water Pressure Drop (measured)","psid","kPa","Also Refrigerant Charge"]
["Water Density","lbm/ft³","kg/m³"]
["Mass Flow Rate","lbm/h","kg/h"]
["Altitude","ft","m"]
["Specific Heat","Btu/(lbm·°F)","kJ/kg·K","kJ/kg·K = kJ/kg·°C"]
["Efficiency","kW/ton","kW/kW"]
["Refrigerant Charge","lb","kg"]
[]
["AHRI Standard Rating Conditions"]
["Operating Category","Conditions","Evaporator",null,null,null,"Condenser"]
[null,null,"Entering",null,"Leaving",null,"Entering"]
[null,null,"550/590","551/591","550/590","551/591","550/590","551/591"]
["All Cooling","Cooling",54,12,44,7,95,35]
[]
["EN Standard Rating Conditions"]
[null,"Evaporator",null,null,null,null,null,"Condenser\nAir"]
[null,"Fan coil, fixed outlet",null,"Fan coil, variable outlet",null,"Cooling floor"]
["SEER Condition","Entering","Leaving","Entering","Leaving","Entering","Leaving","Entering"]
[1,12,7,12,7,23,18,35]
[{"$f":"((30-16)/(35-16))","v":0.73684210526315785},null,7,null,8.5,null,18,30]
[{"$f":"((25-16)/(35-16))","v":0.47368421052631576},null,7,null,10,null,18,25]
[{"$f":"((20-16)/(35-16))","v":0.21052631578947367},null,7,null,11.5,null,18,20]